{"text_format":"1","workbook":"xlsx","n_sheets":16,"sheets":["ITEMS","INICIO","INICIO (2)","ESTRATÉGICOS","CORRUPCIÓN","MATRIZ SGSI","CRITERIOS","Hoja1","IDENTIFICACIÓN DOFA","CRUCE RIESGOS","MAPA RIESGOS","CRUCE OPORTUNIDADES","MAPA OPORTUNIDADES","ACTUALIZACIONES","Hoja4","Hoja2"],"not_rendered":{"charts":0,"images":22,"macros":1,"external_links":5,"defined_names":49,"comments":2,"pivot_tables":0},"unopened":[],"bounds":{"document_bytes":16777216,"sheet_cells":100000,"rows_first":2000,"rows_last":500,"rows_between":2000,"halvings":0,"cell_chars":16384,"cell_head_chars":4096},"cells_cut":0,"cells_raw":0,"read":"whole","date_system":"1900"}

{"sheet":"ITEMS","index":0,"n_rows":6,"n_cols":23,"rows_kept":6,"cut":false,"hidden":false,"merged":[]}
["RIESGO",null,null,"ALTA",null,1,null,null,"Riesgo Estratégico: Se asocia con la forma en que se administra la Entidad. El manejo del riesgo estratégico se Enfoca a asuntos globales relacionados con la misión y el cumplimiento de los objetivos estratégicos, la clara definición de políticas, diseño y conceptualización de la entidad por parte de la alta gerencia.",null,null,"CORRECTIVO","Oportunidad Estratégica: Se asocia con la forma en que se administra la Entidad. El manejo de la oportunidad estratégica se Enfoca a asuntos globales relacionados con la misión y el cumplimiento de los objetivos estratégicos, la clara definición de políticas, diseño y conceptualización de la entidad por parte de la alta gerencia.",null,null,"PROBABILIDAD",null,0,0,0,0,0,"FUERTE"]
["OPORTUNIDAD",null,null,"MEDIA",null,2,null,null,"Riesgos de Imagen: Están relacionados con la percepción y la confianza por parte de la ciudadanía hacia la institución.",null,null,"PREVENTIVO","Oportunidad de Imagen: Está relacionada con la percepción y la confianza por parte de la ciudadanía hacia la institución.",null,null,"IMPACTO",null,15,30,25,10,5,"MODERADO"]
[null,null,null,"BAJA",null,3,null,null,"Riesgos Operativos: Comprenden riesgos  provenientes del funcionamiento y operatividad de los sistemas de información institucional, de la definición de los procesos, de la estructura de la entidad, de la articulación entre dependencias.",null,null,null,"Oportunidad Operativa: Comprenden oportunidades  provenientes del funcionamiento y operatividad de los sistemas de información institucional, de la definición de los procesos, de la estructura de la entidad, de la articulación entre dependencias.",null,null,null,null,null,null,null,15,10,"DEBIL"]
[null,null,null,null,null,4,null,null,"Riesgos Financieros: Se relacionan con el manejo de los recursos de la entidad que incluyen: la ejecución presupuestal, la elaboración de los estados financieros, los pagos, manejos de excedentes de tesorería y el manejo sobre los bienes.",null,null,null,"Oportunidades Financieras: Se relacionan con el manejo de los recursos de la entidad que incluyen: la ejecución presupuestal, la elaboración de los estados financieros, los pagos, manejos de excedentes de tesorería y el manejo sobre los bienes."]
[null,null,null,null,null,5,null,null,"Riesgos de Cumplimiento: Se asocian con la capacidad de la entidad para cumplir con los requisitos legales, contractuales, de ética pública y en general con su compromiso ante la comunidad.",null,null,null,"Oportunidades de Cumplimiento: Se asocian con la capacidad de la entidad para cumplir con los requisitos legales, contractuales, de ética pública y en general con su compromiso ante la comunidad."]
[null,null,null,null,null,null,null,null,"Riesgos de Tecnología: Están relacionados con la capacidad tecnológica de la Entidad para satisfacer sus necesidades actuales y futuras y el cumplimiento de la misión.",null,null,null,"Oportunidades de Tecnología: Están relacionados con la capacidad tecnológica de la Entidad para satisfacer sus necesidades actuales y futuras y el cumplimiento de la misión."]

{"sheet":"INICIO","index":1,"n_rows":28,"n_cols":16,"rows_kept":28,"cut":false,"hidden":false,"merged":[[34,1,34,16],[35,1,35,11],[36,1,36,16],[1,1,4,1],[1,2,1,14],[1,15,1,16],[2,2,2,14],[2,15,2,16],[3,2,4,14],[3,15,3,16],[4,15,4,16],[9,2,10,15],[11,2,12,15],[24,11,29,13],[15,4,20,6],[15,11,20,13],[24,4,29,6],[27,15,27,16]]}
[]
[null,null,"MACROPROCESO ESTRATÉGICO",null,null,null,null,null,null,null,null,null,null,null,null,"CÓDIGO: ESGr028"]
[null,null,"PROCESO GESTIÓN SISTEMAS INTEGRADOS - CALIDAD ",null,null,null,null,null,null,null,null,null,null,null,null,"VERSIÓN: 17"]
[null,null,"GESTIÓN DEL RIESGO Y LAS OPORTUNIDADES",null,null,null,null,null,null,null,null,null,null,null,null,"VIGENCIA: 2023-10-12"]
[null,null,null,null,null,null,null,null,null,null,null,null,null,null,null,"PÁGINA: 1 de 11"]
[]
[]
[]
[]
[null,null,"MENÚ DE NAVEGACIÓN"]
[]
[null,null,"GESTIÓN DEL RIESGO EN LA UNIVERSIDAD DE CUNDINAMARCA"]
[]
[]
[]
[null,null,null,null,"ESTRATÉGICOS",null,null,null,null,null,null,"CORRUPCIÓN"]
[]
[]
[]
[]
[]
[]
[]
[]
[null,null,null,null,"SEGURIDAD DE LA INFORMACIÓN",null,null,null,null,null,null,"SISTEMAS DE GESTIÓN"]
[]
[]
[null,null,null,null,null,null,null,null,null,null,null,null,null,null,null,"Control de cambios"]

{"sheet":"INICIO (2)","index":2,"n_rows":10,"n_cols":16,"rows_kept":10,"cut":false,"hidden":false,"merged":[[34,1,34,16],[1,2,1,14],[2,2,2,14],[3,2,4,14],[1,1,4,1],[1,15,1,16],[2,15,2,16],[3,15,3,16],[4,15,4,16],[7,2,8,15],[9,2,10,15],[12,19,15,19],[12,20,12,21],[13,20,13,21],[14,20,15,21],[33,1,33,11],[32,1,32,16]]}
[]
[null,null,"MACROPROCESO ESTRATÉGICO",null,null,null,null,null,null,null,null,null,null,null,null,"CÓDIGO: ESGr028"]
[null,null,"PROCESO GESTIÓN SISTEMAS INTEGRADOS - CALIDAD ",null,null,null,null,null,null,null,null,null,null,null,null,"VERSIÓN: 17"]
[null,null,"GESTIÓN DEL RIESGO Y LAS OPORTUNIDADES",null,null,null,null,null,null,null,null,null,null,null,null,"VIGENCIA: 2023-10-12"]
[null,null,null,null,null,null,null,null,null,null,null,null,null,null,null,"PÁGINA: 5 de 11"]
[]
[]
[null,null,"MENÚ DE NAVEGACIÓN"]
[null,"INICIO"]
[null,null,"GESTIÓN DEL RIESGO EN LA UNIVERSIDAD DE CUNDINAMARCA"]

{"sheet":"ESTRATÉGICOS","index":3,"n_rows":9,"n_cols":15,"rows_kept":9,"cut":false,"hidden":false,"merged":[[62,1,62,11],[63,0,63,16],[1,1,4,2],[1,13,1,14],[2,13,2,14],[3,13,3,14],[4,13,4,14],[7,9,7,14],[9,1,13,1],[9,4,13,4],[9,5,13,5],[9,6,13,6],[9,7,13,7],[61,1,61,17],[9,8,13,8],[14,8,18,8],[19,8,23,8],[14,1,18,1],[14,2,18,2],[14,4,18,4],[14,5,18,5],[14,6,18,6],[14,7,18,7],[19,1,23,1],[19,2,23,2],[19,4,23,4],[19,5,23,5],[19,6,23,6],[9,2,13,2],[24,8,28,8],[29,1,33,1],[29,2,33,2],[29,4,33,4],[29,5,33,5],[29,6,33,6],[29,7,33,7],[29,8,33,8],[24,1,28,1],[24,2,28,2],[24,4,28,4],[24,5,28,5],[24,6,28,6],[24,7,28,7],[19,7,23,7],[39,7,43,7],[39,8,43,8],[34,1,38,1],[34,2,38,2],[34,4,38,4],[34,5,38,5],[34,6,38,6],[34,7,38,7],[7,1,7,8],[44,6,48,6],[54,8,58,8],[54,6,58,6],[54,7,58,7],[44,8,48,8],[49,6,53,6],[49,7,53,7],[49,8,53,8],[44,7,48,7],[34,8,38,8],[39,1,43,1],[39,2,43,2],[39,4,43,4],[39,5,43,5],[39,6,43,6],[1,3,1,12],[2,3,2,12],[3,3,4,12],[5,2,6,2],[54,1,58,1],[54,2,58,2],[54,4,58,4],[54,5,58,5],[49,1,53,1],[49,2,53,2],[49,4,53,4],[49,5,53,5],[44,2,48,2],[44,4,48,4],[44,5,48,5],[44,1,48,1]]}
[]
[null,null,null,"MACROPROCESO ESTRATÉGICO",null,null,null,null,null,null,null,null,null,"CÓDIGO: ESGr028"]
[null,null,null,"PROCESO GESTIÓN SISTEMAS INTEGRADOS - CALIDAD",null,null,null,null,null,null,null,null,null,"VERSIÓN: 17"]
[null,null,null,"GESTIÓN DEL RIESGO Y LAS OPORTUNIDADES",null,null,null,null,null,null,null,null,null,"VIGENCIA: 2022-06-10"]
[null,null,null,null,null,null,null,null,null,null,null,null,null,"PÁGINA: 2 de11"]
[null,null,"REGRESAR"]
[]
[null,"IDENTIFICACIÓN DEL RIESGO ESTRATÉGICO",null,null,null,null,null,null,null,"RIESGOS OPERATIVOS QUE APORTAN A LA ESTRATEGIA"]
[null,"ID","FRENTE ESTRATÉGICO: OBJETIVO DE CALIDAD","RIESGO ESTRATÉGICO","PROBABILIDAD","IMPACTO","VALORACIÓN","NIVEL","INDICADOR DE EFICACIA","PROCESOS INVOLUCRADOS","RIESGO OPERATIVO","PROBABILIDAD DE OCURRENCIA RESIDUAL","MAGNITUD DEL IMPACTO RESIDUAL","VALORACIÓN RESIDUAL","NIVEL RESIDUAL"]

{"sheet":"CORRUPCIÓN","index":4,"n_rows":12,"n_cols":17,"rows_kept":12,"cut":false,"hidden":false,"merged":[[62,1,62,17],[63,1,63,11],[64,0,64,16],[8,1,8,7],[8,8,8,16],[1,1,4,2],[1,15,1,16],[2,15,2,16],[3,15,3,16],[4,15,4,16],[1,3,1,14],[2,3,2,14],[3,3,4,14]]}
[]
[null,null,null,"MACROPROCESO ESTRATÉGICO",null,null,null,null,null,null,null,null,null,null,null,"CÓDIGO: ESGr028"]
[null,null,null,"PROCESO GESTIÓN SISTEMAS INTEGRADOS",null,null,null,null,null,null,null,null,null,null,null,"VERSIÓN: 17"]
[null,null,null,"GESTIÓN DEL RIESGO Y LAS OPORTUNIDADES",null,null,null,null,null,null,null,null,null,null,null,"VIGENCIA: 2023-10-12"]
[null,null,null,null,null,null,null,null,null,null,null,null,null,null,null,"PÁGINA: 3 de 11"]
[]
[]
[null,null,"REGRESAR"]
[null,"IDENTIFICACIÓN DEL RIESGO",null,null,null,null,null,null,"TRATAMIENTO DEL RIESGO"]
[null,"ID","MACROPROCESO","PROCESO","RIESGO","CLASIFICACIÓN","CAUSA","CONSECUENCIA","PROBABILIDAD","IMPACTO","RIESGO RESIDUAL","OPCIÓN MANEJO","ACTIVIDADES DE CONTROL","SOPORTE","RESPONSABLE","TIEMPO","INDICADOR"]
[null,1,"Misional","Admisiones y Registro","Recibir dadivas para la modificación de la información contenida en la plataforma institucional como (notas) y/o de las certificaciones de los estudiantes favoreciendo a particulares, debido a la de falta de ética de los funcionarios","Corrupción ","Amiguismo o influencia de un tercero","Procesos Disciplinarios . Perdida de la buena imagen de la institución","Probable","Catastrófico","Extremo","Evitar","Difusión y capacitación a todos los funcionarios del proceso, Jornadas de sensibilización para la actuación ética y moral en el manejo de información confidencial.","Actas de capacitación ","Jefe de Admisión  y Registro Juan Manuel Cruz Banoy","Semestral ","N° Capacitaciones"]
[null,2,"Misional","Admisiones y Registro","Recibir dadivas para la modificación de la información contenida en la plataforma institucional. Que se puede presentar en los procesos de selección de los estudiantes ","Corrupción ","Amiguismo o influencia de un tercero","Procesos Disciplinarios . Perdida de la buena imagen de la institución","Probable","Catastrófico","Extremo","Evitar","Difusión y capacitación a todos los funcionarios del proceso, Jornadas de sensibilización para la actuación ética y moral en el manejo de información confidencial.","Actas de capacitación ","Jefe de Admisión  y Registro Juan Manuel Cruz Banoy","semestral ","N° Capacitaciones"]

{"sheet":"MATRIZ SGSI","index":5,"n_rows":14,"n_cols":17,"rows_kept":14,"cut":false,"hidden":false,"merged":[[1,3,1,14],[2,3,2,14],[3,3,4,14],[6,1,6,23],[9,1,9,2],[9,3,9,7],[1,15,1,16],[2,15,2,16],[3,15,3,16],[4,15,4,16],[1,1,4,2],[60,1,60,17],[61,1,61,11],[62,0,62,16],[12,1,12,7],[7,3,7,4],[12,8,12,10],[12,11,12,16],[10,1,10,2],[10,3,10,7]]}
[]
[null,null,null,"MACROPROCESO ESTRATÉGICO",null,null,null,null,null,null,null,null,null,null,null,"CÓDIGO: ESGr028"]
[null,null,null,"PROCESO GESTIÓN SISTEMAS INTEGRADOS -CALIDAD",null,null,null,null,null,null,null,null,null,null,null,"VERSIÓN: 17"]
[null,null,null,"GESTIÓN DEL RIESGO Y LAS OPORTUNIDADES",null,null,null,null,null,null,null,null,null,null,null,"VIGENCIA: 2023-10-12"]
[null,null,null,null,null,null,null,null,null,null,null,null,null,null,null,"PÁGINA: 4 de 11"]
[]
[]
[null,"REGRESAR"]
[]
[null,"PROCESO:",null," "]
[null,"OBJETIVO ",null," "]
[]
[null,"IDENTIFICACIÓN DE RIESGOS",null,null,null,null,null,null,"VALORACIÓN DE RIESGOS",null,null,"TRATAMIENTO DEL RIESGO"]
[null,"ACTIVO O GRUPO DE ACTIVOS","IDENTIFICADOR DEL RIESGO","RIESGO","DESCRIPCIÓN DEL RIESGO","VULNERABILIDADES","AMENAZAS","CONSECUENCIAS","PROBABILIDAD","IMPACTO","RIESGO INHERENTE","OPCIÓN TRATAMIENTO","OBJETIVO DE CONTROL","ACTIVIDAD DE CONTROL","SOPORTE","RESPONSABLE","TIEMPO"]

{"sheet":"CRITERIOS","index":6,"n_rows":245,"n_cols":14,"rows_kept":245,"cut":false,"hidden":false,"merged":[[243,1,243,11],[242,1,242,17],[244,1,244,17],[1,1,4,1],[1,2,1,7],[1,8,1,9],[2,2,2,7],[2,8,2,9],[3,2,4,7],[3,8,3,9],[4,8,4,9],[7,1,7,2],[21,1,21,4],[43,1,43,4],[44,3,44,4],[45,1,46,1],[32,0,32,3],[162,1,162,3],[173,1,173,3],[185,1,185,3],[144,1,144,3],[67,1,68,1],[101,1,103,1],[104,1,106,1],[111,1,111,5],[69,1,70,1],[71,1,73,1],[78,1,78,2],[87,1,87,2],[96,1,96,4],[98,1,100,1],[56,1,56,3],[58,1,59,1],[60,1,61,1],[62,1,63,1],[64,1,66,1],[199,1,199,4],[187,5,191,5],[200,1,200,2],[186,7,186,11],[184,5,184,13],[206,2,207,2],[206,1,211,1],[208,2,209,2],[210,2,211,2],[201,2,203,2],[201,1,205,1],[204,2,205,2],[228,1,228,4],[147,4,147,5],[148,4,148,5],[149,4,149,5],[150,4,150,5],[152,4,152,5],[151,4,151,5],[153,3,154,5],[222,2,223,2],[224,2,225,2],[226,2,227,2],[217,1,227,1],[215,1,215,5],[216,1,216,4],[217,2,219,2],[220,2,221,2]]}
[]
[null,null,"MACROPROCESO ESTRATÉGICO",null,null,null,null,null,"CÓDIGO: ESGr028"]
[null,null,"PROCESO GESTIÓN SISTEMAS INTEGRADOS",null,null,null,null,null,"VERSIÓN: 16"]
[null,null,"GESTIÓN DEL RIESGO Y LAS OPORTUNIDADES",null,null,null,null,null,"VIGENCIA: 2022-06-10"]
[null,null,null,null,null,null,null,null,"PÁGINA: 1 de 6"]
[]
[]
[null,"TIPOLOGÍA DE RIESGOS "]
[null,"RIESGO ESTRATÉGICO","RIESGO ESTRATÉGICO: posibilidad de ocurrencia de eventos que afecten los objetivos estratégicos de la organización pública y por tanto impactan toda la entidad."]
[null,"RIESGO GERENCIAL","RIESGO GERENCIAL: Posibilidad de ocurrencia de eventos que afecten los procesos gerenciales y/o la alta dirección."]
[null,"RIESGO OPERATIVO","RIESGO OPERATIVO: Posibilidad de ocurrencia de eventos que afecten los procesos misionales de la entidad."]
[null,"RIESGO FINANCIERO","RIESGO FINANCIERO: Posibilidad de ocurrencia de eventos que afecten los estados financieros y todas aquellas áreas involucradas con el proceso financiero como presupuesto, tesorería, contabilidad, cartera, central de cuentas, costos, etc. "]
[null,"RIESGO TECNOLÓGICO","RIESGO TECNOLÓGICO: Posibilidad de ocurrencia de eventos que afecten la totalidad o parte de la infraestructura tecnológica (hardware, software, redes, etc.) de una entidad. "]
[null,"RIESGO DE CUMPLIMIENTO","RIESGO DE CUMPLIMIENTO: Posibilidad de ocurrencia de eventos que afecten la situación jurídica o contractual de la organización debido a su incumplimiento o desacato a la normatividad legal y las obligaciones contractuales. "]
[null,"RIESGO DE IMAGEN O REPUTACIONAL ","RIESGO DE IMAGEN O REPUTACIONAL: posibilidad de ocurrencia de un evento que afecte la imagen, buen nombre o reputación de una organización ante sus clientes y partes interesadas. "]
[null,"RIESGO DE CORRUPCIÓN ","RIESGO DE CORRUPCIÓN: Posibilidad de que, por acción u omisión, se use el poder para desviar la gestión de lo público hacia un beneficio privado."]
[null,"RIESGO DE SEGURIDAD DIGITAL ","RIESGO DE SEGURIDAD DIGITAL: Posibilidad de combinación de amenazas y vulnerabilidades en el entorno digital. Puede debilitar el logro de objetivos económicos y sociales, afectar la soberanía nacional, la integridad territorial, el orden constitucional y los intereses nacionales. Incluye aspectos relacionados con el ambiente físico, digital y las personas. "]
[]
[]
[]
[]
[null,"CRITERIOS PARA CALIFICAR LA PROBABILIDAD "]
[null,"NIVEL ","INTERPRETACIÓN","POR DESCRIPCIÓN ","POR FRECUENCIA "]
[null,5,"CASI SEGURO","Se espera que el evento ocurra en la mayoría de las circunstancias. ","Más de 1 vez al año."]
[null,4,"PROBABLE","Es viable que el evento ocurra en la mayoría de las circunstancias. ","Al menos 1 vez en el último año. "]
[null,3,"POSIBLE","El evento podrá ocurrir en algún momento. ","Al menos 1 vez en los últimos 2 años. "]
[null,2,"IMPROBABLE","El evento puede ocurrir en algún momento. ","Al menos 1 vez en los últimos 5 años. "]
[null,1,"RARA VEZ ","El evento puede ocurrir solo en circunstancias excepcionales (poco comunes o anormales). ","No se ha presentado en los últimos 5 años. "]
[]
[]
[]
[]
["CRITERIOS PARA CALIFICAR EL IMPACTO - RIESGOS DE GESTIÓN "]
["NIVEL","INTERPRETACIÓN","IMPACTO (CONSECUENCIAS) CUANTITATIVO","IMPACTO (CONSECUENCIAS) - CUALITATIVO"]
[5,"CATASTRÓFICO","* Impacto que afecte la ejecución presupuestal en un valor ≤50%. \n* Pérdida de cobertura en la prestación de los servicios de la entidad ≤50%. \n* Pago de indemnizaciones a terceros por acciones legales que pueden afectar presupuesto total de la entidad en un valor ≤50%. \n* Pago de sanciones económicas por incumplimiento en la normatividad aplicable ante un ente regulador, las cuales afectan en un valor ≤50% del presupuesto general de la entidad. ","* Interrupción de las operaciones de la entidad por más de cinco (5) días. \n* Intervención por parte de un ente de control u otro ente regulador. \n* Pérdida de información crítica para la entidad que no se puede recuperar. \n* Incumplimiento en las metas y objetivos institucionales afectando de forma grave la ejecución presupuestal. \n* Imagen institucional afectada en el orden nacional o regional por actos o hechos de corrupción comprobados. \n"]
[4,"MAYOR","* Impacto que afecte la ejecución presupuestal en un valor ≤20%.\n* Pérdida de cobertura en la prestación de los servicios de la entidad ≤20%.\n* Pago de indemnizaciones a terceros por acciones legales que pueden afectar el presupuesto total de la entidad en un valor ≤20%.\n* Pago de sanciones económicas por incumplimiento en la normatividad aplicable ante un ente regulador, las cuales afectan en un valor ≤20% del presupuesto general de la entidad.    ","* Interrupción de las operaciones de la entidad por más de dos (2) días. \n* Pérdida de información crítica que puede ser recuperada de forma parcial o incompleta. \n* Sanción por parte del ente de control u otro ente regulador. \n* Incumplimiento en las metas y objetivos institucionales afectando el cumplimiento en las metas de gobierno. \n* Imagen institucional afectada en el orden nacional o regional por incumplimientos en la prestación del servicio a los usuarios o ciudadanos."]
[3,"MODERADO","* Impacto que afecte la ejecución presupuestal en un valor ≤5%. \n* Pérdida de cobertura en la prestación de los servicios de la entidad ≤10%. \n* Pago de indemnizaciones a terceros por acciones legales que pueden afectar el presupuesto total de la entidad en un valor ≤5%. \n* Pago de sanciones económicas por incumplimiento en la normatividad aplicable ante un ente regulador, las cuales afectan en un valor ≤5% del presupuesto general de la entidad. ","* Interrupción de las operaciones de la entidad por un (1) día. \n* Reclamaciones o quejas de los usuarios que podrían implicar una denuncia ante los entes reguladores o una demanda de largo alcance para la entidad. \n* Inoportunidad en la información, ocasionando retrasos en la atención a los usuarios. \n* Reproceso de actividades y aumento de carga operativa. \n* Imagen institucional afectada en el orden nacional o regional por retrasos en la prestación del servicio a los usuarios o ciudadanos. \n* Investigaciones penales, fiscales o disciplinarias. "]
[2,"MENOR","* Impacto que afecte la ejecución presupuestal en un valor ≤1%. \n* Pérdida de cobertura en la prestación de los servicios de la entidad ≤5%. \n* Pago de indemnizaciones a terceros por acciones legales que pueden afectar el presupuesto total de la entidad en un valor ≤1%. \n* Pago de sanciones económicas por incumplimiento en la normatividad aplicable ante un ente regulador, las cuales afectan en un valor ≤1% del presupuesto general de la entidad. ","* Interrupción de las operaciones de la entidad por algunas horas. \n* Reclamaciones o quejas de los usuarios, que implican investigaciones internas disciplinarias. \n* Imagen institucional afectada localmente por retrasos en la prestación del servicio a los usuarios o ciudadanos. "]
[1,"INSIGNIFICANTE","* Impacto que afecte la ejecución presupuestal en un valor ≤0,5%. \n* Pérdida de cobertura en la prestación de los servicios de la entidad ≤1%. \n* Pago de indemnizaciones a terceros por acciones legales que pueden afectar el presupuesto total de la entidad en un valor ≤0,5%. \n* Pago de sanciones económicas por incumplimiento en la normatividad aplicable ante un ente regulador, las cuales afectan en un valor ≤0,5% del presupuesto general de la entidad. ","* No hay interrupción de las operaciones de la entidad.\n* No se generan sanciones económicas o administrativas.  \n* No se afecta la imagen institucional de forma significativa. "]
[]
[]
[]
[]
[null,"ANÁLISIS Y EVALUACIÓN DE LOS CONTROLES PARA LA MITIGACIÓN DE LOS RIESGOS"]
[null,"CRITERIO DE EVALUACIÓN ","ASPECTO A EVALUAR EN EL DISEÑO DEL CONTROL","OPCIONES DE RESPUESTA"]
[null,"1. RESPONSABLE","¿Existe un responsable asignado a la ejecu­ción del control? ","Asignado","No Asignado"]
[null,null,"¿El responsable tiene la autoridad y adecua­da segregación de funciones en la ejecución del control? ","Adecuado","Inadecuado"]
[null,"2. PERIODICIDAD","¿La oportunidad en que se ejecuta el control ayuda a prevenir la mitigación del riesgo o a detectar la materialización del riesgo de ma­nera oportuna? ","Oportuna","Inoportuna "]
[null,"3. PROPÓSITO","¿Las actividades que se desarrollan en el control realmente buscan por si sola prevenir o detectar las causas que pueden dar origen al riesgo, ejemplo Verificar, Validar Cotejar, Comparar, Revisar, etc.? ","Prevenir o detectar","No es un control"]
[null,"4. COMO REALIZAR LA ACTIVIDAD DE CONTROL ","¿La fuente de información que se utiliza en el desarrollo del control es información confia­ble que permita mitigar el riesgo?. ","Confiable","No confiable"]
[null,"5. QUE PASA CON LAS OBSERVACIONES O DESVIACIONES","¿Las observaciones, desviaciones o dife­rencias identificadas como resultados de la ejecución del control son investigadas y re­sueltas de manera oportuna? ","Se investigan y resuelven oportunamente ","No se investigan y resuelven oportunamente"]
[null,"6. EVIDENCIA DE LA EJECUCIÓN DEL CONTROL ","¿Se deja evidencia o rastro de la ejecución del control, que permita a cualquier tercero con la evidencia, llegar a la misma conclusión?. ","Completa","Incompleta/No existe "]
[]
[]
[]
[]
[null,"PESO O PARTICIPACIÓN DE CADA VARIABLE EN EL DISEÑO DEL CONTROL PARA LA MITIGACIÓN DEL RIESGO "]
[null,"CRITERIO DE EVALUACIÓN","OPCIÓN DE RESPUESTA AL CRITERIO DE EVALUACIÓN ","PESO EN LA EVALUACIÓN DEL DISEÑO DEL CONTROL"]
[null,"11. ASIGNACIÓN DEL RESPONSABLE ","Asignado",15]
[null,null,"No asignado",0]
[null,"12. SEGREGACIÓN  Y AUTORIDAD DEL RESPONSABLE ","Adecuado",15]
[null,null,"Inadecuado",0]
[null,"2. PERIODICIDAD","Oportuna",15]
[null,null,"Inoportuna",0]
[null,"3. PROPÓSITO","Prevenir",15]
[null,null,"Detectar",10]
[null,null,"No es un control",0]
[null,"4. COMO SE REALIZA LA ACTIVIDAD DE CONTROL","Confiable",15]
[null,null,"No confiable",0]
[null,"5. QUE PASA CON LAS OBSERVACIONES O DESVIACIONES ","Se investigan y resuelven oportunamente",15]
[null,null,"No se investigan y resuelven oportunamente ",0]
[null,"6. EVIDENCIA DE LA EJECUCIÓN DEL CONTROL","Completa",10]
[null,null,"Incompleta",5]
[null,null,"No existe",0]
[]
[]
[]
[]
[null,"RESULTADOS DE LA EVALUACIÓN DEL DISEÑO DEL CONTROL "]
[null,"RANGO DE CALIFICACIÓN DEL DISEÑO","RESULTADO - PESO EN LA EVALUACIÓN DEL DISEÑO DEL CONTROL "]
[null,"Fuerte","Calificación entre 96 y 100 "]
[null,"Moderado","Calificación entre 86 y 95"]
[null,"Débil","Calificación entre 0 y 85"]
[]
[]
[]
[]
[null,"RESULTADOS DE LA EVALUACIÓN DE LA EJECUCIÓN DEL CONTROL"]
[null,"RANGO DE CALIFICACIÓN DE LA EJECUCIÓN ","RESULTADO - PESO DE LA EJECUCIÓN DEL CONTROL -"]
[null,"Fuerte","El control se ejecuta de manera consistente por parte del responsable."]
[null,"Moderado","El control se ejecuta algunas veces por parte del responsable."]
[null,"Débil","El control no se ejecuta por parte del responsable."]
[]
[]
[]
[]
[null,"ANÁLISIS Y EVALUACIÓN DE LOS CONTROLES PARA LA MITIGACIÓN DE LOS RIESGOS "]
[null,"PESO INDIVIDUAL DEL DISEÑO (DISEÑO)","EL CONTROL SE EJECUTA DE MANERA CONSISTENTE POR LOS RESPONSABLES (EJECUCIÓN)","SOLIDEZ INDIVIDUAL DE CADA CONTROL \nFUERTE:100 \nMODERADO: 50 \nDÉBIL: 0","PESO EN LA EVALUACIÓN DEL DISEÑO DEL CONTROL \nSI / NO"]
[null,"Fuerte calificación entre 96 y 100","Fuerte (siempre se ejecuta)","fuerte + fuerte = fuerte","NO"]
[null,null,"Moderado (algunas veces)","fuerte + moderado = moderado","SI"]
[null,null,"Débil (no se ejecuta)","fuerte + débil = débil","SI"]
[null,"Moderado calificación entre 86 y 95","Fuerte (siempre se ejecuta)","moderado + fuerte = moderado ","SI"]
[null,null,"Moderado (algunas veces)","moderado + moderado = moderado ","SI"]
[null,null,"Débil (no se ejecuta)","moderado + débil = débil","SI"]
[null,"Débil calificación entre 0 y 85","Fuerte (siempre se ejecuta)","débil + fuerte = débil","SI"]
[null,null,"Moderado (algunas veces)","débil + moderado = débil","SI"]
[null,null,"Débil (no se ejecuta)","débil + débil = débil","SI"]
[]
[]
[]
[]
[null,"RESULTADOS DE LOS POSIBLES DESPLAZAMIENTOS DE LA PROBABILIDAD Y DEL IMPACTO DE LOS RIESGOS"]
[null,"SOLIDEZ DEL CONJUNTO DE LOS CONTROLES","CONTROLES AYUDAN A DISMINUIR LA PROBABILIDAD","CONTROLES AYUDAN A DISMINUIR IMPACTO","# COLUMNAS EN LA MATRIZ DE RIESGO QUE SE DESPLAZA EN EL EJE DE LA PROBABILIDAD","# COLUMNAS EN LA MATRIZ DE RIESGO QUE SE DESPLAZA EN EL EJE DE IMPACTO"]
[null,"Fuerte ","Directamente","Directamente",2,2]
[null,"Fuerte ","Directamente","Indirectamente",2,1]
[null,"Fuerte ","Directamente","No disminuye",2,0]
[null,"Fuerte ","No disminuye","Directamente",0,2]
[null,"Moderado","Directamente","Directamente",1,1]
[null,"Moderado","Directamente","Indirectamente",1,0]
[null,"Moderado","Directamente","No disminuye",1,0]
[null,"Moderado","No disminuye","Directamente",0,1]
[]
[]
[]
[]
[]
[]
[]
[]
[]
[]
[]
[]
[]
[]
[]
[]
[]
[]
[]
[]
[]
[]
[]
[null,"CRITERIOS 2020"]
[]
[]
[null,"CLASIFICACIÓN DEL RIESGO","RELACIÓN","FACTORES DE RIESGOS","DESCRIPCIÓN"]
[null,"EJECUCIÓN Y ADMINISTRACIÓN DE PROCESOS: Pérdidas derivadas de errores en la ejecución y administración de procesos.",null,"Procesos: Eventos relacionados con errores en las actividades que deben realizar los servidores de la organización. ","- Falta de procedimientos\n- Errores de grabación, autorización\n- Errores en cálculos para pagos internos y externos\n- Falta de capacitación"]
[null,"FRAUDE EXTERNO: Pérdida derivada de actos de fraude por personas ajenas a la organización (no participa personal de la entidad).",null,"Evento externo: Situaciones externas que afectan la entidad","- Suplantación de identidad\n- Asalto a la oficina\n- Atentados, vandalismo, orden público"]
[null,"FRAUDE INTERNO: Pérdida debido a actos de fraude, actuaciones irregulares, comisión de hechos delictivos abuso de confianza, apropiación indebida, incumplimiento de regulaciones legales o internas de la entidad en las cuales está involucrado por lo menos 1 participante interno de la organización, son realizadas de forma intencional y/o con ánimo de lucro para sí mismo o para terceros.",null,"Talento humano: Incluye seguridad y salud en el trabajo. Se analiza posible dolo e intención frente a la corrupción.","- Hurto activos\n- Posibles comportamientos no éticos de los empleados\n- Fraude interno (corrupción, soborno)"]
[null,"FALLAS TECNOLÓGICAS: Errores en hardware, software, telecomunicaciones, interrupción de servicios básicos.",null,"Tecnología: Eventos relacionados con la infraestructura tecnológica de la entidad.","- Daño de equipos\n- Caída de aplicaciones\n- Caída de redes\n- Errores en programas"]
[null,"DAÑOS A ACTIVOS FIJOS/ EVENTOS EXTERNOS: Pérdida por daños o extravíos de los activos fijos por desastres naturales u otros riesgos/eventos externos como atentados, vandalismo, orden público.",null,"Infraestructura: Eventos relacionados con la infraestructura física de la entidad.","- Derrumbes\n- Incendios\n- Inundaciones\n- Daños a activos fijos"]
[null,"USUARIOS, PRODUCTOS Y PRÁCTICAS: Fallas negligentes o involuntarias de las obligaciones frente a los usuarios y que impiden satisfacer una obligación profesional frente a éstos. ",null,"Pueden asociarse a varios factores"]
[null,"RELACIONES LABORALES: Pérdidas que surgen de acciones contrarias a las leyes o acuerdos de empleo, salud o seguridad, del pago de demandas por daños personales o de discriminación."]
[]
[]
[]
[]
[]
[]
[]
[null,"Tabla 3 Actividades relacionadas con la gestión en entidades públicas"]
[null,"ACTIVIDAD","FRECUENCIA DE LA ACTIVIDAD ","PROBABILIDAD FRENTE AL RIESGO"]
[null,"Planeación estratégica","1 vez al año","Muy baja "]
[null,"Actividades de talento humano, jurídica, administrativa","Mensual","Media"]
[null,"Contabilidad, cartera","Semanal","Alta"]
[null,"*Tecnología (incluye disponibilidad de aplicativos), tesorería\n*Nota: En materia de tecnología se tiene en cuenta 1 hora funcionamiento = 1 vez.\nEj.: Aplicativo FURAG está disponible durante 2 meses las 24 horas, en consecuencia su frecuencia se calcularía 60 días * 24 horas= 1440 horas.","Diaria","Muy alta"]
[]
[]
[]
[]
[]
[null,"Tabla 4 Criterios para definir el nivel de probabilidad"]
[null,null,"FRECUENCIA DE LA ACTIVIDAD","PROBABILIDAD"]
[null,"Muy Baja","La actividad que conlleva el riesgo se ejecuta como máximo 2 veces por año",0.2,"MUY BAJA: La actividad que conlleva el riesgo se ejecuta como máximos 2 veces por año"]
[null,"Baja","La actividad que conlleva el riesgo se ejecuta de 3 a 10 veces por año",0.4,"BAJA: La actividad que conlleva el riesgo se ejecuta de 3 a 10 veces por año"]
[null,"Media","La actividad que conlleva el riesgo se ejecuta de 11 a 30 veces por año",0.6,"MEDIA: La actividad que conlleva el riesgo se ejecuta de 11 a 30 veces por año"]
[null,"Alta","La actividad que conlleva el riesgo se ejecuta mínimo 31 veces al año y máximo 100 veces por año",0.8,"ALTA: La actividad que conlleva el riesgo se ejecuta mínimo 31 veces al año y máximo 100 veces por año"]
[null,"Muy Alta","La actividad que conlleva el riesgo se ejecuta más de 100 veces por año",1,"MUY ALTA: La actividad que conlleva el riesgo se ejecuta más de 100 veces por año"]
[]
[]
[]
[]
[null,null,null,null,null,"Figura 14 Matriz de calor (niveles de severidad del riesgo)"]
[null,"Tabla 5 Criterios para definir el nivel de impacto"]
[null,"NIVEL","AFECTACIÓN ECONÓMICA ","REPUTACIONAL ",null,null,null,"IMPACTO "]
[null,"Leve 20%","Afectación menor a 10 SMLMV .","El riesgo afecta la imagen de algún área de la organización.",null,"\n\n\n\nPROBABILIDAD","Muy Alta 100%",null,null,null,null,null,null,"Extremo"]
[null,"Menor 40%","Entre 10 y 50 SMLV","El riesgo afecta la imagen de la entidad internamente, deconocimiento general nivel interno, de junta directiva y accionistas y/o de proveedores.","PREVENTIVO",null,"Alta 80%",null,null,null,null,null,null,"Alto"]
[null,"Moderado 60%","Entre 50 y 100 SMLMV","El riesgo afecta la imagen de la entidad con algunos usuarios de relevancia frente al logro de los objetivos.","DETECTIVO",null,"Media 60%",null,null,null,null,null,null,"Moderado"]
[null,"Mayor 80%","Entre 100 y 500 SMLMV","El riesgo afecta la imagen de la entidad con efecto publicitario sostenido a nivel de sector administrativo, nivel departamental o municipal.","CORRECTIVO",null,"Baja 40%",null,null,null,null,null,null,"Bajo"]
[null,"Catastrófico 100%","Mayor a 500 SMLMV","El riesgo afecta la imagen de la entidad a nivel nacional, con efecto publicitario sostenido a nivel país",null,null,"Muy Baja 20%"]
[null,null,"El riesgo afecta la imagen de algún área de la organización."]
[null,null,"El riesgo afecta la imagen de la entidad internamente, deconocimiento general nivel interno, de junta directiva y accionistas y/o de proveedores."]
[null,null,"El riesgo afecta la imagen de la entidad con algunos usuarios de relevancia frente al logro de los objetivos."]
[null,null,"El riesgo afecta la imagen de la entidad con efecto publicitario sostenido a nivel de sector administrativo, nivel departamental o municipal."]
[null,null,"El riesgo afecta la imagen de la entidad a nivel nacional, con efecto publicitario sostenido a nivel país"]
[]
[]
[null,"Tabla 6 Atributos de para el diseño del control"]
[null,"CARACTERISTICAS",null,"DESCRIPCIÓN","PESO"]
[null,"Atributos de eficiencia","Tipo","Preventivo: Va hacia las causas del riesgo, aseguran el resultado final esperado.",0.25]
[null,null,null,"Detectivo: Detecta que algo ocurre y devuelve el proceso a los controles preventivos. Se pueden generar reprocesos.",0.15]
[null,null,null,"Correctivo: Dado que permiten reducir el impacto de la materialización del riesgo, tienen un costo en su implementación.",0.1]
[null,null,"Implementación ","Automático: Son actividades de procesamiento o validación de información que se ejecutan por un sistema y/o aplicativo de manera automática sin la intervención de personas para su realización.",0.25,"AUTOMÁTICO"]
[null,null,null,"Manual: Controles que son ejecutados por una persona, tiene implícito el error humano.",0.15,"MANUAL"]
[null,"Atributos informativos","Documentación","Documentado: Controles que están documentados en el proceso, ya sea en manuales, procedimientos, flujogramas o cualquier otro documento propio del proceso.","-"]
[null,null,null,"Sin documentar: Identifica a los controles que pese a que se ejecutan en el proceso no se encuentran documentados en ningún documento propio del proceso.","-"]
[null,null,"Frecuencia","Continua: El control se aplica siempre que se realiza la actividad que conlleva el riesgo.","-"]
[null,null,null,"Aleatoria: El control se aplica aleatoriamente a la actividad que conlleva el riesgo.","-"]
[null,null,"Evidencia","Con registro: El control deja un registro permite evidencia la ejecución del control.","-"]
[null,null,null,"Sin registro: El control no deja registro de la ejecución del control.","-"]
[]
[]
[]
[null,"Tabla 7 Aplicación tabla atributos a ejemplo propuesto"]
[null,"CONTROLES Y SUS CARACTERÍSTICAS",null,null,null,"PESO"]
[null,"Control 1 \nEl profesional del área de contratos verifica que la información suministrada por el proveedor corresponda con los requisitos establecidos de contratación a través de una lista de chequeo donde están los requisitos de información y la revisión con la información física suministrada por el proveedor, los contratos que cumplen son registrados en el sistema de información de contratación.","Tipo","Preventivo","X",0.25]
[null,null,null,"Detectivo"]
[null,null,null,"Correctivo"]
[null,null,"Implementación","Automático"]
[null,null,null,"Manual","X",0.15]
[null,null,"Documentación","Documentado","X","-"]
[null,null,null,"Sin documentar",null,"-"]
[null,null,"Frecuencia","Continua","X","-"]
[null,null,null,"Aleatoria",null,"-"]
[null,null,"Evidencia","Con registro","X","-"]
[null,null,null,"Sin registro",null,"-"]
[null,"TOTAL VALORACIÓN CONTROL 1",null,null,null,0.4]
[]
[]
[]
[null,null,"PERIODICIDAD"]
[null,1,"DIARIA"]
[null,2,"SEMANAL"]
[null,3,"MENSUAL"]
[null,4,"TRIMESTRAL"]
[null,5,"SEMESTRAL"]
[null,null,"ANUAL"]
[null,null,"CADA VEZ QUE SE PRESENTE LA NECESIDAD"]
[]
[null,"Código Serie Documental (Ver Tabla de Retención Documental)"]
[null,"Diagonal 18 No. 20-29 Fusagasugá – Cundinamarca \nTeléfono (601) 8281483 Línea Gratuita 018000180414\n www.ucundinamarca.edu.co   E-mail: info@ucundinamarca.edu.co\n NIT: 890.680.062-2"]
[]
[null,"Documento controlado por el Sistema de Gestión de la Calidad\nAsegúrese que corresponde a la última versión consultando el Portal Institucional"]

{"sheet":"Hoja1","index":7,"n_rows":0,"n_cols":0,"rows_kept":0,"cut":false,"hidden":false,"merged":[]}

{"sheet":"IDENTIFICACIÓN DOFA","index":8,"n_rows":84,"n_cols":14,"rows_kept":84,"cut":false,"hidden":false,"merged":[[87,1,87,11],[86,1,86,13],[88,1,88,13],[1,1,4,1],[1,2,1,12],[2,2,2,12],[3,2,4,12],[1,13,1,14],[2,13,2,14],[3,13,3,14],[4,13,4,14],[7,11,8,11],[7,12,8,12],[7,13,9,13],[7,1,8,2],[7,3,7,10]]}
[]
[null,null,"MACROPROCESO ESTRATÉGICO",null,null,null,null,null,null,null,null,null,null,"CÓDIGO: ESGr028"]
[null,null,"PROCESO GESTIÓN SISTEMAS INTEGRADOS - CALIDAD",null,null,null,null,null,null,null,null,null,null,"VERSIÓN: 17"]
[null,null,"GESTIÓN DEL RIESGO Y LAS OPORTUNIDADES",null,null,null,null,null,null,null,null,null,null,"VIGENCIA: 2023-10-12"]
[null,null,null,null,null,null,null,null,null,null,null,null,null,"PÁGINA: 6 de 11"]
[]
[]
[null,"CONTEXTO - DOFA",null,"PARTES INTERESADAS",null,null,null,null,null,null,null,"TOTAL","PORCENTAJE","INTERPRETACIÓN"]
["REGRESAR",null,null,"Ministerio de Educación","Ente Gubernamental","Procesos Internos","Comunidad en General","Estudiantes","Asociaciones y Egresados","Alta Dirección","Otros"]
[null,"DEBILIDADES","ESTADO",0.15,0.1,0.1,0.08,0.3,7.0000000000000007E-2,0.15,0.05,{"$f":"SUM(D10:K10)","v":1},{"$f":"+L10","v":1}]
[null," Inestabilidad laboral (en la renovación de los contratos) de algunos funcionarios adscritos a la oficina. ",0,null,null,null,null,null,null,null,null,0,{"$f":"+SUMPRODUCT(D$10:K$10,D11:K11)/5","v":0},{"$f":"IF(M11<=0.6,\"BAJO IMPACTO\",IF(M11<=0.8,\"MEDIO IMPACTO RECOMENDABLE EVALUARLO EN EL RIESGO\",IF(M11<=1,\"ALTO IMPACTO OBLIGATORIO ARTICULARLA A UNO DE LOS RIESGOS\")))","v":"BAJO IMPACTO"}]
[null," En las seccionales y extensiones no se cuenta con las condiciones adecuadas para la conservación de los documentos. ",0,null,null,null,null,null,null,null,null,0,0,{"$f":"IF(M12<=0.6,\"BAJO IMPACTO\",IF(M12<=0.8,\"MEDIO IMPACTO RECOMENDABLE EVALUARLO EN EL RIESGO\",IF(M12<=1,\"ALTO IMPACTO OBLIGATORIO ARTICULARLA A UNO DE LOS RIESGOS\")))","v":"BAJO IMPACTO"}]
[null,"D1. Dependencia de otras áreas para la ejecución de las actividades del proceso y  actualización de desarrollos propios",1,3,1,5,1,5,3,5,2,25,0.73799999999999999,{"$f":"IF(M13<=0.6,\"BAJO IMPACTO\",IF(M13<=0.8,\"MEDIO IMPACTO RECOMENDABLE EVALUARLO EN EL RIESGO\",IF(M13<=1,\"ALTO IMPACTO OBLIGATORIO ARTICULARLA A UNO DE LOS RIESGOS\")))","v":"MEDIO IMPACTO RECOMENDABLE EVALUARLO EN EL RIESGO"}]
[null,"D2. Los consejos de Facultad y las direcciones de programa no envían oportunamente a la oficina de Admisiones y Registro actas de sustentación y vistos buenos, para iniciar el proceso de Revisión de carpeta para grados.",1,2,2,4,1,5,1,4,2,21,0.65,"MEDIO IMPACTO RECOMENDABLE EVALUARLO EN EL RIESGO"]
["ocultar","D3. Retrazo del envio de la informacion por parte de la entidad bancaria para el cargue de archivos planos por tesoreria de los pagos realizados por  de los estudiantes y aspirantes.  ",0,3,3,3,1,3,1,4,2,20,0.56000000000000005,"BAJO IMPACTO"]
[null,"D4. Cargue de notas fuera de los tiempos establecidos en el calendario académico, con visto bueno de la viceacademica.",0,2,1,4,1,5,1,4,2,20,0.63,"MEDIO IMPACTO RECOMENDABLE EVALUARLO EN EL RIESGO"]
[null,"D5. Falta de sistematización del proceso de \"perdida de condición de estudiante\"",0,3,2,5,1,5,1,5,4,26,0.75,"MEDIO IMPACTO RECOMENDABLE EVALUARLO EN EL RIESGO"]
[null,"D6. Falta asegurar la gestión del conocimiento en el proceso.",1,2,2,4,2,4,2,3,2,21,0.59,"BAJO IMPACTO"]
[null," No contar con la técnica en materia de inclusión para ofrecer a cabalidad los servicios del proceso de admisiones a los aspirantes y estudiantes vulnerables y en condición de discapacidad",0,null,null,null,null,null,null,null,null,{"$f":"SUM(D19:K19)","v":0},{"$f":"+SUMPRODUCT(D$10:K$10,D19:K19)/5","v":0},"BAJO IMPACTO"]
[null," Falta restauración de la infraestructura (ventanilla) de la oficina sede Fusagasugá para facilitar la atención al público.",0,null,null,null,null,null,null,null,null,0,0,"BAJO IMPACTO"]
["ocultar","D7. Falta fortalecer el pilar estratégico de la transhumanidad en el proceso (ambiente laboral)",0,2,2,5,2,4,3,5,3,26,0.69399999999999995,"MEDIO IMPACTO RECOMENDABLE EVALUARLO EN EL RIESGO"]
[null," Falta fortalecer canales de comunicación con las partes interesadas",0,null,null,null,null,null,null,null,null,0,0,"BAJO IMPACTO"]
[null," Centralización de funciones y decisiones del proceso en la sede principal.",0,null,null,null,null,null,null,null,null,0,0,"BAJO IMPACTO"]
[null," Falta realizar la totalidad de capacitaciones y/o inducciones al personal del proceso",0,null,null,null,null,null,null,null,null,0,0,"BAJO IMPACTO"]
[null,"D8. Falta realizar seguimiento al incumplimiento de metas frente a los indicadores del proceso",1,2,2,5,1,4,2,5,2,23,0.65400000000000014,"MEDIO IMPACTO RECOMENDABLE EVALUARLO EN EL RIESGO"]
[null," Falta mejorar la oportunidad y calidad en la prestación del servicio vía telefónica",0,null,null,null,null,null,null,null,null,0,0,"BAJO IMPACTO"]
[null," Cruce de información en el proceso en cuanto a los reportes emitidos por los estudiantes.",0,null,null,null,null,null,null,null,null,0,0,"BAJO IMPACTO"]
["ocultar","D9. Falta de presentación oportuna de los compromisos del Sistema de Gestión de la Calidad",0,2,2,4,1,4,3,3,3,22,0.59799999999999998,"BAJO IMPACTO"]
["ocultar","D10. Falta de bases de datos vigentes y oportunas para la trazabilidad de estudiantes de reingreso y devolución de matrícula y graduados.",0,4,1,5,1,5,2,4,4,26,0.74400000000000011,"MEDIO IMPACTO RECOMENDABLE EVALUARLO EN EL RIESGO"]
[null," Falta de control de porta diplomas por crecimiento de la demanda de graduados",0,null,null,null,null,null,null,null,null,0,0,"BAJO IMPACTO"]
[null,"D9.  Falta de parametrización de herramientas en el criterio de vocación profesional (entrevistas), que permitan su digitalización, para estandarizar los criterios, metodología de aplicación y fiabilidad de los resultados.",1,3,3,5,4,1,3,5,3,27,0.59599999999999997,"BAJO IMPACTO"]
[null,"D10. Alta rotación de personal y  fuga de capital intelectual que genera impacto en la operación del proceso. ",1,2,2,5,3,4,2,5,3,{"$f":"SUM(D32:K32)","v":26},{"$f":"+SUMPRODUCT(D$10:K$10,D32:K32)/5","v":0.69599999999999995},{"$f":"IF(M32<=0.6,\"BAJO IMPACTO\",IF(M32<=0.8,\"MEDIO IMPACTO RECOMENDABLE EVALUARLO EN EL RIESGO\",IF(M32<=1,\"ALTO IMPACTO OBLIGATORIO ARTICULARLA A UNO DE LOS RIESGOS\")))","v":"MEDIO IMPACTO RECOMENDABLE EVALUARLO EN EL RIESGO"}]
[null,"AMENAZAS"]
[null,"A1. Hackers y virus informáticos ",1,2,2,4,3,4,1,3,2,{"$f":"SUM(D34:K34)","v":21},{"$f":"+SUMPRODUCT(D$10:K$10,D34:K34)/5","v":0.59199999999999986},"BAJO IMPACTO"]
[null,"A2. Actualizaciones o ventanas de mantenimiento de la plataforma del ICFES",1,3,3,5,5,2,1,5,3,27,0.64399999999999991,"MEDIO IMPACTO RECOMENDABLE EVALUARLO EN EL RIESGO"]
["ocultar","A7. Falta de interés por parte del aspirante en consultar el Instructivo en el portal web.",0,1,1,2,4,4,3,1,4,20,0.50600000000000001,"BAJO IMPACTO"]
[null,"A3. Fenómenos naturales como inundaciones e incendios",1,3,3,3,2,2,2,3,1,19,0.49000000000000005,"BAJO IMPACTO"]
[null,"A4. Paros Estudiantiles (Daños a la infraestructura y al personal de la oficina por manifestaciones de la comunidad universitaria y la comunidad en general)",1,1,1,4,4,3,1,5,3,22,0.56799999999999995,"BAJO IMPACTO"]
[null," Inconsistencias en los procesos de selección y contratación laboral.",0,null,null,null,null,null,null,null,null,0,0,"BAJO IMPACTO"]
[null," Se carece de apoyo interinstitucional por parte del Gobierno y el Ministerio de Educación Nacional.",0,null,null,null,null,null,null,null,null,0,0,"BAJO IMPACTO"]
["ocultar","A6. Los tiempos de contratación de la universidad son dispendiosos.",0,3,1,5,3,5,1,4,4,26,0.73199999999999998,"MEDIO IMPACTO RECOMENDABLE EVALUARLO EN EL RIESGO"]
[null," Los tiempos para el trámite y giros de recursos económicos por parte de entes gubernamentales son demorados y son insuficientes.",0,null,null,null,null,null,null,null,null,{"$f":"SUM(D42:K42)","v":0},{"$f":"+SUMPRODUCT(D$10:K$10,D42:K42)/5","v":0},"BAJO IMPACTO"]
[null,"A5. Grupos sociales que emiten información falsa sobre la universidad para la oferta académica y los proesos de admisión.",1,1,1,3,4,3,1,5,2,20,0.53800000000000003,"BAJO IMPACTO"]
[null,"A8. Emergencia sanitaria a causa patógena (COVID-19)",1,4,4,4,4,4,4,4,4,32,0.8,"MEDIO IMPACTO RECOMENDABLE EVALUARLO EN EL RIESGO"]
[null,"Congestión e interrupción de los procesos y procedimientos externos.",0,3,1,3,1,4,1,3,2,18,0.54999999999999993,"BAJO IMPACTO"]
[null,"A6. Ley de garantías a finales del IIPA 2021 y a principios del IPA 2022.",1,3,1,3,1,4,1,3,2,18,0.54999999999999993,"BAJO IMPACTO"]
[null,"Daños a la infraestructura y al personal de la oficina por manifestaciones de la comunidad universitaria y la comunidad en general",null,null,null,null,null,null,null,null,null,0,0,"BAJO IMPACTO"]
[null,"A6. Los aspirantes a programas académicos de pregrado, ofertados en cada vigencia no diligencian de manera correcta el registro del codigo AC ICFES en la inscripción dentro del formulario.",1,3,3,5,5,1,2,5,4,28,0.60799999999999998,"MEDIO IMPACTO RECOMENDABLE EVALUARLO EN EL RIESGO"]
[null,"FORTALEZAS"]
[null,"F1. Construcción y Disponibilidad de información estadística. ",1,4,1,4,1,4,1,4,2,{"$f":"SUM(D50:K50)","v":21},{"$f":"+SUMPRODUCT(D$10:K$10,D50:K50)/5","v":0.63},{"$f":"IF(M50<=0.6,\"BAJO IMPACTO\",IF(M50<=0.8,\"MEDIO IMPACTO RECOMENDABLE EVALUARLO\",IF(M50<=1,\"ALTO IMPACTO OBLIGATORIO ARTICULARLA A UNA DE LAS OPORTUNIDADES\")))","v":"MEDIO IMPACTO RECOMENDABLE EVALUARLO"}]
[null,"F2. Promoción y estrategia de divulgación de la oferta académica en la Universidad de Cundinamarca.",1,2,1,3,4,4,4,4,2,24,0.64,"MEDIO IMPACTO RECOMENDABLE EVALUARLO"]
[null,"Capacitaciones y socializaciones de los procedimientos de la oficina de admisiones en el equipo de trabajo",0,null,null,null,null,null,null,null,null,0,0,"BAJO IMPACTO"]
[null,"F3. Aplicativo informático Academusoft y los desarrollos informáticos que sistematizan la operatividad del proceso.",1,4,4,4,3,5,3,5,3,31,0.85,"ALTO IMPACTO OBLIGATORIO ARTICULARLA A UNA DE LAS OPORTUNIDADES"]
[null,"Claridad en el plan de acción del proceso, ya se establecieron metas para la vigencia actual",0,null,null,null,null,null,null,null,null,0,0,"BAJO IMPACTO"]
[null," Distribución de Funciones de acuerdo a las habilidades del personal",0,null,null,null,null,null,null,null,null,0,0,"BAJO IMPACTO"]
[null," Aumento y aprobación del presupuesto acorde a las necesidades del proceso",0,null,null,null,null,null,null,null,null,0,0,"BAJO IMPACTO"]
[null,"F4. Se cuenta con backups para la seguridad y trazabilidad de la información.",1,3,3,5,3,5,3,5,3,30,0.82000000000000006,"ALTO IMPACTO OBLIGATORIO ARTICULARLA A UNA DE LAS OPORTUNIDADES"]
[null," El proceso conoce y trabaja bajo la normatividad interna y externa",0,null,null,null,null,null,null,null,null,{"$f":"SUM(D58:K58)","v":0},{"$f":"+SUMPRODUCT(D$10:K$10,D58:K58)/5","v":0},"BAJO IMPACTO"]
["ocultar","F5. Se planifican las actividades del proceso mediante el calendario académico",0,3,2,5,3,5,1,4,4,27,0.752,"MEDIO IMPACTO RECOMENDABLE EVALUARLO"]
["ocultar","F6. Se cuenta con indicadores que miden la gestión del proceso - Se toman acciones de mejora frente a los resultados de la medición de los indicadores del SGC",0,3,1,5,1,3,1,3,3,20,0.53999999999999992,"BAJO IMPACTO"]
[null,"F8. Estructuración de guías para la atención a población priorizada y de caracterización",1,4,4,5,4,5,3,5,3,33,0.88600000000000012,"ALTO IMPACTO OBLIGATORIO ARTICULARLA A UNA DE LAS OPORTUNIDADES"]
["ocultar","F9. Se comunica a las partes interesadas la actualización documental del proceso",0,null,2,5,2,5,4,5,4,27,0.71799999999999997,"MEDIO IMPACTO RECOMENDABLE EVALUARLO"]
[null,"F7. Personal suficiente para cumplir con los objetivos del proceso",0,null,null,null,null,null,null,null,null,0,0,"BAJO IMPACTO"]
[null,"F10. Se brinda acompañamiento a los aspirantes catalogados como poblaciones priorizadas para la culminación del proceso de selección.",1,1,1,5,3,3,1,5,2,21,0.56200000000000006,"BAJO IMPACTO"]
[null,"Se brinda atención personalizada a la población estudiantil en condiciones de discapacidad o desventaja (aspirantes - estudiantes) ",1,3,3,4,4,4,1,2,4,25,0.64799999999999991,"MEDIO IMPACTO RECOMENDABLE EVALUARLO"]
[null,"F9. Se fortalece el desarrollo de la Translocalidad en el proceso, se participa en ferias universitarias cuando son programadas y efectuadas",0,null,null,null,null,null,null,null,null,0,0,"BAJO IMPACTO"]
[null,"Se aplican y se cumplen con los procesos de selección: ICFES - evaluación mediante dos momentos: entrevista virtual - entrevista personal.",1,2,1,3,5,5,4,2,5,27,0.68599999999999994,"MEDIO IMPACTO RECOMENDABLE EVALUARLO"]
[null,"Se participa en las pausas activas para el bienestar de los funcionarios",0,null,null,null,null,null,null,null,null,{"$f":"SUM(D68:K68)","v":0},{"$f":"+SUMPRODUCT(D$10:K$10,D68:K68)/5","v":0},"BAJO IMPACTO"]
[null,"Se cuenta con pasantes para el apoyo del cumplimiento de objetivos y metas del proceso",0,null,null,null,null,null,null,null,null,{"$f":"SUM(D69:K69)","v":0},{"$f":"+SUMPRODUCT(D$10:K$10,D69:K69)/5","v":0},"BAJO IMPACTO"]
[null,"F11. Acompañamiento a los aspirantes en el proceso de inscripción (identificación de errores en el diligenciamiento del formulario de inscripción) y admitidos en la etapa de formalización de matricula (Socializaciones para el diligenciamiento de caracterización institucional)",1,2,2,4,5,3,1,4,3,{"$f":"SUM(D70:K70)","v":24},{"$f":"+SUMPRODUCT(D$10:K$10,D70:K70)/5","v":0.60399999999999998},{"$f":"IF(M70<=0.6,\"BAJO IMPACTO\",IF(M70<=0.8,\"MEDIO IMPACTO RECOMENDABLE EVALUARLO\",IF(M70<=1,\"ALTO IMPACTO OBLIGATORIO ARTICULARLA A UNA DE LAS OPORTUNIDADES\")))","v":"MEDIO IMPACTO RECOMENDABLE EVALUARLO"}]
[null,"OPORTUNIDADES"]
[null,"O1. Demanda en la Educación virtual en programas de Postgrado.",0,3,2,4,4,4,4,2,4,{"$f":"SUM(D72:K72)","v":27},{"$f":"+SUMPRODUCT(D$10:K$10,D72:K72)/5","v":0.66999999999999993},"MEDIO IMPACTO RECOMENDABLE EVALUARLO"]
["ocultar"," Crecimiento de la población estudiantil. ",0,null,null,null,null,null,null,null,null,0,0,"BAJO IMPACTO"]
[null," Baja competencia en la región donde hace presencia la Institución.",0,null,null,null,null,null,null,null,null,0,0,"BAJO IMPACTO"]
[null," La expedición de la norma de Inclusión ",0,null,null,null,null,null,null,null,null,0,0,"BAJO IMPACTO"]
[null,"O3. Articulación de la politica de gratuidad en la matricula ",1,5,5,4,5,3,3,5,3,33,0.81199999999999994,"ALTO IMPACTO OBLIGATORIO ARTICULARLA A UNA DE LAS OPORTUNIDADES"]
[null," Adquisición de nuevos equipos tecnológicos.",0,null,null,null,null,null,null,null,null,0,0,"BAJO IMPACTO"]
[null,"Certificaciones ambientales.",0,null,null,null,null,null,null,null,null,{"$f":"SUM(D78:K78)","v":0},{"$f":"+SUMPRODUCT(D$10:K$10,D78:K78)/5","v":0},"BAJO IMPACTO"]
[null,"O5. Alianzas estratégicas con empresas e instituciones de educación superior",1,4,4,4,4,4,4,4,4,32,0.8,"MEDIO IMPACTO RECOMENDABLE EVALUARLO"]
[null," Actualización de documentación articulada a política de inclusión para garantizar la accesibilidad a todos los aspirantes (caracterización estudiantil)",0,null,null,null,null,null,null,null,null,0,0,"BAJO IMPACTO"]
[null," Oferta en el mercado de mecanismos digitales que permiten identificar la población académica en condiciones de discapacidad y vulnerabilidad",0,null,null,null,null,null,null,null,null,0,0,"BAJO IMPACTO"]
[null,"O5. Socialización con colegios de la región acerca de la oferta acadaémica de Universidad de Cundinamarca; Participación en ferias y actividades de oferta académica",1,1,1,4,5,5,4,5,3,28,0.746,"MEDIO IMPACTO RECOMENDABLE EVALUARLO"]
[null," Capacitación al personal del proceso en materia de inclusión",0,null,null,null,null,null,null,null,null,0,0,"BAJO IMPACTO"]
[null,"O6. Articulación con la estratégia transito a la U (Estudiantes de colegios públicos que dan incio a su formación universitaria a traves de campos de aprendizaje homologables en la seccional Soacha)",1,3,2,4,5,5,3,5,3,{"$f":"SUM(D84:K84)","v":30},{"$f":"+SUMPRODUCT(D$10:K$10,D84:K84)/5","v":0.81199999999999994},{"$f":"IF(M84<=0.6,\"BAJO IMPACTO\",IF(M84<=0.8,\"MEDIO IMPACTO RECOMENDABLE EVALUARLO\",IF(M84<=1,\"ALTO IMPACTO OBLIGATORIO ARTICULARLA A UNA DE LAS OPORTUNIDADES\")))","v":"ALTO IMPACTO OBLIGATORIO ARTICULARLA A UNA DE LAS OPORTUNIDADES"}]

{"sheet":"CRUCE RIESGOS","index":9,"n_rows":16,"n_cols":68,"rows_kept":16,"cut":false,"hidden":false,"merged":[[8,64,10,64],[8,65,10,65],[11,64,12,64],[11,65,12,65],[13,64,14,64],[13,65,14,65],[1,66,1,67],[2,66,2,67],[3,66,3,67],[4,66,4,67],[1,13,1,65],[2,13,3,65],[4,13,4,65],[12,67,13,67],[12,66,13,66],[14,66,15,66],[14,67,15,67],[8,34,12,34],[9,36,12,36],[12,20,13,20],[12,21,13,21],[12,27,13,27],[12,28,13,28],[12,23,13,23],[12,24,13,24],[12,25,13,25],[12,26,13,26],[8,45,10,45],[6,52,6,67],[8,66,10,66],[20,1,20,11],[19,1,19,63],[21,1,21,63],[8,67,10,67],[12,51,13,51],[12,12,13,12],[12,5,13,5],[12,41,13,41],[12,42,13,42],[12,22,13,22],[12,17,13,17],[12,18,13,18],[12,19,13,19],[8,29,12,29],[8,30,12,30],[12,43,13,43],[12,44,13,44],[8,31,12,31],[1,4,4,12],[6,23,6,42],[14,63,15,63],[12,63,13,63],[8,63,10,63],[8,62,10,62],[12,62,13,62],[14,62,15,62],[6,47,6,51],[8,47,10,47],[8,58,13,58],[8,59,13,59],[6,3,6,7],[8,52,13,52],[6,8,6,19],[6,20,6,22],[7,10,7,11],[8,8,10,8],[7,13,7,14],[8,32,12,32],[8,33,12,33],[8,60,13,60],[8,61,13,61],[8,51,10,51],[8,53,13,53],[8,54,13,54],[8,55,13,55],[8,56,13,56],[8,57,13,57],[12,45,13,45],[8,3,10,3],[8,9,10,9],[8,10,10,10],[8,11,10,11],[8,15,10,15],[12,13,13,13],[12,14,13,14],[12,15,13,15],[12,16,13,16],[12,6,13,6],[12,7,13,7],[8,5,10,5],[8,6,10,6],[8,7,10,7],[8,12,10,12],[8,13,10,13],[8,14,10,14],[12,11,13,11],[14,3,15,3],[14,10,15,10],[14,11,15,11],[14,12,15,12],[14,13,15,13],[14,14,15,14],[14,15,15,15],[12,3,13,3],[12,4,13,4],[12,8,13,8],[12,9,13,9],[12,10,13,10],[14,5,15,5],[14,6,15,6],[14,7,15,7],[14,8,15,8],[14,9,15,9],[14,47,15,47],[14,48,15,48],[14,49,15,49],[14,50,15,50],[14,51,15,51],[12,47,13,47],[12,46,13,46],[8,50,10,50],[12,50,13,50],[8,48,10,48],[8,49,10,49],[12,48,13,48],[12,49,13,49]]}
[]
[null,null,null,null,null,null,null,null,null,null,null,null,null,"MACROPROCESO ESTRATÉGICO",null,null,null,null,null,null,null,null,null,null,null,null,null,null,null,null,null,null,null,null,null,null,null,null,null,null,null,null,null,null,null,null,null,null,null,null,null,null,null,null,null,null,null,null,null,null,null,null,null,null,null,null,"CÓDIGO: ESGr028"]
[null,null,null,null,null,null,null,null,null,null,null,null,null,"PROCESO GESTIÓN SISTEMAS INTEGRADOS - CALIDAD",null,null,null,null,null,null,null,null,null,null,null,null,null,null,null,null,null,null,null,null,null,null,null,null,null,null,null,null,null,null,null,null,null,null,null,null,null,null,null,null,null,null,null,null,null,null,null,null,null,null,null,null,"VERSIÓN: 17"]
[null,null,null,null,null,null,null,null,null,null,null,null,null,null,null,null,null,null,null,null,null,null,null,null,null,null,null,null,null,null,null,null,null,null,null,null,null,null,null,null,null,null,null,null,null,null,null,null,null,null,null,null,null,null,null,null,null,null,null,null,null,null,null,null,null,null,"VIGENCIA: 2023-10-12"]
[null,null,null,null,null,null,null,null,null,null,null,null,null,"GESTIÓN DEL RIESGO Y LAS OPORTUNIDADES",null,null,null,null,null,null,null,null,null,null,null,null,null,null,null,null,null,null,null,null,null,null,null,null,null,null,null,null,null,null,null,null,null,null,null,null,null,null,null,null,null,null,null,null,null,null,null,null,null,null,null,null,"PÁGINA: 7 de 11"]
[null,null,null,null,"REGRESAR"]
[null,null,null,"IDENTIFICACIÓN DEL RIESGO",null,null,null,null,"VALORACIÓN DEL RIESGO INHERENTE",null,null,null,null,null,null,null,null,null,null,null,"VALORACIÓN DE CONTROLES",null,null,"VALORACIÓN DE RIESGO RESIDUAL",null,null,null,null,null,null,null,null,null,null,null,null,null,null,null,null,null,null,null,null,null,null,null,"VALORACIÓN DE RIESGO RESIDUAL",null,null,null,null,"CONCLUSIONES DEL SEGUIMIENTO (DILIGENCIADO POR LA OFICINA DE CONTROL INTERNO)"]
["CUADRANTE","DECIMAL","SUMA","ID","CAUSAS (FACTORES DOFA)","EVENTO (RIESGO)","CONSECUENCIA","CLASIFICACIÓN DEL RIESGO","PROBABILIDAD: FRECUENCIA DE LA ACTIVIDAD","ARGUMENTO O DESCRIPCIÓN DE LA PROBABILIDAD","PROBABILIDAD INHERENTE \n(%)",null,"MAGNITUD DEL IMPACTO","IMPACTO INHERENTE\n(%)",null,"NIVEL DE RIESGO INHERENTE","CONTROLES APLICABLES","FRECUENCIA O PERIODICIDAD","DOCUMENTACIÓN","ENTREGABLES Y/O EVIDENCIAS","CLASIFICACIÓN DE LOS CONTROLES","IMPLEMENTACIÓN DEL CONTROL","AFECTACIÓN DEL CONTROL","CALIFICACIÓN DE LOS ATRIBUTOS DE EFICIENCIA","PROBABILIDAD RESIDUAL (%)","PROBABILIDAD RESIDUAL","IMPACTO RESIDUAL (%)","IMPACTO RESIDUAL","ZONA DEL RIESGO RESIDUAL","FECHA DE SEGUIMIENTO","OBSERVACIONES, COMENTARIOS Y/O SUGERENCIAS","FECHA DE SEGUIMIENTO","OBSERVACIONES, COMENTARIOS Y/O SUGERENCIAS","FECHA DE SEGUIMIENTO","OBSERVACIONES, COMENTARIOS Y/O SUGERENCIAS","FECHA DE SEGUIMIENTO","OBSERVACIONES, COMENTARIOS Y/O SUGERENCIAS","FECHA DE SEGUIMIENTO","OBSERVACIONES, COMENTARIOS Y/O SUGERENCIAS","FECHA DE SEGUIMIENTO","OBSERVACIONES, COMENTARIOS Y/O SUGERENCIAS","FECHA DE SEGUIMIENTO","OBSERVACIONES, COMENTARIOS Y/O SUGERENCIAS","FECHA DE SEGUIMIENTO","OBSERVACIONES, COMENTARIOS Y/O SUGERENCIAS","FECHA DE SEGUIMIENTO","OBSERVACIONES, COMENTARIOS Y/O SUGERENCIAS","PROBABILIDAD DE OCURRENCIA","PROBABILIDAD DE OCURRENCIA","MAGNITUD DEL IMPACTO","IMPACTO DE OCURRENCIA","NIVEL","FECHA DE SEGUIMIENTO","OBSERVACIONES Y RECOMENDACIONES","FECHA DE SEGUIMIENTO","OBSERVACIONES Y RECOMENDACIONES","FECHA DE SEGUIMIENTO","OBSERVACIONES Y RECOMENDACIONES","FECHA DE SEGUIMIENTO","OBSERVACIONES Y RECOMENDACIONES","FECHA DE SEGUIMIENTO","OBSERVACIONES Y RECOMENDACIONES","FECHA DE SEGUIMIENTO","OBSERVACIONES Y RECOMENDACIONES","FECHA DE SEGUIMIENTO","OBSERVACIONES Y RECOMENDACIONES","FECHA DE SEGUIMIENTO","OBSERVACIONES Y RECOMENDACIONES"]
[{"$f":"IF(OR(AV9=0,AX9=0),\"\",IF(AND(AV9<=0.2,AX9<=0.2),1,IF(AND(AV9<=0.2,AX9<=0.4),2,IF(AND(AV9<=0.2,AX9<=0.6),3,IF(AND(AV9<=0.2,AX9<=0.8),4,IF(AND(AV9<=0.2,AX9<=1),5,IF(AND(AV9<=0.4,AX9<=0.2),6,IF(AND(AV9<=0.4,AX9<=0.4),7,IF(AND(AV9<=0.4,AX9<=0.6),8,IF(AND(AV9<=0.4,AX9<=0.8),9,IF(AND(AV9<=0.4,AX9<=1),10,IF(AND(AV9<=0.6,AX9<=0.2),11,IF(AND(AV9<=0.6,AX9<=0.4),12,IF(AND(AV9<=0.6,AX9<=0.6),13,IF(AND(AV9<=0.6,AX9<=0.8),14,IF(AND(AV9<=0.6,AX9<=1),15,IF(AND(AV9<=0.8,AX9<=0.2),16,IF(AND(AV9<=0.8,AX9<=0.4),17,IF(AND(AV9<=0.8,AX9<=0.6),18,IF(AND(AV9<=0.8,AX9<=0.8),19,IF(AND(AV9<=0.8,AX9<=1),20,IF(AND(AV9<=1,AX9<=0.2),21,IF(AND(AV9<=1,AX9<=0.4),22,IF(AND(AV9<=1,AX9<=0.6),23,IF(AND(AV9<=1,AX9<=0.8),24,IF(AND(AV9<=1,AX9<=1),25,\"\"))))))))))))))))))))))))))","v":8},{"$f":"IF(A9=\"\",\"\",1/100)","v":0.01},{"$f":"IFERROR(A9+B9,\"\")","v":8.01},1,"D2. Los consejos de Facultad y las direcciones de programa no envían oportunamente a la oficina de Admisiones y Registro, actas de sustentación y vistos buenos, para iniciar el proceso de Revisión de carpeta para grados.","Posibilidad de incurrir en retrasos que afectan la entrega y disponibilidad de información en la operación del proceso.","Incumplimiento  en las actividades de aplicaciòn de novedades, apertura y cierre de periodos acadèmicos y otras propias del proceso.\n\nHallazgos en auditorías por entes de control.\n\nIncumplimiento a la aplicación de los requisitos establecidos en la normativa interna. \n\n","EJECUCIÓN Y ADMINISTRACIÓN DE PROCESOS: Pérdidas derivadas de errores en la ejecución y administración de procesos.",10605,"se tiene como base los procedimientos MARP02 - MARP03 - MARP05 - MARP06, los cuales se ejecutan conforme a las actividades dispuestas en cada uno, tanto en IPA como en el IIPA de cada vigencia, en ese sentido el proceso tiene una frecuencia de actividad de 152 veces al año.",{"$f":"IF(I9<=0,\"\",IF(I9<=2,\"Muy Baja\",IF(I9<=10,\"Baja\",IF(I9<=30,\"Media\",IF(I9<=100,\"Alta\",IF(I9>100,\"Muy Alta\"))))))","v":"Muy Alta"},{"$f":"IF(K9=\"\",\"\",IF(K9=\"Muy Baja\",0.2,IF(K9=\"Baja\",0.4,IF(K9=\"Media\",0.6,IF(K9=\"Alta\",0.8,IF(K9=\"Muy Alta\",1,))))))","v":1},"El riesgo afecta la imagen de la entidad con efecto publicitario sostenido a nivel de sector administrativo, nivel departamental o municipal.",{"$f":"IF(OR(M9=CRITERIOS!$C$188,M9=CRITERIOS!$D$188),\"Leve\",IF(OR(M9=CRITERIOS!$C$189,M9=CRITERIOS!$D$189),\"Menor\",IF(OR(M9=CRITERIOS!$C$190,M9=CRITERIOS!$D$190),\"Moderado\",IF(OR(M9=CRITERIOS!$C$191,M9=CRITERIOS!$D$191),\"Mayor\",IF(OR(M9=CRITERIOS!$C$192,M9=CRITERIOS!$D$192),\"Catastrófico\",\"\")))))","v":"Mayor"},{"$f":"IF(N9=\"\",\"\",IF(N9=\"Leve\",0.2,IF(N9=\"Menor\",0.4,IF(N9=\"Moderado\",0.6,IF(N9=\"Mayor\",0.8,IF(N9=\"Catastrófico\",1,))))))","v":0.8},{"$f":"IF(OR(AND(K9=\"Muy Baja\",N9=\"Leve\"),AND(K9=\"Muy Baja\",N9=\"Menor\"),AND(K9=\"Baja\",N9=\"Leve\")),\"BAJO\",IF(OR(AND(K9=\"Muy baja\",N9=\"Moderado\"),AND(K9=\"Baja\",N9=\"Menor\"),AND(K9=\"Baja\",N9=\"Moderado\"),AND(K9=\"Media\",N9=\"Leve\"),AND(K9=\"Media\",N9=\"Menor\"),AND(K9=\"Media\",N9=\"Moderado\"),AND(K9=\"Alta\",N9=\"Leve\"),AND(K9=\"Alta\",N9=\"Menor\")),\"MODERADO\",IF(OR(AND(K9=\"Muy Baja\",N9=\"Mayor\"),AND(K9=\"Baja\",N9=\"Mayor\"),AND(K9=\"Media\",N9=\"Mayor\"),AND(K9=\"Alta\",N9=\"Moderado\"),AND(K9=\"Alta\",N9=\"Mayor\"),AND(K9=\"Muy Alta\",N9=\"Leve\"),AND(K9=\"Muy Alta\",N9=\"Menor\"),AND(K9=\"Muy Alta\",N9=\"Moderado\"),YR9=\"Muy Alta\",N9=\"Mayor\"),\"ALTO\",IF(OR(AND(K9=\"Muy Baja\",N9=\"Catastrófico\"),AND(K9=\"Baja\",N9=\"Catastrófico\"),AND(K9=\"Media\",N9=\"Catastrófico\"),AND(K9=\"Alta\",N9=\"Catastrófico\"),AND(K9=\"Muy Alta\",N9=\"Catastrófico\")),\"EXTREMO\",\"\"))))","v":"ALTO"},"El Líder de Admisiones y Registro genera alertas tempranadas con la socializaciòn de las fechas limite de envío de actas y vistos buenos, de acuerdo al calendarioa académico de cada vigencia. ","SEMESTRAL","MARP06, Actas y Vistos Buenos de trabajo de grado, Calendario académico.","Correo electrónico con la notificación de alerta temprana en la entrega de actas y vistos buenos de acuerdo a las fechas establecidas en el calendario académico.","PREVENTIVO","MANUAL",{"$f":"IF(OR(U9=\"PREVENTIVO\",U9=\"DETECTIVO\"),\"PROBABILIDAD\",IF(U9=\"CORRECTIVO\",\"IMPACTO\",\"\"))","v":"PROBABILIDAD"},{"$f":"IF(AND(U9=\"PREVENTIVO\",V9=\"AUTOMÁTICO\"),\"50%\",IF(AND(U9=\"PREVENTIVO\",V9=\"MANUAL\"),\"40%\",IF(AND(U9=\"DETECTIVO\",V9=\"AUTOMÁTICO\"),\"40%\",IF(AND(U9=\"DETECTIVO\",V9=\"MANUAL\"),\"30%\",IF(AND(U9=\"CORRECTIVO\",V9=\"AUTOMÁTICO\"),\"35%\",IF(AND(U9=\"CORRECTIVO\",V9=\"MANUAL\"),\"25%\",\"\"))))))","v":"40%"},{"$f":"IFERROR(IF(W9=\"Probabilidad\",(L9-(L9*X9)),IF(W9=\"Impacto\",L9,\"\")),\"\")","v":0.6},{"$f":"IFERROR(IF(Y9=\"\",\"\",IF(Y9<=0.2,\"MUY BAJA\",IF(Y9<=0.4,\"BAJA\",IF(Y9<=0.6,\"MEDIA\",IF(Y9<=0.8,\"ALTA\",IF(Y9=1,\"MUY ALTA\")))))),\"\")","v":"MEDIA"},{"$f":"IFERROR(IF(W9=\"Impacto\",(O9-(O9*X9)),IF(W9=\"Probabilidad\",O9,\"\")),\"\")","v":0.8},{"$f":"IFERROR(IF(AA9=\"\",\"\",IF(AA9<=0.2,\"LEVE\",IF(AA9<=0.4,\"MENOR\",IF(AA9<=0.6,\"MODERADO\",IF(AA9<=0.8,\"MAYOR\",IF(AA9=1,\"CATASTRÓFICO\")))))),\"\")","v":"MAYOR"},{"$f":"IFERROR(IF(OR(AND(Z9=\"Muy Baja\",AB9=\"Leve\"),AND(Z9=\"Muy Baja\",AB9=\"Menor\"),AND(Z9=\"Baja\",AB9=\"Leve\")),\"BAJO\",IF(OR(AND(Z9=\"Muy baja\",AB9=\"Moderado\"),AND(Z9=\"Baja\",AB9=\"Menor\"),AND(Z9=\"Baja\",AB9=\"Moderado\"),AND(Z9=\"Media\",AB9=\"Leve\"),AND(Z9=\"Media\",AB9=\"Menor\"),AND(Z9=\"Media\",AB9=\"Moderado\"),AND(Z9=\"Alta\",AB9=\"Leve\"),AND(Z9=\"Alta\",AB9=\"Menor\")),\"MODERADO\",IF(OR(AND(Z9=\"Muy Baja\",AB9=\"Mayor\"),AND(Z9=\"Baja\",AB9=\"Mayor\"),AND(Z9=\"Media\",AB9=\"Mayor\"),AND(Z9=\"Alta\",AB9=\"Moderado\"),AND(Z9=\"Alta\",AB9=\"Mayor\"),AND(Z9=\"Muy Alta\",AB9=\"Leve\"),AND(Z9=\"Muy Alta\",AB9=\"Menor\"),AND(Z9=\"Muy Alta\",AB9=\"Moderado\"),AND(Z9=\"Muy Alta\",AB9=\"Mayor\")),\"ALTO\",IF(OR(AND(Z9=\"Muy Baja\",AB9=\"Catastrófico\"),AND(Z9=\"Baja\",AB9=\"Catastrófico\"),AND(Z9=\"Media\",AB9=\"Catastrófico\"),AND(Z9=\"Alta\",AB9=\"Catastrófico\"),AND(Z9=\"Muy Alta\",AB9=\"Catastrófico\")),\"EXTREMO\",\"\")))),\"\")","v":"ALTO"},"2019-06-05","Se debe continuar con la ejecución de los controles, evitando la materialización del riesgo. Sin embargo, se recomienda reevaluar y analizar las desviaciones de los controles a fin de cumplir con las actividades programadas.","2019-08-30","Se debe continuar con la ejecución de los controles, teniendo en cuenta las oportunidades del proceso para el cumplimiento de metas y objetivos. Así mismo, se recomienda reevaluar los controles 2 y 4.","2020-10-03","Se evidencia falta de eficiencia en la ejecución de los controles, pues aún se presentan quejas y reclamos en cuanto a la no contestación de las llamadas telefónicas en la oficina. Bajo este contexto, se identificaron nuevas causas y se establecieron nuevos controles con el objetivo de minimizar la probabilidad de ocurrencia del riesgo, los cuales estarán sujetos a verificación de eficacia en el próximo seguimiento. Así mismo,  se indica que se debe continuar con la ejecución de los controles, teniendo en cuenta las oportunidades del proceso para el cumplimiento de metas y objetivos. ",null,null,"2021-04-15","Control Nuevo.\nCon base en el oficio de control interno al seguimiento de riesgos, se evidencia materialización del riesgo. Razón por la cual, se determina un nuevo control, calificándolo como débil; no obstante, en el próximo seguimiento se evaluará la madurez y eficacia del mismo. ","2021-10-13","Se evidencia planificación de los cambios presentados durante la contingencia mundial  acorde con los lineamientos internos y externos. ","2022-04-05","Se evidencia fortalecimiento del control, no obstante, se sugiere realizar seguimiento periódico al equipo de trabajo en cuanto a las situaciones relacionadas a ambiente de trabajo. ","2023-07-27","Se evidencia el envío de correos electrónicos el 08 de junio de 2023, donde se solicita a las facultades el envío de actas y vistos buenos de trabajo de grado de los graduandos en proceso de revisión de documentos y requisitos.","2024-06-12","Se evidencia el envío de correos electrónicos en el mes de marzo y julio  de 2024, donde se solicita a las facultades el envío de actas y vistos buenos de trabajo de grado de los graduandos en proceso de revisión de documentos y requisitos y cargue de las mismas en el drive construido para la consolidación de esta información ",{"$f":"IF(Y9=\"\",\"\",MIN(Y9:Y13))","v":0.216},{"$f":"IFERROR(IF(AV9=\"\",\"\",IF(AV9<=0.2,\"MUY BAJA\",IF(AV9<=0.4,\"BAJA\",IF(AV9<=0.6,\"MEDIA\",IF(AV9<=0.8,\"ALTA\",IF(AV9=1,\"MUY ALTA\")))))),\"\")","v":"BAJA"},{"$f":"IF(AA9=\"\",\"\",MIN(AA9:AA13))","v":0.60000000000000009},{"$f":"IFERROR(IF(AX9=\"\",\"\",IF(AX9<=0.2,\"LEVE\",IF(AX9<=0.4,\"MENOR\",IF(AX9<=0.6,\"MODERADO\",IF(AX9<=0.8,\"MAYOR\",IF(AX9=1,\"CATASTRÓFICO\")))))),\"\")","v":"MODERADO"},{"$f":"IFERROR(IF(OR(AND(AW9=\"Muy Baja\",AY9=\"Leve\"),AND(AW9=\"Muy Baja\",AY9=\"Menor\"),AND(AW9=\"Baja\",AY9=\"Leve\")),\"BAJO\",IF(OR(AND(AW9=\"Muy baja\",AY9=\"Moderado\"),AND(AW9=\"Baja\",AY9=\"Menor\"),AND(AW9=\"Baja\",AY9=\"Moderado\"),AND(AW9=\"Media\",AY9=\"Leve\"),AND(AW9=\"Media\",AY9=\"Menor\"),AND(AW9=\"Media\",AY9=\"Moderado\"),AND(AW9=\"Alta\",AY9=\"Leve\"),AND(AW9=\"Alta\",AY9=\"Menor\")),\"MODERADO\",IF(OR(AND(AW9=\"Muy Baja\",AY9=\"Mayor\"),AND(AW9=\"Baja\",AY9=\"Mayor\"),AND(AW9=\"Media\",AY9=\"Mayor\"),AND(AW9=\"Alta\",AY9=\"Moderado\"),AND(AW9=\"Alta\",AY9=\"Mayor\"),AND(AW9=\"Muy Alta\",AY9=\"Leve\"),AND(AW9=\"Muy Alta\",AY9=\"Menor\"),AND(AW9=\"Muy Alta\",AY9=\"Moderado\"),AND(AW9=\"Muy Alta\",AY9=\"Mayor\")),\"ALTO\",IF(OR(AND(AW9=\"Muy Baja\",AY9=\"Catastrófico\"),AND(AW9=\"Baja\",AY9=\"Catastrófico\"),AND(AW9=\"Media\",AY9=\"Catastrófico\"),AND(AW9=\"Alta\",AY9=\"Catastrófico\"),AND(AW9=\"Muy Alta\",AY9=\"Catastrófico\")),\"EXTREMO\",\"\")))),\"\")","v":"MODERADO"},"2019-09-09","Se hace necesario revisar la pertinencia de unificar los riegos R2 y R3, toda vez que los dos se encuentran enmarcados en el cumplimiento de las actividades del proceso.","2020-01-29","Con base en el plan de mejoramiento N°460, hallazgo 1, el cual fue asignado a petición del comité SAC en la sesión ordinaria del 25-07-2018. En el cual se establece que no se atiende de manera oportuna y eficaz las líneas telefónicas de Admisiones y Registro. \nDe acuerdo a los seguimientos realizados en 2019 se evidencia que a pesar de que el proceso de Admisiones y Registro cumplió con cada una de las actividades propuestas en el plan de mejoramiento, estas no son eficaces esto se evidencia mediante la corroboración de la oportuna respuesta de las líneas telefónicas lo cual dio como resultado el bajo nivel de repuesta por parte del proceso motivo por el cual fue elevado al Comité SAC con el fin de dar solución al mismo. ","2021-04-13","De acuerdo a informe de Gestión del IV trimestre del 2020 emanado por la Gestora de Servicio de Atención al Ciudadano, Sonia Arévalo Valdez, se evidencia  materialización del riesgo de acuerdo a lo referenciado a continuación \"Para este trimestre el número de reclamos que se presentó fue de un total de 28 petición, correspondiente al 9%; donde el mayor número de reclamos para el período en consideración, se concentran en el factor principal de los proceso de selección debido a que los aspirantes presentaban inconvenientes al momento de realizar las entrevistas y diferentes pruebas por medio de la plataforma Microsoft TEAMS por donde fueron citados, o porque no presentaron las pruebas en las fechas establecidas por la institución\"","2022-01-26","No se realiza seguimiento a el riesgo toda vez que el nivel es moderado","2022-08-17","\nSe evidencia materialización del riesgo, mediante el reporte de los 2 trimestres de la vigencia 2022 \"informe de gestión de peticiones, quejas y reclamos\" fue posible evidenciar: I Trimestre Quejas y reclamos: Inconformidad ceremonia de grado (7 registros), procesos de grado (1 registro), tramite de certificados de notas (1 registro), información tramites de certificados de notas (1 registro). Derechos de petición: inconformidad ceremonia de grado (3 registros). certificados de notas (1 registro), constancia de estudios (1 registro), solicitud de grado (1 registro). II Trimestre quejas y reclamos, certificado de notas (4 registros), derechos de petición: solicitud constancia de estudio (1 registro).\nLo anterior, no materializa el riesgo, teniendo en cuenta la cantidad reportada, en la misma medida, se recomienda al proceso de servicio de atención al ciudadano, segregar por procesos el informe de PQR a fin de fortalecer el entendimiento. //YHC\n","2023-07-31","No se realiza seguimiento a el riesgo toda vez que el nivel es moderado","2024-04-19","No se evidencia materialización, teniendo en cuenta que todas las quejas peticiones o reclamos, se manejan en los tiempos acorde, sin embargo, se recomienda al proceso que maneje su disponibilidad para que no se evidencia tanto porcentaje en PQR. ","2024-09-06","No se evidencia materialización del riesgo."]
[null,null,null,null,"D4. Cargue de notas fuera de los tiempos establecidos en el calendario académico, con visto bueno de la viceacademica.",null,null,null,null,null,null,null,null,null,null,null,"El líder y profesional de Admisiones y Registro genera alertas tempranadas con la socializaciòn de las fechas limite de cargue de notas, de acuerdo al calendario académico de cada vigencia. ","SEMESTRAL","MARP05, Cargue de notas en el aplicativo MUDOL, Calendario académico.","Correo electrónico con la notificación de alerta temprana en el cargue de notas de acuerdo a las fechas establecidas en el calendario académico.","PREVENTIVO","MANUAL","PROBABILIDAD","40%",{"$f":"IFERROR(IF(AND(W9=\"Probabilidad\",W10=\"Probabilidad\"),(Y9-(Y9*X10)),IF(W10=\"Probabilidad\",(L9-(L9*X10)),IF(W10=\"Impacto\",Y9,\"\"))),\"\")","v":0.36},{"$f":"IFERROR(IF(Y10=\"\",\"\",IF(Y10<=0.2,\"MUY BAJA\",IF(Y10<=0.4,\"BAJA\",IF(Y10<=0.6,\"MEDIA\",IF(Y10<=0.8,\"ALTA\",IF(Y10=1,\"MUY ALTA\")))))),\"\")","v":"BAJA"},{"$f":"IFERROR(IF(AND(W9=\"Impacto\",W10=\"Impacto\"),(AA9-(AA9*X10)),IF(W10=\"Impacto\",(O9-(+O9*X10)),IF(W10=\"Probabilidad\",AA9,\"\"))),\"\")","v":0.8},"MAYOR","ALTO",null,null,null,null,null,null,"2020-11-10","Se recomienda cambiar la periodicidad de ejecución del control a semestral o trimestral. Asimismo, se recomienda asegurar la gestión del conocimiento mediante talleres de grupo, retroalimentaciones, capacitaciones, etc. Dejar evidencia y registro de las actividades en mención.","2021-04-15","Se recomienda asegurar la gestión del conocimiento mediante capacitaciones, retroalimentaciones, etc. ","2021-10-13","Hay evidencia del control. ","2022-04-05","Se reestructuró el control. Por lo que se somete a verificación de eficacia en este periodo. No obstante, se evidencia que la documentación se alinea a la normatividad. ","2023-07-27","Se evidencia el envío de correos electrónicos notificando a las facultades, en la sede, seccionales y extensiones las fechas establecidas en calendario académico, apalancados por envío de solicitudes de cargue de la información relacionada por la Vicerrectoría académica.",null,"Se evidencia el envío de correos electrónicos notificando a las facultades, en la sede, seccionales y extensiones las fechas establecidas en calendario académico, apalancados por envío de solicitudes de cargue de la información relacionada por la Vicerrectoría académica.\nTambien se evidencia que los roles para realizar el cargue de estas notas solamente estan bajo custodia de la jefe de Admisiones y Registro. "]
[null,null,null,null,"A2. Actualizaciones o ventanas de mantenimiento de la plataforma del ICFES",null,null,null,null,null,null,null,null,null,null,null,"El Líder de Admisiones y Registro envía correo electrónico o realiza llamadas al ICFES, solicitando el cruce de las bases de datos para el proceso de selección y admisión",null,"MARP02, Calendario académico.","Correo electrónico con la solicitud de cruce de bases de datos al ICFES. ","PREVENTIVO","MANUAL","PROBABILIDAD","40%",{"$f":"IFERROR(IF(AND(W10=\"Probabilidad\",W11=\"Probabilidad\"),(Y10-(Y10*X11)),IF(AND(W10=\"Impacto\",W11=\"Probabilidad\"),(Y9-(Y9*X11)),IF(W11=\"Impacto\",Y10,\"\"))),\"\")","v":0.216},"BAJA",{"$f":"IFERROR(IF(AND(W10=\"Impacto\",W11=\"Impacto\"),(AA10-(AA10*X11)),IF(AND(W10=\"Probabilidad\",W11=\"Impacto\"),(AA9-(AA9*X11)),IF(W11=\"Probabilidad\",AA10,\"\"))),\"\")","v":0.8},"MAYOR","ALTO",null,null,null,null,null,null,null,null,null,null,null,null,null,null,"2023-07-27","Se evidencia, correo electrónico enviado en la vigencia 2022-2, remitido a ICFES, ya que en su momento la pagina web de este instituto no funcionada, de igual manera se envidencia el envío de bases de datos para cruces en el proceso de selección y comunicación permanente.",null,"Se evidencia, cargue de archivos planos por meido de la plataforma ICFES para validación de información y recepción de reportes en el procedimiento de inscripción, selección y admisión de estudiantes."]
[null,null,null,3,"D1. Dependencia de otras áreas para la ejecución de las actividades del proceso y  actualización de desarrollos propios","Posibilidad de incurrir en errores tthh por falta de actualización o sistematización de controles o actividades, que apalancan la operatividad del proceso.","Pérdidas derivadas de errores tthh en la ejecución de actividades que se llevan a cabo de forma manual.\n\nReprocesos en la realización de actividades del proceso con falta de digitalización \n","EJECUCIÓN Y ADMINISTRACIÓN DE PROCESOS: Pérdidas derivadas de errores en la ejecución y administración de procesos.",3120,"Se tiene como base el numero de veces que el funcionario de la Oficina de Admisiones y Registro realiza actividades manuales, pendientes por digitalización como aplicación de perdidad de condición de estudiante y repocitorio de actas y vistos buenos ",{"$f":"IF(I12<=0,\"\",IF(I12<=2,\"Muy Baja\",IF(I12<=10,\"Baja\",IF(I12<=30,\"Media\",IF(I12<=100,\"Alta\",IF(I12>100,\"Muy Alta\"))))))","v":"Muy Alta"},{"$f":"IF(K12=\"\",\"\",IF(K12=\"Muy Baja\",0.2,IF(K12=\"Baja\",0.4,IF(K12=\"Media\",0.6,IF(K12=\"Alta\",0.8,IF(K12=\"Muy Alta\",1,))))))","v":1},"El riesgo afecta la imagen de la entidad con efecto publicitario sostenido a nivel de sector administrativo, nivel departamental o municipal.","Mayor",0.8,"ALTO","El profesional de Admisiones y Registro verifica según  los tiempos establecidos  en el calendario académico los reportes de actas de sustentación, vistos buenos y novedades académicas por parte de los Consejos de facultad y Direcciones de Programa, a través de correo electronico.","SEMANAL","Correo institucional.\nCalendario académico.\nAcademisoft.\nMARP06 Títulos y grados académicos","Cumplimiento de las responsabilidades  propias de cada docente al finalizar periodo (novedades académicas - Academisoft).\nGrados: Carpetas hojas de vida académica.\n","PREVENTIVO","MANUAL","PROBABILIDAD","40%",{"$f":"IFERROR(IF(W12=\"Probabilidad\",(L12-(L12*X12)),IF(W12=\"Impacto\",L12,\"\")),\"\")","v":0.6},"MEDIA",{"$f":"IFERROR(IF(W12=\"Impacto\",(O12-(O12*X12)),IF(W12=\"Probabilidad\",O12,\"\")),\"\")","v":0.8},"MAYOR","ALTO",null,null,null,null,null,null,"2020-11-10",null,"2021-04-15","Fortalecer los canales de comunicación con las facultades para asegurar el reporte oportuno de la documentación.","2021-10-13","Asegurar el cumplimiento de los términos para evitar retrasos en las solitudes o necesidades de los estudiantes. ","2022-04-05","Se sugiere asegurar los canales de comunicación e interacción integral con los involucrados para tomar las acciones a tiempo, y evitar que se convierta en un control correctivo. ","2023-07-27","Se evidencia el envío de actas por parte de las facultades con las aprobaciones correspondientes de novedades en desarrollo académico.","2024-06-12","Se evidencia el envío de actas por parte de las facultades con las aprobaciones correspondientes de novedades en desarrollo académico y grados y titulos académicos. De igual manera el proceso a construido un drive con las actas y vistos buenos para contar con el acerbo y evidencia en la revisión de documentos para grado y  las decisiones aplicadas y cargadas como novedades académicas en el aplicativo  Academusoft, a traves de documento de trabajo (hoja de excel) ",{"$f":"IF(Y12=\"\",\"\",MIN(Y12:Y12))","v":0.6},{"$f":"IFERROR(IF(AV12=\"\",\"\",IF(AV12<=0.2,\"MUY BAJA\",IF(AV12<=0.4,\"BAJA\",IF(AV12<=0.6,\"MEDIA\",IF(AV12<=0.8,\"ALTA\",IF(AV12=1,\"MUY ALTA\")))))),\"\")","v":"MEDIA"},{"$f":"IF(AA12=\"\",\"\",MIN(AA12:AA12))","v":0.8},{"$f":"IFERROR(IF(AX12=\"\",\"\",IF(AX12<=0.2,\"LEVE\",IF(AX12<=0.4,\"MENOR\",IF(AX12<=0.6,\"MODERADO\",IF(AX12<=0.8,\"MAYOR\",IF(AX12=1,\"CATASTRÓFICO\")))))),\"\")","v":"MAYOR"},{"$f":"IFERROR(IF(OR(AND(AW12=\"Muy Baja\",AY12=\"Leve\"),AND(AW12=\"Muy Baja\",AY12=\"Menor\"),AND(AW12=\"Baja\",AY12=\"Leve\")),\"BAJO\",IF(OR(AND(AW12=\"Muy baja\",AY12=\"Moderado\"),AND(AW12=\"Baja\",AY12=\"Menor\"),AND(AW12=\"Baja\",AY12=\"Moderado\"),AND(AW12=\"Media\",AY12=\"Leve\"),AND(AW12=\"Media\",AY12=\"Menor\"),AND(AW12=\"Media\",AY12=\"Moderado\"),AND(AW12=\"Alta\",AY12=\"Leve\"),AND(AW12=\"Alta\",AY12=\"Menor\")),\"MODERADO\",IF(OR(AND(AW12=\"Muy Baja\",AY12=\"Mayor\"),AND(AW12=\"Baja\",AY12=\"Mayor\"),AND(AW12=\"Media\",AY12=\"Mayor\"),AND(AW12=\"Alta\",AY12=\"Moderado\"),AND(AW12=\"Alta\",AY12=\"Mayor\"),AND(AW12=\"Muy Alta\",AY12=\"Leve\"),AND(AW12=\"Muy Alta\",AY12=\"Menor\"),AND(AW12=\"Muy Alta\",AY12=\"Moderado\"),AND(AW12=\"Muy Alta\",AY12=\"Mayor\")),\"ALTO\",IF(OR(AND(AW12=\"Muy Baja\",AY12=\"Catastrófico\"),AND(AW12=\"Baja\",AY12=\"Catastrófico\"),AND(AW12=\"Media\",AY12=\"Catastrófico\"),AND(AW12=\"Alta\",AY12=\"Catastrófico\"),AND(AW12=\"Muy Alta\",AY12=\"Catastrófico\")),\"EXTREMO\",\"\")))),\"\")","v":"ALTO"},null,null,null,null,null,null,null,null,null,null,"2023-07-31","No se evidencia materializacion del riesgo, sin embargo en el informe de auditoria financiera del primer semestre vigencia 2023 en el hallazgo 7 - oportunidad de mejora se describe en el informe \"El día 24 de marzo de 2023 se efectuó entrevista virtual con el área de Tesorería en la que se evidenció que el control, cruce y depuración de los estudiantes reportados por la Universidad con los relacionados en la plataforma SNIES, con el fin de validar los estudiantes beneficiados con Gratuidad MEN es manual, mediante una base en Excel, lo que puede generar desviaciones, errores, tergiversación y pérdida de la información\".","2024-04-19","No se evidencia materialización del riesgo.  Recomendando dar cierre a los planes de mejoramiento interno N ° 610-782-661-652, que se base en los repositorios de actas de grado y la sistematización del proceso ","2024-09-06","No se evidencia materialización del riesgo, sin embargo se mantiene en Ejecución el Plan de Mejoramiento 652, con un 33% de avance, tipificado como No Conformidad: SE EVIDENCIAN INCONSISTENCIAS EN LAS LIQUIDACIONES DE MATRICULA DEL IPA2021, INCUMPLIENDO EL NUMERAL 8.5 DE LA NORMA ISO 9001:2015."]
[null,null,null,4,"D8. Falta realizar seguimiento al incumplimiento de metas frente a los indicadores del proceso","Posibilidad de incumplimiento en el seguimiento frente a las metas del proceso. ","Incumplimiento a las metas establecidas en los indicadores de gestión del proceso ","EJECUCIÓN Y ADMINISTRACIÓN DE PROCESOS: Pérdidas derivadas de errores en la ejecución y administración de procesos.",8,"Se tiene como base el numero de veces que realiza seguimiento al cumpliento de las metas establecidas en los indicadores de gestión del proceso. ",{"$f":"IF(I13<=0,\"\",IF(I13<=2,\"Muy Baja\",IF(I13<=10,\"Baja\",IF(I13<=30,\"Media\",IF(I13<=100,\"Alta\",IF(I13>100,\"Muy Alta\"))))))","v":"Baja"},{"$f":"IF(K13=\"\",\"\",IF(K13=\"Muy Baja\",0.2,IF(K13=\"Baja\",0.4,IF(K13=\"Media\",0.6,IF(K13=\"Alta\",0.8,IF(K13=\"Muy Alta\",1,))))))","v":0.4},"El riesgo afecta la imagen de la entidad con efecto publicitario sostenido a nivel de sector administrativo, nivel departamental o municipal.","Mayor",0.8,"ALTO","El profesional de Admisiones y Registro realiza el seguimiento de manera oportuna al nivel del porcentaje en el  cumplimiento de las metas establecidas en los indicadores de gestión del proceso y establece acciones de mejora en los casos aplicables. ","SEMESTRAL","Acuerdo 010 de 2006 y Acuerdo 027 de 2021\nCorreo institucional.\nMARP02\nMARP03","Seguimiento a las accciones de mejora establecidas como accion for mulada dentro de los indicadores de gestión ","CORRECTIVO","MANUAL","IMPACTO","25%",{"$f":"IFERROR(IF(W13=\"Probabilidad\",(L13-(L13*X13)),IF(W13=\"Impacto\",L13,\"\")),\"\")","v":0.4},{"$f":"IFERROR(IF(Y13=\"\",\"\",IF(Y13<=0.2,\"MUY BAJA\",IF(Y13<=0.4,\"BAJA\",IF(Y13<=0.6,\"MEDIA\",IF(Y13<=0.8,\"ALTA\",IF(Y13=1,\"MUY ALTA\")))))),\"\")","v":"BAJA"},{"$f":"IFERROR(IF(W13=\"Impacto\",(O13-(O13*X13)),IF(W13=\"Probabilidad\",O13,\"\")),\"\")","v":0.60000000000000009},{"$f":"IFERROR(IF(AA13=\"\",\"\",IF(AA13<=0.2,\"LEVE\",IF(AA13<=0.4,\"MENOR\",IF(AA13<=0.6,\"MODERADO\",IF(AA13<=0.8,\"MAYOR\",IF(AA13=1,\"CATASTRÓFICO\")))))),\"\")","v":"MODERADO"},{"$f":"IFERROR(IF(OR(AND(Z13=\"Muy Baja\",AB13=\"Leve\"),AND(Z13=\"Muy Baja\",AB13=\"Menor\"),AND(Z13=\"Baja\",AB13=\"Leve\")),\"BAJO\",IF(OR(AND(Z13=\"Muy baja\",AB13=\"Moderado\"),AND(Z13=\"Baja\",AB13=\"Menor\"),AND(Z13=\"Baja\",AB13=\"Moderado\"),AND(Z13=\"Media\",AB13=\"Leve\"),AND(Z13=\"Media\",AB13=\"Menor\"),AND(Z13=\"Media\",AB13=\"Moderado\"),AND(Z13=\"Alta\",AB13=\"Leve\"),AND(Z13=\"Alta\",AB13=\"Menor\")),\"MODERADO\",IF(OR(AND(Z13=\"Muy Baja\",AB13=\"Mayor\"),AND(Z13=\"Baja\",AB13=\"Mayor\"),AND(Z13=\"Media\",AB13=\"Mayor\"),AND(Z13=\"Alta\",AB13=\"Moderado\"),AND(Z13=\"Alta\",AB13=\"Mayor\"),AND(Z13=\"Muy Alta\",AB13=\"Leve\"),AND(Z13=\"Muy Alta\",AB13=\"Menor\"),AND(Z13=\"Muy Alta\",AB13=\"Moderado\"),AND(Z13=\"Muy Alta\",AB13=\"Mayor\")),\"ALTO\",IF(OR(AND(Z13=\"Muy Baja\",AB13=\"Catastrófico\"),AND(Z13=\"Baja\",AB13=\"Catastrófico\"),AND(Z13=\"Media\",AB13=\"Catastrófico\"),AND(Z13=\"Alta\",AB13=\"Catastrófico\"),AND(Z13=\"Muy Alta\",AB13=\"Catastrófico\")),\"EXTREMO\",\"\")))),\"\")","v":"MODERADO"},null,null,null,null,null,null,"2020-11-10","Guardar evidencia de la gestión tanto en sede, seccionales y extensiones. Asegurar la gestión, comunicación y articulación oportuna con los procesos que interactúa Admisiones y Registro.","2021-04-15","Salvaguardar la información documentada del proceso utilizada en el a gestión del mismo en seccionales y extensiones.. Fortalecer la comunicación con los procesos que interactúa admisiones y registro.","2021-10-13","Garantizar el cumplimiento de los tiempos. ","2022-04-05","Realizar seguimiento a los compromisos en ejecución y la verificación del cierre eficaz y eficiente de los mismos. ","2023-07-27","Se evidencia el trabajo realizado como accciones correctivas o de mejora para el indicador MAR-9 Percepción de satisfacción de los estudiantes, donde se fortalece la atención al usuario en la ventanillad e atención del proceso y se realiza campaña de socialización del link de encuestas para medir el nivel de satisfacción de los estudiantes con la atención recibida por el proceso.  ","2024-06-12","Se evidencia el trabajo realizado como accciones correctivas o de mejora para el indicador MAR-9 Percepción de satisfacción de los estudiantes, donde se fortalece la atención al usuario en la ventanilla de atención del proceso y se realiza estrategia de divulgación y jornadas de capaciación a estudiantes nuevos con relación al diligenciamiento de la caracterización institucional y acompañamiento en este proceso por parte de los funcionarios asigandos. ",{"$f":"IF(Y13=\"\",\"\",MIN(Y13:Y14))","v":0.4},{"$f":"IFERROR(IF(AV13=\"\",\"\",IF(AV13<=0.2,\"MUY BAJA\",IF(AV13<=0.4,\"BAJA\",IF(AV13<=0.6,\"MEDIA\",IF(AV13<=0.8,\"ALTA\",IF(AV13=1,\"MUY ALTA\")))))),\"\")","v":"BAJA"},{"$f":"IF(AA13=\"\",\"\",MIN(AA13:AA14))","v":0.60000000000000009},{"$f":"IFERROR(IF(AX13=\"\",\"\",IF(AX13<=0.2,\"LEVE\",IF(AX13<=0.4,\"MENOR\",IF(AX13<=0.6,\"MODERADO\",IF(AX13<=0.8,\"MAYOR\",IF(AX13=1,\"CATASTRÓFICO\")))))),\"\")","v":"MODERADO"},{"$f":"IFERROR(IF(OR(AND(AW13=\"Muy Baja\",AY13=\"Leve\"),AND(AW13=\"Muy Baja\",AY13=\"Menor\"),AND(AW13=\"Baja\",AY13=\"Leve\")),\"BAJO\",IF(OR(AND(AW13=\"Muy baja\",AY13=\"Moderado\"),AND(AW13=\"Baja\",AY13=\"Menor\"),AND(AW13=\"Baja\",AY13=\"Moderado\"),AND(AW13=\"Media\",AY13=\"Leve\"),AND(AW13=\"Media\",AY13=\"Menor\"),AND(AW13=\"Media\",AY13=\"Moderado\"),AND(AW13=\"Alta\",AY13=\"Leve\"),AND(AW13=\"Alta\",AY13=\"Menor\")),\"MODERADO\",IF(OR(AND(AW13=\"Muy Baja\",AY13=\"Mayor\"),AND(AW13=\"Baja\",AY13=\"Mayor\"),AND(AW13=\"Media\",AY13=\"Mayor\"),AND(AW13=\"Alta\",AY13=\"Moderado\"),AND(AW13=\"Alta\",AY13=\"Mayor\"),AND(AW13=\"Muy Alta\",AY13=\"Leve\"),AND(AW13=\"Muy Alta\",AY13=\"Menor\"),AND(AW13=\"Muy Alta\",AY13=\"Moderado\"),AND(AW13=\"Muy Alta\",AY13=\"Mayor\")),\"ALTO\",IF(OR(AND(AW13=\"Muy Baja\",AY13=\"Catastrófico\"),AND(AW13=\"Baja\",AY13=\"Catastrófico\"),AND(AW13=\"Media\",AY13=\"Catastrófico\"),AND(AW13=\"Alta\",AY13=\"Catastrófico\"),AND(AW13=\"Muy Alta\",AY13=\"Catastrófico\")),\"EXTREMO\",\"\")))),\"\")","v":"MODERADO"},null,null,null,null,null,null,null,null,null,null,"2023-07-31","No se realiza seguimiento a el riesgo toda vez que el nivel es moderado",null,null,"2024-09-06","No se evidencia materialización del riesgo."]
[null,null,null,null,null,null,null,null,null,null,null,null,null,null,null,null,null,null,null,null,null,null,null,null,null,null,{"$f":"IFERROR(IF(W14=\"Impacto\",(O14-(O14*X14)),IF(W14=\"Probabilidad\",O14,\"\")),\"\")","v":""},null,null,null,null,null,null,null,null,null,null,null,null,null,null,null,null,null,null,null,null,null,null,null,null,null,null,null,null,null,null,null,null,null,null,null,null,null,"2024-04-19","No se evidencia seguimiento a el riesgo toda vez que el nivel es moderado. "]
[null,null,null,5,"D9.  Falta de parametrización de herramientas en el criterio de vocación profesional (entrevistas), que permitan su digitalización, para estandarizar los criterios, metodología de aplicación y fiabilidad de los resultados.","Posibilidad de admitir a aspirantes con incumplimiento de los requisitos mínimos establecidos, por cada programa académico.","Icumplimiento a los requisitos establecidos en el Acuerdo 001 de 2007 “POR EL CUAL SE ESTABLECE EL PROCESO DE SELECCIÓN Y ADMISIÓN DE ESTUDIANTES DE LOS PROGRAMAS ACADÉMICOS DE PREGRADO EN\nLA UNIVERSIDAD DE CUNDINAMARCA”","EJECUCIÓN Y ADMINISTRACIÓN DE PROCESOS: Pérdidas derivadas de errores en la ejecución y administración de procesos.",{"$f":"3848+3701","v":7549},"Se tiene como base el número de aspirantes inscritos a los diferentes programas de pregrado ofertados en cada vigencia ",{"$f":"IF(I15<=0,\"\",IF(I15<=2,\"Muy Baja\",IF(I15<=10,\"Baja\",IF(I15<=30,\"Media\",IF(I15<=100,\"Alta\",IF(I15>100,\"Muy Alta\"))))))","v":"Muy Alta"},{"$f":"IF(K15=\"\",\"\",IF(K15=\"Muy Baja\",0.2,IF(K15=\"Baja\",0.4,IF(K15=\"Media\",0.6,IF(K15=\"Alta\",0.8,IF(K15=\"Muy Alta\",1,))))))","v":1},"El riesgo afecta la imagen de la entidad con efecto publicitario sostenido a nivel de sector administrativo, nivel departamental o municipal.","Mayor",0.8,"ALTO","El lider de la Oficina de Admisiones y Registro realiza la solicitud de digitalización y parametrización de la herramienta de entrevistas institucional para estandarizar los criterios de aplicación en todos los programas académicos de pregrado, con base en la oferta académica para cada vigencia. ","SEMESTRAL","Acuerdo 010 de 2006 y Acuerdo 027 de 2021\nCorreo institucional.\nMARP02\nMARP03\n","Solicitud de parametrización a la Dirección de Sistemas y Tecnología ","CORRECTIVO","MANUAL","IMPACTO","25%",{"$f":"IFERROR(IF(W15=\"Probabilidad\",(L15-(L15*X15)),IF(W15=\"Impacto\",L15,\"\")),\"\")","v":1},"MUY ALTA",{"$f":"IFERROR(IF(W15=\"Impacto\",(O15-(O15*X15)),IF(W15=\"Probabilidad\",O15,\"\")),\"\")","v":0.60000000000000009},"MODERADO","ALTO",null,null,null,null,null,null,null,null,null,null,null,null,null,null,"2023-07-27","Se evidencia la solicitud de parametrización a la Dirección de Sistemas y Tecnología en el desarrollo encuestas para la herramienta de entrevistas institucional.","2024-06-12","Una vez realizada la verificación de la información construida con el programa de Psicología y los profesores designados para esta actividad, la Vicerrectoría académica realiza y socializa los ajustes, debido a que la herramienta inicial no cumple con las características para evaluar los componentes de acuerdo con el acuerdo 001 de 2007 \"ARTÍCULO SÉPTIMO. La entrevista, que será coordinada por la correspondiente Decanatura, es carácter personal, y para ésta se tendrán los siguientes criterios: Vocación Profesional, Cultura General, Compromiso Social y Valores Humanos\"\nPor tal motivo y en coherencia con la metodología MEDIT, se construye el formato MARF048, con criterios de preguntas específicas que abarcan el analisis del componente a evaluar en general, a través de calificación de las respuestas por parte de los estudiantes por medio de escala Likert, esta es aprobada por vicerrectoría académica y ordenado sea formalizada en el MDO y socializada con las facultades de programas académicos para toda la institución. \nSe evidencia envío por correo electrónico del listado remitido por las Direcciones de los programas académicos, con la información de los puntajes obtenidos por los aspirantes, de acuerdo con las fechas establecidas en el calendario académico institucional. \nSe evidencia el cargue de los resultados obtenidos por los aspirantes en la plataforma Academusoft, por parte de la Oficina de Admisiones y Registro.",{"$f":"IF(Y15=\"\",\"\",MIN(Y15:Y16))","v":0.6},{"$f":"IFERROR(IF(AV15=\"\",\"\",IF(AV15<=0.2,\"MUY BAJA\",IF(AV15<=0.4,\"BAJA\",IF(AV15<=0.6,\"MEDIA\",IF(AV15<=0.8,\"ALTA\",IF(AV15=1,\"MUY ALTA\")))))),\"\")","v":"MEDIA"},{"$f":"IF(AA15=\"\",\"\",MIN(AA15:AA16))","v":0.60000000000000009},{"$f":"IFERROR(IF(AX15=\"\",\"\",IF(AX15<=0.2,\"LEVE\",IF(AX15<=0.4,\"MENOR\",IF(AX15<=0.6,\"MODERADO\",IF(AX15<=0.8,\"MAYOR\",IF(AX15=1,\"CATASTRÓFICO\")))))),\"\")","v":"MODERADO"},{"$f":"IFERROR(IF(OR(AND(AW15=\"Muy Baja\",AY15=\"Leve\"),AND(AW15=\"Muy Baja\",AY15=\"Menor\"),AND(AW15=\"Baja\",AY15=\"Leve\")),\"BAJO\",IF(OR(AND(AW15=\"Muy baja\",AY15=\"Moderado\"),AND(AW15=\"Baja\",AY15=\"Menor\"),AND(AW15=\"Baja\",AY15=\"Moderado\"),AND(AW15=\"Media\",AY15=\"Leve\"),AND(AW15=\"Media\",AY15=\"Menor\"),AND(AW15=\"Media\",AY15=\"Moderado\"),AND(AW15=\"Alta\",AY15=\"Leve\"),AND(AW15=\"Alta\",AY15=\"Menor\")),\"MODERADO\",IF(OR(AND(AW15=\"Muy Baja\",AY15=\"Mayor\"),AND(AW15=\"Baja\",AY15=\"Mayor\"),AND(AW15=\"Media\",AY15=\"Mayor\"),AND(AW15=\"Alta\",AY15=\"Moderado\"),AND(AW15=\"Alta\",AY15=\"Mayor\"),AND(AW15=\"Muy Alta\",AY15=\"Leve\"),AND(AW15=\"Muy Alta\",AY15=\"Menor\"),AND(AW15=\"Muy Alta\",AY15=\"Moderado\"),AND(AW15=\"Muy Alta\",AY15=\"Mayor\")),\"ALTO\",IF(OR(AND(AW15=\"Muy Baja\",AY15=\"Catastrófico\"),AND(AW15=\"Baja\",AY15=\"Catastrófico\"),AND(AW15=\"Media\",AY15=\"Catastrófico\"),AND(AW15=\"Alta\",AY15=\"Catastrófico\"),AND(AW15=\"Muy Alta\",AY15=\"Catastrófico\")),\"EXTREMO\",\"\")))),\"\")","v":"MODERADO"},null,null,null,null,null,null,null,null,null,null,"2023-07-31","No se realiza seguimiento a el riesgo toda vez que el nivel es moderado",null,null,"2024-09-06","No se evidencia materialización del riesgo."]
[null,null,null,null,"A6. Los aspirantes a programas académicos de pregrado, ofertados en cada vigencia no diligencian de manera correcta el registro del codigo AC ICFES en la inscripción dentro del formulario.",null,null,null,null,null,null,null,null,null,null,null,"El lider de la Oficina de Admisiones y Registro realiza la verificación a la base de datos de inscritos paraa identificar los aspirantes que han cargado de forma incorrecta el número del codigo AC ICFES en el formulario de Inscripción.\n\nLos funcionarios de la Oficina de Admisiones y  Registro, en la sede, seccionales y extensiones realizan comunicación con los aspirantes, notificando que deben realizar los cambios  en la longitud del codigo SNP correspondientes para ajustar la información diligenciada en el codigo AC ICFES.","SEMESTRAL","Acuerdo 010 de 2006 y Acuerdo 027 de 2021\nCorreo institucional.\nMARP02\nMARP03\n","Registro de validación de bases de datos de inscritos por periodo académico ","PREVENTIVO","MANUAL","PROBABILIDAD","40%",{"$f":"IFERROR(IF(AND(W15=\"Probabilidad\",W16=\"Probabilidad\"),(Y15-(Y15*X16)),IF(W16=\"Probabilidad\",(L15-(L15*X16)),IF(W16=\"Impacto\",Y15,\"\"))),\"\")","v":0.6},"MEDIA",{"$f":"IFERROR(IF(AND(W15=\"Impacto\",W16=\"Impacto\"),(AA15-(AA15*X16)),IF(W16=\"Impacto\",(O15-(+O15*X16)),IF(W16=\"Probabilidad\",AA15,\"\"))),\"\")","v":0.60000000000000009},"MODERADO","MODERADO",null,null,null,null,null,null,null,null,null,null,null,null,null,null,"2023-07-27","Se evidencia el trabajo realizado por el proceso al depurar las bases de datos de inscritos, desde el 13 de abril del 2023, hasta el cierre del proceso de inscripción, a fin de identificar los aspirantes que no generar de manera correcta el diligenciamiento del formulario de inscripción, se evidencia de igual manera base de datos de llamadas y correos electrónicos enviados a estos aspirantes, notificando del error presentado para que realicen loa ajustes pertinentes.","2024-06-12","Se evidencia el cargue de bases de datos (archivos planos) para que el ICFES , por medio de correo electronico realice envío de resultados.\nSe evidencia el trabajo realizado por el proceso al depurar las bases de datos de inscritos, hasta el cierre del proceso de inscripción, a fin de identificar los aspirantes que no generar de manera correcta el diligenciamiento del codigo AC, De igual manera se relacionan las evidencias de ajuste en el codigo AC de los aspirantes con error por parte del funcionario de Admisiones y Registro, minimizando así el numero de inscritos con error en el proceso de selección. ",null,null,null,null,null,null,null,null,null,null,null,null,null,null,null,null,null,"2024-04-19","No se evidencia seguimiento a el riesgo toda vez que el nivel es moderado"]

{"sheet":"MAPA RIESGOS","index":10,"n_rows":208,"n_cols":62,"rows_kept":208,"cut":false,"hidden":false,"merged":[[22,1,22,11],[23,1,23,11],[24,1,24,9],[1,1,4,1],[1,2,1,7],[1,8,1,9],[2,2,2,7],[2,8,2,9],[3,2,4,7],[3,8,3,9],[4,8,4,9],[12,1,12,2],[13,6,13,7],[17,7,19,7],[17,6,19,6],[17,2,17,4],[18,2,18,4],[19,2,19,4],[12,6,12,7],[16,2,16,4],[13,1,13,2],[14,1,14,2],[10,6,10,7],[16,8,16,9],[17,8,19,9],[14,8,14,9],[13,8,13,9],[12,8,12,9],[8,6,9,7],[15,2,15,4],[14,6,14,7],[15,6,15,9],[6,1,7,9],[11,1,11,2],[8,1,8,2],[9,1,9,2],[10,8,10,9],[10,1,10,2],[8,3,9,3],[8,4,9,4],[11,6,11,7],[8,8,9,9],[11,8,11,9],[8,5,9,5]]}
[]
[null,null,"MACROPROCESO ESTRATÉGICO",null,null,null,null,null,"CÓDIGO: ESGr028"]
[null,null,"PROCESO GESTIÓN SISTEMAS INTEGRADOS - CALIDAD",null,null,null,null,null,"VERSIÓN: 17"]
[null,null,"GESTIÓN DEL RIESGO Y LAS OPORTUNIDADES",null,null,null,null,null,"VIGENCIA: 2023-10-12"]
[null,null,null,null,null,null,null,null,"PÁGINA: 8 de 11"]
[]
["REGRESAR","MAPA DE RIESGOS DE LA UNIVERSIDAD DE CUNDINAMARCA"]
[]
[null,"IMPACTO",null,"Leve 20%","Menor 40%","Moderado 60%","Mayor 80%",null,"Catastrófico 100%",null,null,null,null,{"$f":"IF(N10<>\"\",\" -R\",\"\")","v":""},null,{"$f":"IF(P10<>\"\",\" -R\",\"\")","v":""},null,{"$f":"IF(R10<>\"\",\" -R\",\"\")","v":""},null,{"$f":"IF(T10<>\"\",\" -R\",\"\")","v":""},null,{"$f":"IF(V10<>\"\",\" -R\",\"\")","v":""},null,{"$f":"IF(X10<>\"\",\" -R\",\"\")","v":""},null,{"$f":"IF(Z10<>\"\",\" -R\",\"\")","v":""},null,{"$f":"IF(AB10<>\"\",\" -R\",\"\")","v":" -R"},null,{"$f":"IF(AD10<>\"\",\" -R\",\"\")","v":""},null,{"$f":"IF(AF10<>\"\",\" -R\",\"\")","v":""},null,{"$f":"IF(AH10<>\"\",\" -R\",\"\")","v":""},null,{"$f":"IF(AJ10<>\"\",\" -R\",\"\")","v":""},null,{"$f":"IF(AL10<>\"\",\" -R\",\"\")","v":""},null,{"$f":"IF(AN10<>\"\",\" -R\",\"\")","v":""},null,{"$f":"IF(AP10<>\"\",\" -R\",\"\")","v":""},null,{"$f":"IF(AR10<>\"\",\" -R\",\"\")","v":""},null,{"$f":"IF(AT10<>\"\",\" -R\",\"\")","v":""},null,{"$f":"IF(AV10<>\"\",\" -R\",\"\")","v":""},null,{"$f":"IF(AX10<>\"\",\" -R\",\"\")","v":""},null,{"$f":"IF(AZ10<>\"\",\" -R\",\"\")","v":""},null,{"$f":"IF(BB10<>\"\",\" -R\",\"\")","v":""},null,{"$f":"IF(BD10<>\"\",\" -R\",\"\")","v":""},null,{"$f":"IF(BF10<>\"\",\" -R\",\"\")","v":""},null,{"$f":"IF(BH10<>\"\",\" -R\",\"\")","v":""},null,{"$f":"IF(BJ10<>\"\",\" -R\",\"\")","v":""}]
[null,"PROBABILIDAD",null,null,null,null,null,null,null,null,null,null,1.01,{"$f":"IFERROR(VLOOKUP(M10,'CRUCE RIESGOS'!$C$9:$D$13,2,FALSE),\"\")","v":""},2.0099999999999998,{"$f":"IFERROR(VLOOKUP(O10,'CRUCE RIESGOS'!$C$9:$D$13,2,FALSE),\"\")","v":""},3.01,{"$f":"IFERROR(VLOOKUP(Q10,'CRUCE RIESGOS'!$C$9:$D$13,2,FALSE),\"\")","v":""},4.01,{"$f":"IFERROR(VLOOKUP(S10,'CRUCE RIESGOS'!$C$9:$D$13,2,FALSE),\"\")","v":""},5.01,{"$f":"IFERROR(VLOOKUP(U10,'CRUCE RIESGOS'!$C$9:$D$13,2,FALSE),\"\")","v":""},6.01,{"$f":"IFERROR(VLOOKUP(W10,'CRUCE RIESGOS'!$C$9:$D$13,2,FALSE),\"\")","v":""},7.01,{"$f":"IFERROR(VLOOKUP(Y10,'CRUCE RIESGOS'!$C$9:$D$13,2,FALSE),\"\")","v":""},8.01,{"$f":"IFERROR(VLOOKUP(AA10,'CRUCE RIESGOS'!$C$9:$D$13,2,FALSE),\"\")","v":1},9.01,{"$f":"IFERROR(VLOOKUP(AC10,'CRUCE RIESGOS'!$C$9:$D$13,2,FALSE),\"\")","v":""},10.01,{"$f":"IFERROR(VLOOKUP(AE10,'CRUCE RIESGOS'!$C$9:$D$13,2,FALSE),\"\")","v":""},11.01,{"$f":"IFERROR(VLOOKUP(AG10,'CRUCE RIESGOS'!$C$9:$D$13,2,FALSE),\"\")","v":""},12.01,{"$f":"IFERROR(VLOOKUP(AI10,'CRUCE RIESGOS'!$C$9:$D$13,2,FALSE),\"\")","v":""},13.01,{"$f":"IFERROR(VLOOKUP(AK10,'CRUCE RIESGOS'!$C$9:$D$13,2,FALSE),\"\")","v":""},14.01,{"$f":"IFERROR(VLOOKUP(AM10,'CRUCE RIESGOS'!$C$9:$D$13,2,FALSE),\"\")","v":""},15.01,{"$f":"IFERROR(VLOOKUP(AO10,'CRUCE RIESGOS'!$C$9:$D$13,2,FALSE),\"\")","v":""},16.010000000000002,{"$f":"IFERROR(VLOOKUP(AQ10,'CRUCE RIESGOS'!$C$9:$D$13,2,FALSE),\"\")","v":""},17.010000000000002,{"$f":"IFERROR(VLOOKUP(AS10,'CRUCE RIESGOS'!$C$9:$D$13,2,FALSE),\"\")","v":""},18.010000000000002,{"$f":"IFERROR(VLOOKUP(AU10,'CRUCE RIESGOS'!$C$9:$D$13,2,FALSE),\"\")","v":""},19.010000000000002,{"$f":"IFERROR(VLOOKUP(AW10,'CRUCE RIESGOS'!$C$9:$D$13,2,FALSE),\"\")","v":""},20.010000000000002,{"$f":"IFERROR(VLOOKUP(AY10,'CRUCE RIESGOS'!$C$9:$D$13,2,FALSE),\"\")","v":""},21.01,{"$f":"IFERROR(VLOOKUP(BA10,'CRUCE RIESGOS'!$C$9:$D$13,2,FALSE),\"\")","v":""},22.01,{"$f":"IFERROR(VLOOKUP(BC10,'CRUCE RIESGOS'!$C$9:$D$13,2,FALSE),\"\")","v":""},23.01,{"$f":"IFERROR(VLOOKUP(BE10,'CRUCE RIESGOS'!$C$9:$D$13,2,FALSE),\"\")","v":""},24.01,{"$f":"IFERROR(VLOOKUP(BG10,'CRUCE RIESGOS'!$C$9:$D$13,2,FALSE),\"\")","v":""},25.01,{"$f":"IFERROR(VLOOKUP(BI10,'CRUCE RIESGOS'!$C$9:$D$13,2,FALSE),\"\")","v":""}]
[null,"Muy Baja 20%",null,{"$f":"CONCATENATE(N9,N10,N11,N12,N13,N14,N15,N17,N18,N20,N21,N22,N23,N24,N25,N26,N27,N28,N29,N30,N31,N32,N33,N34,N35,N36,N37,N38,N39,N40,N41,N42,N43,N44,N45,N46,N47,N48,N49,N50,N51,N52,N53,N54,N55,N56,N57,N58,N59,N60,N61,N62,N63,N64,N65,N66,N67,N68,N69,N70,N71,N72,N73,N74,N75,N76,N77,N78,N79,N80,N81,N82,N83,N84,N85,N86,N87,N88,N89,N90,N91,N92,N93,N94,N95,N96,N97,N98,N99,N100,N101,N102,N103,N104,N105,N106,N107,N108,N109,N110,N111,N112,N113,N114,N115,N116,N117,N118,N119,N120,N121,N122,N123,N124,N125,N126,N127,N128,N129,N130,N131,N132,N133,N134,N135,N136,N137,N138,N139,N140,N141,N142,N143,N144,N145,N146,N147,N148,N149,N150,N151,N152,N153,N154,N155,N156,N157,N158,N159,N160,N161,N162,N163,N164,N165,N166,N167,N168,N169,N170,N171,N172,N173,N174,N175,N176,N177,N178,N179,N180,N181,N182,N183,N184,N185,N186,N187,N188,N189,N190,N191,N192,N193,N194,N195,N196,N197,N198,N199,N200,N201,N202,N203,N204,N205,N206,N207,N208)","v":""},{"$f":"CONCATENATE(P9,P10,P11,P12,P13,P14,P15,P17,P18,P20,P21,P22,P23,P24,P25,P26,P27,P28,P29,P30,P31,P32,P33,P34,P35,P36,P37,P38,P39,P40,P41,P42,P43,P44,P45,P46,P47,P48,P49,P50,P51,P52,P53,P54,P55,P56,P57,P58,P59,P60,P61,P62,P63,P64,P65,P66,P67,P68,P69,P70,P71,P72,P73,P74,P75,P76,P77,P78,P79,P80,P81,P82,P83,P84,P85,P86,P87,P88,P89,P90,P91,P92,P93,P94,P95,P96,P97,P98,P99,P100,P101,P102,P103,P104,P105,P106,P107,P108,P109,P110,P111,P112,P113,P114,P115,P116,P117,P118,P119,P120,P121,P122,P123,P124,P125,P126,P127,P128,P129,P130,P131,P132,P133,P134,P135,P136,P137,P138,P139,P140,P141,P142,P143,P144,P145,P146,P147,P148,P149,P150,P151,P152,P153,P154,P155,P156,P157,P158,P159,P160,P161,P162,P163,P164,P165,P166,P167,P168,P169,P170,P171,P172,P173,P174,P175,P176,P177,P178,P179,P180,P181,P182,P183,P184,P185,P186,P187,P188,P189,P190,P191,P192,P193,P194,P195,P196,P197,P198,P199,P200,P201,P202,P203,P204,P205,P206,P207,P208)","v":""},{"$f":"CONCATENATE(R9,R10,R11,R12,R13,R14,R15,R17,R18,R20,R21,R22,R23,R24,R25,R26,R27,R28,R29,R30,R31,R32,R33,R34,R35,R36,R37,R38,R39,R40,R41,R42,R43,R44,R45,R46,R47,R48,R49,R50,R51,R52,R53,R54,R55,R56,R57,R58,R59,R60,R61,R62,R63,R64,R65,R66,R67,R68,R69,R70,R71,R72,R73,R74,R75,R76,R77,R78,R79,R80,R81,R82,R83,R84,R85,R86,R87,R88,R89,R90,R91,R92,R93,R94,R95,R96,R97,R98,R99,R100,R101,R102,R103,R104,R105,R106,R107,R108,R109,R110,R111,R112,R113,R114,R115,R116,R117,R118,R119,R120,R121,R122,R123,R124,R125,R126,R127,R128,R129,R130,R131,R132,R133,R134,R135,R136,R137,R138,R139,R140,R141,R142,R143,R144,R145,R146,R147,R148,R149,R150,R151,R152,R153,R154,R155,R156,R157,R158,R159,R160,R161,R162,R163,R164,R165,R166,R167,R168,R169,R170,R171,R172,R173,R174,R175,R176,R177,R178,R179,R180,R181,R182,R183,R184,R185,R186,R187,R188,R189,R190,R191,R192,R193,R194,R195,R196,R197,R198,R199,R200,R201,R202,R203,R204,R205,R206,R207,R208)","v":""},{"$f":"CONCATENATE(T9,T10,T11,T12,T13,T14,T15,T17,T18,T20,T21,T22,T23,T24,T25,T26,T27,T28,T29,T30,T31,T32,T33,T34,T35,T36,T37,T38,T39,T40,T41,T42,T43,T44,T45,T46,T47,T48,T49,T50,T51,T52,T53,T54,T55,T56,T57,T58,T59,T60,T61,T62,T63,T64,T65,T66,T67,T68,T69,T70,T71,T72,T73,T74,T75,T76,T77,T78,T79,T80,T81,T82,T83,T84,T85,T86,T87,T88,T89,T90,T91,T92,T93,T94,T95,T96,T97,T98,T99,T100,T101,T102,T103,T104,T105,T106,T107,T108,T109,T110,T111,T112,T113,T114,T115,T116,T117,T118,T119,T120,T121,T122,T123,T124,T125,T126,T127,T128,T129,T130,T131,T132,T133,T134,T135,T136,T137,T138,T139,T140,T141,T142,T143,T144,T145,T146,T147,T148,T149,T150,T151,T152,T153,T154,T155,T156,T157,T158,T159,T160,T161,T162,T163,T164,T165,T166,T167,T168,T169,T170,T171,T172,T173,T174,T175,T176,T177,T178,T179,T180,T181,T182,T183,T184,T185,T186,T187,T188,T189,T190,T191,T192,T193,T194,T195,T196,T197,T198,T199,T200,T201,T202,T203,T204,T205,T206,T207,T208)","v":""},null,{"$f":"CONCATENATE(V9,V10,V11,V12,V13,V14,V15,V17,V18,V20,V21,V22,V23,V24,V25,V26,V27,V28,V29,V30,V31,V32,V33,V34,V35,V36,V37,V38,V39,V40,V41,V42,V43,V44,V45,V46,V47,V48,V49,V50,V51,V52,V53,V54,V55,V56,V57,V58,V59,V60,V61,V62,V63,V64,V65,V66,V67,V68,V69,V70,V71,V72,V73,V74,V75,V76,V77,V78,V79,V80,V81,V82,V83,V84,V85,V86,V87,V88,V89,V90,V91,V92,V93,V94,V95,V96,V97,V98,V99,V100,V101,V102,V103,V104,V105,V106,V107,V108,V109,V110,V111,V112,V113,V114,V115,V116,V117,V118,V119,V120,V121,V122,V123,V124,V125,V126,V127,V128,V129,V130,V131,V132,V133,V134,V135,V136,V137,V138,V139,V140,V141,V142,V143,V144,V145,V146,V147,V148,V149,V150,V151,V152,V153,V154,V155,V156,V157,V158,V159,V160,V161,V162,V163,V164,V165,V166,V167,V168,V169,V170,V171,V172,V173,V174,V175,V176,V177,V178,V179,V180,V181,V182,V183,V184,V185,V186,V187,V188,V189,V190,V191,V192,V193,V194,V195,V196,V197,V198,V199,V200,V201,V202,V203,V204,V205,V206,V207,V208)","v":""},null,null,null,null,{"$f":"IF(N12<>\"\",\" -R\",\"\")","v":""},null,{"$f":"IF(P12<>\"\",\" -R\",\"\")","v":""},null,{"$f":"IF(R12<>\"\",\" -R\",\"\")","v":""},null,{"$f":"IF(T12<>\"\",\" -R\",\"\")","v":""},null,{"$f":"IF(V12<>\"\",\" -R\",\"\")","v":""},null,{"$f":"IF(X12<>\"\",\" -R\",\"\")","v":""},null,{"$f":"IF(Z12<>\"\",\" -R\",\"\")","v":""},null,{"$f":"IF(AB12<>\"\",\" -R\",\"\")","v":""},null,{"$f":"IF(AD12<>\"\",\" -R\",\"\")","v":""},null,{"$f":"IF(AF12<>\"\",\" -R\",\"\")","v":""},null,{"$f":"IF(AH12<>\"\",\" -R\",\"\")","v":""},null,{"$f":"IF(AJ12<>\"\",\" -R\",\"\")","v":""},null,{"$f":"IF(AL12<>\"\",\" -R\",\"\")","v":""},null,{"$f":"IF(AN12<>\"\",\" -R\",\"\")","v":""},null,{"$f":"IF(AP12<>\"\",\" -R\",\"\")","v":""},null,{"$f":"IF(AR12<>\"\",\" -R\",\"\")","v":""},null,{"$f":"IF(AT12<>\"\",\" -R\",\"\")","v":""},null,{"$f":"IF(AV12<>\"\",\" -R\",\"\")","v":""},null,{"$f":"IF(AX12<>\"\",\" -R\",\"\")","v":""},null,{"$f":"IF(AZ12<>\"\",\" -R\",\"\")","v":""},null,{"$f":"IF(BB12<>\"\",\" -R\",\"\")","v":""},null,{"$f":"IF(BD12<>\"\",\" -R\",\"\")","v":""},null,{"$f":"IF(BF12<>\"\",\" -R\",\"\")","v":""},null,{"$f":"IF(BH12<>\"\",\" -R\",\"\")","v":""},null,{"$f":"IF(BJ12<>\"\",\" -R\",\"\")","v":""}]
[null,"Baja 40%",null,{"$f":"CONCATENATE(X9,X10,X11,X12,X13,X14,X15,X17,X18,X20,X21,X22,X23,X24,X25,X26,X27,X28,X29,X30,X31,X32,X33,X34,X35,X36,X37,X38,X39,X40,X41,X42,X43,X44,X45,X46,X47,X48,X49,X50,X51,X52,X53,X54,X55,X56,X57,X58,X59,X60,X61,X62,X63,X64,X65,X66,X67,X68,X69,X70,X71,X72,X73,X74,X75,X76,X77,X78,X79,X80,X81,X82,X83,X84,X85,X86,X87,X88,X89,X90,X91,X92,X93,X94,X95,X96,X97,X98,X99,X100,X101,X102,X103,X104,X105,X106,X107,X108,X109,X110,X111,X112,X113,X114,X115,X116,X117,X118,X119,X120,X121,X122,X123,X124,X125,X126,X127,X128,X129,X130,X131,X132,X133,X134,X135,X136,X137,X138,X139,X140,X141,X142,X143,X144,X145,X146,X147,X148,X149,X150,X151,X152,X153,X154,X155,X156,X157,X158,X159,X160,X161,X162,X163,X164,X165,X166,X167,X168,X169,X170,X171,X172,X173,X174,X175,X176,X177,X178,X179,X180,X181,X182,X183,X184,X185,X186,X187,X188,X189,X190,X191,X192,X193,X194,X195,X196,X197,X198,X199,X200,X201,X202,X203,X204,X205,X206,X207,X208)","v":""},{"$f":"CONCATENATE(Z9,Z10,Z11,Z12,Z13,Z14,Z15,Z17,Z18,Z20,Z21,Z22,Z23,Z24,Z25,Z26,Z27,Z28,Z29,Z30,Z31,Z32,Z33,Z34,Z35,Z36,Z37,Z38,Z39,Z40,Z41,Z42,Z43,Z44,Z45,Z46,Z47,Z48,Z49,Z50,Z51,Z52,Z53,Z54,Z55,Z56,Z57,Z58,Z59,Z60,Z61,Z62,Z63,Z64,Z65,Z66,Z67,Z68,Z69,Z70,Z71,Z72,Z73,Z74,Z75,Z76,Z77,Z78,Z79,Z80,Z81,Z82,Z83,Z84,Z85,Z86,Z87,Z88,Z89,Z90,Z91,Z92,Z93,Z94,Z95,Z96,Z97,Z98,Z99,Z100,Z101,Z102,Z103,Z104,Z105,Z106,Z107,Z108,Z109,Z110,Z111,Z112,Z113,Z114,Z115,Z116,Z117,Z118,Z119,Z120,Z121,Z122,Z123,Z124,Z125,Z126,Z127,Z128,Z129,Z130,Z131,Z132,Z133,Z134,Z135,Z136,Z137,Z138,Z139,Z140,Z141,Z142,Z143,Z144,Z145,Z146,Z147,Z148,Z149,Z150,Z151,Z152,Z153,Z154,Z155,Z156,Z157,Z158,Z159,Z160,Z161,Z162,Z163,Z164,Z165,Z166,Z167,Z168,Z169,Z170,Z171,Z172,Z173,Z174,Z175,Z176,Z177,Z178,Z179,Z180,Z181,Z182,Z183,Z184,Z185,Z186,Z187,Z188,Z189,Z190,Z191,Z192,Z193,Z194,Z195,Z196,Z197,Z198,Z199,Z200,Z201,Z202,Z203,Z204,Z205,Z206,Z207,Z208)","v":""},{"$f":"CONCATENATE(AB9,AB10,AB11,AB12,AB13,AB14,AB15,AB17,AB18,AB20,AB21,AB22,AB23,AB24,AB25,AB26,AB27,AB28,AB29,AB30,AB31,AB32,AB33,AB34,AB35,AB36,AB37,AB38,AB39,AB40,AB41,AB42,AB43,AB44,AB45,AB46,AB47,AB48,AB49,AB50,AB51,AB52,AB53,AB54,AB55,AB56,AB57,AB58,AB59,AB60,AB61,AB62,AB63,AB64,AB65,AB66,AB67,AB68,AB69,AB70,AB71,AB72,AB73,AB74,AB75,AB76,AB77,AB78,AB79,AB80,AB81,AB82,AB83,AB84,AB85,AB86,AB87,AB88,AB89,AB90,AB91,AB92,AB93,AB94,AB95,AB96,AB97,AB98,AB99,AB100,AB101,AB102,AB103,AB104,AB105,AB106,AB107,AB108,AB109,AB110,AB111,AB112,AB113,AB114,AB115,AB116,AB117,AB118,AB119,AB120,AB121,AB122,AB123,AB124,AB125,AB126,AB127,AB128,AB129,AB130,AB131,AB132,AB133,AB134,AB135,AB136,AB137,AB138,AB139,AB140,AB141,AB142,AB143,AB144,AB145,AB146,AB147,AB148,AB149,AB150,AB151,AB152,AB153,AB154,AB155,AB156,AB157,AB158,AB159,AB160,AB161,AB162,AB163,AB164,AB165,AB166,AB167,AB168,AB169,AB170,AB171,AB172,AB173,AB174,AB175,AB176,AB177,AB178,AB179,AB180,AB181,AB182,AB183,AB184,AB185,AB186,AB187,AB188,AB189,AB190,AB191,AB192,AB193,AB194,AB195,AB196,AB197,AB198,AB199,AB200,AB201,AB202,AB203,AB204,AB205,AB206,AB207,AB208)","v":" -R1"},{"$f":"CONCATENATE(AD9,AD10,AD11,AD12,AD13,AD14,AD15,AD17,AD18,AD20,AD21,AD22,AD23,AD24,AD25,AD26,AD27,AD28,AD29,AD30,AD31,AD32,AD33,AD34,AD35,AD36,AD37,AD38,AD39,AD40,AD41,AD42,AD43,AD44,AD45,AD46,AD47,AD48,AD49,AD50,AD51,AD52,AD53,AD54,AD55,AD56,AD57,AD58,AD59,AD60,AD61,AD62,AD63,AD64,AD65,AD66,AD67,AD68,AD69,AD70,AD71,AD72,AD73,AD74,AD75,AD76,AD77,AD78,AD79,AD80,AD81,AD82,AD83,AD84,AD85,AD86,AD87,AD88,AD89,AD90,AD91,AD92,AD93,AD94,AD95,AD96,AD97,AD98,AD99,AD100,AD101,AD102,AD103,AD104,AD105,AD106,AD107,AD108,AD109,AD110,AD111,AD112,AD113,AD114,AD115,AD116,AD117,AD118,AD119,AD120,AD121,AD122,AD123,AD124,AD125,AD126,AD127,AD128,AD129,AD130,AD131,AD132,AD133,AD134,AD135,AD136,AD137,AD138,AD139,AD140,AD141,AD142,AD143,AD144,AD145,AD146,AD147,AD148,AD149,AD150,AD151,AD152,AD153,AD154,AD155,AD156,AD157,AD158,AD159,AD160,AD161,AD162,AD163,AD164,AD165,AD166,AD167,AD168,AD169,AD170,AD171,AD172,AD173,AD174,AD175,AD176,AD177,AD178,AD179,AD180,AD181,AD182,AD183,AD184,AD185,AD186,AD187,AD188,AD189,AD190,AD191,AD192,AD193,AD194,AD195,AD196,AD197,AD198,AD199,AD200,AD201,AD202,AD203,AD204,AD205,AD206,AD207,AD208)","v":""},null,{"$f":"CONCATENATE(AF9,AF10,AF11,AF12,AF13,AF14,AF15,AF17,AF18,AF20,AF21,AF22,AF23,AF24,AF25,AF26,AF27,AF28,AF29,AF30,AF31,AF32,AF33,AF34,AF35,AF36,AF37,AF38,AF39,AF40,AF41,AF42,AF43,AF44,AF45,AF46,AF47,AF48,AF49,AF50,AF51,AF52,AF53,AF54,AF55,AF56,AF57,AF58,AF59,AF60,AF61,AF62,AF63,AF64,AF65,AF66,AF67,AF68,AF69,AF70,AF71,AF72,AF73,AF74,AF75,AF76,AF77,AF78,AF79,AF80,AF81,AF82,AF83,AF84,AF85,AF86,AF87,AF88,AF89,AF90,AF91,AF92,AF93,AF94,AF95,AF96,AF97,AF98,AF99,AF100,AF101,AF102,AF103,AF104,AF105,AF106,AF107,AF108,AF109,AF110,AF111,AF112,AF113,AF114,AF115,AF116,AF117,AF118,AF119,AF120,AF121,AF122,AF123,AF124,AF125,AF126,AF127,AF128,AF129,AF130,AF131,AF132,AF133,AF134,AF135,AF136,AF137,AF138,AF139,AF140,AF141,AF142,AF143,AF144,AF145,AF146,AF147,AF148,AF149,AF150,AF151,AF152,AF153,AF154,AF155,AF156,AF157,AF158,AF159,AF160,AF161,AF162,AF163,AF164,AF165,AF166,AF167,AF168,AF169,AF170,AF171,AF172,AF173,AF174,AF175,AF176,AF177,AF178,AF179,AF180,AF181,AF182,AF183,AF184,AF185,AF186,AF187,AF188,AF189,AF190,AF191,AF192,AF193,AF194,AF195,AF196,AF197,AF198,AF199,AF200,AF201,AF202,AF203,AF204,AF205,AF206,AF207,AF208)","v":""},null,null,null,1.02,{"$f":"IFERROR(VLOOKUP(M12,'CRUCE RIESGOS'!$C$9:$D$13,2,FALSE),\"\")","v":""},2.02,{"$f":"IFERROR(VLOOKUP(O12,'CRUCE RIESGOS'!$C$9:$D$13,2,FALSE),\"\")","v":""},3.02,{"$f":"IFERROR(VLOOKUP(Q12,'CRUCE RIESGOS'!$C$9:$D$13,2,FALSE),\"\")","v":""},4.0199999999999996,{"$f":"IFERROR(VLOOKUP(S12,'CRUCE RIESGOS'!$C$9:$D$13,2,FALSE),\"\")","v":""},5.0199999999999996,{"$f":"IFERROR(VLOOKUP(U12,'CRUCE RIESGOS'!$C$9:$D$13,2,FALSE),\"\")","v":""},6.02,{"$f":"IFERROR(VLOOKUP(W12,'CRUCE RIESGOS'!$C$9:$D$13,2,FALSE),\"\")","v":""},7.02,{"$f":"IFERROR(VLOOKUP(Y12,'CRUCE RIESGOS'!$C$9:$D$13,2,FALSE),\"\")","v":""},8.02,{"$f":"IFERROR(VLOOKUP(AA12,'CRUCE RIESGOS'!$C$9:$D$13,2,FALSE),\"\")","v":""},9.02,{"$f":"IFERROR(VLOOKUP(AC12,'CRUCE RIESGOS'!$C$9:$D$13,2,FALSE),\"\")","v":""},10.02,{"$f":"IFERROR(VLOOKUP(AE12,'CRUCE RIESGOS'!$C$9:$D$13,2,FALSE),\"\")","v":""},11.02,{"$f":"IFERROR(VLOOKUP(AG12,'CRUCE RIESGOS'!$C$9:$D$13,2,FALSE),\"\")","v":""},12.02,{"$f":"IFERROR(VLOOKUP(AI12,'CRUCE RIESGOS'!$C$9:$D$13,2,FALSE),\"\")","v":""},13.02,{"$f":"IFERROR(VLOOKUP(AK12,'CRUCE RIESGOS'!$C$9:$D$13,2,FALSE),\"\")","v":""},14.02,{"$f":"IFERROR(VLOOKUP(AM12,'CRUCE RIESGOS'!$C$9:$D$13,2,FALSE),\"\")","v":""},15.02,{"$f":"IFERROR(VLOOKUP(AO12,'CRUCE RIESGOS'!$C$9:$D$13,2,FALSE),\"\")","v":""},16.02,{"$f":"IFERROR(VLOOKUP(AQ12,'CRUCE RIESGOS'!$C$9:$D$13,2,FALSE),\"\")","v":""},17.02,{"$f":"IFERROR(VLOOKUP(AS12,'CRUCE RIESGOS'!$C$9:$D$13,2,FALSE),\"\")","v":""},18.02,{"$f":"IFERROR(VLOOKUP(AU12,'CRUCE RIESGOS'!$C$9:$D$13,2,FALSE),\"\")","v":""},19.02,{"$f":"IFERROR(VLOOKUP(AW12,'CRUCE RIESGOS'!$C$9:$D$13,2,FALSE),\"\")","v":""},20.02,{"$f":"IFERROR(VLOOKUP(AY12,'CRUCE RIESGOS'!$C$9:$D$13,2,FALSE),\"\")","v":""},21.02,{"$f":"IFERROR(VLOOKUP(BA12,'CRUCE RIESGOS'!$C$9:$D$13,2,FALSE),\"\")","v":""},22.02,{"$f":"IFERROR(VLOOKUP(BC12,'CRUCE RIESGOS'!$C$9:$D$13,2,FALSE),\"\")","v":""},23.02,{"$f":"IFERROR(VLOOKUP(BE12,'CRUCE RIESGOS'!$C$9:$D$13,2,FALSE),\"\")","v":""},24.02,{"$f":"IFERROR(VLOOKUP(BG12,'CRUCE RIESGOS'!$C$9:$D$13,2,FALSE),\"\")","v":""},25.02,{"$f":"IFERROR(VLOOKUP(BI12,'CRUCE RIESGOS'!$C$9:$D$13,2,FALSE),\"\")","v":""}]
[null,"Media 60%",null,{"$f":"CONCATENATE(AH9,AH10,AH11,AH12,AH13,AH14,AH15,AH17,AH18,AH20,AH21,AH22,AH23,AH24,AH25,AH26,AH27,AH28,AH29,AH30,AH31,AH32,AH33,AH34,AH35,AH36,AH37,AH38,AH39,AH40,AH41,AH42,AH43,AH44,AH45,AH46,AH47,AH48,AH49,AH50,AH51,AH52,AH53,AH54,AH55,AH56,AH57,AH58,AH59,AH60,AH61,AH62,AH63,AH64,AH65,AH66,AH67,AH68,AH69,AH70,AH71,AH72,AH73,AH74,AH75,AH76,AH77,AH78,AH79,AH80,AH81,AH82,AH83,AH84,AH85,AH86,AH87,AH88,AH89,AH90,AH91,AH92,AH93,AH94,AH95,AH96,AH97,AH98,AH99,AH100,AH101,AH102,AH103,AH104,AH105,AH106,AH107,AH108,AH109,AH110,AH111,AH112,AH113,AH114,AH115,AH116,AH117,AH118,AH119,AH120,AH121,AH122,AH123,AH124,AH125,AH126,AH127,AH128,AH129,AH130,AH131,AH132,AH133,AH134,AH135,AH136,AH137,AH138,AH139,AH140,AH141,AH142,AH143,AH144,AH145,AH146,AH147,AH148,AH149,AH150,AH151,AH152,AH153,AH154,AH155,AH156,AH157,AH158,AH159,AH160,AH161,AH162,AH163,AH164,AH165,AH166,AH167,AH168,AH169,AH170,AH171,AH172,AH173,AH174,AH175,AH176,AH177,AH178,AH179,AH180,AH181,AH182,AH183,AH184,AH185,AH186,AH187,AH188,AH189,AH190,AH191,AH192,AH193,AH194,AH195,AH196,AH197,AH198,AH199,AH200,AH201,AH202,AH203,AH204,AH205,AH206,AH207,AH208)","v":""},{"$f":"CONCATENATE(AJ9,AJ10,AJ11,AJ12,AJ13,AJ14,AJ15,AJ17,AJ18,AJ20,AJ21,AJ22,AJ23,AJ24,AJ25,AJ26,AJ27,AJ28,AJ29,AJ30,AJ31,AJ32,AJ33,AJ34,AJ35,AJ36,AJ37,AJ38,AJ39,AJ40,AJ41,AJ42,AJ43,AJ44,AJ45,AJ46,AJ47,AJ48,AJ49,AJ50,AJ51,AJ52,AJ53,AJ54,AJ55,AJ56,AJ57,AJ58,AJ59,AJ60,AJ61,AJ62,AJ63,AJ64,AJ65,AJ66,AJ67,AJ68,AJ69,AJ70,AJ71,AJ72,AJ73,AJ74,AJ75,AJ76,AJ77,AJ78,AJ79,AJ80,AJ81,AJ82,AJ83,AJ84,AJ85,AJ86,AJ87,AJ88,AJ89,AJ90,AJ91,AJ92,AJ93,AJ94,AJ95,AJ96,AJ97,AJ98,AJ99,AJ100,AJ101,AJ102,AJ103,AJ104,AJ105,AJ106,AJ107,AJ108,AJ109,AJ110,AJ111,AJ112,AJ113,AJ114,AJ115,AJ116,AJ117,AJ118,AJ119,AJ120,AJ121,AJ122,AJ123,AJ124,AJ125,AJ126,AJ127,AJ128,AJ129,AJ130,AJ131,AJ132,AJ133,AJ134,AJ135,AJ136,AJ137,AJ138,AJ139,AJ140,AJ141,AJ142,AJ143,AJ144,AJ145,AJ146,AJ147,AJ148,AJ149,AJ150,AJ151,AJ152,AJ153,AJ154,AJ155,AJ156,AJ157,AJ158,AJ159,AJ160,AJ161,AJ162,AJ163,AJ164,AJ165,AJ166,AJ167,AJ168,AJ169,AJ170,AJ171,AJ172,AJ173,AJ174,AJ175,AJ176,AJ177,AJ178,AJ179,AJ180,AJ181,AJ182,AJ183,AJ184,AJ185,AJ186,AJ187,AJ188,AJ189,AJ190,AJ191,AJ192,AJ193,AJ194,AJ195,AJ196,AJ197,AJ198,AJ199,AJ200,AJ201,AJ202,AJ203,AJ204,AJ205,AJ206,AJ207,AJ208)","v":""},{"$f":"CONCATENATE(AL9,AL10,AL11,AL12,AL13,AL14,AL15,AL17,AL18,AL20,AL21,AL22,AL23,AL24,AL25,AL26,AL27,AL28,AL29,AL30,AL31,AL32,AL33,AL34,AL35,AL36,AL37,AL38,AL39,AL40,AL41,AL42,AL43,AL44,AL45,AL46,AL47,AL48,AL49,AL50,AL51,AL52,AL53,AL54,AL55,AL56,AL57,AL58,AL59,AL60,AL61,AL62,AL63,AL64,AL65,AL66,AL67,AL68,AL69,AL70,AL71,AL72,AL73,AL74,AL75,AL76,AL77,AL78,AL79,AL80,AL81,AL82,AL83,AL84,AL85,AL86,AL87,AL88,AL89,AL90,AL91,AL92,AL93,AL94,AL95,AL96,AL97,AL98,AL99,AL100,AL101,AL102,AL103,AL104,AL105,AL106,AL107,AL108,AL109,AL110,AL111,AL112,AL113,AL114,AL115,AL116,AL117,AL118,AL119,AL120,AL121,AL122,AL123,AL124,AL125,AL126,AL127,AL128,AL129,AL130,AL131,AL132,AL133,AL134,AL135,AL136,AL137,AL138,AL139,AL140,AL141,AL142,AL143,AL144,AL145,AL146,AL147,AL148,AL149,AL150,AL151,AL152,AL153,AL154,AL155,AL156,AL157,AL158,AL159,AL160,AL161,AL162,AL163,AL164,AL165,AL166,AL167,AL168,AL169,AL170,AL171,AL172,AL173,AL174,AL175,AL176,AL177,AL178,AL179,AL180,AL181,AL182,AL183,AL184,AL185,AL186,AL187,AL188,AL189,AL190,AL191,AL192,AL193,AL194,AL195,AL196,AL197,AL198,AL199,AL200,AL201,AL202,AL203,AL204,AL205,AL206,AL207,AL208)","v":""},{"$f":"CONCATENATE(AN9,AN10,AN11,AN12,AN13,AN14,AN15,AN17,AN18,AN20,AN21,AN22,AN23,AN24,AN25,AN26,AN27,AN28,AN29,AN30,AN31,AN32,AN33,AN34,AN35,AN36,AN37,AN38,AN39,AN40,AN41,AN42,AN43,AN44,AN45,AN46,AN47,AN48,AN49,AN50,AN51,AN52,AN53,AN54,AN55,AN56,AN57,AN58,AN59,AN60,AN61,AN62,AN63,AN64,AN65,AN66,AN67,AN68,AN69,AN70,AN71,AN72,AN73,AN74,AN75,AN76,AN77,AN78,AN79,AN80,AN81,AN82,AN83,AN84,AN85,AN86,AN87,AN88,AN89,AN90,AN91,AN92,AN93,AN94,AN95,AN96,AN97,AN98,AN99,AN100,AN101,AN102,AN103,AN104,AN105,AN106,AN107,AN108,AN109,AN110,AN111,AN112,AN113,AN114,AN115,AN116,AN117,AN118,AN119,AN120,AN121,AN122,AN123,AN124,AN125,AN126,AN127,AN128,AN129,AN130,AN131,AN132,AN133,AN134,AN135,AN136,AN137,AN138,AN139,AN140,AN141,AN142,AN143,AN144,AN145,AN146,AN147,AN148,AN149,AN150,AN151,AN152,AN153,AN154,AN155,AN156,AN157,AN158,AN159,AN160,AN161,AN162,AN163,AN164,AN165,AN166,AN167,AN168,AN169,AN170,AN171,AN172,AN173,AN174,AN175,AN176,AN177,AN178,AN179,AN180,AN181,AN182,AN183,AN184,AN185,AN186,AN187,AN188,AN189,AN190,AN191,AN192,AN193,AN194,AN195,AN196,AN197,AN198,AN199,AN200,AN201,AN202,AN203,AN204,AN205,AN206,AN207,AN208)","v":""},null,{"$f":"CONCATENATE(AP9,AP10,AP11,AP12,AP13,AP14,AP15,AP17,AP18,AP20,AP21,AP22,AP23,AP24,AP25,AP26,AP27,AP28,AP29,AP30,AP31,AP32,AP33,AP34,AP35,AP36,AP37,AP38,AP39,AP40,AP41,AP42,AP43,AP44,AP45,AP46,AP47,AP48,AP49,AP50,AP51,AP52,AP53,AP54,AP55,AP56,AP57,AP58,AP59,AP60,AP61,AP62,AP63,AP64,AP65,AP66,AP67,AP68,AP69,AP70,AP71,AP72,AP73,AP74,AP75,AP76,AP77,AP78,AP79,AP80,AP81,AP82,AP83,AP84,AP85,AP86,AP87,AP88,AP89,AP90,AP91,AP92,AP93,AP94,AP95,AP96,AP97,AP98,AP99,AP100,AP101,AP102,AP103,AP104,AP105,AP106,AP107,AP108,AP109,AP110,AP111,AP112,AP113,AP114,AP115,AP116,AP117,AP118,AP119,AP120,AP121,AP122,AP123,AP124,AP125,AP126,AP127,AP128,AP129,AP130,AP131,AP132,AP133,AP134,AP135,AP136,AP137,AP138,AP139,AP140,AP141,AP142,AP143,AP144,AP145,AP146,AP147,AP148,AP149,AP150,AP151,AP152,AP153,AP154,AP155,AP156,AP157,AP158,AP159,AP160,AP161,AP162,AP163,AP164,AP165,AP166,AP167,AP168,AP169,AP170,AP171,AP172,AP173,AP174,AP175,AP176,AP177,AP178,AP179,AP180,AP181,AP182,AP183,AP184,AP185,AP186,AP187,AP188,AP189,AP190,AP191,AP192,AP193,AP194,AP195,AP196,AP197,AP198,AP199,AP200,AP201,AP202,AP203,AP204,AP205,AP206,AP207,AP208)","v":""},null,null,null,null,{"$f":"IF(N14<>\"\",\" -R\",\"\")","v":""},null,{"$f":"IF(P14<>\"\",\" -R\",\"\")","v":""},null,{"$f":"IF(R14<>\"\",\" -R\",\"\")","v":""},null,{"$f":"IF(T14<>\"\",\" -R\",\"\")","v":""},null,{"$f":"IF(V14<>\"\",\" -R\",\"\")","v":""},null,{"$f":"IF(X14<>\"\",\" -R\",\"\")","v":""},null,{"$f":"IF(Z14<>\"\",\" -R\",\"\")","v":""},null,{"$f":"IF(AB14<>\"\",\" -R\",\"\")","v":""},null,{"$f":"IF(AD14<>\"\",\" -R\",\"\")","v":""},null,{"$f":"IF(AF14<>\"\",\" -R\",\"\")","v":""},null,{"$f":"IF(AH14<>\"\",\" -R\",\"\")","v":""},null,{"$f":"IF(AJ14<>\"\",\" -R\",\"\")","v":""},null,{"$f":"IF(AL14<>\"\",\" -R\",\"\")","v":""},null,{"$f":"IF(AN14<>\"\",\" -R\",\"\")","v":""},null,{"$f":"IF(AP14<>\"\",\" -R\",\"\")","v":""},null,{"$f":"IF(AR14<>\"\",\" -R\",\"\")","v":""},null,{"$f":"IF(AT14<>\"\",\" -R\",\"\")","v":""},null,{"$f":"IF(AV14<>\"\",\" -R\",\"\")","v":""},null,{"$f":"IF(AX14<>\"\",\" -R\",\"\")","v":""},null,{"$f":"IF(AZ14<>\"\",\" -R\",\"\")","v":""},null,{"$f":"IF(BB14<>\"\",\" -R\",\"\")","v":""},null,{"$f":"IF(BD14<>\"\",\" -R\",\"\")","v":""},null,{"$f":"IF(BF14<>\"\",\" -R\",\"\")","v":""},null,{"$f":"IF(BH14<>\"\",\" -R\",\"\")","v":""},null,{"$f":"IF(BJ14<>\"\",\" -R\",\"\")","v":""}]
[null,"Alta 80%",null,{"$f":"CONCATENATE(AR9,AR10,AR11,AR12,AR13,AR14,AR15,AR17,AR18,AR20,AR21,AR22,AR23,AR24,AR25,AR26,AR27,AR28,AR29,AR30,AR31,AR32,AR33,AR34,AR35,AR36,AR37,AR38,AR39,AR40,AR41,AR42,AR43,AR44,AR45,AR46,AR47,AR48,AR49,AR50,AR51,AR52,AR53,AR54,AR55,AR56,AR57,AR58,AR59,AR60,AR61,AR62,AR63,AR64,AR65,AR66,AR67,AR68,AR69,AR70,AR71,AR72,AR73,AR74,AR75,AR76,AR77,AR78,AR79,AR80,AR81,AR82,AR83,AR84,AR85,AR86,AR87,AR88,AR89,AR90,AR91,AR92,AR93,AR94,AR95,AR96,AR97,AR98,AR99,AR100,AR101,AR102,AR103,AR104,AR105,AR106,AR107,AR108,AR109,AR110,AR111,AR112,AR113,AR114,AR115,AR116,AR117,AR118,AR119,AR120,AR121,AR122,AR123,AR124,AR125,AR126,AR127,AR128,AR129,AR130,AR131,AR132,AR133,AR134,AR135,AR136,AR137,AR138,AR139,AR140,AR141,AR142,AR143,AR144,AR145,AR146,AR147,AR148,AR149,AR150,AR151,AR152,AR153,AR154,AR155,AR156,AR157,AR158,AR159,AR160,AR161,AR162,AR163,AR164,AR165,AR166,AR167,AR168,AR169,AR170,AR171,AR172,AR173,AR174,AR175,AR176,AR177,AR178,AR179,AR180,AR181,AR182,AR183,AR184,AR185,AR186,AR187,AR188,AR189,AR190,AR191,AR192,AR193,AR194,AR195,AR196,AR197,AR198,AR199,AR200,AR201,AR202,AR203,AR204,AR205,AR206,AR207,AR208)","v":""},{"$f":"CONCATENATE(AT9,AT10,AT11,AT12,AT13,AT14,AT15,AT17,AT18,AT20,AT21,AT22,AT23,AT24,AT25,AT26,AT27,AT28,AT29,AT30,AT31,AT32,AT33,AT34,AT35,AT36,AT37,AT38,AT39,AT40,AT41,AT42,AT43,AT44,AT45,AT46,AT47,AT48,AT49,AT50,AT51,AT52,AT53,AT54,AT55,AT56,AT57,AT58,AT59,AT60,AT61,AT62,AT63,AT64,AT65,AT66,AT67,AT68,AT69,AT70,AT71,AT72,AT73,AT74,AT75,AT76,AT77,AT78,AT79,AT80,AT81,AT82,AT83,AT84,AT85,AT86,AT87,AT88,AT89,AT90,AT91,AT92,AT93,AT94,AT95,AT96,AT97,AT98,AT99,AT100,AT101,AT102,AT103,AT104,AT105,AT106,AT107,AT108,AT109,AT110,AT111,AT112,AT113,AT114,AT115,AT116,AT117,AT118,AT119,AT120,AT121,AT122,AT123,AT124,AT125,AT126,AT127,AT128,AT129,AT130,AT131,AT132,AT133,AT134,AT135,AT136,AT137,AT138,AT139,AT140,AT141,AT142,AT143,AT144,AT145,AT146,AT147,AT148,AT149,AT150,AT151,AT152,AT153,AT154,AT155,AT156,AT157,AT158,AT159,AT160,AT161,AT162,AT163,AT164,AT165,AT166,AT167,AT168,AT169,AT170,AT171,AT172,AT173,AT174,AT175,AT176,AT177,AT178,AT179,AT180,AT181,AT182,AT183,AT184,AT185,AT186,AT187,AT188,AT189,AT190,AT191,AT192,AT193,AT194,AT195,AT196,AT197,AT198,AT199,AT200,AT201,AT202,AT203,AT204,AT205,AT206,AT207,AT208)","v":""},{"$f":"CONCATENATE(AV9,AV10,AV11,AV12,AV13,AV14,AV15,AV17,AV18,AV20,AV21,AV22,AV23,AV24,AV25,AV26,AV27,AV28,AV29,AV30,AV31,AV32,AV33,AV34,AV35,AV36,AV37,AV38,AV39,AV40,AV41,AV42,AV43,AV44,AV45,AV46,AV47,AV48,AV49,AV50,AV51,AV52,AV53,AV54,AV55,AV56,AV57,AV58,AV59,AV60,AV61,AV62,AV63,AV64,AV65,AV66,AV67,AV68,AV69,AV70,AV71,AV72,AV73,AV74,AV75,AV76,AV77,AV78,AV79,AV80,AV81,AV82,AV83,AV84,AV85,AV86,AV87,AV88,AV89,AV90,AV91,AV92,AV93,AV94,AV95,AV96,AV97,AV98,AV99,AV100,AV101,AV102,AV103,AV104,AV105,AV106,AV107,AV108,AV109,AV110,AV111,AV112,AV113,AV114,AV115,AV116,AV117,AV118,AV119,AV120,AV121,AV122,AV123,AV124,AV125,AV126,AV127,AV128,AV129,AV130,AV131,AV132,AV133,AV134,AV135,AV136,AV137,AV138,AV139,AV140,AV141,AV142,AV143,AV144,AV145,AV146,AV147,AV148,AV149,AV150,AV151,AV152,AV153,AV154,AV155,AV156,AV157,AV158,AV159,AV160,AV161,AV162,AV163,AV164,AV165,AV166,AV167,AV168,AV169,AV170,AV171,AV172,AV173,AV174,AV175,AV176,AV177,AV178,AV179,AV180,AV181,AV182,AV183,AV184,AV185,AV186,AV187,AV188,AV189,AV190,AV191,AV192,AV193,AV194,AV195,AV196,AV197,AV198,AV199,AV200,AV201,AV202,AV203,AV204,AV205,AV206,AV207,AV208)","v":""},{"$f":"CONCATENATE(AX9,AX10,AX11,AX12,AX13,AX14,AX15,AX17,AX18,AX20,AX21,AX22,AX23,AX24,AX25,AX26,AX27,AX28,AX29,AX30,AX31,AX32,AX33,AX34,AX35,AX36,AX37,AX38,AX39,AX40,AX41,AX42,AX43,AX44,AX45,AX46,AX47,AX48,AX49,AX50,AX51,AX52,AX53,AX54,AX55,AX56,AX57,AX58,AX59,AX60,AX61,AX62,AX63,AX64,AX65,AX66,AX67,AX68,AX69,AX70,AX71,AX72,AX73,AX74,AX75,AX76,AX77,AX78,AX79,AX80,AX81,AX82,AX83,AX84,AX85,AX86,AX87,AX88,AX89,AX90,AX91,AX92,AX93,AX94,AX95,AX96,AX97,AX98,AX99,AX100,AX101,AX102,AX103,AX104,AX105,AX106,AX107,AX108,AX109,AX110,AX111,AX112,AX113,AX114,AX115,AX116,AX117,AX118,AX119,AX120,AX121,AX122,AX123,AX124,AX125,AX126,AX127,AX128,AX129,AX130,AX131,AX132,AX133,AX134,AX135,AX136,AX137,AX138,AX139,AX140,AX141,AX142,AX143,AX144,AX145,AX146,AX147,AX148,AX149,AX150,AX151,AX152,AX153,AX154,AX155,AX156,AX157,AX158,AX159,AX160,AX161,AX162,AX163,AX164,AX165,AX166,AX167,AX168,AX169,AX170,AX171,AX172,AX173,AX174,AX175,AX176,AX177,AX178,AX179,AX180,AX181,AX182,AX183,AX184,AX185,AX186,AX187,AX188,AX189,AX190,AX191,AX192,AX193,AX194,AX195,AX196,AX197,AX198,AX199,AX200,AX201,AX202,AX203,AX204,AX205,AX206,AX207,AX208)","v":""},null,{"$f":"CONCATENATE(AZ9,AZ10,AZ11,AZ12,AZ13,AZ14,AZ15,AZ17,AZ18,AZ20,AZ21,AZ22,AZ23,AZ24,AZ25,AZ26,AZ27,AZ28,AZ29,AZ30,AZ31,AZ32,AZ33,AZ34,AZ35,AZ36,AZ37,AZ38,AZ39,AZ40,AZ41,AZ42,AZ43,AZ44,AZ45,AZ46,AZ47,AZ48,AZ49,AZ50,AZ51,AZ52,AZ53,AZ54,AZ55,AZ56,AZ57,AZ58,AZ59,AZ60,AZ61,AZ62,AZ63,AZ64,AZ65,AZ66,AZ67,AZ68,AZ69,AZ70,AZ71,AZ72,AZ73,AZ74,AZ75,AZ76,AZ77,AZ78,AZ79,AZ80,AZ81,AZ82,AZ83,AZ84,AZ85,AZ86,AZ87,AZ88,AZ89,AZ90,AZ91,AZ92,AZ93,AZ94,AZ95,AZ96,AZ97,AZ98,AZ99,AZ100,AZ101,AZ102,AZ103,AZ104,AZ105,AZ106,AZ107,AZ108,AZ109,AZ110,AZ111,AZ112,AZ113,AZ114,AZ115,AZ116,AZ117,AZ118,AZ119,AZ120,AZ121,AZ122,AZ123,AZ124,AZ125,AZ126,AZ127,AZ128,AZ129,AZ130,AZ131,AZ132,AZ133,AZ134,AZ135,AZ136,AZ137,AZ138,AZ139,AZ140,AZ141,AZ142,AZ143,AZ144,AZ145,AZ146,AZ147,AZ148,AZ149,AZ150,AZ151,AZ152,AZ153,AZ154,AZ155,AZ156,AZ157,AZ158,AZ159,AZ160,AZ161,AZ162,AZ163,AZ164,AZ165,AZ166,AZ167,AZ168,AZ169,AZ170,AZ171,AZ172,AZ173,AZ174,AZ175,AZ176,AZ177,AZ178,AZ179,AZ180,AZ181,AZ182,AZ183,AZ184,AZ185,AZ186,AZ187,AZ188,AZ189,AZ190,AZ191,AZ192,AZ193,AZ194,AZ195,AZ196,AZ197,AZ198,AZ199,AZ200,AZ201,AZ202,AZ203,AZ204,AZ205,AZ206,AZ207,AZ208)","v":""},null,null,null,1.03,{"$f":"IFERROR(VLOOKUP(M14,'CRUCE RIESGOS'!$C$9:$D$13,2,FALSE),\"\")","v":""},2.0299999999999998,{"$f":"IFERROR(VLOOKUP(O14,'CRUCE RIESGOS'!$C$9:$D$13,2,FALSE),\"\")","v":""},3.03,{"$f":"IFERROR(VLOOKUP(Q14,'CRUCE RIESGOS'!$C$9:$D$13,2,FALSE),\"\")","v":""},4.03,{"$f":"IFERROR(VLOOKUP(S14,'CRUCE RIESGOS'!$C$9:$D$13,2,FALSE),\"\")","v":""},5.03,{"$f":"IFERROR(VLOOKUP(U14,'CRUCE RIESGOS'!$C$9:$D$13,2,FALSE),\"\")","v":""},6.03,{"$f":"IFERROR(VLOOKUP(W14,'CRUCE RIESGOS'!$C$9:$D$13,2,FALSE),\"\")","v":""},7.03,{"$f":"IFERROR(VLOOKUP(Y14,'CRUCE RIESGOS'!$C$9:$D$13,2,FALSE),\"\")","v":""},8.0299999999999994,{"$f":"IFERROR(VLOOKUP(AA14,'CRUCE RIESGOS'!$C$9:$D$13,2,FALSE),\"\")","v":""},9.0299999999999994,{"$f":"IFERROR(VLOOKUP(AC14,'CRUCE RIESGOS'!$C$9:$D$13,2,FALSE),\"\")","v":""},10.029999999999999,{"$f":"IFERROR(VLOOKUP(AE14,'CRUCE RIESGOS'!$C$9:$D$13,2,FALSE),\"\")","v":""},11.03,{"$f":"IFERROR(VLOOKUP(AG14,'CRUCE RIESGOS'!$C$9:$D$13,2,FALSE),\"\")","v":""},12.03,{"$f":"IFERROR(VLOOKUP(AI14,'CRUCE RIESGOS'!$C$9:$D$13,2,FALSE),\"\")","v":""},13.03,{"$f":"IFERROR(VLOOKUP(AK14,'CRUCE RIESGOS'!$C$9:$D$13,2,FALSE),\"\")","v":""},14.03,{"$f":"IFERROR(VLOOKUP(AM14,'CRUCE RIESGOS'!$C$9:$D$13,2,FALSE),\"\")","v":""},15.03,{"$f":"IFERROR(VLOOKUP(AO14,'CRUCE RIESGOS'!$C$9:$D$13,2,FALSE),\"\")","v":""},16.03,{"$f":"IFERROR(VLOOKUP(AQ14,'CRUCE RIESGOS'!$C$9:$D$13,2,FALSE),\"\")","v":""},17.03,{"$f":"IFERROR(VLOOKUP(AS14,'CRUCE RIESGOS'!$C$9:$D$13,2,FALSE),\"\")","v":""},18.03,{"$f":"IFERROR(VLOOKUP(AU14,'CRUCE RIESGOS'!$C$9:$D$13,2,FALSE),\"\")","v":""},19.03,{"$f":"IFERROR(VLOOKUP(AW14,'CRUCE RIESGOS'!$C$9:$D$13,2,FALSE),\"\")","v":""},20.03,{"$f":"IFERROR(VLOOKUP(AY14,'CRUCE RIESGOS'!$C$9:$D$13,2,FALSE),\"\")","v":""},21.03,{"$f":"IFERROR(VLOOKUP(BA14,'CRUCE RIESGOS'!$C$9:$D$13,2,FALSE),\"\")","v":""},22.03,{"$f":"IFERROR(VLOOKUP(BC14,'CRUCE RIESGOS'!$C$9:$D$13,2,FALSE),\"\")","v":""},23.03,{"$f":"IFERROR(VLOOKUP(BE14,'CRUCE RIESGOS'!$C$9:$D$13,2,FALSE),\"\")","v":""},24.03,{"$f":"IFERROR(VLOOKUP(BG14,'CRUCE RIESGOS'!$C$9:$D$13,2,FALSE),\"\")","v":""},25.03,{"$f":"IFERROR(VLOOKUP(BI14,'CRUCE RIESGOS'!$C$9:$D$13,2,FALSE),\"\")","v":""}]
[null,"Muy Alta 100%",null,{"$f":"CONCATENATE(BB9,BB10,BB11,BB12,BB13,BB14,BB15,BB17,BB18,BB20,BB21,BB22,BB23,BB24,BB25,BB26,BB27,BB28,BB29,BB30,BB31,BB32,BB33,BB34,BB35,BB36,BB37,BB38,BB39,BB40,BB41,BB42,BB43,BB44,BB45,BB46,BB47,BB48,BB49,BB50,BB51,BB52,BB53,BB54,BB55,BB56,BB57,BB58,BB59,BB60,BB61,BB62,BB63,BB64,BB65,BB66,BB67,BB68,BB69,BB70,BB71,BB72,BB73,BB74,BB75,BB76,BB77,BB78,BB79,BB80,BB81,BB82,BB83,BB84,BB85,BB86,BB87,BB88,BB89,BB90,BB91,BB92,BB93,BB94,BB95,BB96,BB97,BB98,BB99,BB100,BB101,BB102,BB103,BB104,BB105,BB106,BB107,BB108,BB109,BB110,BB111,BB112,BB113,BB114,BB115,BB116,BB117,BB118,BB119,BB120,BB121,BB122,BB123,BB124,BB125,BB126,BB127,BB128,BB129,BB130,BB131,BB132,BB133,BB134,BB135,BB136,BB137,BB138,BB139,BB140,BB141,BB142,BB143,BB144,BB145,BB146,BB147,BB148,BB149,BB150,BB151,BB152,BB153,BB154,BB155,BB156,BB157,BB158,BB159,BB160,BB161,BB162,BB163,BB164,BB165,BB166,BB167,BB168,BB169,BB170,BB171,BB172,BB173,BB174,BB175,BB176,BB177,BB178,BB179,BB180,BB181,BB182,BB183,BB184,BB185,BB186,BB187,BB188,BB189,BB190,BB191,BB192,BB193,BB194,BB195,BB196,BB197,BB198,BB199,BB200,BB201,BB202,BB203,BB204,BB205,BB206,BB207,BB208)","v":""},{"$f":"CONCATENATE(BD9,BD10,BD11,BD12,BD13,BD14,BD15,BD17,BD18,BD20,BD21,BD22,BD23,BD24,BD25,BD26,BD27,BD28,BD29,BD30,BD31,BD32,BD33,BD34,BD35,BD36,BD37,BD38,BD39,BD40,BD41,BD42,BD43,BD44,BD45,BD46,BD47,BD48,BD49,BD50,BD51,BD52,BD53,BD54,BD55,BD56,BD57,BD58,BD59,BD60,BD61,BD62,BD63,BD64,BD65,BD66,BD67,BD68,BD69,BD70,BD71,BD72,BD73,BD74,BD75,BD76,BD77,BD78,BD79,BD80,BD81,BD82,BD83,BD84,BD85,BD86,BD87,BD88,BD89,BD90,BD91,BD92,BD93,BD94,BD95,BD96,BD97,BD98,BD99,BD100,BD101,BD102,BD103,BD104,BD105,BD106,BD107,BD108,BD109,BD110,BD111,BD112,BD113,BD114,BD115,BD116,BD117,BD118,BD119,BD120,BD121,BD122,BD123,BD124,BD125,BD126,BD127,BD128,BD129,BD130,BD131,BD132,BD133,BD134,BD135,BD136,BD137,BD138,BD139,BD140,BD141,BD142,BD143,BD144,BD145,BD146,BD147,BD148,BD149,BD150,BD151,BD152,BD153,BD154,BD155,BD156,BD157,BD158,BD159,BD160,BD161,BD162,BD163,BD164,BD165,BD166,BD167,BD168,BD169,BD170,BD171,BD172,BD173,BD174,BD175,BD176,BD177,BD178,BD179,BD180,BD181,BD182,BD183,BD184,BD185,BD186,BD187,BD188,BD189,BD190,BD191,BD192,BD193,BD194,BD195,BD196,BD197,BD198,BD199,BD200,BD201,BD202,BD203,BD204,BD205,BD206,BD207,BD208)","v":""},{"$f":"CONCATENATE(BF9,BF10,BF11,BF12,BF13,BF14,BF15,BF17,BF18,BF20,BF21,BF22,BF23,BF24,BF25,BF26,BF27,BF28,BF29,BF30,BF31,BF32,BF33,BF34,BF35,BF36,BF37,BF38,BF39,BF40,BF41,BF42,BF43,BF44,BF45,BF46,BF47,BF48,BF49,BF50,BF51,BF52,BF53,BF54,BF55,BF56,BF57,BF58,BF59,BF60,BF61,BF62,BF63,BF64,BF65,BF66,BF67,BF68,BF69,BF70,BF71,BF72,BF73,BF74,BF75,BF76,BF77,BF78,BF79,BF80,BF81,BF82,BF83,BF84,BF85,BF86,BF87,BF88,BF89,BF90,BF91,BF92,BF93,BF94,BF95,BF96,BF97,BF98,BF99,BF100,BF101,BF102,BF103,BF104,BF105,BF106,BF107,BF108,BF109,BF110,BF111,BF112,BF113,BF114,BF115,BF116,BF117,BF118,BF119,BF120,BF121,BF122,BF123,BF124,BF125,BF126,BF127,BF128,BF129,BF130,BF131,BF132,BF133,BF134,BF135,BF136,BF137,BF138,BF139,BF140,BF141,BF142,BF143,BF144,BF145,BF146,BF147,BF148,BF149,BF150,BF151,BF152,BF153,BF154,BF155,BF156,BF157,BF158,BF159,BF160,BF161,BF162,BF163,BF164,BF165,BF166,BF167,BF168,BF169,BF170,BF171,BF172,BF173,BF174,BF175,BF176,BF177,BF178,BF179,BF180,BF181,BF182,BF183,BF184,BF185,BF186,BF187,BF188,BF189,BF190,BF191,BF192,BF193,BF194,BF195,BF196,BF197,BF198,BF199,BF200,BF201,BF202,BF203,BF204,BF205,BF206,BF207,BF208)","v":""},{"$f":"CONCATENATE(BH9,BH10,BH11,BH12,BH13,BH14,BH15,BH17,BH18,BH20,BH21,BH22,BH23,BH24,BH25,BH26,BH27,BH28,BH29,BH30,BH31,BH32,BH33,BH34,BH35,BH36,BH37,BH38,BH39,BH40,BH41,BH42,BH43,BH44,BH45,BH46,BH47,BH48,BH49,BH50,BH51,BH52,BH53,BH54,BH55,BH56,BH57,BH58,BH59,BH60,BH61,BH62,BH63,BH64,BH65,BH66,BH67,BH68,BH69,BH70,BH71,BH72,BH73,BH74,BH75,BH76,BH77,BH78,BH79,BH80,BH81,BH82,BH83,BH84,BH85,BH86,BH87,BH88,BH89,BH90,BH91,BH92,BH93,BH94,BH95,BH96,BH97,BH98,BH99,BH100,BH101,BH102,BH103,BH104,BH105,BH106,BH107,BH108,BH109,BH110,BH111,BH112,BH113,BH114,BH115,BH116,BH117,BH118,BH119,BH120,BH121,BH122,BH123,BH124,BH125,BH126,BH127,BH128,BH129,BH130,BH131,BH132,BH133,BH134,BH135,BH136,BH137,BH138,BH139,BH140,BH141,BH142,BH143,BH144,BH145,BH146,BH147,BH148,BH149,BH150,BH151,BH152,BH153,BH154,BH155,BH156,BH157,BH158,BH159,BH160,BH161,BH162,BH163,BH164,BH165,BH166,BH167,BH168,BH169,BH170,BH171,BH172,BH173,BH174,BH175,BH176,BH177,BH178,BH179,BH180,BH181,BH182,BH183,BH184,BH185,BH186,BH187,BH188,BH189,BH190,BH191,BH192,BH193,BH194,BH195,BH196,BH197,BH198,BH199,BH200,BH201,BH202,BH203,BH204,BH205,BH206,BH207,BH208)","v":""},null,{"$f":"CONCATENATE(BJ9,BJ10,BJ11,BJ12,BJ13,BJ14,BJ15,BJ17,BJ18,BJ20,BJ21,BJ22,BJ23,BJ24,BJ25,BJ26,BJ27,BJ28,BJ29,BJ30,BJ31,BJ32,BJ33,BJ34,BJ35,BJ36,BJ37,BJ38,BJ39,BJ40,BJ41,BJ42,BJ43,BJ44,BJ45,BJ46,BJ47,BJ48,BJ49,BJ50,BJ51,BJ52,BJ53,BJ54,BJ55,BJ56,BJ57,BJ58,BJ59,BJ60,BJ61,BJ62,BJ63,BJ64,BJ65,BJ66,BJ67,BJ68,BJ69,BJ70,BJ71,BJ72,BJ73,BJ74,BJ75,BJ76,BJ77,BJ78,BJ79,BJ80,BJ81,BJ82,BJ83,BJ84,BJ85,BJ86,BJ87,BJ88,BJ89,BJ90,BJ91,BJ92,BJ93,BJ94,BJ95,BJ96,BJ97,BJ98,BJ99,BJ100,BJ101,BJ102,BJ103,BJ104,BJ105,BJ106,BJ107,BJ108,BJ109,BJ110,BJ111,BJ112,BJ113,BJ114,BJ115,BJ116,BJ117,BJ118,BJ119,BJ120,BJ121,BJ122,BJ123,BJ124,BJ125,BJ126,BJ127,BJ128,BJ129,BJ130,BJ131,BJ132,BJ133,BJ134,BJ135,BJ136,BJ137,BJ138,BJ139,BJ140,BJ141,BJ142,BJ143,BJ144,BJ145,BJ146,BJ147,BJ148,BJ149,BJ150,BJ151,BJ152,BJ153,BJ154,BJ155,BJ156,BJ157,BJ158,BJ159,BJ160,BJ161,BJ162,BJ163,BJ164,BJ165,BJ166,BJ167,BJ168,BJ169,BJ170,BJ171,BJ172,BJ173,BJ174,BJ175,BJ176,BJ177,BJ178,BJ179,BJ180,BJ181,BJ182,BJ183,BJ184,BJ185,BJ186,BJ187,BJ188,BJ189,BJ190,BJ191,BJ192,BJ193,BJ194,BJ195,BJ196,BJ197,BJ198,BJ199,BJ200,BJ201,BJ202,BJ203,BJ204,BJ205,BJ206,BJ207,BJ208)","v":""},null,null,null,null,{"$f":"IF(N17<>\"\",\" -R\",\"\")","v":""},null,{"$f":"IF(P17<>\"\",\" -R\",\"\")","v":""},null,{"$f":"IF(R17<>\"\",\" -R\",\"\")","v":""},null,{"$f":"IF(T17<>\"\",\" -R\",\"\")","v":""},null,{"$f":"IF(V17<>\"\",\" -R\",\"\")","v":""},null,{"$f":"IF(X17<>\"\",\" -R\",\"\")","v":""},null,{"$f":"IF(Z17<>\"\",\" -R\",\"\")","v":""},null,{"$f":"IF(AB17<>\"\",\" -R\",\"\")","v":""},null,{"$f":"IF(AD17<>\"\",\" -R\",\"\")","v":""},null,{"$f":"IF(AF17<>\"\",\" -R\",\"\")","v":""},null,{"$f":"IF(AH17<>\"\",\" -R\",\"\")","v":""},null,{"$f":"IF(AJ17<>\"\",\" -R\",\"\")","v":""},null,{"$f":"IF(AL17<>\"\",\" -R\",\"\")","v":""},null,{"$f":"IF(AN17<>\"\",\" -R\",\"\")","v":""},null,{"$f":"IF(AP17<>\"\",\" -R\",\"\")","v":""},null,{"$f":"IF(AR17<>\"\",\" -R\",\"\")","v":""},null,{"$f":"IF(AT17<>\"\",\" -R\",\"\")","v":""},null,{"$f":"IF(AV17<>\"\",\" -R\",\"\")","v":""},null,{"$f":"IF(AX17<>\"\",\" -R\",\"\")","v":""},null,{"$f":"IF(AZ17<>\"\",\" -R\",\"\")","v":""},null,{"$f":"IF(BB17<>\"\",\" -R\",\"\")","v":""},null,{"$f":"IF(BD17<>\"\",\" -R\",\"\")","v":""},null,{"$f":"IF(BF17<>\"\",\" -R\",\"\")","v":""},null,{"$f":"IF(BH17<>\"\",\" -R\",\"\")","v":""},null,{"$f":"IF(BJ17<>\"\",\" -R\",\"\")","v":""}]
[null,"COLOR","INTERPRETACIÓN DE LA ZONA",null,null,"CANTIDAD DE RIESGOS POR ZONA","PROMEDIO DE RIESGO DEL PROCESO"]
[null,null," Zona de riesgo baja: Asumir el riesgo",null,null,{"$f":"COUNTIF('CRUCE RIESGOS'!$AZ$9:$AZ$13,\"BAJO\")","v":0},"PROBABILIDAD","IMPACTO","VALORACIÓN",null,null,null,1.04,{"$f":"IFERROR(VLOOKUP(M17,'CRUCE RIESGOS'!$C$9:$D$13,2,FALSE),\"\")","v":""},2.04,{"$f":"IFERROR(VLOOKUP(O17,'CRUCE RIESGOS'!$C$9:$D$13,2,FALSE),\"\")","v":""},3.04,{"$f":"IFERROR(VLOOKUP(Q17,'CRUCE RIESGOS'!$C$9:$D$13,2,FALSE),\"\")","v":""},4.04,{"$f":"IFERROR(VLOOKUP(S17,'CRUCE RIESGOS'!$C$9:$D$13,2,FALSE),\"\")","v":""},5.04,{"$f":"IFERROR(VLOOKUP(U17,'CRUCE RIESGOS'!$C$9:$D$13,2,FALSE),\"\")","v":""},6.04,{"$f":"IFERROR(VLOOKUP(W17,'CRUCE RIESGOS'!$C$9:$D$13,2,FALSE),\"\")","v":""},7.04,{"$f":"IFERROR(VLOOKUP(Y17,'CRUCE RIESGOS'!$C$9:$D$13,2,FALSE),\"\")","v":""},8.0399999999999991,{"$f":"IFERROR(VLOOKUP(AA17,'CRUCE RIESGOS'!$C$9:$D$13,2,FALSE),\"\")","v":""},9.0399999999999991,{"$f":"IFERROR(VLOOKUP(AC17,'CRUCE RIESGOS'!$C$9:$D$13,2,FALSE),\"\")","v":""},10.039999999999999,{"$f":"IFERROR(VLOOKUP(AE17,'CRUCE RIESGOS'!$C$9:$D$13,2,FALSE),\"\")","v":""},11.04,{"$f":"IFERROR(VLOOKUP(AG17,'CRUCE RIESGOS'!$C$9:$D$13,2,FALSE),\"\")","v":""},12.04,{"$f":"IFERROR(VLOOKUP(AI17,'CRUCE RIESGOS'!$C$9:$D$13,2,FALSE),\"\")","v":""},13.04,{"$f":"IFERROR(VLOOKUP(AK17,'CRUCE RIESGOS'!$C$9:$D$13,2,FALSE),\"\")","v":""},14.04,{"$f":"IFERROR(VLOOKUP(AM17,'CRUCE RIESGOS'!$C$9:$D$13,2,FALSE),\"\")","v":""},15.04,{"$f":"IFERROR(VLOOKUP(AO17,'CRUCE RIESGOS'!$C$9:$D$13,2,FALSE),\"\")","v":""},16.04,{"$f":"IFERROR(VLOOKUP(AQ17,'CRUCE RIESGOS'!$C$9:$D$13,2,FALSE),\"\")","v":""},17.04,{"$f":"IFERROR(VLOOKUP(AS17,'CRUCE RIESGOS'!$C$9:$D$13,2,FALSE),\"\")","v":""},18.04,{"$f":"IFERROR(VLOOKUP(AU17,'CRUCE RIESGOS'!$C$9:$D$13,2,FALSE),\"\")","v":""},19.04,{"$f":"IFERROR(VLOOKUP(AW17,'CRUCE RIESGOS'!$C$9:$D$13,2,FALSE),\"\")","v":""},20.04,{"$f":"IFERROR(VLOOKUP(AY17,'CRUCE RIESGOS'!$C$9:$D$13,2,FALSE),\"\")","v":""},21.04,{"$f":"IFERROR(VLOOKUP(BA17,'CRUCE RIESGOS'!$C$9:$D$13,2,FALSE),\"\")","v":""},22.04,{"$f":"IFERROR(VLOOKUP(BC17,'CRUCE RIESGOS'!$C$9:$D$13,2,FALSE),\"\")","v":""},23.04,{"$f":"IFERROR(VLOOKUP(BE17,'CRUCE RIESGOS'!$C$9:$D$13,2,FALSE),\"\")","v":""},24.04,{"$f":"IFERROR(VLOOKUP(BG17,'CRUCE RIESGOS'!$C$9:$D$13,2,FALSE),\"\")","v":""},25.04,{"$f":"IFERROR(VLOOKUP(BI17,'CRUCE RIESGOS'!$C$9:$D$13,2,FALSE),\"\")","v":""}]
[null,null," Zona de riesgo moderada: Asumir el riesgo, reducir el riesgo",null,null,{"$f":"COUNTIF('CRUCE RIESGOS'!$AZ$9:$AZ$13,\"MODERADO\")","v":2},{"$f":"IFERROR(IF(AVERAGE('CRUCE RIESGOS'!AV9:AV13)=\"\",\"\",IF(AVERAGE('CRUCE RIESGOS'!AV9:AV13)<=0.2,\"MUY BAJA\",IF(AVERAGE('CRUCE RIESGOS'!AV9:AV13)<=0.4,\"BAJA\",IF(AVERAGE('CRUCE RIESGOS'!AV9:AV13)<=0.6,\"MEDIA\",IF(AVERAGE('CRUCE RIESGOS'!AV9:AV13)<=0.8,\"ALTA\",IF(AVERAGE('CRUCE RIESGOS'!AV9:AV13)=1,\"MUY ALTA\")))))),\"\")","v":"MEDIA"},{"$f":"IFERROR(IF(AVERAGE('CRUCE RIESGOS'!AX9:AX13)=\"\",\"\",IF(AVERAGE('CRUCE RIESGOS'!AX9:AX13)<=0.2,\"LEVE\",IF(AVERAGE('CRUCE RIESGOS'!AX9:AX13)<=0.4,\"MENOR\",IF(AVERAGE('CRUCE RIESGOS'!AX9:AX13)<=0.6,\"MODERADO\",IF(AVERAGE('CRUCE RIESGOS'!AX9:AX13)<=0.8,\"MAYOR\",IF(AVERAGE('CRUCE RIESGOS'!AX9:AX13)=1,\"CATASTRÓFICO\")))))),\"\")","v":"MAYOR"},{"$f":"IFERROR(IF(OR(AND(G18=\"Muy Baja\",H18=\"Leve\"),AND(G18=\"Muy Baja\",H18=\"Menor\"),AND(G18=\"Baja\",H18=\"Leve\")),\"BAJO\",IF(OR(AND(G18=\"Muy baja\",H18=\"Moderado\"),AND(G18=\"Baja\",H18=\"Menor\"),AND(G18=\"Baja\",H18=\"Moderado\"),AND(G18=\"Media\",H18=\"Leve\"),AND(G18=\"Media\",H18=\"Menor\"),AND(G18=\"Media\",H18=\"Moderado\"),AND(G18=\"Alta\",H18=\"Leve\"),AND(G18=\"Alta\",H18=\"Menor\")),\"MODERADO\",IF(OR(AND(G18=\"Muy Baja\",H18=\"Mayor\"),AND(G18=\"Baja\",H18=\"Mayor\"),AND(G18=\"Media\",H18=\"Mayor\"),AND(G18=\"Alta\",H18=\"Moderado\"),AND(G18=\"Alta\",H18=\"Mayor\"),AND(G18=\"Muy Alta\",H18=\"Leve\"),AND(G18=\"Muy Alta\",H18=\"Menor\"),AND(G18=\"Muy Alta\",H18=\"Moderado\"),AND(G18=\"Muy Alta\",H18=\"Mayor\")),\"ALTO\",IF(OR(AND(G18=\"Muy Baja\",H18=\"Catastrófico\"),AND(G18=\"Baja\",H18=\"Catastrófico\"),AND(G18=\"Media\",H18=\"Catastrófico\"),AND(G18=\"Alta\",H18=\"Catastrófico\"),AND(G18=\"Muy Alta\",H18=\"Catastrófico\")),\"EXTREMO\",\"\")))),\"\")","v":"ALTO"},null,null,null,null,{"$f":"IF(N20<>\"\",\" -R\",\"\")","v":""},null,{"$f":"IF(P20<>\"\",\" -R\",\"\")","v":""},null,{"$f":"IF(R20<>\"\",\" -R\",\"\")","v":""},null,{"$f":"IF(T20<>\"\",\" -R\",\"\")","v":""},null,{"$f":"IF(V20<>\"\",\" -R\",\"\")","v":""},null,{"$f":"IF(X20<>\"\",\" -R\",\"\")","v":""},null,{"$f":"IF(Z20<>\"\",\" -R\",\"\")","v":""},null,{"$f":"IF(AB20<>\"\",\" -R\",\"\")","v":""},null,{"$f":"IF(AD20<>\"\",\" -R\",\"\")","v":""},null,{"$f":"IF(AF20<>\"\",\" -R\",\"\")","v":""},null,{"$f":"IF(AH20<>\"\",\" -R\",\"\")","v":""},null,{"$f":"IF(AJ20<>\"\",\" -R\",\"\")","v":""},null,{"$f":"IF(AL20<>\"\",\" -R\",\"\")","v":""},null,{"$f":"IF(AN20<>\"\",\" -R\",\"\")","v":""},null,{"$f":"IF(AP20<>\"\",\" -R\",\"\")","v":""},null,{"$f":"IF(AR20<>\"\",\" -R\",\"\")","v":""},null,{"$f":"IF(AT20<>\"\",\" -R\",\"\")","v":""},null,{"$f":"IF(AV20<>\"\",\" -R\",\"\")","v":""},null,{"$f":"IF(AX20<>\"\",\" -R\",\"\")","v":""},null,{"$f":"IF(AZ20<>\"\",\" -R\",\"\")","v":""},null,{"$f":"IF(BB20<>\"\",\" -R\",\"\")","v":""},null,{"$f":"IF(BD20<>\"\",\" -R\",\"\")","v":""},null,{"$f":"IF(BF20<>\"\",\" -R\",\"\")","v":""},null,{"$f":"IF(BH20<>\"\",\" -R\",\"\")","v":""},null,{"$f":"IF(BJ20<>\"\",\" -R\",\"\")","v":""}]
[null,null," Zona de riesgo alta: reducir el riesgo, evitar, compartir o transferir",null,null,{"$f":"COUNTIF('CRUCE RIESGOS'!$AZ$9:$AZ$13,\"ALTO\")","v":1}]
[null,null," Zona de riesgo extrema: Reducir el riesgo, Evitar, Compartir o Transferir",null,null,{"$f":"COUNTIF('CRUCE RIESGOS'!$AZ$9:$AZ$13,\"EXTREMO\")","v":0},null,null,null,null,null,null,1.05,{"$f":"IFERROR(VLOOKUP(M20,'CRUCE RIESGOS'!$C$9:$D$13,2,FALSE),\"\")","v":""},2.0499999999999998,{"$f":"IFERROR(VLOOKUP(O20,'CRUCE RIESGOS'!$C$9:$D$13,2,FALSE),\"\")","v":""},3.05,{"$f":"IFERROR(VLOOKUP(Q20,'CRUCE RIESGOS'!$C$9:$D$13,2,FALSE),\"\")","v":""},4.05,{"$f":"IFERROR(VLOOKUP(S20,'CRUCE RIESGOS'!$C$9:$D$13,2,FALSE),\"\")","v":""},5.05,{"$f":"IFERROR(VLOOKUP(U20,'CRUCE RIESGOS'!$C$9:$D$13,2,FALSE),\"\")","v":""},6.05,{"$f":"IFERROR(VLOOKUP(W20,'CRUCE RIESGOS'!$C$9:$D$13,2,FALSE),\"\")","v":""},7.05,{"$f":"IFERROR(VLOOKUP(Y20,'CRUCE RIESGOS'!$C$9:$D$13,2,FALSE),\"\")","v":""},8.0500000000000007,{"$f":"IFERROR(VLOOKUP(AA20,'CRUCE RIESGOS'!$C$9:$D$13,2,FALSE),\"\")","v":""},9.0500000000000007,{"$f":"IFERROR(VLOOKUP(AC20,'CRUCE RIESGOS'!$C$9:$D$13,2,FALSE),\"\")","v":""},10.050000000000001,{"$f":"IFERROR(VLOOKUP(AE20,'CRUCE RIESGOS'!$C$9:$D$13,2,FALSE),\"\")","v":""},11.05,{"$f":"IFERROR(VLOOKUP(AG20,'CRUCE RIESGOS'!$C$9:$D$13,2,FALSE),\"\")","v":""},12.05,{"$f":"IFERROR(VLOOKUP(AI20,'CRUCE RIESGOS'!$C$9:$D$13,2,FALSE),\"\")","v":""},13.05,{"$f":"IFERROR(VLOOKUP(AK20,'CRUCE RIESGOS'!$C$9:$D$13,2,FALSE),\"\")","v":""},14.05,{"$f":"IFERROR(VLOOKUP(AM20,'CRUCE RIESGOS'!$C$9:$D$13,2,FALSE),\"\")","v":""},15.05,{"$f":"IFERROR(VLOOKUP(AO20,'CRUCE RIESGOS'!$C$9:$D$13,2,FALSE),\"\")","v":""},16.05,{"$f":"IFERROR(VLOOKUP(AQ20,'CRUCE RIESGOS'!$C$9:$D$13,2,FALSE),\"\")","v":""},17.05,{"$f":"IFERROR(VLOOKUP(AS20,'CRUCE RIESGOS'!$C$9:$D$13,2,FALSE),\"\")","v":""},18.05,{"$f":"IFERROR(VLOOKUP(AU20,'CRUCE RIESGOS'!$C$9:$D$13,2,FALSE),\"\")","v":""},19.05,{"$f":"IFERROR(VLOOKUP(AW20,'CRUCE RIESGOS'!$C$9:$D$13,2,FALSE),\"\")","v":""},20.05,{"$f":"IFERROR(VLOOKUP(AY20,'CRUCE RIESGOS'!$C$9:$D$13,2,FALSE),\"\")","v":""},21.05,{"$f":"IFERROR(VLOOKUP(BA20,'CRUCE RIESGOS'!$C$9:$D$13,2,FALSE),\"\")","v":""},22.05,{"$f":"IFERROR(VLOOKUP(BC20,'CRUCE RIESGOS'!$C$9:$D$13,2,FALSE),\"\")","v":""},23.05,{"$f":"IFERROR(VLOOKUP(BE20,'CRUCE RIESGOS'!$C$9:$D$13,2,FALSE),\"\")","v":""},24.05,{"$f":"IFERROR(VLOOKUP(BG20,'CRUCE RIESGOS'!$C$9:$D$13,2,FALSE),\"\")","v":""},25.05,{"$f":"IFERROR(VLOOKUP(BI20,'CRUCE RIESGOS'!$C$9:$D$13,2,FALSE),\"\")","v":""}]
[null,null,null,null,null,null,null,null,null,null,null,null,null,{"$f":"IF(N22<>\"\",\" -R\",\"\")","v":""},null,{"$f":"IF(P22<>\"\",\" -R\",\"\")","v":""},null,{"$f":"IF(R22<>\"\",\" -R\",\"\")","v":""},null,{"$f":"IF(T22<>\"\",\" -R\",\"\")","v":""},null,{"$f":"IF(V22<>\"\",\" -R\",\"\")","v":""},null,{"$f":"IF(X22<>\"\",\" -R\",\"\")","v":""},null,{"$f":"IF(Z22<>\"\",\" -R\",\"\")","v":""},null,{"$f":"IF(AB22<>\"\",\" -R\",\"\")","v":""},null,{"$f":"IF(AD22<>\"\",\" -R\",\"\")","v":""},null,{"$f":"IF(AF22<>\"\",\" -R\",\"\")","v":""},null,{"$f":"IF(AH22<>\"\",\" -R\",\"\")","v":""},null,{"$f":"IF(AJ22<>\"\",\" -R\",\"\")","v":""},null,{"$f":"IF(AL22<>\"\",\" -R\",\"\")","v":""},null,{"$f":"IF(AN22<>\"\",\" -R\",\"\")","v":""},null,{"$f":"IF(AP22<>\"\",\" -R\",\"\")","v":""},null,{"$f":"IF(AR22<>\"\",\" -R\",\"\")","v":""},null,{"$f":"IF(AT22<>\"\",\" -R\",\"\")","v":""},null,{"$f":"IF(AV22<>\"\",\" -R\",\"\")","v":""},null,{"$f":"IF(AX22<>\"\",\" -R\",\"\")","v":""},null,{"$f":"IF(AZ22<>\"\",\" -R\",\"\")","v":""},null,{"$f":"IF(BB22<>\"\",\" -R\",\"\")","v":""},null,{"$f":"IF(BD22<>\"\",\" -R\",\"\")","v":""},null,{"$f":"IF(BF22<>\"\",\" -R\",\"\")","v":""},null,{"$f":"IF(BH22<>\"\",\" -R\",\"\")","v":""},null,{"$f":"IF(BJ22<>\"\",\" -R\",\"\")","v":""}]
[]
[]
[]
[]
[null,null,null,null,null,null,null,null,null,null,null,null,1.08,{"$f":"IFERROR(VLOOKUP(M26,'CRUCE RIESGOS'!$C$9:$D$13,2,FALSE),\"\")","v":""},2.08,{"$f":"IFERROR(VLOOKUP(O26,'CRUCE RIESGOS'!$C$9:$D$13,2,FALSE),\"\")","v":""},3.08,{"$f":"IFERROR(VLOOKUP(Q26,'CRUCE RIESGOS'!$C$9:$D$13,2,FALSE),\"\")","v":""},4.08,{"$f":"IFERROR(VLOOKUP(S26,'CRUCE RIESGOS'!$C$9:$D$13,2,FALSE),\"\")","v":""},5.08,{"$f":"IFERROR(VLOOKUP(U26,'CRUCE RIESGOS'!$C$9:$D$13,2,FALSE),\"\")","v":""},6.08,{"$f":"IFERROR(VLOOKUP(W26,'CRUCE RIESGOS'!$C$9:$D$13,2,FALSE),\"\")","v":""},7.08,{"$f":"IFERROR(VLOOKUP(Y26,'CRUCE RIESGOS'!$C$9:$D$13,2,FALSE),\"\")","v":""},8.08,{"$f":"IFERROR(VLOOKUP(AA26,'CRUCE RIESGOS'!$C$9:$D$13,2,FALSE),\"\")","v":""},9.08,{"$f":"IFERROR(VLOOKUP(AC26,'CRUCE RIESGOS'!$C$9:$D$13,2,FALSE),\"\")","v":""},10.08,{"$f":"IFERROR(VLOOKUP(AE26,'CRUCE RIESGOS'!$C$9:$D$13,2,FALSE),\"\")","v":""},11.08,{"$f":"IFERROR(VLOOKUP(AG26,'CRUCE RIESGOS'!$C$9:$D$13,2,FALSE),\"\")","v":""},12.08,{"$f":"IFERROR(VLOOKUP(AI26,'CRUCE RIESGOS'!$C$9:$D$13,2,FALSE),\"\")","v":""},13.08,{"$f":"IFERROR(VLOOKUP(AK26,'CRUCE RIESGOS'!$C$9:$D$13,2,FALSE),\"\")","v":""},14.08,{"$f":"IFERROR(VLOOKUP(AM26,'CRUCE RIESGOS'!$C$9:$D$13,2,FALSE),\"\")","v":""},15.08,{"$f":"IFERROR(VLOOKUP(AO26,'CRUCE RIESGOS'!$C$9:$D$13,2,FALSE),\"\")","v":""},16.079999999999998,{"$f":"IFERROR(VLOOKUP(AQ26,'CRUCE RIESGOS'!$C$9:$D$13,2,FALSE),\"\")","v":""},17.079999999999998,{"$f":"IFERROR(VLOOKUP(AS26,'CRUCE RIESGOS'!$C$9:$D$13,2,FALSE),\"\")","v":""},18.079999999999998,{"$f":"IFERROR(VLOOKUP(AU26,'CRUCE RIESGOS'!$C$9:$D$13,2,FALSE),\"\")","v":""},19.079999999999998,{"$f":"IFERROR(VLOOKUP(AW26,'CRUCE RIESGOS'!$C$9:$D$13,2,FALSE),\"\")","v":""},20.079999999999998,{"$f":"IFERROR(VLOOKUP(AY26,'CRUCE RIESGOS'!$C$9:$D$13,2,FALSE),\"\")","v":""},21.08,{"$f":"IFERROR(VLOOKUP(BA26,'CRUCE RIESGOS'!$C$9:$D$13,2,FALSE),\"\")","v":""},22.08,{"$f":"IFERROR(VLOOKUP(BC26,'CRUCE RIESGOS'!$C$9:$D$13,2,FALSE),\"\")","v":""},23.08,{"$f":"IFERROR(VLOOKUP(BE26,'CRUCE RIESGOS'!$C$9:$D$13,2,FALSE),\"\")","v":""},24.08,{"$f":"IFERROR(VLOOKUP(BG26,'CRUCE RIESGOS'!$C$9:$D$13,2,FALSE),\"\")","v":""},25.08,{"$f":"IFERROR(VLOOKUP(BI26,'CRUCE RIESGOS'!$C$9:$D$13,2,FALSE),\"\")","v":""}]
[null,null,null,null,null,null,null,null,null,null,null,null,null,{"$f":"IF(N28<>\"\",\" -R\",\"\")","v":""},null,{"$f":"IF(P28<>\"\",\" -R\",\"\")","v":""},null,{"$f":"IF(R28<>\"\",\" -R\",\"\")","v":""},null,{"$f":"IF(T28<>\"\",\" -R\",\"\")","v":""},null,{"$f":"IF(V28<>\"\",\" -R\",\"\")","v":""},null,{"$f":"IF(X28<>\"\",\" -R\",\"\")","v":""},null,{"$f":"IF(Z28<>\"\",\" -R\",\"\")","v":""},null,{"$f":"IF(AB28<>\"\",\" -R\",\"\")","v":""},null,{"$f":"IF(AD28<>\"\",\" -R\",\"\")","v":""},null,{"$f":"IF(AF28<>\"\",\" -R\",\"\")","v":""},null,{"$f":"IF(AH28<>\"\",\" -R\",\"\")","v":""},null,{"$f":"IF(AJ28<>\"\",\" -R\",\"\")","v":""},null,{"$f":"IF(AL28<>\"\",\" -R\",\"\")","v":""},null,{"$f":"IF(AN28<>\"\",\" -R\",\"\")","v":""},null,{"$f":"IF(AP28<>\"\",\" -R\",\"\")","v":""},null,{"$f":"IF(AR28<>\"\",\" -R\",\"\")","v":""},null,{"$f":"IF(AT28<>\"\",\" -R\",\"\")","v":""},null,{"$f":"IF(AV28<>\"\",\" -R\",\"\")","v":""},null,{"$f":"IF(AX28<>\"\",\" -R\",\"\")","v":""},null,{"$f":"IF(AZ28<>\"\",\" -R\",\"\")","v":""},null,{"$f":"IF(BB28<>\"\",\" -R\",\"\")","v":""},null,{"$f":"IF(BD28<>\"\",\" -R\",\"\")","v":""},null,{"$f":"IF(BF28<>\"\",\" -R\",\"\")","v":""},null,{"$f":"IF(BH28<>\"\",\" -R\",\"\")","v":""},null,{"$f":"IF(BJ28<>\"\",\" -R\",\"\")","v":""}]
[null,null,null,null,null,null,null,null,null,null,null,null,1.0900000000000001,{"$f":"IFERROR(VLOOKUP(M28,'CRUCE RIESGOS'!$C$9:$D$13,2,FALSE),\"\")","v":""},2.09,{"$f":"IFERROR(VLOOKUP(O28,'CRUCE RIESGOS'!$C$9:$D$13,2,FALSE),\"\")","v":""},3.09,{"$f":"IFERROR(VLOOKUP(Q28,'CRUCE RIESGOS'!$C$9:$D$13,2,FALSE),\"\")","v":""},4.09,{"$f":"IFERROR(VLOOKUP(S28,'CRUCE RIESGOS'!$C$9:$D$13,2,FALSE),\"\")","v":""},5.09,{"$f":"IFERROR(VLOOKUP(U28,'CRUCE RIESGOS'!$C$9:$D$13,2,FALSE),\"\")","v":""},6.09,{"$f":"IFERROR(VLOOKUP(W28,'CRUCE RIESGOS'!$C$9:$D$13,2,FALSE),\"\")","v":""},7.09,{"$f":"IFERROR(VLOOKUP(Y28,'CRUCE RIESGOS'!$C$9:$D$13,2,FALSE),\"\")","v":""},8.09,{"$f":"IFERROR(VLOOKUP(AA28,'CRUCE RIESGOS'!$C$9:$D$13,2,FALSE),\"\")","v":""},9.09,{"$f":"IFERROR(VLOOKUP(AC28,'CRUCE RIESGOS'!$C$9:$D$13,2,FALSE),\"\")","v":""},10.09,{"$f":"IFERROR(VLOOKUP(AE28,'CRUCE RIESGOS'!$C$9:$D$13,2,FALSE),\"\")","v":""},11.09,{"$f":"IFERROR(VLOOKUP(AG28,'CRUCE RIESGOS'!$C$9:$D$13,2,FALSE),\"\")","v":""},12.09,{"$f":"IFERROR(VLOOKUP(AI28,'CRUCE RIESGOS'!$C$9:$D$13,2,FALSE),\"\")","v":""},13.09,{"$f":"IFERROR(VLOOKUP(AK28,'CRUCE RIESGOS'!$C$9:$D$13,2,FALSE),\"\")","v":""},14.09,{"$f":"IFERROR(VLOOKUP(AM28,'CRUCE RIESGOS'!$C$9:$D$13,2,FALSE),\"\")","v":""},15.09,{"$f":"IFERROR(VLOOKUP(AO28,'CRUCE RIESGOS'!$C$9:$D$13,2,FALSE),\"\")","v":""},16.09,{"$f":"IFERROR(VLOOKUP(AQ28,'CRUCE RIESGOS'!$C$9:$D$13,2,FALSE),\"\")","v":""},17.09,{"$f":"IFERROR(VLOOKUP(AS28,'CRUCE RIESGOS'!$C$9:$D$13,2,FALSE),\"\")","v":""},18.09,{"$f":"IFERROR(VLOOKUP(AU28,'CRUCE RIESGOS'!$C$9:$D$13,2,FALSE),\"\")","v":""},19.09,{"$f":"IFERROR(VLOOKUP(AW28,'CRUCE RIESGOS'!$C$9:$D$13,2,FALSE),\"\")","v":""},20.09,{"$f":"IFERROR(VLOOKUP(AY28,'CRUCE RIESGOS'!$C$9:$D$13,2,FALSE),\"\")","v":""},21.09,{"$f":"IFERROR(VLOOKUP(BA28,'CRUCE RIESGOS'!$C$9:$D$13,2,FALSE),\"\")","v":""},22.09,{"$f":"IFERROR(VLOOKUP(BC28,'CRUCE RIESGOS'!$C$9:$D$13,2,FALSE),\"\")","v":""},23.09,{"$f":"IFERROR(VLOOKUP(BE28,'CRUCE RIESGOS'!$C$9:$D$13,2,FALSE),\"\")","v":""},24.09,{"$f":"IFERROR(VLOOKUP(BG28,'CRUCE RIESGOS'!$C$9:$D$13,2,FALSE),\"\")","v":""},25.09,{"$f":"IFERROR(VLOOKUP(BI28,'CRUCE RIESGOS'!$C$9:$D$13,2,FALSE),\"\")","v":""}]
[null,null,null,null,null,null,null,null,null,null,null,null,null,{"$f":"IF(N30<>\"\",\" -R\",\"\")","v":""},null,{"$f":"IF(P30<>\"\",\" -R\",\"\")","v":""},null,{"$f":"IF(R30<>\"\",\" -R\",\"\")","v":""},null,{"$f":"IF(T30<>\"\",\" -R\",\"\")","v":""},null,{"$f":"IF(V30<>\"\",\" -R\",\"\")","v":""},null,{"$f":"IF(X30<>\"\",\" -R\",\"\")","v":""},null,{"$f":"IF(Z30<>\"\",\" -R\",\"\")","v":""},null,{"$f":"IF(AB30<>\"\",\" -R\",\"\")","v":""},null,{"$f":"IF(AD30<>\"\",\" -R\",\"\")","v":""},null,{"$f":"IF(AF30<>\"\",\" -R\",\"\")","v":""},null,{"$f":"IF(AH30<>\"\",\" -R\",\"\")","v":""},null,{"$f":"IF(AJ30<>\"\",\" -R\",\"\")","v":""},null,{"$f":"IF(AL30<>\"\",\" -R\",\"\")","v":""},null,{"$f":"IF(AN30<>\"\",\" -R\",\"\")","v":""},null,{"$f":"IF(AP30<>\"\",\" -R\",\"\")","v":""},null,{"$f":"IF(AR30<>\"\",\" -R\",\"\")","v":""},null,{"$f":"IF(AT30<>\"\",\" -R\",\"\")","v":""},null,{"$f":"IF(AV30<>\"\",\" -R\",\"\")","v":""},null,{"$f":"IF(AX30<>\"\",\" -R\",\"\")","v":""},null,{"$f":"IF(AZ30<>\"\",\" -R\",\"\")","v":""},null,{"$f":"IF(BB30<>\"\",\" -R\",\"\")","v":""},null,{"$f":"IF(BD30<>\"\",\" -R\",\"\")","v":""},null,{"$f":"IF(BF30<>\"\",\" -R\",\"\")","v":""},null,{"$f":"IF(BH30<>\"\",\" -R\",\"\")","v":""},null,{"$f":"IF(BJ30<>\"\",\" -R\",\"\")","v":""}]
[null,null,null,null,null,null,null,null,null,null,null,null,1.1000000000000001,{"$f":"IFERROR(VLOOKUP(M30,'CRUCE RIESGOS'!$C$9:$D$13,2,FALSE),\"\")","v":""},2.1,{"$f":"IFERROR(VLOOKUP(O30,'CRUCE RIESGOS'!$C$9:$D$13,2,FALSE),\"\")","v":""},3.1,{"$f":"IFERROR(VLOOKUP(Q30,'CRUCE RIESGOS'!$C$9:$D$13,2,FALSE),\"\")","v":""},4.0999999999999996,{"$f":"IFERROR(VLOOKUP(S30,'CRUCE RIESGOS'!$C$9:$D$13,2,FALSE),\"\")","v":""},5.0999999999999996,{"$f":"IFERROR(VLOOKUP(U30,'CRUCE RIESGOS'!$C$9:$D$13,2,FALSE),\"\")","v":""},6.1,{"$f":"IFERROR(VLOOKUP(W30,'CRUCE RIESGOS'!$C$9:$D$13,2,FALSE),\"\")","v":""},7.1,{"$f":"IFERROR(VLOOKUP(Y30,'CRUCE RIESGOS'!$C$9:$D$13,2,FALSE),\"\")","v":""},8.1,{"$f":"IFERROR(VLOOKUP(AA30,'CRUCE RIESGOS'!$C$9:$D$13,2,FALSE),\"\")","v":""},9.1,{"$f":"IFERROR(VLOOKUP(AC30,'CRUCE RIESGOS'!$C$9:$D$13,2,FALSE),\"\")","v":""},10.1,{"$f":"IFERROR(VLOOKUP(AE30,'CRUCE RIESGOS'!$C$9:$D$13,2,FALSE),\"\")","v":""},11.1,{"$f":"IFERROR(VLOOKUP(AG30,'CRUCE RIESGOS'!$C$9:$D$13,2,FALSE),\"\")","v":""},12.1,{"$f":"IFERROR(VLOOKUP(AI30,'CRUCE RIESGOS'!$C$9:$D$13,2,FALSE),\"\")","v":""},13.1,{"$f":"IFERROR(VLOOKUP(AK30,'CRUCE RIESGOS'!$C$9:$D$13,2,FALSE),\"\")","v":""},14.1,{"$f":"IFERROR(VLOOKUP(AM30,'CRUCE RIESGOS'!$C$9:$D$13,2,FALSE),\"\")","v":""},15.1,{"$f":"IFERROR(VLOOKUP(AO30,'CRUCE RIESGOS'!$C$9:$D$13,2,FALSE),\"\")","v":""},16.100000000000001,{"$f":"IFERROR(VLOOKUP(AQ30,'CRUCE RIESGOS'!$C$9:$D$13,2,FALSE),\"\")","v":""},17.100000000000001,{"$f":"IFERROR(VLOOKUP(AS30,'CRUCE RIESGOS'!$C$9:$D$13,2,FALSE),\"\")","v":""},18.100000000000001,{"$f":"IFERROR(VLOOKUP(AU30,'CRUCE RIESGOS'!$C$9:$D$13,2,FALSE),\"\")","v":""},19.100000000000001,{"$f":"IFERROR(VLOOKUP(AW30,'CRUCE RIESGOS'!$C$9:$D$13,2,FALSE),\"\")","v":""},20.100000000000001,{"$f":"IFERROR(VLOOKUP(AY30,'CRUCE RIESGOS'!$C$9:$D$13,2,FALSE),\"\")","v":""},21.1,{"$f":"IFERROR(VLOOKUP(BA30,'CRUCE RIESGOS'!$C$9:$D$13,2,FALSE),\"\")","v":""},22.1,{"$f":"IFERROR(VLOOKUP(BC30,'CRUCE RIESGOS'!$C$9:$D$13,2,FALSE),\"\")","v":""},23.1,{"$f":"IFERROR(VLOOKUP(BE30,'CRUCE RIESGOS'!$C$9:$D$13,2,FALSE),\"\")","v":""},24.1,{"$f":"IFERROR(VLOOKUP(BG30,'CRUCE RIESGOS'!$C$9:$D$13,2,FALSE),\"\")","v":""},25.1,{"$f":"IFERROR(VLOOKUP(BI30,'CRUCE RIESGOS'!$C$9:$D$13,2,FALSE),\"\")","v":""}]
[null,null,null,null,null,null,null,null,null,null,null,null,null,{"$f":"IF(N32<>\"\",\" -R\",\"\")","v":""},null,{"$f":"IF(P32<>\"\",\" -R\",\"\")","v":""},null,{"$f":"IF(R32<>\"\",\" -R\",\"\")","v":""},null,{"$f":"IF(T32<>\"\",\" -R\",\"\")","v":""},null,{"$f":"IF(V32<>\"\",\" -R\",\"\")","v":""},null,{"$f":"IF(X32<>\"\",\" -R\",\"\")","v":""},null,{"$f":"IF(Z32<>\"\",\" -R\",\"\")","v":""},null,{"$f":"IF(AB32<>\"\",\" -R\",\"\")","v":""},null,{"$f":"IF(AD32<>\"\",\" -R\",\"\")","v":""},null,{"$f":"IF(AF32<>\"\",\" -R\",\"\")","v":""},null,{"$f":"IF(AH32<>\"\",\" -R\",\"\")","v":""},null,{"$f":"IF(AJ32<>\"\",\" -R\",\"\")","v":""},null,{"$f":"IF(AL32<>\"\",\" -R\",\"\")","v":""},null,{"$f":"IF(AN32<>\"\",\" -R\",\"\")","v":""},null,{"$f":"IF(AP32<>\"\",\" -R\",\"\")","v":""},null,{"$f":"IF(AR32<>\"\",\" -R\",\"\")","v":""},null,{"$f":"IF(AT32<>\"\",\" -R\",\"\")","v":""},null,{"$f":"IF(AV32<>\"\",\" -R\",\"\")","v":""},null,{"$f":"IF(AX32<>\"\",\" -R\",\"\")","v":""},null,{"$f":"IF(AZ32<>\"\",\" -R\",\"\")","v":""},null,{"$f":"IF(BB32<>\"\",\" -R\",\"\")","v":""},null,{"$f":"IF(BD32<>\"\",\" -R\",\"\")","v":""},null,{"$f":"IF(BF32<>\"\",\" -R\",\"\")","v":""},null,{"$f":"IF(BH32<>\"\",\" -R\",\"\")","v":""},null,{"$f":"IF(BJ32<>\"\",\" -R\",\"\")","v":""}]
[null,null,null,null,null,null,null,null,null,null,null,null,1.1100000000000001,{"$f":"IFERROR(VLOOKUP(M32,'CRUCE RIESGOS'!$C$9:$D$13,2,FALSE),\"\")","v":""},2.11,{"$f":"IFERROR(VLOOKUP(O32,'CRUCE RIESGOS'!$C$9:$D$13,2,FALSE),\"\")","v":""},3.11,{"$f":"IFERROR(VLOOKUP(Q32,'CRUCE RIESGOS'!$C$9:$D$13,2,FALSE),\"\")","v":""},4.1100000000000003,{"$f":"IFERROR(VLOOKUP(S32,'CRUCE RIESGOS'!$C$9:$D$13,2,FALSE),\"\")","v":""},5.1100000000000003,{"$f":"IFERROR(VLOOKUP(U32,'CRUCE RIESGOS'!$C$9:$D$13,2,FALSE),\"\")","v":""},6.11,{"$f":"IFERROR(VLOOKUP(W32,'CRUCE RIESGOS'!$C$9:$D$13,2,FALSE),\"\")","v":""},7.11,{"$f":"IFERROR(VLOOKUP(Y32,'CRUCE RIESGOS'!$C$9:$D$13,2,FALSE),\"\")","v":""},8.11,{"$f":"IFERROR(VLOOKUP(AA32,'CRUCE RIESGOS'!$C$9:$D$13,2,FALSE),\"\")","v":""},9.11,{"$f":"IFERROR(VLOOKUP(AC32,'CRUCE RIESGOS'!$C$9:$D$13,2,FALSE),\"\")","v":""},10.11,{"$f":"IFERROR(VLOOKUP(AE32,'CRUCE RIESGOS'!$C$9:$D$13,2,FALSE),\"\")","v":""},11.11,{"$f":"IFERROR(VLOOKUP(AG32,'CRUCE RIESGOS'!$C$9:$D$13,2,FALSE),\"\")","v":""},12.11,{"$f":"IFERROR(VLOOKUP(AI32,'CRUCE RIESGOS'!$C$9:$D$13,2,FALSE),\"\")","v":""},13.11,{"$f":"IFERROR(VLOOKUP(AK32,'CRUCE RIESGOS'!$C$9:$D$13,2,FALSE),\"\")","v":""},14.11,{"$f":"IFERROR(VLOOKUP(AM32,'CRUCE RIESGOS'!$C$9:$D$13,2,FALSE),\"\")","v":""},15.11,{"$f":"IFERROR(VLOOKUP(AO32,'CRUCE RIESGOS'!$C$9:$D$13,2,FALSE),\"\")","v":""},16.11,{"$f":"IFERROR(VLOOKUP(AQ32,'CRUCE RIESGOS'!$C$9:$D$13,2,FALSE),\"\")","v":""},17.11,{"$f":"IFERROR(VLOOKUP(AS32,'CRUCE RIESGOS'!$C$9:$D$13,2,FALSE),\"\")","v":""},18.11,{"$f":"IFERROR(VLOOKUP(AU32,'CRUCE RIESGOS'!$C$9:$D$13,2,FALSE),\"\")","v":""},19.11,{"$f":"IFERROR(VLOOKUP(AW32,'CRUCE RIESGOS'!$C$9:$D$13,2,FALSE),\"\")","v":""},20.11,{"$f":"IFERROR(VLOOKUP(AY32,'CRUCE RIESGOS'!$C$9:$D$13,2,FALSE),\"\")","v":""},21.11,{"$f":"IFERROR(VLOOKUP(BA32,'CRUCE RIESGOS'!$C$9:$D$13,2,FALSE),\"\")","v":""},22.11,{"$f":"IFERROR(VLOOKUP(BC32,'CRUCE RIESGOS'!$C$9:$D$13,2,FALSE),\"\")","v":""},23.11,{"$f":"IFERROR(VLOOKUP(BE32,'CRUCE RIESGOS'!$C$9:$D$13,2,FALSE),\"\")","v":""},24.11,{"$f":"IFERROR(VLOOKUP(BG32,'CRUCE RIESGOS'!$C$9:$D$13,2,FALSE),\"\")","v":""},25.11,{"$f":"IFERROR(VLOOKUP(BI32,'CRUCE RIESGOS'!$C$9:$D$13,2,FALSE),\"\")","v":""}]
[null,null,null,null,null,null,null,null,null,null,null,null,null,{"$f":"IF(N34<>\"\",\" -R\",\"\")","v":""},null,{"$f":"IF(P34<>\"\",\" -R\",\"\")","v":""},null,{"$f":"IF(R34<>\"\",\" -R\",\"\")","v":""},null,{"$f":"IF(T34<>\"\",\" -R\",\"\")","v":""},null,{"$f":"IF(V34<>\"\",\" -R\",\"\")","v":""},null,{"$f":"IF(X34<>\"\",\" -R\",\"\")","v":""},null,{"$f":"IF(Z34<>\"\",\" -R\",\"\")","v":""},null,{"$f":"IF(AB34<>\"\",\" -R\",\"\")","v":""},null,{"$f":"IF(AD34<>\"\",\" -R\",\"\")","v":""},null,{"$f":"IF(AF34<>\"\",\" -R\",\"\")","v":""},null,{"$f":"IF(AH34<>\"\",\" -R\",\"\")","v":""},null,{"$f":"IF(AJ34<>\"\",\" -R\",\"\")","v":""},null,{"$f":"IF(AL34<>\"\",\" -R\",\"\")","v":""},null,{"$f":"IF(AN34<>\"\",\" -R\",\"\")","v":""},null,{"$f":"IF(AP34<>\"\",\" -R\",\"\")","v":""},null,{"$f":"IF(AR34<>\"\",\" -R\",\"\")","v":""},null,{"$f":"IF(AT34<>\"\",\" -R\",\"\")","v":""},null,{"$f":"IF(AV34<>\"\",\" -R\",\"\")","v":""},null,{"$f":"IF(AX34<>\"\",\" -R\",\"\")","v":""},null,{"$f":"IF(AZ34<>\"\",\" -R\",\"\")","v":""},null,{"$f":"IF(BB34<>\"\",\" -R\",\"\")","v":""},null,{"$f":"IF(BD34<>\"\",\" -R\",\"\")","v":""},null,{"$f":"IF(BF34<>\"\",\" -R\",\"\")","v":""},null,{"$f":"IF(BH34<>\"\",\" -R\",\"\")","v":""},null,{"$f":"IF(BJ34<>\"\",\" -R\",\"\")","v":""}]
[null,null,null,null,null,null,null,null,null,null,null,null,1.1200000000000001,{"$f":"IFERROR(VLOOKUP(M34,'CRUCE RIESGOS'!$C$9:$D$13,2,FALSE),\"\")","v":""},2.12,{"$f":"IFERROR(VLOOKUP(O34,'CRUCE RIESGOS'!$C$9:$D$13,2,FALSE),\"\")","v":""},3.12,{"$f":"IFERROR(VLOOKUP(Q34,'CRUCE RIESGOS'!$C$9:$D$13,2,FALSE),\"\")","v":""},4.12,{"$f":"IFERROR(VLOOKUP(S34,'CRUCE RIESGOS'!$C$9:$D$13,2,FALSE),\"\")","v":""},5.12,{"$f":"IFERROR(VLOOKUP(U34,'CRUCE RIESGOS'!$C$9:$D$13,2,FALSE),\"\")","v":""},6.12,{"$f":"IFERROR(VLOOKUP(W34,'CRUCE RIESGOS'!$C$9:$D$13,2,FALSE),\"\")","v":""},7.12,{"$f":"IFERROR(VLOOKUP(Y34,'CRUCE RIESGOS'!$C$9:$D$13,2,FALSE),\"\")","v":""},8.1199999999999992,{"$f":"IFERROR(VLOOKUP(AA34,'CRUCE RIESGOS'!$C$9:$D$13,2,FALSE),\"\")","v":""},9.1199999999999992,{"$f":"IFERROR(VLOOKUP(AC34,'CRUCE RIESGOS'!$C$9:$D$13,2,FALSE),\"\")","v":""},10.119999999999999,{"$f":"IFERROR(VLOOKUP(AE34,'CRUCE RIESGOS'!$C$9:$D$13,2,FALSE),\"\")","v":""},11.12,{"$f":"IFERROR(VLOOKUP(AG34,'CRUCE RIESGOS'!$C$9:$D$13,2,FALSE),\"\")","v":""},12.12,{"$f":"IFERROR(VLOOKUP(AI34,'CRUCE RIESGOS'!$C$9:$D$13,2,FALSE),\"\")","v":""},13.12,{"$f":"IFERROR(VLOOKUP(AK34,'CRUCE RIESGOS'!$C$9:$D$13,2,FALSE),\"\")","v":""},14.12,{"$f":"IFERROR(VLOOKUP(AM34,'CRUCE RIESGOS'!$C$9:$D$13,2,FALSE),\"\")","v":""},15.12,{"$f":"IFERROR(VLOOKUP(AO34,'CRUCE RIESGOS'!$C$9:$D$13,2,FALSE),\"\")","v":""},16.12,{"$f":"IFERROR(VLOOKUP(AQ34,'CRUCE RIESGOS'!$C$9:$D$13,2,FALSE),\"\")","v":""},17.12,{"$f":"IFERROR(VLOOKUP(AS34,'CRUCE RIESGOS'!$C$9:$D$13,2,FALSE),\"\")","v":""},18.12,{"$f":"IFERROR(VLOOKUP(AU34,'CRUCE RIESGOS'!$C$9:$D$13,2,FALSE),\"\")","v":""},19.12,{"$f":"IFERROR(VLOOKUP(AW34,'CRUCE RIESGOS'!$C$9:$D$13,2,FALSE),\"\")","v":""},20.12,{"$f":"IFERROR(VLOOKUP(AY34,'CRUCE RIESGOS'!$C$9:$D$13,2,FALSE),\"\")","v":""},21.12,{"$f":"IFERROR(VLOOKUP(BA34,'CRUCE RIESGOS'!$C$9:$D$13,2,FALSE),\"\")","v":""},22.12,{"$f":"IFERROR(VLOOKUP(BC34,'CRUCE RIESGOS'!$C$9:$D$13,2,FALSE),\"\")","v":""},23.12,{"$f":"IFERROR(VLOOKUP(BE34,'CRUCE RIESGOS'!$C$9:$D$13,2,FALSE),\"\")","v":""},24.12,{"$f":"IFERROR(VLOOKUP(BG34,'CRUCE RIESGOS'!$C$9:$D$13,2,FALSE),\"\")","v":""},25.12,{"$f":"IFERROR(VLOOKUP(BI34,'CRUCE RIESGOS'!$C$9:$D$13,2,FALSE),\"\")","v":""}]
[null,null,null,null,null,null,null,null,null,null,null,null,null,{"$f":"IF(N36<>\"\",\" -R\",\"\")","v":""},null,{"$f":"IF(P36<>\"\",\" -R\",\"\")","v":""},null,{"$f":"IF(R36<>\"\",\" -R\",\"\")","v":""},null,{"$f":"IF(T36<>\"\",\" -R\",\"\")","v":""},null,{"$f":"IF(V36<>\"\",\" -R\",\"\")","v":""},null,{"$f":"IF(X36<>\"\",\" -R\",\"\")","v":""},null,{"$f":"IF(Z36<>\"\",\" -R\",\"\")","v":""},null,{"$f":"IF(AB36<>\"\",\" -R\",\"\")","v":""},null,{"$f":"IF(AD36<>\"\",\" -R\",\"\")","v":""},null,{"$f":"IF(AF36<>\"\",\" -R\",\"\")","v":""},null,{"$f":"IF(AH36<>\"\",\" -R\",\"\")","v":""},null,{"$f":"IF(AJ36<>\"\",\" -R\",\"\")","v":""},null,{"$f":"IF(AL36<>\"\",\" -R\",\"\")","v":""},null,{"$f":"IF(AN36<>\"\",\" -R\",\"\")","v":""},null,{"$f":"IF(AP36<>\"\",\" -R\",\"\")","v":""},null,{"$f":"IF(AR36<>\"\",\" -R\",\"\")","v":""},null,{"$f":"IF(AT36<>\"\",\" -R\",\"\")","v":""},null,{"$f":"IF(AV36<>\"\",\" -R\",\"\")","v":""},null,{"$f":"IF(AX36<>\"\",\" -R\",\"\")","v":""},null,{"$f":"IF(AZ36<>\"\",\" -R\",\"\")","v":""},null,{"$f":"IF(BB36<>\"\",\" -R\",\"\")","v":""},null,{"$f":"IF(BD36<>\"\",\" -R\",\"\")","v":""},null,{"$f":"IF(BF36<>\"\",\" -R\",\"\")","v":""},null,{"$f":"IF(BH36<>\"\",\" -R\",\"\")","v":""},null,{"$f":"IF(BJ36<>\"\",\" -R\",\"\")","v":""}]
[null,null,null,null,null,null,null,null,null,null,null,null,1.1299999999999999,{"$f":"IFERROR(VLOOKUP(M36,'CRUCE RIESGOS'!$C$9:$D$13,2,FALSE),\"\")","v":""},2.13,{"$f":"IFERROR(VLOOKUP(O36,'CRUCE RIESGOS'!$C$9:$D$13,2,FALSE),\"\")","v":""},3.13,{"$f":"IFERROR(VLOOKUP(Q36,'CRUCE RIESGOS'!$C$9:$D$13,2,FALSE),\"\")","v":""},4.13,{"$f":"IFERROR(VLOOKUP(S36,'CRUCE RIESGOS'!$C$9:$D$13,2,FALSE),\"\")","v":""},5.13,{"$f":"IFERROR(VLOOKUP(U36,'CRUCE RIESGOS'!$C$9:$D$13,2,FALSE),\"\")","v":""},6.13,{"$f":"IFERROR(VLOOKUP(W36,'CRUCE RIESGOS'!$C$9:$D$13,2,FALSE),\"\")","v":""},7.13,{"$f":"IFERROR(VLOOKUP(Y36,'CRUCE RIESGOS'!$C$9:$D$13,2,FALSE),\"\")","v":""},8.1300000000000008,{"$f":"IFERROR(VLOOKUP(AA36,'CRUCE RIESGOS'!$C$9:$D$13,2,FALSE),\"\")","v":""},9.1300000000000008,{"$f":"IFERROR(VLOOKUP(AC36,'CRUCE RIESGOS'!$C$9:$D$13,2,FALSE),\"\")","v":""},10.130000000000001,{"$f":"IFERROR(VLOOKUP(AE36,'CRUCE RIESGOS'!$C$9:$D$13,2,FALSE),\"\")","v":""},11.13,{"$f":"IFERROR(VLOOKUP(AG36,'CRUCE RIESGOS'!$C$9:$D$13,2,FALSE),\"\")","v":""},12.13,{"$f":"IFERROR(VLOOKUP(AI36,'CRUCE RIESGOS'!$C$9:$D$13,2,FALSE),\"\")","v":""},13.13,{"$f":"IFERROR(VLOOKUP(AK36,'CRUCE RIESGOS'!$C$9:$D$13,2,FALSE),\"\")","v":""},14.13,{"$f":"IFERROR(VLOOKUP(AM36,'CRUCE RIESGOS'!$C$9:$D$13,2,FALSE),\"\")","v":""},15.13,{"$f":"IFERROR(VLOOKUP(AO36,'CRUCE RIESGOS'!$C$9:$D$13,2,FALSE),\"\")","v":""},16.13,{"$f":"IFERROR(VLOOKUP(AQ36,'CRUCE RIESGOS'!$C$9:$D$13,2,FALSE),\"\")","v":""},17.13,{"$f":"IFERROR(VLOOKUP(AS36,'CRUCE RIESGOS'!$C$9:$D$13,2,FALSE),\"\")","v":""},18.13,{"$f":"IFERROR(VLOOKUP(AU36,'CRUCE RIESGOS'!$C$9:$D$13,2,FALSE),\"\")","v":""},19.13,{"$f":"IFERROR(VLOOKUP(AW36,'CRUCE RIESGOS'!$C$9:$D$13,2,FALSE),\"\")","v":""},20.13,{"$f":"IFERROR(VLOOKUP(AY36,'CRUCE RIESGOS'!$C$9:$D$13,2,FALSE),\"\")","v":""},21.13,{"$f":"IFERROR(VLOOKUP(BA36,'CRUCE RIESGOS'!$C$9:$D$13,2,FALSE),\"\")","v":""},22.13,{"$f":"IFERROR(VLOOKUP(BC36,'CRUCE RIESGOS'!$C$9:$D$13,2,FALSE),\"\")","v":""},23.13,{"$f":"IFERROR(VLOOKUP(BE36,'CRUCE RIESGOS'!$C$9:$D$13,2,FALSE),\"\")","v":""},24.13,{"$f":"IFERROR(VLOOKUP(BG36,'CRUCE RIESGOS'!$C$9:$D$13,2,FALSE),\"\")","v":""},25.13,{"$f":"IFERROR(VLOOKUP(BI36,'CRUCE RIESGOS'!$C$9:$D$13,2,FALSE),\"\")","v":""}]
[null,null,null,null,null,null,null,null,null,null,null,null,null,{"$f":"IF(N38<>\"\",\" -R\",\"\")","v":""},null,{"$f":"IF(P38<>\"\",\" -R\",\"\")","v":""},null,{"$f":"IF(R38<>\"\",\" -R\",\"\")","v":""},null,{"$f":"IF(T38<>\"\",\" -R\",\"\")","v":""},null,{"$f":"IF(V38<>\"\",\" -R\",\"\")","v":""},null,{"$f":"IF(X38<>\"\",\" -R\",\"\")","v":""},null,{"$f":"IF(Z38<>\"\",\" -R\",\"\")","v":""},null,{"$f":"IF(AB38<>\"\",\" -R\",\"\")","v":""},null,{"$f":"IF(AD38<>\"\",\" -R\",\"\")","v":""},null,{"$f":"IF(AF38<>\"\",\" -R\",\"\")","v":""},null,{"$f":"IF(AH38<>\"\",\" -R\",\"\")","v":""},null,{"$f":"IF(AJ38<>\"\",\" -R\",\"\")","v":""},null,{"$f":"IF(AL38<>\"\",\" -R\",\"\")","v":""},null,{"$f":"IF(AN38<>\"\",\" -R\",\"\")","v":""},null,{"$f":"IF(AP38<>\"\",\" -R\",\"\")","v":""},null,{"$f":"IF(AR38<>\"\",\" -R\",\"\")","v":""},null,{"$f":"IF(AT38<>\"\",\" -R\",\"\")","v":""},null,{"$f":"IF(AV38<>\"\",\" -R\",\"\")","v":""},null,{"$f":"IF(AX38<>\"\",\" -R\",\"\")","v":""},null,{"$f":"IF(AZ38<>\"\",\" -R\",\"\")","v":""},null,{"$f":"IF(BB38<>\"\",\" -R\",\"\")","v":""},null,{"$f":"IF(BD38<>\"\",\" -R\",\"\")","v":""},null,{"$f":"IF(BF38<>\"\",\" -R\",\"\")","v":""},null,{"$f":"IF(BH38<>\"\",\" -R\",\"\")","v":""},null,{"$f":"IF(BJ38<>\"\",\" -R\",\"\")","v":""}]
[null,null,null,null,null,null,null,null,null,null,null,null,1.1399999999999999,{"$f":"IFERROR(VLOOKUP(M38,'CRUCE RIESGOS'!$C$9:$D$13,2,FALSE),\"\")","v":""},2.14,{"$f":"IFERROR(VLOOKUP(O38,'CRUCE RIESGOS'!$C$9:$D$13,2,FALSE),\"\")","v":""},3.14,{"$f":"IFERROR(VLOOKUP(Q38,'CRUCE RIESGOS'!$C$9:$D$13,2,FALSE),\"\")","v":""},4.1399999999999997,{"$f":"IFERROR(VLOOKUP(S38,'CRUCE RIESGOS'!$C$9:$D$13,2,FALSE),\"\")","v":""},5.14,{"$f":"IFERROR(VLOOKUP(U38,'CRUCE RIESGOS'!$C$9:$D$13,2,FALSE),\"\")","v":""},6.14,{"$f":"IFERROR(VLOOKUP(W38,'CRUCE RIESGOS'!$C$9:$D$13,2,FALSE),\"\")","v":""},7.14,{"$f":"IFERROR(VLOOKUP(Y38,'CRUCE RIESGOS'!$C$9:$D$13,2,FALSE),\"\")","v":""},8.14,{"$f":"IFERROR(VLOOKUP(AA38,'CRUCE RIESGOS'!$C$9:$D$13,2,FALSE),\"\")","v":""},9.14,{"$f":"IFERROR(VLOOKUP(AC38,'CRUCE RIESGOS'!$C$9:$D$13,2,FALSE),\"\")","v":""},10.14,{"$f":"IFERROR(VLOOKUP(AE38,'CRUCE RIESGOS'!$C$9:$D$13,2,FALSE),\"\")","v":""},11.14,{"$f":"IFERROR(VLOOKUP(AG38,'CRUCE RIESGOS'!$C$9:$D$13,2,FALSE),\"\")","v":""},12.14,{"$f":"IFERROR(VLOOKUP(AI38,'CRUCE RIESGOS'!$C$9:$D$13,2,FALSE),\"\")","v":""},13.14,{"$f":"IFERROR(VLOOKUP(AK38,'CRUCE RIESGOS'!$C$9:$D$13,2,FALSE),\"\")","v":""},14.14,{"$f":"IFERROR(VLOOKUP(AM38,'CRUCE RIESGOS'!$C$9:$D$13,2,FALSE),\"\")","v":""},15.14,{"$f":"IFERROR(VLOOKUP(AO38,'CRUCE RIESGOS'!$C$9:$D$13,2,FALSE),\"\")","v":""},16.14,{"$f":"IFERROR(VLOOKUP(AQ38,'CRUCE RIESGOS'!$C$9:$D$13,2,FALSE),\"\")","v":""},17.14,{"$f":"IFERROR(VLOOKUP(AS38,'CRUCE RIESGOS'!$C$9:$D$13,2,FALSE),\"\")","v":""},18.14,{"$f":"IFERROR(VLOOKUP(AU38,'CRUCE RIESGOS'!$C$9:$D$13,2,FALSE),\"\")","v":""},19.14,{"$f":"IFERROR(VLOOKUP(AW38,'CRUCE RIESGOS'!$C$9:$D$13,2,FALSE),\"\")","v":""},20.14,{"$f":"IFERROR(VLOOKUP(AY38,'CRUCE RIESGOS'!$C$9:$D$13,2,FALSE),\"\")","v":""},21.14,{"$f":"IFERROR(VLOOKUP(BA38,'CRUCE RIESGOS'!$C$9:$D$13,2,FALSE),\"\")","v":""},22.14,{"$f":"IFERROR(VLOOKUP(BC38,'CRUCE RIESGOS'!$C$9:$D$13,2,FALSE),\"\")","v":""},23.14,{"$f":"IFERROR(VLOOKUP(BE38,'CRUCE RIESGOS'!$C$9:$D$13,2,FALSE),\"\")","v":""},24.14,{"$f":"IFERROR(VLOOKUP(BG38,'CRUCE RIESGOS'!$C$9:$D$13,2,FALSE),\"\")","v":""},25.14,{"$f":"IFERROR(VLOOKUP(BI38,'CRUCE RIESGOS'!$C$9:$D$13,2,FALSE),\"\")","v":""}]
[null,null,null,null,null,null,null,null,null,null,null,null,null,{"$f":"IF(N40<>\"\",\" -R\",\"\")","v":""},null,{"$f":"IF(P40<>\"\",\" -R\",\"\")","v":""},null,{"$f":"IF(R40<>\"\",\" -R\",\"\")","v":""},null,{"$f":"IF(T40<>\"\",\" -R\",\"\")","v":""},null,{"$f":"IF(V40<>\"\",\" -R\",\"\")","v":""},null,{"$f":"IF(X40<>\"\",\" -R\",\"\")","v":""},null,{"$f":"IF(Z40<>\"\",\" -R\",\"\")","v":""},null,{"$f":"IF(AB40<>\"\",\" -R\",\"\")","v":""},null,{"$f":"IF(AD40<>\"\",\" -R\",\"\")","v":""},null,{"$f":"IF(AF40<>\"\",\" -R\",\"\")","v":""},null,{"$f":"IF(AH40<>\"\",\" -R\",\"\")","v":""},null,{"$f":"IF(AJ40<>\"\",\" -R\",\"\")","v":""},null,{"$f":"IF(AL40<>\"\",\" -R\",\"\")","v":""},null,{"$f":"IF(AN40<>\"\",\" -R\",\"\")","v":""},null,{"$f":"IF(AP40<>\"\",\" -R\",\"\")","v":""},null,{"$f":"IF(AR40<>\"\",\" -R\",\"\")","v":""},null,{"$f":"IF(AT40<>\"\",\" -R\",\"\")","v":""},null,{"$f":"IF(AV40<>\"\",\" -R\",\"\")","v":""},null,{"$f":"IF(AX40<>\"\",\" -R\",\"\")","v":""},null,{"$f":"IF(AZ40<>\"\",\" -R\",\"\")","v":""},null,{"$f":"IF(BB40<>\"\",\" -R\",\"\")","v":""},null,{"$f":"IF(BD40<>\"\",\" -R\",\"\")","v":""},null,{"$f":"IF(BF40<>\"\",\" -R\",\"\")","v":""},null,{"$f":"IF(BH40<>\"\",\" -R\",\"\")","v":""},null,{"$f":"IF(BJ40<>\"\",\" -R\",\"\")","v":""}]
[null,null,null,null,null,null,null,null,null,null,null,null,1.1499999999999999,{"$f":"IFERROR(VLOOKUP(M40,'CRUCE RIESGOS'!$C$9:$D$13,2,FALSE),\"\")","v":""},2.15,{"$f":"IFERROR(VLOOKUP(O40,'CRUCE RIESGOS'!$C$9:$D$13,2,FALSE),\"\")","v":""},3.15,{"$f":"IFERROR(VLOOKUP(Q40,'CRUCE RIESGOS'!$C$9:$D$13,2,FALSE),\"\")","v":""},4.1500000000000004,{"$f":"IFERROR(VLOOKUP(S40,'CRUCE RIESGOS'!$C$9:$D$13,2,FALSE),\"\")","v":""},5.15,{"$f":"IFERROR(VLOOKUP(U40,'CRUCE RIESGOS'!$C$9:$D$13,2,FALSE),\"\")","v":""},6.15,{"$f":"IFERROR(VLOOKUP(W40,'CRUCE RIESGOS'!$C$9:$D$13,2,FALSE),\"\")","v":""},7.15,{"$f":"IFERROR(VLOOKUP(Y40,'CRUCE RIESGOS'!$C$9:$D$13,2,FALSE),\"\")","v":""},8.15,{"$f":"IFERROR(VLOOKUP(AA40,'CRUCE RIESGOS'!$C$9:$D$13,2,FALSE),\"\")","v":""},9.15,{"$f":"IFERROR(VLOOKUP(AC40,'CRUCE RIESGOS'!$C$9:$D$13,2,FALSE),\"\")","v":""},10.15,{"$f":"IFERROR(VLOOKUP(AE40,'CRUCE RIESGOS'!$C$9:$D$13,2,FALSE),\"\")","v":""},11.15,{"$f":"IFERROR(VLOOKUP(AG40,'CRUCE RIESGOS'!$C$9:$D$13,2,FALSE),\"\")","v":""},12.15,{"$f":"IFERROR(VLOOKUP(AI40,'CRUCE RIESGOS'!$C$9:$D$13,2,FALSE),\"\")","v":""},13.15,{"$f":"IFERROR(VLOOKUP(AK40,'CRUCE RIESGOS'!$C$9:$D$13,2,FALSE),\"\")","v":""},14.15,{"$f":"IFERROR(VLOOKUP(AM40,'CRUCE RIESGOS'!$C$9:$D$13,2,FALSE),\"\")","v":""},15.15,{"$f":"IFERROR(VLOOKUP(AO40,'CRUCE RIESGOS'!$C$9:$D$13,2,FALSE),\"\")","v":""},16.149999999999999,{"$f":"IFERROR(VLOOKUP(AQ40,'CRUCE RIESGOS'!$C$9:$D$13,2,FALSE),\"\")","v":""},17.149999999999999,{"$f":"IFERROR(VLOOKUP(AS40,'CRUCE RIESGOS'!$C$9:$D$13,2,FALSE),\"\")","v":""},18.149999999999999,{"$f":"IFERROR(VLOOKUP(AU40,'CRUCE RIESGOS'!$C$9:$D$13,2,FALSE),\"\")","v":""},19.149999999999999,{"$f":"IFERROR(VLOOKUP(AW40,'CRUCE RIESGOS'!$C$9:$D$13,2,FALSE),\"\")","v":""},20.149999999999999,{"$f":"IFERROR(VLOOKUP(AY40,'CRUCE RIESGOS'!$C$9:$D$13,2,FALSE),\"\")","v":""},21.15,{"$f":"IFERROR(VLOOKUP(BA40,'CRUCE RIESGOS'!$C$9:$D$13,2,FALSE),\"\")","v":""},22.15,{"$f":"IFERROR(VLOOKUP(BC40,'CRUCE RIESGOS'!$C$9:$D$13,2,FALSE),\"\")","v":""},23.15,{"$f":"IFERROR(VLOOKUP(BE40,'CRUCE RIESGOS'!$C$9:$D$13,2,FALSE),\"\")","v":""},24.15,{"$f":"IFERROR(VLOOKUP(BG40,'CRUCE RIESGOS'!$C$9:$D$13,2,FALSE),\"\")","v":""},25.15,{"$f":"IFERROR(VLOOKUP(BI40,'CRUCE RIESGOS'!$C$9:$D$13,2,FALSE),\"\")","v":""}]
[null,null,null,null,null,null,null,null,null,null,null,null,null,{"$f":"IF(N42<>\"\",\" -R\",\"\")","v":""},null,{"$f":"IF(P42<>\"\",\" -R\",\"\")","v":""},null,{"$f":"IF(R42<>\"\",\" -R\",\"\")","v":""},null,{"$f":"IF(T42<>\"\",\" -R\",\"\")","v":""},null,{"$f":"IF(V42<>\"\",\" -R\",\"\")","v":""},null,{"$f":"IF(X42<>\"\",\" -R\",\"\")","v":""},null,{"$f":"IF(Z42<>\"\",\" -R\",\"\")","v":""},null,{"$f":"IF(AB42<>\"\",\" -R\",\"\")","v":""},null,{"$f":"IF(AD42<>\"\",\" -R\",\"\")","v":""},null,{"$f":"IF(AF42<>\"\",\" -R\",\"\")","v":""},null,{"$f":"IF(AH42<>\"\",\" -R\",\"\")","v":""},null,{"$f":"IF(AJ42<>\"\",\" -R\",\"\")","v":""},null,{"$f":"IF(AL42<>\"\",\" -R\",\"\")","v":""},null,{"$f":"IF(AN42<>\"\",\" -R\",\"\")","v":""},null,{"$f":"IF(AP42<>\"\",\" -R\",\"\")","v":""},null,{"$f":"IF(AR42<>\"\",\" -R\",\"\")","v":""},null,{"$f":"IF(AT42<>\"\",\" -R\",\"\")","v":""},null,{"$f":"IF(AV42<>\"\",\" -R\",\"\")","v":""},null,{"$f":"IF(AX42<>\"\",\" -R\",\"\")","v":""},null,{"$f":"IF(AZ42<>\"\",\" -R\",\"\")","v":""},null,{"$f":"IF(BB42<>\"\",\" -R\",\"\")","v":""},null,{"$f":"IF(BD42<>\"\",\" -R\",\"\")","v":""},null,{"$f":"IF(BF42<>\"\",\" -R\",\"\")","v":""},null,{"$f":"IF(BH42<>\"\",\" -R\",\"\")","v":""},null,{"$f":"IF(BJ42<>\"\",\" -R\",\"\")","v":""}]
[null,null,null,null,null,null,null,null,null,null,null,null,1.1599999999999999,{"$f":"IFERROR(VLOOKUP(M42,'CRUCE RIESGOS'!$C$9:$D$13,2,FALSE),\"\")","v":""},2.16,{"$f":"IFERROR(VLOOKUP(O42,'CRUCE RIESGOS'!$C$9:$D$13,2,FALSE),\"\")","v":""},3.16,{"$f":"IFERROR(VLOOKUP(Q42,'CRUCE RIESGOS'!$C$9:$D$13,2,FALSE),\"\")","v":""},4.16,{"$f":"IFERROR(VLOOKUP(S42,'CRUCE RIESGOS'!$C$9:$D$13,2,FALSE),\"\")","v":""},5.16,{"$f":"IFERROR(VLOOKUP(U42,'CRUCE RIESGOS'!$C$9:$D$13,2,FALSE),\"\")","v":""},6.16,{"$f":"IFERROR(VLOOKUP(W42,'CRUCE RIESGOS'!$C$9:$D$13,2,FALSE),\"\")","v":""},7.16,{"$f":"IFERROR(VLOOKUP(Y42,'CRUCE RIESGOS'!$C$9:$D$13,2,FALSE),\"\")","v":""},8.16,{"$f":"IFERROR(VLOOKUP(AA42,'CRUCE RIESGOS'!$C$9:$D$13,2,FALSE),\"\")","v":""},9.16,{"$f":"IFERROR(VLOOKUP(AC42,'CRUCE RIESGOS'!$C$9:$D$13,2,FALSE),\"\")","v":""},10.16,{"$f":"IFERROR(VLOOKUP(AE42,'CRUCE RIESGOS'!$C$9:$D$13,2,FALSE),\"\")","v":""},11.16,{"$f":"IFERROR(VLOOKUP(AG42,'CRUCE RIESGOS'!$C$9:$D$13,2,FALSE),\"\")","v":""},12.16,{"$f":"IFERROR(VLOOKUP(AI42,'CRUCE RIESGOS'!$C$9:$D$13,2,FALSE),\"\")","v":""},13.16,{"$f":"IFERROR(VLOOKUP(AK42,'CRUCE RIESGOS'!$C$9:$D$13,2,FALSE),\"\")","v":""},14.16,{"$f":"IFERROR(VLOOKUP(AM42,'CRUCE RIESGOS'!$C$9:$D$13,2,FALSE),\"\")","v":""},15.16,{"$f":"IFERROR(VLOOKUP(AO42,'CRUCE RIESGOS'!$C$9:$D$13,2,FALSE),\"\")","v":""},16.16,{"$f":"IFERROR(VLOOKUP(AQ42,'CRUCE RIESGOS'!$C$9:$D$13,2,FALSE),\"\")","v":""},17.16,{"$f":"IFERROR(VLOOKUP(AS42,'CRUCE RIESGOS'!$C$9:$D$13,2,FALSE),\"\")","v":""},18.16,{"$f":"IFERROR(VLOOKUP(AU42,'CRUCE RIESGOS'!$C$9:$D$13,2,FALSE),\"\")","v":""},19.16,{"$f":"IFERROR(VLOOKUP(AW42,'CRUCE RIESGOS'!$C$9:$D$13,2,FALSE),\"\")","v":""},20.16,{"$f":"IFERROR(VLOOKUP(AY42,'CRUCE RIESGOS'!$C$9:$D$13,2,FALSE),\"\")","v":""},21.16,{"$f":"IFERROR(VLOOKUP(BA42,'CRUCE RIESGOS'!$C$9:$D$13,2,FALSE),\"\")","v":""},22.16,{"$f":"IFERROR(VLOOKUP(BC42,'CRUCE RIESGOS'!$C$9:$D$13,2,FALSE),\"\")","v":""},23.16,{"$f":"IFERROR(VLOOKUP(BE42,'CRUCE RIESGOS'!$C$9:$D$13,2,FALSE),\"\")","v":""},24.16,{"$f":"IFERROR(VLOOKUP(BG42,'CRUCE RIESGOS'!$C$9:$D$13,2,FALSE),\"\")","v":""},25.16,{"$f":"IFERROR(VLOOKUP(BI42,'CRUCE RIESGOS'!$C$9:$D$13,2,FALSE),\"\")","v":""}]
[null,null,null,null,null,null,null,null,null,null,null,null,null,{"$f":"IF(N44<>\"\",\" -R\",\"\")","v":""},null,{"$f":"IF(P44<>\"\",\" -R\",\"\")","v":""},null,{"$f":"IF(R44<>\"\",\" -R\",\"\")","v":""},null,{"$f":"IF(T44<>\"\",\" -R\",\"\")","v":""},null,{"$f":"IF(V44<>\"\",\" -R\",\"\")","v":""},null,{"$f":"IF(X44<>\"\",\" -R\",\"\")","v":""},null,{"$f":"IF(Z44<>\"\",\" -R\",\"\")","v":""},null,{"$f":"IF(AB44<>\"\",\" -R\",\"\")","v":""},null,{"$f":"IF(AD44<>\"\",\" -R\",\"\")","v":""},null,{"$f":"IF(AF44<>\"\",\" -R\",\"\")","v":""},null,{"$f":"IF(AH44<>\"\",\" -R\",\"\")","v":""},null,{"$f":"IF(AJ44<>\"\",\" -R\",\"\")","v":""},null,{"$f":"IF(AL44<>\"\",\" -R\",\"\")","v":""},null,{"$f":"IF(AN44<>\"\",\" -R\",\"\")","v":""},null,{"$f":"IF(AP44<>\"\",\" -R\",\"\")","v":""},null,{"$f":"IF(AR44<>\"\",\" -R\",\"\")","v":""},null,{"$f":"IF(AT44<>\"\",\" -R\",\"\")","v":""},null,{"$f":"IF(AV44<>\"\",\" -R\",\"\")","v":""},null,{"$f":"IF(AX44<>\"\",\" -R\",\"\")","v":""},null,{"$f":"IF(AZ44<>\"\",\" -R\",\"\")","v":""},null,{"$f":"IF(BB44<>\"\",\" -R\",\"\")","v":""},null,{"$f":"IF(BD44<>\"\",\" -R\",\"\")","v":""},null,{"$f":"IF(BF44<>\"\",\" -R\",\"\")","v":""},null,{"$f":"IF(BH44<>\"\",\" -R\",\"\")","v":""},null,{"$f":"IF(BJ44<>\"\",\" -R\",\"\")","v":""}]
[null,null,null,null,null,null,null,null,null,null,null,null,1.17,{"$f":"IFERROR(VLOOKUP(M44,'CRUCE RIESGOS'!$C$9:$D$13,2,FALSE),\"\")","v":""},2.17,{"$f":"IFERROR(VLOOKUP(O44,'CRUCE RIESGOS'!$C$9:$D$13,2,FALSE),\"\")","v":""},3.17,{"$f":"IFERROR(VLOOKUP(Q44,'CRUCE RIESGOS'!$C$9:$D$13,2,FALSE),\"\")","v":""},4.17,{"$f":"IFERROR(VLOOKUP(S44,'CRUCE RIESGOS'!$C$9:$D$13,2,FALSE),\"\")","v":""},5.17,{"$f":"IFERROR(VLOOKUP(U44,'CRUCE RIESGOS'!$C$9:$D$13,2,FALSE),\"\")","v":""},6.17,{"$f":"IFERROR(VLOOKUP(W44,'CRUCE RIESGOS'!$C$9:$D$13,2,FALSE),\"\")","v":""},7.17,{"$f":"IFERROR(VLOOKUP(Y44,'CRUCE RIESGOS'!$C$9:$D$13,2,FALSE),\"\")","v":""},8.17,{"$f":"IFERROR(VLOOKUP(AA44,'CRUCE RIESGOS'!$C$9:$D$13,2,FALSE),\"\")","v":""},9.17,{"$f":"IFERROR(VLOOKUP(AC44,'CRUCE RIESGOS'!$C$9:$D$13,2,FALSE),\"\")","v":""},10.17,{"$f":"IFERROR(VLOOKUP(AE44,'CRUCE RIESGOS'!$C$9:$D$13,2,FALSE),\"\")","v":""},11.17,{"$f":"IFERROR(VLOOKUP(AG44,'CRUCE RIESGOS'!$C$9:$D$13,2,FALSE),\"\")","v":""},12.17,{"$f":"IFERROR(VLOOKUP(AI44,'CRUCE RIESGOS'!$C$9:$D$13,2,FALSE),\"\")","v":""},13.17,{"$f":"IFERROR(VLOOKUP(AK44,'CRUCE RIESGOS'!$C$9:$D$13,2,FALSE),\"\")","v":""},14.17,{"$f":"IFERROR(VLOOKUP(AM44,'CRUCE RIESGOS'!$C$9:$D$13,2,FALSE),\"\")","v":""},15.17,{"$f":"IFERROR(VLOOKUP(AO44,'CRUCE RIESGOS'!$C$9:$D$13,2,FALSE),\"\")","v":""},16.170000000000002,{"$f":"IFERROR(VLOOKUP(AQ44,'CRUCE RIESGOS'!$C$9:$D$13,2,FALSE),\"\")","v":""},17.170000000000002,{"$f":"IFERROR(VLOOKUP(AS44,'CRUCE RIESGOS'!$C$9:$D$13,2,FALSE),\"\")","v":""},18.170000000000002,{"$f":"IFERROR(VLOOKUP(AU44,'CRUCE RIESGOS'!$C$9:$D$13,2,FALSE),\"\")","v":""},19.170000000000002,{"$f":"IFERROR(VLOOKUP(AW44,'CRUCE RIESGOS'!$C$9:$D$13,2,FALSE),\"\")","v":""},20.170000000000002,{"$f":"IFERROR(VLOOKUP(AY44,'CRUCE RIESGOS'!$C$9:$D$13,2,FALSE),\"\")","v":""},21.17,{"$f":"IFERROR(VLOOKUP(BA44,'CRUCE RIESGOS'!$C$9:$D$13,2,FALSE),\"\")","v":""},22.17,{"$f":"IFERROR(VLOOKUP(BC44,'CRUCE RIESGOS'!$C$9:$D$13,2,FALSE),\"\")","v":""},23.17,{"$f":"IFERROR(VLOOKUP(BE44,'CRUCE RIESGOS'!$C$9:$D$13,2,FALSE),\"\")","v":""},24.17,{"$f":"IFERROR(VLOOKUP(BG44,'CRUCE RIESGOS'!$C$9:$D$13,2,FALSE),\"\")","v":""},25.17,{"$f":"IFERROR(VLOOKUP(BI44,'CRUCE RIESGOS'!$C$9:$D$13,2,FALSE),\"\")","v":""}]
[null,null,null,null,null,null,null,null,null,null,null,null,null,{"$f":"IF(N46<>\"\",\" -R\",\"\")","v":""},null,{"$f":"IF(P46<>\"\",\" -R\",\"\")","v":""},null,{"$f":"IF(R46<>\"\",\" -R\",\"\")","v":""},null,{"$f":"IF(T46<>\"\",\" -R\",\"\")","v":""},null,{"$f":"IF(V46<>\"\",\" -R\",\"\")","v":""},null,{"$f":"IF(X46<>\"\",\" -R\",\"\")","v":""},null,{"$f":"IF(Z46<>\"\",\" -R\",\"\")","v":""},null,{"$f":"IF(AB46<>\"\",\" -R\",\"\")","v":""},null,{"$f":"IF(AD46<>\"\",\" -R\",\"\")","v":""},null,{"$f":"IF(AF46<>\"\",\" -R\",\"\")","v":""},null,{"$f":"IF(AH46<>\"\",\" -R\",\"\")","v":""},null,{"$f":"IF(AJ46<>\"\",\" -R\",\"\")","v":""},null,{"$f":"IF(AL46<>\"\",\" -R\",\"\")","v":""},null,{"$f":"IF(AN46<>\"\",\" -R\",\"\")","v":""},null,{"$f":"IF(AP46<>\"\",\" -R\",\"\")","v":""},null,{"$f":"IF(AR46<>\"\",\" -R\",\"\")","v":""},null,{"$f":"IF(AT46<>\"\",\" -R\",\"\")","v":""},null,{"$f":"IF(AV46<>\"\",\" -R\",\"\")","v":""},null,{"$f":"IF(AX46<>\"\",\" -R\",\"\")","v":""},null,{"$f":"IF(AZ46<>\"\",\" -R\",\"\")","v":""},null,{"$f":"IF(BB46<>\"\",\" -R\",\"\")","v":""},null,{"$f":"IF(BD46<>\"\",\" -R\",\"\")","v":""},null,{"$f":"IF(BF46<>\"\",\" -R\",\"\")","v":""},null,{"$f":"IF(BH46<>\"\",\" -R\",\"\")","v":""},null,{"$f":"IF(BJ46<>\"\",\" -R\",\"\")","v":""}]
[null,null,null,null,null,null,null,null,null,null,null,null,1.18,{"$f":"IFERROR(VLOOKUP(M46,'CRUCE RIESGOS'!$C$9:$D$13,2,FALSE),\"\")","v":""},2.1800000000000002,{"$f":"IFERROR(VLOOKUP(O46,'CRUCE RIESGOS'!$C$9:$D$13,2,FALSE),\"\")","v":""},3.18,{"$f":"IFERROR(VLOOKUP(Q46,'CRUCE RIESGOS'!$C$9:$D$13,2,FALSE),\"\")","v":""},4.18,{"$f":"IFERROR(VLOOKUP(S46,'CRUCE RIESGOS'!$C$9:$D$13,2,FALSE),\"\")","v":""},5.18,{"$f":"IFERROR(VLOOKUP(U46,'CRUCE RIESGOS'!$C$9:$D$13,2,FALSE),\"\")","v":""},6.18,{"$f":"IFERROR(VLOOKUP(W46,'CRUCE RIESGOS'!$C$9:$D$13,2,FALSE),\"\")","v":""},7.18,{"$f":"IFERROR(VLOOKUP(Y46,'CRUCE RIESGOS'!$C$9:$D$13,2,FALSE),\"\")","v":""},8.18,{"$f":"IFERROR(VLOOKUP(AA46,'CRUCE RIESGOS'!$C$9:$D$13,2,FALSE),\"\")","v":""},9.18,{"$f":"IFERROR(VLOOKUP(AC46,'CRUCE RIESGOS'!$C$9:$D$13,2,FALSE),\"\")","v":""},10.18,{"$f":"IFERROR(VLOOKUP(AE46,'CRUCE RIESGOS'!$C$9:$D$13,2,FALSE),\"\")","v":""},11.18,{"$f":"IFERROR(VLOOKUP(AG46,'CRUCE RIESGOS'!$C$9:$D$13,2,FALSE),\"\")","v":""},12.18,{"$f":"IFERROR(VLOOKUP(AI46,'CRUCE RIESGOS'!$C$9:$D$13,2,FALSE),\"\")","v":""},13.18,{"$f":"IFERROR(VLOOKUP(AK46,'CRUCE RIESGOS'!$C$9:$D$13,2,FALSE),\"\")","v":""},14.18,{"$f":"IFERROR(VLOOKUP(AM46,'CRUCE RIESGOS'!$C$9:$D$13,2,FALSE),\"\")","v":""},15.18,{"$f":"IFERROR(VLOOKUP(AO46,'CRUCE RIESGOS'!$C$9:$D$13,2,FALSE),\"\")","v":""},16.18,{"$f":"IFERROR(VLOOKUP(AQ46,'CRUCE RIESGOS'!$C$9:$D$13,2,FALSE),\"\")","v":""},17.18,{"$f":"IFERROR(VLOOKUP(AS46,'CRUCE RIESGOS'!$C$9:$D$13,2,FALSE),\"\")","v":""},18.18,{"$f":"IFERROR(VLOOKUP(AU46,'CRUCE RIESGOS'!$C$9:$D$13,2,FALSE),\"\")","v":""},19.18,{"$f":"IFERROR(VLOOKUP(AW46,'CRUCE RIESGOS'!$C$9:$D$13,2,FALSE),\"\")","v":""},20.18,{"$f":"IFERROR(VLOOKUP(AY46,'CRUCE RIESGOS'!$C$9:$D$13,2,FALSE),\"\")","v":""},21.18,{"$f":"IFERROR(VLOOKUP(BA46,'CRUCE RIESGOS'!$C$9:$D$13,2,FALSE),\"\")","v":""},22.18,{"$f":"IFERROR(VLOOKUP(BC46,'CRUCE RIESGOS'!$C$9:$D$13,2,FALSE),\"\")","v":""},23.18,{"$f":"IFERROR(VLOOKUP(BE46,'CRUCE RIESGOS'!$C$9:$D$13,2,FALSE),\"\")","v":""},24.18,{"$f":"IFERROR(VLOOKUP(BG46,'CRUCE RIESGOS'!$C$9:$D$13,2,FALSE),\"\")","v":""},25.18,{"$f":"IFERROR(VLOOKUP(BI46,'CRUCE RIESGOS'!$C$9:$D$13,2,FALSE),\"\")","v":""}]
[null,null,null,null,null,null,null,null,null,null,null,null,null,{"$f":"IF(N48<>\"\",\" -R\",\"\")","v":""},null,{"$f":"IF(P48<>\"\",\" -R\",\"\")","v":""},null,{"$f":"IF(R48<>\"\",\" -R\",\"\")","v":""},null,{"$f":"IF(T48<>\"\",\" -R\",\"\")","v":""},null,{"$f":"IF(V48<>\"\",\" -R\",\"\")","v":""},null,{"$f":"IF(X48<>\"\",\" -R\",\"\")","v":""},null,{"$f":"IF(Z48<>\"\",\" -R\",\"\")","v":""},null,{"$f":"IF(AB48<>\"\",\" -R\",\"\")","v":""},null,{"$f":"IF(AD48<>\"\",\" -R\",\"\")","v":""},null,{"$f":"IF(AF48<>\"\",\" -R\",\"\")","v":""},null,{"$f":"IF(AH48<>\"\",\" -R\",\"\")","v":""},null,{"$f":"IF(AJ48<>\"\",\" -R\",\"\")","v":""},null,{"$f":"IF(AL48<>\"\",\" -R\",\"\")","v":""},null,{"$f":"IF(AN48<>\"\",\" -R\",\"\")","v":""},null,{"$f":"IF(AP48<>\"\",\" -R\",\"\")","v":""},null,{"$f":"IF(AR48<>\"\",\" -R\",\"\")","v":""},null,{"$f":"IF(AT48<>\"\",\" -R\",\"\")","v":""},null,{"$f":"IF(AV48<>\"\",\" -R\",\"\")","v":""},null,{"$f":"IF(AX48<>\"\",\" -R\",\"\")","v":""},null,{"$f":"IF(AZ48<>\"\",\" -R\",\"\")","v":""},null,{"$f":"IF(BB48<>\"\",\" -R\",\"\")","v":""},null,{"$f":"IF(BD48<>\"\",\" -R\",\"\")","v":""},null,{"$f":"IF(BF48<>\"\",\" -R\",\"\")","v":""},null,{"$f":"IF(BH48<>\"\",\" -R\",\"\")","v":""},null,{"$f":"IF(BJ48<>\"\",\" -R\",\"\")","v":""}]
[null,null,null,null,null,null,null,null,null,null,null,null,1.19,{"$f":"IFERROR(VLOOKUP(M48,'CRUCE RIESGOS'!$C$9:$D$13,2,FALSE),\"\")","v":""},2.19,{"$f":"IFERROR(VLOOKUP(O48,'CRUCE RIESGOS'!$C$9:$D$13,2,FALSE),\"\")","v":""},3.19,{"$f":"IFERROR(VLOOKUP(Q48,'CRUCE RIESGOS'!$C$9:$D$13,2,FALSE),\"\")","v":""},4.1900000000000004,{"$f":"IFERROR(VLOOKUP(S48,'CRUCE RIESGOS'!$C$9:$D$13,2,FALSE),\"\")","v":""},5.19,{"$f":"IFERROR(VLOOKUP(U48,'CRUCE RIESGOS'!$C$9:$D$13,2,FALSE),\"\")","v":""},6.19,{"$f":"IFERROR(VLOOKUP(W48,'CRUCE RIESGOS'!$C$9:$D$13,2,FALSE),\"\")","v":""},7.19,{"$f":"IFERROR(VLOOKUP(Y48,'CRUCE RIESGOS'!$C$9:$D$13,2,FALSE),\"\")","v":""},8.19,{"$f":"IFERROR(VLOOKUP(AA48,'CRUCE RIESGOS'!$C$9:$D$13,2,FALSE),\"\")","v":""},9.19,{"$f":"IFERROR(VLOOKUP(AC48,'CRUCE RIESGOS'!$C$9:$D$13,2,FALSE),\"\")","v":""},10.19,{"$f":"IFERROR(VLOOKUP(AE48,'CRUCE RIESGOS'!$C$9:$D$13,2,FALSE),\"\")","v":""},11.19,{"$f":"IFERROR(VLOOKUP(AG48,'CRUCE RIESGOS'!$C$9:$D$13,2,FALSE),\"\")","v":""},12.19,{"$f":"IFERROR(VLOOKUP(AI48,'CRUCE RIESGOS'!$C$9:$D$13,2,FALSE),\"\")","v":""},13.19,{"$f":"IFERROR(VLOOKUP(AK48,'CRUCE RIESGOS'!$C$9:$D$13,2,FALSE),\"\")","v":""},14.19,{"$f":"IFERROR(VLOOKUP(AM48,'CRUCE RIESGOS'!$C$9:$D$13,2,FALSE),\"\")","v":""},15.19,{"$f":"IFERROR(VLOOKUP(AO48,'CRUCE RIESGOS'!$C$9:$D$13,2,FALSE),\"\")","v":""},16.190000000000001,{"$f":"IFERROR(VLOOKUP(AQ48,'CRUCE RIESGOS'!$C$9:$D$13,2,FALSE),\"\")","v":""},17.190000000000001,{"$f":"IFERROR(VLOOKUP(AS48,'CRUCE RIESGOS'!$C$9:$D$13,2,FALSE),\"\")","v":""},18.190000000000001,{"$f":"IFERROR(VLOOKUP(AU48,'CRUCE RIESGOS'!$C$9:$D$13,2,FALSE),\"\")","v":""},19.190000000000001,{"$f":"IFERROR(VLOOKUP(AW48,'CRUCE RIESGOS'!$C$9:$D$13,2,FALSE),\"\")","v":""},20.190000000000001,{"$f":"IFERROR(VLOOKUP(AY48,'CRUCE RIESGOS'!$C$9:$D$13,2,FALSE),\"\")","v":""},21.19,{"$f":"IFERROR(VLOOKUP(BA48,'CRUCE RIESGOS'!$C$9:$D$13,2,FALSE),\"\")","v":""},22.19,{"$f":"IFERROR(VLOOKUP(BC48,'CRUCE RIESGOS'!$C$9:$D$13,2,FALSE),\"\")","v":""},23.19,{"$f":"IFERROR(VLOOKUP(BE48,'CRUCE RIESGOS'!$C$9:$D$13,2,FALSE),\"\")","v":""},24.19,{"$f":"IFERROR(VLOOKUP(BG48,'CRUCE RIESGOS'!$C$9:$D$13,2,FALSE),\"\")","v":""},25.19,{"$f":"IFERROR(VLOOKUP(BI48,'CRUCE RIESGOS'!$C$9:$D$13,2,FALSE),\"\")","v":""}]
[null,null,null,null,null,null,null,null,null,null,null,null,null,{"$f":"IF(N50<>\"\",\" -R\",\"\")","v":""},null,{"$f":"IF(P50<>\"\",\" -R\",\"\")","v":""},null,{"$f":"IF(R50<>\"\",\" -R\",\"\")","v":""},null,{"$f":"IF(T50<>\"\",\" -R\",\"\")","v":""},null,{"$f":"IF(V50<>\"\",\" -R\",\"\")","v":""},null,{"$f":"IF(X50<>\"\",\" -R\",\"\")","v":""},null,{"$f":"IF(Z50<>\"\",\" -R\",\"\")","v":""},null,{"$f":"IF(AB50<>\"\",\" -R\",\"\")","v":""},null,{"$f":"IF(AD50<>\"\",\" -R\",\"\")","v":""},null,{"$f":"IF(AF50<>\"\",\" -R\",\"\")","v":""},null,{"$f":"IF(AH50<>\"\",\" -R\",\"\")","v":""},null,{"$f":"IF(AJ50<>\"\",\" -R\",\"\")","v":""},null,{"$f":"IF(AL50<>\"\",\" -R\",\"\")","v":""},null,{"$f":"IF(AN50<>\"\",\" -R\",\"\")","v":""},null,{"$f":"IF(AP50<>\"\",\" -R\",\"\")","v":""},null,{"$f":"IF(AR50<>\"\",\" -R\",\"\")","v":""},null,{"$f":"IF(AT50<>\"\",\" -R\",\"\")","v":""},null,{"$f":"IF(AV50<>\"\",\" -R\",\"\")","v":""},null,{"$f":"IF(AX50<>\"\",\" -R\",\"\")","v":""},null,{"$f":"IF(AZ50<>\"\",\" -R\",\"\")","v":""},null,{"$f":"IF(BB50<>\"\",\" -R\",\"\")","v":""},null,{"$f":"IF(BD50<>\"\",\" -R\",\"\")","v":""},null,{"$f":"IF(BF50<>\"\",\" -R\",\"\")","v":""},null,{"$f":"IF(BH50<>\"\",\" -R\",\"\")","v":""},null,{"$f":"IF(BJ50<>\"\",\" -R\",\"\")","v":""}]
[null,null,null,null,null,null,null,null,null,null,null,null,1.2,{"$f":"IFERROR(VLOOKUP(M50,'CRUCE RIESGOS'!$C$9:$D$13,2,FALSE),\"\")","v":""},2.2000000000000002,{"$f":"IFERROR(VLOOKUP(O50,'CRUCE RIESGOS'!$C$9:$D$13,2,FALSE),\"\")","v":""},3.2,{"$f":"IFERROR(VLOOKUP(Q50,'CRUCE RIESGOS'!$C$9:$D$13,2,FALSE),\"\")","v":""},4.2,{"$f":"IFERROR(VLOOKUP(S50,'CRUCE RIESGOS'!$C$9:$D$13,2,FALSE),\"\")","v":""},5.2,{"$f":"IFERROR(VLOOKUP(U50,'CRUCE RIESGOS'!$C$9:$D$13,2,FALSE),\"\")","v":""},6.2,{"$f":"IFERROR(VLOOKUP(W50,'CRUCE RIESGOS'!$C$9:$D$13,2,FALSE),\"\")","v":""},7.2,{"$f":"IFERROR(VLOOKUP(Y50,'CRUCE RIESGOS'!$C$9:$D$13,2,FALSE),\"\")","v":""},8.1999999999999993,{"$f":"IFERROR(VLOOKUP(AA50,'CRUCE RIESGOS'!$C$9:$D$13,2,FALSE),\"\")","v":""},9.1999999999999993,{"$f":"IFERROR(VLOOKUP(AC50,'CRUCE RIESGOS'!$C$9:$D$13,2,FALSE),\"\")","v":""},10.199999999999999,{"$f":"IFERROR(VLOOKUP(AE50,'CRUCE RIESGOS'!$C$9:$D$13,2,FALSE),\"\")","v":""},11.2,{"$f":"IFERROR(VLOOKUP(AG50,'CRUCE RIESGOS'!$C$9:$D$13,2,FALSE),\"\")","v":""},12.2,{"$f":"IFERROR(VLOOKUP(AI50,'CRUCE RIESGOS'!$C$9:$D$13,2,FALSE),\"\")","v":""},13.2,{"$f":"IFERROR(VLOOKUP(AK50,'CRUCE RIESGOS'!$C$9:$D$13,2,FALSE),\"\")","v":""},14.2,{"$f":"IFERROR(VLOOKUP(AM50,'CRUCE RIESGOS'!$C$9:$D$13,2,FALSE),\"\")","v":""},15.2,{"$f":"IFERROR(VLOOKUP(AO50,'CRUCE RIESGOS'!$C$9:$D$13,2,FALSE),\"\")","v":""},16.2,{"$f":"IFERROR(VLOOKUP(AQ50,'CRUCE RIESGOS'!$C$9:$D$13,2,FALSE),\"\")","v":""},17.2,{"$f":"IFERROR(VLOOKUP(AS50,'CRUCE RIESGOS'!$C$9:$D$13,2,FALSE),\"\")","v":""},18.2,{"$f":"IFERROR(VLOOKUP(AU50,'CRUCE RIESGOS'!$C$9:$D$13,2,FALSE),\"\")","v":""},19.2,{"$f":"IFERROR(VLOOKUP(AW50,'CRUCE RIESGOS'!$C$9:$D$13,2,FALSE),\"\")","v":""},20.2,{"$f":"IFERROR(VLOOKUP(AY50,'CRUCE RIESGOS'!$C$9:$D$13,2,FALSE),\"\")","v":""},21.2,{"$f":"IFERROR(VLOOKUP(BA50,'CRUCE RIESGOS'!$C$9:$D$13,2,FALSE),\"\")","v":""},22.2,{"$f":"IFERROR(VLOOKUP(BC50,'CRUCE RIESGOS'!$C$9:$D$13,2,FALSE),\"\")","v":""},23.2,{"$f":"IFERROR(VLOOKUP(BE50,'CRUCE RIESGOS'!$C$9:$D$13,2,FALSE),\"\")","v":""},24.2,{"$f":"IFERROR(VLOOKUP(BG50,'CRUCE RIESGOS'!$C$9:$D$13,2,FALSE),\"\")","v":""},25.2,{"$f":"IFERROR(VLOOKUP(BI50,'CRUCE RIESGOS'!$C$9:$D$13,2,FALSE),\"\")","v":""}]
[null,null,null,null,null,null,null,null,null,null,null,null,null,{"$f":"IF(N52<>\"\",\" -R\",\"\")","v":""},null,{"$f":"IF(P52<>\"\",\" -R\",\"\")","v":""},null,{"$f":"IF(R52<>\"\",\" -R\",\"\")","v":""},null,{"$f":"IF(T52<>\"\",\" -R\",\"\")","v":""},null,{"$f":"IF(V52<>\"\",\" -R\",\"\")","v":""},null,{"$f":"IF(X52<>\"\",\" -R\",\"\")","v":""},null,{"$f":"IF(Z52<>\"\",\" -R\",\"\")","v":""},null,{"$f":"IF(AB52<>\"\",\" -R\",\"\")","v":""},null,{"$f":"IF(AD52<>\"\",\" -R\",\"\")","v":""},null,{"$f":"IF(AF52<>\"\",\" -R\",\"\")","v":""},null,{"$f":"IF(AH52<>\"\",\" -R\",\"\")","v":""},null,{"$f":"IF(AJ52<>\"\",\" -R\",\"\")","v":""},null,{"$f":"IF(AL52<>\"\",\" -R\",\"\")","v":""},null,{"$f":"IF(AN52<>\"\",\" -R\",\"\")","v":""},null,{"$f":"IF(AP52<>\"\",\" -R\",\"\")","v":""},null,{"$f":"IF(AR52<>\"\",\" -R\",\"\")","v":""},null,{"$f":"IF(AT52<>\"\",\" -R\",\"\")","v":""},null,{"$f":"IF(AV52<>\"\",\" -R\",\"\")","v":""},null,{"$f":"IF(AX52<>\"\",\" -R\",\"\")","v":""},null,{"$f":"IF(AZ52<>\"\",\" -R\",\"\")","v":""},null,{"$f":"IF(BB52<>\"\",\" -R\",\"\")","v":""},null,{"$f":"IF(BD52<>\"\",\" -R\",\"\")","v":""},null,{"$f":"IF(BF52<>\"\",\" -R\",\"\")","v":""},null,{"$f":"IF(BH52<>\"\",\" -R\",\"\")","v":""},null,{"$f":"IF(BJ52<>\"\",\" -R\",\"\")","v":""}]
[null,null,null,null,null,null,null,null,null,null,null,null,1.21,{"$f":"IFERROR(VLOOKUP(M52,'CRUCE RIESGOS'!$C$9:$D$13,2,FALSE),\"\")","v":""},2.21,{"$f":"IFERROR(VLOOKUP(O52,'CRUCE RIESGOS'!$C$9:$D$13,2,FALSE),\"\")","v":""},3.21,{"$f":"IFERROR(VLOOKUP(Q52,'CRUCE RIESGOS'!$C$9:$D$13,2,FALSE),\"\")","v":""},4.21,{"$f":"IFERROR(VLOOKUP(S52,'CRUCE RIESGOS'!$C$9:$D$13,2,FALSE),\"\")","v":""},5.21,{"$f":"IFERROR(VLOOKUP(U52,'CRUCE RIESGOS'!$C$9:$D$13,2,FALSE),\"\")","v":""},6.21,{"$f":"IFERROR(VLOOKUP(W52,'CRUCE RIESGOS'!$C$9:$D$13,2,FALSE),\"\")","v":""},7.21,{"$f":"IFERROR(VLOOKUP(Y52,'CRUCE RIESGOS'!$C$9:$D$13,2,FALSE),\"\")","v":""},8.2100000000000009,{"$f":"IFERROR(VLOOKUP(AA52,'CRUCE RIESGOS'!$C$9:$D$13,2,FALSE),\"\")","v":""},9.2100000000000009,{"$f":"IFERROR(VLOOKUP(AC52,'CRUCE RIESGOS'!$C$9:$D$13,2,FALSE),\"\")","v":""},10.210000000000001,{"$f":"IFERROR(VLOOKUP(AE52,'CRUCE RIESGOS'!$C$9:$D$13,2,FALSE),\"\")","v":""},11.21,{"$f":"IFERROR(VLOOKUP(AG52,'CRUCE RIESGOS'!$C$9:$D$13,2,FALSE),\"\")","v":""},12.21,{"$f":"IFERROR(VLOOKUP(AI52,'CRUCE RIESGOS'!$C$9:$D$13,2,FALSE),\"\")","v":""},13.21,{"$f":"IFERROR(VLOOKUP(AK52,'CRUCE RIESGOS'!$C$9:$D$13,2,FALSE),\"\")","v":""},14.21,{"$f":"IFERROR(VLOOKUP(AM52,'CRUCE RIESGOS'!$C$9:$D$13,2,FALSE),\"\")","v":""},15.21,{"$f":"IFERROR(VLOOKUP(AO52,'CRUCE RIESGOS'!$C$9:$D$13,2,FALSE),\"\")","v":""},16.21,{"$f":"IFERROR(VLOOKUP(AQ52,'CRUCE RIESGOS'!$C$9:$D$13,2,FALSE),\"\")","v":""},17.21,{"$f":"IFERROR(VLOOKUP(AS52,'CRUCE RIESGOS'!$C$9:$D$13,2,FALSE),\"\")","v":""},18.21,{"$f":"IFERROR(VLOOKUP(AU52,'CRUCE RIESGOS'!$C$9:$D$13,2,FALSE),\"\")","v":""},19.21,{"$f":"IFERROR(VLOOKUP(AW52,'CRUCE RIESGOS'!$C$9:$D$13,2,FALSE),\"\")","v":""},20.21,{"$f":"IFERROR(VLOOKUP(AY52,'CRUCE RIESGOS'!$C$9:$D$13,2,FALSE),\"\")","v":""},21.21,{"$f":"IFERROR(VLOOKUP(BA52,'CRUCE RIESGOS'!$C$9:$D$13,2,FALSE),\"\")","v":""},22.21,{"$f":"IFERROR(VLOOKUP(BC52,'CRUCE RIESGOS'!$C$9:$D$13,2,FALSE),\"\")","v":""},23.21,{"$f":"IFERROR(VLOOKUP(BE52,'CRUCE RIESGOS'!$C$9:$D$13,2,FALSE),\"\")","v":""},24.21,{"$f":"IFERROR(VLOOKUP(BG52,'CRUCE RIESGOS'!$C$9:$D$13,2,FALSE),\"\")","v":""},25.21,{"$f":"IFERROR(VLOOKUP(BI52,'CRUCE RIESGOS'!$C$9:$D$13,2,FALSE),\"\")","v":""}]
[null,null,null,null,null,null,null,null,null,null,null,null,null,{"$f":"IF(N54<>\"\",\" -R\",\"\")","v":""},null,{"$f":"IF(P54<>\"\",\" -R\",\"\")","v":""},null,{"$f":"IF(R54<>\"\",\" -R\",\"\")","v":""},null,{"$f":"IF(T54<>\"\",\" -R\",\"\")","v":""},null,{"$f":"IF(V54<>\"\",\" -R\",\"\")","v":""},null,{"$f":"IF(X54<>\"\",\" -R\",\"\")","v":""},null,{"$f":"IF(Z54<>\"\",\" -R\",\"\")","v":""},null,{"$f":"IF(AB54<>\"\",\" -R\",\"\")","v":""},null,{"$f":"IF(AD54<>\"\",\" -R\",\"\")","v":""},null,{"$f":"IF(AF54<>\"\",\" -R\",\"\")","v":""},null,{"$f":"IF(AH54<>\"\",\" -R\",\"\")","v":""},null,{"$f":"IF(AJ54<>\"\",\" -R\",\"\")","v":""},null,{"$f":"IF(AL54<>\"\",\" -R\",\"\")","v":""},null,{"$f":"IF(AN54<>\"\",\" -R\",\"\")","v":""},null,{"$f":"IF(AP54<>\"\",\" -R\",\"\")","v":""},null,{"$f":"IF(AR54<>\"\",\" -R\",\"\")","v":""},null,{"$f":"IF(AT54<>\"\",\" -R\",\"\")","v":""},null,{"$f":"IF(AV54<>\"\",\" -R\",\"\")","v":""},null,{"$f":"IF(AX54<>\"\",\" -R\",\"\")","v":""},null,{"$f":"IF(AZ54<>\"\",\" -R\",\"\")","v":""},null,{"$f":"IF(BB54<>\"\",\" -R\",\"\")","v":""},null,{"$f":"IF(BD54<>\"\",\" -R\",\"\")","v":""},null,{"$f":"IF(BF54<>\"\",\" -R\",\"\")","v":""},null,{"$f":"IF(BH54<>\"\",\" -R\",\"\")","v":""},null,{"$f":"IF(BJ54<>\"\",\" -R\",\"\")","v":""}]
[null,null,null,null,null,null,null,null,null,null,null,null,1.22,{"$f":"IFERROR(VLOOKUP(M54,'CRUCE RIESGOS'!$C$9:$D$13,2,FALSE),\"\")","v":""},2.2200000000000002,{"$f":"IFERROR(VLOOKUP(O54,'CRUCE RIESGOS'!$C$9:$D$13,2,FALSE),\"\")","v":""},3.22,{"$f":"IFERROR(VLOOKUP(Q54,'CRUCE RIESGOS'!$C$9:$D$13,2,FALSE),\"\")","v":""},4.22,{"$f":"IFERROR(VLOOKUP(S54,'CRUCE RIESGOS'!$C$9:$D$13,2,FALSE),\"\")","v":""},5.22,{"$f":"IFERROR(VLOOKUP(U54,'CRUCE RIESGOS'!$C$9:$D$13,2,FALSE),\"\")","v":""},6.22,{"$f":"IFERROR(VLOOKUP(W54,'CRUCE RIESGOS'!$C$9:$D$13,2,FALSE),\"\")","v":""},7.22,{"$f":"IFERROR(VLOOKUP(Y54,'CRUCE RIESGOS'!$C$9:$D$13,2,FALSE),\"\")","v":""},8.2200000000000006,{"$f":"IFERROR(VLOOKUP(AA54,'CRUCE RIESGOS'!$C$9:$D$13,2,FALSE),\"\")","v":""},9.2200000000000006,{"$f":"IFERROR(VLOOKUP(AC54,'CRUCE RIESGOS'!$C$9:$D$13,2,FALSE),\"\")","v":""},10.220000000000001,{"$f":"IFERROR(VLOOKUP(AE54,'CRUCE RIESGOS'!$C$9:$D$13,2,FALSE),\"\")","v":""},11.22,{"$f":"IFERROR(VLOOKUP(AG54,'CRUCE RIESGOS'!$C$9:$D$13,2,FALSE),\"\")","v":""},12.22,{"$f":"IFERROR(VLOOKUP(AI54,'CRUCE RIESGOS'!$C$9:$D$13,2,FALSE),\"\")","v":""},13.22,{"$f":"IFERROR(VLOOKUP(AK54,'CRUCE RIESGOS'!$C$9:$D$13,2,FALSE),\"\")","v":""},14.22,{"$f":"IFERROR(VLOOKUP(AM54,'CRUCE RIESGOS'!$C$9:$D$13,2,FALSE),\"\")","v":""},15.22,{"$f":"IFERROR(VLOOKUP(AO54,'CRUCE RIESGOS'!$C$9:$D$13,2,FALSE),\"\")","v":""},16.22,{"$f":"IFERROR(VLOOKUP(AQ54,'CRUCE RIESGOS'!$C$9:$D$13,2,FALSE),\"\")","v":""},17.22,{"$f":"IFERROR(VLOOKUP(AS54,'CRUCE RIESGOS'!$C$9:$D$13,2,FALSE),\"\")","v":""},18.22,{"$f":"IFERROR(VLOOKUP(AU54,'CRUCE RIESGOS'!$C$9:$D$13,2,FALSE),\"\")","v":""},19.22,{"$f":"IFERROR(VLOOKUP(AW54,'CRUCE RIESGOS'!$C$9:$D$13,2,FALSE),\"\")","v":""},20.22,{"$f":"IFERROR(VLOOKUP(AY54,'CRUCE RIESGOS'!$C$9:$D$13,2,FALSE),\"\")","v":""},21.22,{"$f":"IFERROR(VLOOKUP(BA54,'CRUCE RIESGOS'!$C$9:$D$13,2,FALSE),\"\")","v":""},22.22,{"$f":"IFERROR(VLOOKUP(BC54,'CRUCE RIESGOS'!$C$9:$D$13,2,FALSE),\"\")","v":""},23.22,{"$f":"IFERROR(VLOOKUP(BE54,'CRUCE RIESGOS'!$C$9:$D$13,2,FALSE),\"\")","v":""},24.22,{"$f":"IFERROR(VLOOKUP(BG54,'CRUCE RIESGOS'!$C$9:$D$13,2,FALSE),\"\")","v":""},25.22,{"$f":"IFERROR(VLOOKUP(BI54,'CRUCE RIESGOS'!$C$9:$D$13,2,FALSE),\"\")","v":""}]
[null,null,null,null,null,null,null,null,null,null,null,null,null,{"$f":"IF(N56<>\"\",\" -R\",\"\")","v":""},null,{"$f":"IF(P56<>\"\",\" -R\",\"\")","v":""},null,{"$f":"IF(R56<>\"\",\" -R\",\"\")","v":""},null,{"$f":"IF(T56<>\"\",\" -R\",\"\")","v":""},null,{"$f":"IF(V56<>\"\",\" -R\",\"\")","v":""},null,{"$f":"IF(X56<>\"\",\" -R\",\"\")","v":""},null,{"$f":"IF(Z56<>\"\",\" -R\",\"\")","v":""},null,{"$f":"IF(AB56<>\"\",\" -R\",\"\")","v":""},null,{"$f":"IF(AD56<>\"\",\" -R\",\"\")","v":""},null,{"$f":"IF(AF56<>\"\",\" -R\",\"\")","v":""},null,{"$f":"IF(AH56<>\"\",\" -R\",\"\")","v":""},null,{"$f":"IF(AJ56<>\"\",\" -R\",\"\")","v":""},null,{"$f":"IF(AL56<>\"\",\" -R\",\"\")","v":""},null,{"$f":"IF(AN56<>\"\",\" -R\",\"\")","v":""},null,{"$f":"IF(AP56<>\"\",\" -R\",\"\")","v":""},null,{"$f":"IF(AR56<>\"\",\" -R\",\"\")","v":""},null,{"$f":"IF(AT56<>\"\",\" -R\",\"\")","v":""},null,{"$f":"IF(AV56<>\"\",\" -R\",\"\")","v":""},null,{"$f":"IF(AX56<>\"\",\" -R\",\"\")","v":""},null,{"$f":"IF(AZ56<>\"\",\" -R\",\"\")","v":""},null,{"$f":"IF(BB56<>\"\",\" -R\",\"\")","v":""},null,{"$f":"IF(BD56<>\"\",\" -R\",\"\")","v":""},null,{"$f":"IF(BF56<>\"\",\" -R\",\"\")","v":""},null,{"$f":"IF(BH56<>\"\",\" -R\",\"\")","v":""},null,{"$f":"IF(BJ56<>\"\",\" -R\",\"\")","v":""}]
[null,null,null,null,null,null,null,null,null,null,null,null,1.23,{"$f":"IFERROR(VLOOKUP(M56,'CRUCE RIESGOS'!$C$9:$D$13,2,FALSE),\"\")","v":""},2.23,{"$f":"IFERROR(VLOOKUP(O56,'CRUCE RIESGOS'!$C$9:$D$13,2,FALSE),\"\")","v":""},3.23,{"$f":"IFERROR(VLOOKUP(Q56,'CRUCE RIESGOS'!$C$9:$D$13,2,FALSE),\"\")","v":""},4.2300000000000004,{"$f":"IFERROR(VLOOKUP(S56,'CRUCE RIESGOS'!$C$9:$D$13,2,FALSE),\"\")","v":""},5.23,{"$f":"IFERROR(VLOOKUP(U56,'CRUCE RIESGOS'!$C$9:$D$13,2,FALSE),\"\")","v":""},6.23,{"$f":"IFERROR(VLOOKUP(W56,'CRUCE RIESGOS'!$C$9:$D$13,2,FALSE),\"\")","v":""},7.23,{"$f":"IFERROR(VLOOKUP(Y56,'CRUCE RIESGOS'!$C$9:$D$13,2,FALSE),\"\")","v":""},8.23,{"$f":"IFERROR(VLOOKUP(AA56,'CRUCE RIESGOS'!$C$9:$D$13,2,FALSE),\"\")","v":""},9.23,{"$f":"IFERROR(VLOOKUP(AC56,'CRUCE RIESGOS'!$C$9:$D$13,2,FALSE),\"\")","v":""},10.23,{"$f":"IFERROR(VLOOKUP(AE56,'CRUCE RIESGOS'!$C$9:$D$13,2,FALSE),\"\")","v":""},11.23,{"$f":"IFERROR(VLOOKUP(AG56,'CRUCE RIESGOS'!$C$9:$D$13,2,FALSE),\"\")","v":""},12.23,{"$f":"IFERROR(VLOOKUP(AI56,'CRUCE RIESGOS'!$C$9:$D$13,2,FALSE),\"\")","v":""},13.23,{"$f":"IFERROR(VLOOKUP(AK56,'CRUCE RIESGOS'!$C$9:$D$13,2,FALSE),\"\")","v":""},14.23,{"$f":"IFERROR(VLOOKUP(AM56,'CRUCE RIESGOS'!$C$9:$D$13,2,FALSE),\"\")","v":""},15.23,{"$f":"IFERROR(VLOOKUP(AO56,'CRUCE RIESGOS'!$C$9:$D$13,2,FALSE),\"\")","v":""},16.23,{"$f":"IFERROR(VLOOKUP(AQ56,'CRUCE RIESGOS'!$C$9:$D$13,2,FALSE),\"\")","v":""},17.23,{"$f":"IFERROR(VLOOKUP(AS56,'CRUCE RIESGOS'!$C$9:$D$13,2,FALSE),\"\")","v":""},18.23,{"$f":"IFERROR(VLOOKUP(AU56,'CRUCE RIESGOS'!$C$9:$D$13,2,FALSE),\"\")","v":""},19.23,{"$f":"IFERROR(VLOOKUP(AW56,'CRUCE RIESGOS'!$C$9:$D$13,2,FALSE),\"\")","v":""},20.23,{"$f":"IFERROR(VLOOKUP(AY56,'CRUCE RIESGOS'!$C$9:$D$13,2,FALSE),\"\")","v":""},21.23,{"$f":"IFERROR(VLOOKUP(BA56,'CRUCE RIESGOS'!$C$9:$D$13,2,FALSE),\"\")","v":""},22.23,{"$f":"IFERROR(VLOOKUP(BC56,'CRUCE RIESGOS'!$C$9:$D$13,2,FALSE),\"\")","v":""},23.23,{"$f":"IFERROR(VLOOKUP(BE56,'CRUCE RIESGOS'!$C$9:$D$13,2,FALSE),\"\")","v":""},24.23,{"$f":"IFERROR(VLOOKUP(BG56,'CRUCE RIESGOS'!$C$9:$D$13,2,FALSE),\"\")","v":""},25.23,{"$f":"IFERROR(VLOOKUP(BI56,'CRUCE RIESGOS'!$C$9:$D$13,2,FALSE),\"\")","v":""}]
[null,null,null,null,null,null,null,null,null,null,null,null,null,{"$f":"IF(N58<>\"\",\" -R\",\"\")","v":""},null,{"$f":"IF(P58<>\"\",\" -R\",\"\")","v":""},null,{"$f":"IF(R58<>\"\",\" -R\",\"\")","v":""},null,{"$f":"IF(T58<>\"\",\" -R\",\"\")","v":""},null,{"$f":"IF(V58<>\"\",\" -R\",\"\")","v":""},null,{"$f":"IF(X58<>\"\",\" -R\",\"\")","v":""},null,{"$f":"IF(Z58<>\"\",\" -R\",\"\")","v":""},null,{"$f":"IF(AB58<>\"\",\" -R\",\"\")","v":""},null,{"$f":"IF(AD58<>\"\",\" -R\",\"\")","v":""},null,{"$f":"IF(AF58<>\"\",\" -R\",\"\")","v":""},null,{"$f":"IF(AH58<>\"\",\" -R\",\"\")","v":""},null,{"$f":"IF(AJ58<>\"\",\" -R\",\"\")","v":""},null,{"$f":"IF(AL58<>\"\",\" -R\",\"\")","v":""},null,{"$f":"IF(AN58<>\"\",\" -R\",\"\")","v":""},null,{"$f":"IF(AP58<>\"\",\" -R\",\"\")","v":""},null,{"$f":"IF(AR58<>\"\",\" -R\",\"\")","v":""},null,{"$f":"IF(AT58<>\"\",\" -R\",\"\")","v":""},null,{"$f":"IF(AV58<>\"\",\" -R\",\"\")","v":""},null,{"$f":"IF(AX58<>\"\",\" -R\",\"\")","v":""},null,{"$f":"IF(AZ58<>\"\",\" -R\",\"\")","v":""},null,{"$f":"IF(BB58<>\"\",\" -R\",\"\")","v":""},null,{"$f":"IF(BD58<>\"\",\" -R\",\"\")","v":""},null,{"$f":"IF(BF58<>\"\",\" -R\",\"\")","v":""},null,{"$f":"IF(BH58<>\"\",\" -R\",\"\")","v":""},null,{"$f":"IF(BJ58<>\"\",\" -R\",\"\")","v":""}]
[null,null,null,null,null,null,null,null,null,null,null,null,1.24,{"$f":"IFERROR(VLOOKUP(M58,'CRUCE RIESGOS'!$C$9:$D$13,2,FALSE),\"\")","v":""},2.2400000000000002,{"$f":"IFERROR(VLOOKUP(O58,'CRUCE RIESGOS'!$C$9:$D$13,2,FALSE),\"\")","v":""},3.24,{"$f":"IFERROR(VLOOKUP(Q58,'CRUCE RIESGOS'!$C$9:$D$13,2,FALSE),\"\")","v":""},4.24,{"$f":"IFERROR(VLOOKUP(S58,'CRUCE RIESGOS'!$C$9:$D$13,2,FALSE),\"\")","v":""},5.24,{"$f":"IFERROR(VLOOKUP(U58,'CRUCE RIESGOS'!$C$9:$D$13,2,FALSE),\"\")","v":""},6.24,{"$f":"IFERROR(VLOOKUP(W58,'CRUCE RIESGOS'!$C$9:$D$13,2,FALSE),\"\")","v":""},7.24,{"$f":"IFERROR(VLOOKUP(Y58,'CRUCE RIESGOS'!$C$9:$D$13,2,FALSE),\"\")","v":""},8.24,{"$f":"IFERROR(VLOOKUP(AA58,'CRUCE RIESGOS'!$C$9:$D$13,2,FALSE),\"\")","v":""},9.24,{"$f":"IFERROR(VLOOKUP(AC58,'CRUCE RIESGOS'!$C$9:$D$13,2,FALSE),\"\")","v":""},10.24,{"$f":"IFERROR(VLOOKUP(AE58,'CRUCE RIESGOS'!$C$9:$D$13,2,FALSE),\"\")","v":""},11.24,{"$f":"IFERROR(VLOOKUP(AG58,'CRUCE RIESGOS'!$C$9:$D$13,2,FALSE),\"\")","v":""},12.24,{"$f":"IFERROR(VLOOKUP(AI58,'CRUCE RIESGOS'!$C$9:$D$13,2,FALSE),\"\")","v":""},13.24,{"$f":"IFERROR(VLOOKUP(AK58,'CRUCE RIESGOS'!$C$9:$D$13,2,FALSE),\"\")","v":""},14.24,{"$f":"IFERROR(VLOOKUP(AM58,'CRUCE RIESGOS'!$C$9:$D$13,2,FALSE),\"\")","v":""},15.24,{"$f":"IFERROR(VLOOKUP(AO58,'CRUCE RIESGOS'!$C$9:$D$13,2,FALSE),\"\")","v":""},16.239999999999998,{"$f":"IFERROR(VLOOKUP(AQ58,'CRUCE RIESGOS'!$C$9:$D$13,2,FALSE),\"\")","v":""},17.239999999999998,{"$f":"IFERROR(VLOOKUP(AS58,'CRUCE RIESGOS'!$C$9:$D$13,2,FALSE),\"\")","v":""},18.239999999999998,{"$f":"IFERROR(VLOOKUP(AU58,'CRUCE RIESGOS'!$C$9:$D$13,2,FALSE),\"\")","v":""},19.239999999999998,{"$f":"IFERROR(VLOOKUP(AW58,'CRUCE RIESGOS'!$C$9:$D$13,2,FALSE),\"\")","v":""},20.239999999999998,{"$f":"IFERROR(VLOOKUP(AY58,'CRUCE RIESGOS'!$C$9:$D$13,2,FALSE),\"\")","v":""},21.24,{"$f":"IFERROR(VLOOKUP(BA58,'CRUCE RIESGOS'!$C$9:$D$13,2,FALSE),\"\")","v":""},22.24,{"$f":"IFERROR(VLOOKUP(BC58,'CRUCE RIESGOS'!$C$9:$D$13,2,FALSE),\"\")","v":""},23.24,{"$f":"IFERROR(VLOOKUP(BE58,'CRUCE RIESGOS'!$C$9:$D$13,2,FALSE),\"\")","v":""},24.24,{"$f":"IFERROR(VLOOKUP(BG58,'CRUCE RIESGOS'!$C$9:$D$13,2,FALSE),\"\")","v":""},25.24,{"$f":"IFERROR(VLOOKUP(BI58,'CRUCE RIESGOS'!$C$9:$D$13,2,FALSE),\"\")","v":""}]
[null,null,null,null,null,null,null,null,null,null,null,null,null,{"$f":"IF(N60<>\"\",\" -R\",\"\")","v":""},null,{"$f":"IF(P60<>\"\",\" -R\",\"\")","v":""},null,{"$f":"IF(R60<>\"\",\" -R\",\"\")","v":""},null,{"$f":"IF(T60<>\"\",\" -R\",\"\")","v":""},null,{"$f":"IF(V60<>\"\",\" -R\",\"\")","v":""},null,{"$f":"IF(X60<>\"\",\" -R\",\"\")","v":""},null,{"$f":"IF(Z60<>\"\",\" -R\",\"\")","v":""},null,{"$f":"IF(AB60<>\"\",\" -R\",\"\")","v":""},null,{"$f":"IF(AD60<>\"\",\" -R\",\"\")","v":""},null,{"$f":"IF(AF60<>\"\",\" -R\",\"\")","v":""},null,{"$f":"IF(AH60<>\"\",\" -R\",\"\")","v":""},null,{"$f":"IF(AJ60<>\"\",\" -R\",\"\")","v":""},null,{"$f":"IF(AL60<>\"\",\" -R\",\"\")","v":""},null,{"$f":"IF(AN60<>\"\",\" -R\",\"\")","v":""},null,{"$f":"IF(AP60<>\"\",\" -R\",\"\")","v":""},null,{"$f":"IF(AR60<>\"\",\" -R\",\"\")","v":""},null,{"$f":"IF(AT60<>\"\",\" -R\",\"\")","v":""},null,{"$f":"IF(AV60<>\"\",\" -R\",\"\")","v":""},null,{"$f":"IF(AX60<>\"\",\" -R\",\"\")","v":""},null,{"$f":"IF(AZ60<>\"\",\" -R\",\"\")","v":""},null,{"$f":"IF(BB60<>\"\",\" -R\",\"\")","v":""},null,{"$f":"IF(BD60<>\"\",\" -R\",\"\")","v":""},null,{"$f":"IF(BF60<>\"\",\" -R\",\"\")","v":""},null,{"$f":"IF(BH60<>\"\",\" -R\",\"\")","v":""},null,{"$f":"IF(BJ60<>\"\",\" -R\",\"\")","v":""}]
[null,null,null,null,null,null,null,null,null,null,null,null,1.25,{"$f":"IFERROR(VLOOKUP(M60,'CRUCE RIESGOS'!$C$9:$D$13,2,FALSE),\"\")","v":""},2.25,{"$f":"IFERROR(VLOOKUP(O60,'CRUCE RIESGOS'!$C$9:$D$13,2,FALSE),\"\")","v":""},3.25,{"$f":"IFERROR(VLOOKUP(Q60,'CRUCE RIESGOS'!$C$9:$D$13,2,FALSE),\"\")","v":""},4.25,{"$f":"IFERROR(VLOOKUP(S60,'CRUCE RIESGOS'!$C$9:$D$13,2,FALSE),\"\")","v":""},5.25,{"$f":"IFERROR(VLOOKUP(U60,'CRUCE RIESGOS'!$C$9:$D$13,2,FALSE),\"\")","v":""},6.25,{"$f":"IFERROR(VLOOKUP(W60,'CRUCE RIESGOS'!$C$9:$D$13,2,FALSE),\"\")","v":""},7.25,{"$f":"IFERROR(VLOOKUP(Y60,'CRUCE RIESGOS'!$C$9:$D$13,2,FALSE),\"\")","v":""},8.25,{"$f":"IFERROR(VLOOKUP(AA60,'CRUCE RIESGOS'!$C$9:$D$13,2,FALSE),\"\")","v":""},9.25,{"$f":"IFERROR(VLOOKUP(AC60,'CRUCE RIESGOS'!$C$9:$D$13,2,FALSE),\"\")","v":""},10.25,{"$f":"IFERROR(VLOOKUP(AE60,'CRUCE RIESGOS'!$C$9:$D$13,2,FALSE),\"\")","v":""},11.25,{"$f":"IFERROR(VLOOKUP(AG60,'CRUCE RIESGOS'!$C$9:$D$13,2,FALSE),\"\")","v":""},12.25,{"$f":"IFERROR(VLOOKUP(AI60,'CRUCE RIESGOS'!$C$9:$D$13,2,FALSE),\"\")","v":""},13.25,{"$f":"IFERROR(VLOOKUP(AK60,'CRUCE RIESGOS'!$C$9:$D$13,2,FALSE),\"\")","v":""},14.25,{"$f":"IFERROR(VLOOKUP(AM60,'CRUCE RIESGOS'!$C$9:$D$13,2,FALSE),\"\")","v":""},15.25,{"$f":"IFERROR(VLOOKUP(AO60,'CRUCE RIESGOS'!$C$9:$D$13,2,FALSE),\"\")","v":""},16.25,{"$f":"IFERROR(VLOOKUP(AQ60,'CRUCE RIESGOS'!$C$9:$D$13,2,FALSE),\"\")","v":""},17.25,{"$f":"IFERROR(VLOOKUP(AS60,'CRUCE RIESGOS'!$C$9:$D$13,2,FALSE),\"\")","v":""},18.25,{"$f":"IFERROR(VLOOKUP(AU60,'CRUCE RIESGOS'!$C$9:$D$13,2,FALSE),\"\")","v":""},19.25,{"$f":"IFERROR(VLOOKUP(AW60,'CRUCE RIESGOS'!$C$9:$D$13,2,FALSE),\"\")","v":""},20.25,{"$f":"IFERROR(VLOOKUP(AY60,'CRUCE RIESGOS'!$C$9:$D$13,2,FALSE),\"\")","v":""},21.25,{"$f":"IFERROR(VLOOKUP(BA60,'CRUCE RIESGOS'!$C$9:$D$13,2,FALSE),\"\")","v":""},22.25,{"$f":"IFERROR(VLOOKUP(BC60,'CRUCE RIESGOS'!$C$9:$D$13,2,FALSE),\"\")","v":""},23.25,{"$f":"IFERROR(VLOOKUP(BE60,'CRUCE RIESGOS'!$C$9:$D$13,2,FALSE),\"\")","v":""},24.25,{"$f":"IFERROR(VLOOKUP(BG60,'CRUCE RIESGOS'!$C$9:$D$13,2,FALSE),\"\")","v":""},25.25,{"$f":"IFERROR(VLOOKUP(BI60,'CRUCE RIESGOS'!$C$9:$D$13,2,FALSE),\"\")","v":""}]
[null,null,null,null,null,null,null,null,null,null,null,null,null,{"$f":"IF(N62<>\"\",\" -R\",\"\")","v":""},null,{"$f":"IF(P62<>\"\",\" -R\",\"\")","v":""},null,{"$f":"IF(R62<>\"\",\" -R\",\"\")","v":""},null,{"$f":"IF(T62<>\"\",\" -R\",\"\")","v":""},null,{"$f":"IF(V62<>\"\",\" -R\",\"\")","v":""},null,{"$f":"IF(X62<>\"\",\" -R\",\"\")","v":""},null,{"$f":"IF(Z62<>\"\",\" -R\",\"\")","v":""},null,{"$f":"IF(AB62<>\"\",\" -R\",\"\")","v":""},null,{"$f":"IF(AD62<>\"\",\" -R\",\"\")","v":""},null,{"$f":"IF(AF62<>\"\",\" -R\",\"\")","v":""},null,{"$f":"IF(AH62<>\"\",\" -R\",\"\")","v":""},null,{"$f":"IF(AJ62<>\"\",\" -R\",\"\")","v":""},null,{"$f":"IF(AL62<>\"\",\" -R\",\"\")","v":""},null,{"$f":"IF(AN62<>\"\",\" -R\",\"\")","v":""},null,{"$f":"IF(AP62<>\"\",\" -R\",\"\")","v":""},null,{"$f":"IF(AR62<>\"\",\" -R\",\"\")","v":""},null,{"$f":"IF(AT62<>\"\",\" -R\",\"\")","v":""},null,{"$f":"IF(AV62<>\"\",\" -R\",\"\")","v":""},null,{"$f":"IF(AX62<>\"\",\" -R\",\"\")","v":""},null,{"$f":"IF(AZ62<>\"\",\" -R\",\"\")","v":""},null,{"$f":"IF(BB62<>\"\",\" -R\",\"\")","v":""},null,{"$f":"IF(BD62<>\"\",\" -R\",\"\")","v":""},null,{"$f":"IF(BF62<>\"\",\" -R\",\"\")","v":""},null,{"$f":"IF(BH62<>\"\",\" -R\",\"\")","v":""},null,{"$f":"IF(BJ62<>\"\",\" -R\",\"\")","v":""}]
[null,null,null,null,null,null,null,null,null,null,null,null,1.26,{"$f":"IFERROR(VLOOKUP(M62,'CRUCE RIESGOS'!$C$9:$D$13,2,FALSE),\"\")","v":""},2.2599999999999998,{"$f":"IFERROR(VLOOKUP(O62,'CRUCE RIESGOS'!$C$9:$D$13,2,FALSE),\"\")","v":""},3.26,{"$f":"IFERROR(VLOOKUP(Q62,'CRUCE RIESGOS'!$C$9:$D$13,2,FALSE),\"\")","v":""},4.26,{"$f":"IFERROR(VLOOKUP(S62,'CRUCE RIESGOS'!$C$9:$D$13,2,FALSE),\"\")","v":""},5.26,{"$f":"IFERROR(VLOOKUP(U62,'CRUCE RIESGOS'!$C$9:$D$13,2,FALSE),\"\")","v":""},6.26,{"$f":"IFERROR(VLOOKUP(W62,'CRUCE RIESGOS'!$C$9:$D$13,2,FALSE),\"\")","v":""},7.26,{"$f":"IFERROR(VLOOKUP(Y62,'CRUCE RIESGOS'!$C$9:$D$13,2,FALSE),\"\")","v":""},8.26,{"$f":"IFERROR(VLOOKUP(AA62,'CRUCE RIESGOS'!$C$9:$D$13,2,FALSE),\"\")","v":""},9.26,{"$f":"IFERROR(VLOOKUP(AC62,'CRUCE RIESGOS'!$C$9:$D$13,2,FALSE),\"\")","v":""},10.26,{"$f":"IFERROR(VLOOKUP(AE62,'CRUCE RIESGOS'!$C$9:$D$13,2,FALSE),\"\")","v":""},11.26,{"$f":"IFERROR(VLOOKUP(AG62,'CRUCE RIESGOS'!$C$9:$D$13,2,FALSE),\"\")","v":""},12.26,{"$f":"IFERROR(VLOOKUP(AI62,'CRUCE RIESGOS'!$C$9:$D$13,2,FALSE),\"\")","v":""},13.26,{"$f":"IFERROR(VLOOKUP(AK62,'CRUCE RIESGOS'!$C$9:$D$13,2,FALSE),\"\")","v":""},14.26,{"$f":"IFERROR(VLOOKUP(AM62,'CRUCE RIESGOS'!$C$9:$D$13,2,FALSE),\"\")","v":""},15.26,{"$f":"IFERROR(VLOOKUP(AO62,'CRUCE RIESGOS'!$C$9:$D$13,2,FALSE),\"\")","v":""},16.260000000000002,{"$f":"IFERROR(VLOOKUP(AQ62,'CRUCE RIESGOS'!$C$9:$D$13,2,FALSE),\"\")","v":""},17.260000000000002,{"$f":"IFERROR(VLOOKUP(AS62,'CRUCE RIESGOS'!$C$9:$D$13,2,FALSE),\"\")","v":""},18.260000000000002,{"$f":"IFERROR(VLOOKUP(AU62,'CRUCE RIESGOS'!$C$9:$D$13,2,FALSE),\"\")","v":""},19.260000000000002,{"$f":"IFERROR(VLOOKUP(AW62,'CRUCE RIESGOS'!$C$9:$D$13,2,FALSE),\"\")","v":""},20.260000000000002,{"$f":"IFERROR(VLOOKUP(AY62,'CRUCE RIESGOS'!$C$9:$D$13,2,FALSE),\"\")","v":""},21.26,{"$f":"IFERROR(VLOOKUP(BA62,'CRUCE RIESGOS'!$C$9:$D$13,2,FALSE),\"\")","v":""},22.26,{"$f":"IFERROR(VLOOKUP(BC62,'CRUCE RIESGOS'!$C$9:$D$13,2,FALSE),\"\")","v":""},23.26,{"$f":"IFERROR(VLOOKUP(BE62,'CRUCE RIESGOS'!$C$9:$D$13,2,FALSE),\"\")","v":""},24.26,{"$f":"IFERROR(VLOOKUP(BG62,'CRUCE RIESGOS'!$C$9:$D$13,2,FALSE),\"\")","v":""},25.26,{"$f":"IFERROR(VLOOKUP(BI62,'CRUCE RIESGOS'!$C$9:$D$13,2,FALSE),\"\")","v":""}]
[null,null,null,null,null,null,null,null,null,null,null,null,null,{"$f":"IF(N64<>\"\",\" -R\",\"\")","v":""},null,{"$f":"IF(P64<>\"\",\" -R\",\"\")","v":""},null,{"$f":"IF(R64<>\"\",\" -R\",\"\")","v":""},null,{"$f":"IF(T64<>\"\",\" -R\",\"\")","v":""},null,{"$f":"IF(V64<>\"\",\" -R\",\"\")","v":""},null,{"$f":"IF(X64<>\"\",\" -R\",\"\")","v":""},null,{"$f":"IF(Z64<>\"\",\" -R\",\"\")","v":""},null,{"$f":"IF(AB64<>\"\",\" -R\",\"\")","v":""},null,{"$f":"IF(AD64<>\"\",\" -R\",\"\")","v":""},null,{"$f":"IF(AF64<>\"\",\" -R\",\"\")","v":""},null,{"$f":"IF(AH64<>\"\",\" -R\",\"\")","v":""},null,{"$f":"IF(AJ64<>\"\",\" -R\",\"\")","v":""},null,{"$f":"IF(AL64<>\"\",\" -R\",\"\")","v":""},null,{"$f":"IF(AN64<>\"\",\" -R\",\"\")","v":""},null,{"$f":"IF(AP64<>\"\",\" -R\",\"\")","v":""},null,{"$f":"IF(AR64<>\"\",\" -R\",\"\")","v":""},null,{"$f":"IF(AT64<>\"\",\" -R\",\"\")","v":""},null,{"$f":"IF(AV64<>\"\",\" -R\",\"\")","v":""},null,{"$f":"IF(AX64<>\"\",\" -R\",\"\")","v":""},null,{"$f":"IF(AZ64<>\"\",\" -R\",\"\")","v":""},null,{"$f":"IF(BB64<>\"\",\" -R\",\"\")","v":""},null,{"$f":"IF(BD64<>\"\",\" -R\",\"\")","v":""},null,{"$f":"IF(BF64<>\"\",\" -R\",\"\")","v":""},null,{"$f":"IF(BH64<>\"\",\" -R\",\"\")","v":""},null,{"$f":"IF(BJ64<>\"\",\" -R\",\"\")","v":""}]
[null,null,null,null,null,null,null,null,null,null,null,null,1.27,{"$f":"IFERROR(VLOOKUP(M64,'CRUCE RIESGOS'!$C$9:$D$13,2,FALSE),\"\")","v":""},2.2700000000000098,{"$f":"IFERROR(VLOOKUP(O64,'CRUCE RIESGOS'!$C$9:$D$13,2,FALSE),\"\")","v":""},3.27000000000002,{"$f":"IFERROR(VLOOKUP(Q64,'CRUCE RIESGOS'!$C$9:$D$13,2,FALSE),\"\")","v":""},4.2700000000000298,{"$f":"IFERROR(VLOOKUP(S64,'CRUCE RIESGOS'!$C$9:$D$13,2,FALSE),\"\")","v":""},5.2700000000000404,{"$f":"IFERROR(VLOOKUP(U64,'CRUCE RIESGOS'!$C$9:$D$13,2,FALSE),\"\")","v":""},6.2700000000000502,{"$f":"IFERROR(VLOOKUP(W64,'CRUCE RIESGOS'!$C$9:$D$13,2,FALSE),\"\")","v":""},7.27000000000006,{"$f":"IFERROR(VLOOKUP(Y64,'CRUCE RIESGOS'!$C$9:$D$13,2,FALSE),\"\")","v":""},8.2700000000000706,{"$f":"IFERROR(VLOOKUP(AA64,'CRUCE RIESGOS'!$C$9:$D$13,2,FALSE),\"\")","v":""},9.2700000000000795,{"$f":"IFERROR(VLOOKUP(AC64,'CRUCE RIESGOS'!$C$9:$D$13,2,FALSE),\"\")","v":""},10.270000000000101,{"$f":"IFERROR(VLOOKUP(AE64,'CRUCE RIESGOS'!$C$9:$D$13,2,FALSE),\"\")","v":""},11.270000000000101,{"$f":"IFERROR(VLOOKUP(AG64,'CRUCE RIESGOS'!$C$9:$D$13,2,FALSE),\"\")","v":""},12.270000000000101,{"$f":"IFERROR(VLOOKUP(AI64,'CRUCE RIESGOS'!$C$9:$D$13,2,FALSE),\"\")","v":""},13.270000000000101,{"$f":"IFERROR(VLOOKUP(AK64,'CRUCE RIESGOS'!$C$9:$D$13,2,FALSE),\"\")","v":""},14.270000000000101,{"$f":"IFERROR(VLOOKUP(AM64,'CRUCE RIESGOS'!$C$9:$D$13,2,FALSE),\"\")","v":""},15.270000000000101,{"$f":"IFERROR(VLOOKUP(AO64,'CRUCE RIESGOS'!$C$9:$D$13,2,FALSE),\"\")","v":""},16.270000000000099,{"$f":"IFERROR(VLOOKUP(AQ64,'CRUCE RIESGOS'!$C$9:$D$13,2,FALSE),\"\")","v":""},17.270000000000199,{"$f":"IFERROR(VLOOKUP(AS64,'CRUCE RIESGOS'!$C$9:$D$13,2,FALSE),\"\")","v":""},18.270000000000199,{"$f":"IFERROR(VLOOKUP(AU64,'CRUCE RIESGOS'!$C$9:$D$13,2,FALSE),\"\")","v":""},19.270000000000199,{"$f":"IFERROR(VLOOKUP(AW64,'CRUCE RIESGOS'!$C$9:$D$13,2,FALSE),\"\")","v":""},20.270000000000199,{"$f":"IFERROR(VLOOKUP(AY64,'CRUCE RIESGOS'!$C$9:$D$13,2,FALSE),\"\")","v":""},21.270000000000199,{"$f":"IFERROR(VLOOKUP(BA64,'CRUCE RIESGOS'!$C$9:$D$13,2,FALSE),\"\")","v":""},22.270000000000199,{"$f":"IFERROR(VLOOKUP(BC64,'CRUCE RIESGOS'!$C$9:$D$13,2,FALSE),\"\")","v":""},23.270000000000199,{"$f":"IFERROR(VLOOKUP(BE64,'CRUCE RIESGOS'!$C$9:$D$13,2,FALSE),\"\")","v":""},24.270000000000199,{"$f":"IFERROR(VLOOKUP(BG64,'CRUCE RIESGOS'!$C$9:$D$13,2,FALSE),\"\")","v":""},25.270000000000199,{"$f":"IFERROR(VLOOKUP(BI64,'CRUCE RIESGOS'!$C$9:$D$13,2,FALSE),\"\")","v":""}]
[null,null,null,null,null,null,null,null,null,null,null,null,null,{"$f":"IF(N66<>\"\",\" -R\",\"\")","v":""},null,{"$f":"IF(P66<>\"\",\" -R\",\"\")","v":""},null,{"$f":"IF(R66<>\"\",\" -R\",\"\")","v":""},null,{"$f":"IF(T66<>\"\",\" -R\",\"\")","v":""},null,{"$f":"IF(V66<>\"\",\" -R\",\"\")","v":""},null,{"$f":"IF(X66<>\"\",\" -R\",\"\")","v":""},null,{"$f":"IF(Z66<>\"\",\" -R\",\"\")","v":""},null,{"$f":"IF(AB66<>\"\",\" -R\",\"\")","v":""},null,{"$f":"IF(AD66<>\"\",\" -R\",\"\")","v":""},null,{"$f":"IF(AF66<>\"\",\" -R\",\"\")","v":""},null,{"$f":"IF(AH66<>\"\",\" -R\",\"\")","v":""},null,{"$f":"IF(AJ66<>\"\",\" -R\",\"\")","v":""},null,{"$f":"IF(AL66<>\"\",\" -R\",\"\")","v":""},null,{"$f":"IF(AN66<>\"\",\" -R\",\"\")","v":""},null,{"$f":"IF(AP66<>\"\",\" -R\",\"\")","v":""},null,{"$f":"IF(AR66<>\"\",\" -R\",\"\")","v":""},null,{"$f":"IF(AT66<>\"\",\" -R\",\"\")","v":""},null,{"$f":"IF(AV66<>\"\",\" -R\",\"\")","v":""},null,{"$f":"IF(AX66<>\"\",\" -R\",\"\")","v":""},null,{"$f":"IF(AZ66<>\"\",\" -R\",\"\")","v":""},null,{"$f":"IF(BB66<>\"\",\" -R\",\"\")","v":""},null,{"$f":"IF(BD66<>\"\",\" -R\",\"\")","v":""},null,{"$f":"IF(BF66<>\"\",\" -R\",\"\")","v":""},null,{"$f":"IF(BH66<>\"\",\" -R\",\"\")","v":""},null,{"$f":"IF(BJ66<>\"\",\" -R\",\"\")","v":""}]
[null,null,null,null,null,null,null,null,null,null,null,null,1.28,{"$f":"IFERROR(VLOOKUP(M66,'CRUCE RIESGOS'!$C$9:$D$13,2,FALSE),\"\")","v":""},2.28000000000001,{"$f":"IFERROR(VLOOKUP(O66,'CRUCE RIESGOS'!$C$9:$D$13,2,FALSE),\"\")","v":""},3.2800000000000198,{"$f":"IFERROR(VLOOKUP(Q66,'CRUCE RIESGOS'!$C$9:$D$13,2,FALSE),\"\")","v":""},4.2800000000000296,{"$f":"IFERROR(VLOOKUP(S66,'CRUCE RIESGOS'!$C$9:$D$13,2,FALSE),\"\")","v":""},5.2800000000000402,{"$f":"IFERROR(VLOOKUP(U66,'CRUCE RIESGOS'!$C$9:$D$13,2,FALSE),\"\")","v":""},6.28000000000005,{"$f":"IFERROR(VLOOKUP(W66,'CRUCE RIESGOS'!$C$9:$D$13,2,FALSE),\"\")","v":""},7.2800000000000598,{"$f":"IFERROR(VLOOKUP(Y66,'CRUCE RIESGOS'!$C$9:$D$13,2,FALSE),\"\")","v":""},8.2800000000000704,{"$f":"IFERROR(VLOOKUP(AA66,'CRUCE RIESGOS'!$C$9:$D$13,2,FALSE),\"\")","v":""},9.2800000000000793,{"$f":"IFERROR(VLOOKUP(AC66,'CRUCE RIESGOS'!$C$9:$D$13,2,FALSE),\"\")","v":""},10.280000000000101,{"$f":"IFERROR(VLOOKUP(AE66,'CRUCE RIESGOS'!$C$9:$D$13,2,FALSE),\"\")","v":""},11.280000000000101,{"$f":"IFERROR(VLOOKUP(AG66,'CRUCE RIESGOS'!$C$9:$D$13,2,FALSE),\"\")","v":""},12.280000000000101,{"$f":"IFERROR(VLOOKUP(AI66,'CRUCE RIESGOS'!$C$9:$D$13,2,FALSE),\"\")","v":""},13.280000000000101,{"$f":"IFERROR(VLOOKUP(AK66,'CRUCE RIESGOS'!$C$9:$D$13,2,FALSE),\"\")","v":""},14.280000000000101,{"$f":"IFERROR(VLOOKUP(AM66,'CRUCE RIESGOS'!$C$9:$D$13,2,FALSE),\"\")","v":""},15.280000000000101,{"$f":"IFERROR(VLOOKUP(AO66,'CRUCE RIESGOS'!$C$9:$D$13,2,FALSE),\"\")","v":""},16.280000000000101,{"$f":"IFERROR(VLOOKUP(AQ66,'CRUCE RIESGOS'!$C$9:$D$13,2,FALSE),\"\")","v":""},17.2800000000002,{"$f":"IFERROR(VLOOKUP(AS66,'CRUCE RIESGOS'!$C$9:$D$13,2,FALSE),\"\")","v":""},18.2800000000002,{"$f":"IFERROR(VLOOKUP(AU66,'CRUCE RIESGOS'!$C$9:$D$13,2,FALSE),\"\")","v":""},19.2800000000002,{"$f":"IFERROR(VLOOKUP(AW66,'CRUCE RIESGOS'!$C$9:$D$13,2,FALSE),\"\")","v":""},20.2800000000002,{"$f":"IFERROR(VLOOKUP(AY66,'CRUCE RIESGOS'!$C$9:$D$13,2,FALSE),\"\")","v":""},21.2800000000002,{"$f":"IFERROR(VLOOKUP(BA66,'CRUCE RIESGOS'!$C$9:$D$13,2,FALSE),\"\")","v":""},22.2800000000002,{"$f":"IFERROR(VLOOKUP(BC66,'CRUCE RIESGOS'!$C$9:$D$13,2,FALSE),\"\")","v":""},23.2800000000002,{"$f":"IFERROR(VLOOKUP(BE66,'CRUCE RIESGOS'!$C$9:$D$13,2,FALSE),\"\")","v":""},24.2800000000002,{"$f":"IFERROR(VLOOKUP(BG66,'CRUCE RIESGOS'!$C$9:$D$13,2,FALSE),\"\")","v":""},25.2800000000002,{"$f":"IFERROR(VLOOKUP(BI66,'CRUCE RIESGOS'!$C$9:$D$13,2,FALSE),\"\")","v":""}]
[null,null,null,null,null,null,null,null,null,null,null,null,null,{"$f":"IF(N68<>\"\",\" -R\",\"\")","v":""},null,{"$f":"IF(P68<>\"\",\" -R\",\"\")","v":""},null,{"$f":"IF(R68<>\"\",\" -R\",\"\")","v":""},null,{"$f":"IF(T68<>\"\",\" -R\",\"\")","v":""},null,{"$f":"IF(V68<>\"\",\" -R\",\"\")","v":""},null,{"$f":"IF(X68<>\"\",\" -R\",\"\")","v":""},null,{"$f":"IF(Z68<>\"\",\" -R\",\"\")","v":""},null,{"$f":"IF(AB68<>\"\",\" -R\",\"\")","v":""},null,{"$f":"IF(AD68<>\"\",\" -R\",\"\")","v":""},null,{"$f":"IF(AF68<>\"\",\" -R\",\"\")","v":""},null,{"$f":"IF(AH68<>\"\",\" -R\",\"\")","v":""},null,{"$f":"IF(AJ68<>\"\",\" -R\",\"\")","v":""},null,{"$f":"IF(AL68<>\"\",\" -R\",\"\")","v":""},null,{"$f":"IF(AN68<>\"\",\" -R\",\"\")","v":""},null,{"$f":"IF(AP68<>\"\",\" -R\",\"\")","v":""},null,{"$f":"IF(AR68<>\"\",\" -R\",\"\")","v":""},null,{"$f":"IF(AT68<>\"\",\" -R\",\"\")","v":""},null,{"$f":"IF(AV68<>\"\",\" -R\",\"\")","v":""},null,{"$f":"IF(AX68<>\"\",\" -R\",\"\")","v":""},null,{"$f":"IF(AZ68<>\"\",\" -R\",\"\")","v":""},null,{"$f":"IF(BB68<>\"\",\" -R\",\"\")","v":""},null,{"$f":"IF(BD68<>\"\",\" -R\",\"\")","v":""},null,{"$f":"IF(BF68<>\"\",\" -R\",\"\")","v":""},null,{"$f":"IF(BH68<>\"\",\" -R\",\"\")","v":""},null,{"$f":"IF(BJ68<>\"\",\" -R\",\"\")","v":""}]
[null,null,null,null,null,null,null,null,null,null,null,null,1.29,{"$f":"IFERROR(VLOOKUP(M68,'CRUCE RIESGOS'!$C$9:$D$13,2,FALSE),\"\")","v":""},2.2900000000000098,{"$f":"IFERROR(VLOOKUP(O68,'CRUCE RIESGOS'!$C$9:$D$13,2,FALSE),\"\")","v":""},3.29000000000002,{"$f":"IFERROR(VLOOKUP(Q68,'CRUCE RIESGOS'!$C$9:$D$13,2,FALSE),\"\")","v":""},4.2900000000000302,{"$f":"IFERROR(VLOOKUP(S68,'CRUCE RIESGOS'!$C$9:$D$13,2,FALSE),\"\")","v":""},5.29000000000004,{"$f":"IFERROR(VLOOKUP(U68,'CRUCE RIESGOS'!$C$9:$D$13,2,FALSE),\"\")","v":""},6.2900000000000498,{"$f":"IFERROR(VLOOKUP(W68,'CRUCE RIESGOS'!$C$9:$D$13,2,FALSE),\"\")","v":""},7.2900000000000604,{"$f":"IFERROR(VLOOKUP(Y68,'CRUCE RIESGOS'!$C$9:$D$13,2,FALSE),\"\")","v":""},8.2900000000000702,{"$f":"IFERROR(VLOOKUP(AA68,'CRUCE RIESGOS'!$C$9:$D$13,2,FALSE),\"\")","v":""},9.2900000000000809,{"$f":"IFERROR(VLOOKUP(AC68,'CRUCE RIESGOS'!$C$9:$D$13,2,FALSE),\"\")","v":""},10.2900000000001,{"$f":"IFERROR(VLOOKUP(AE68,'CRUCE RIESGOS'!$C$9:$D$13,2,FALSE),\"\")","v":""},11.2900000000001,{"$f":"IFERROR(VLOOKUP(AG68,'CRUCE RIESGOS'!$C$9:$D$13,2,FALSE),\"\")","v":""},12.2900000000001,{"$f":"IFERROR(VLOOKUP(AI68,'CRUCE RIESGOS'!$C$9:$D$13,2,FALSE),\"\")","v":""},13.2900000000001,{"$f":"IFERROR(VLOOKUP(AK68,'CRUCE RIESGOS'!$C$9:$D$13,2,FALSE),\"\")","v":""},14.2900000000001,{"$f":"IFERROR(VLOOKUP(AM68,'CRUCE RIESGOS'!$C$9:$D$13,2,FALSE),\"\")","v":""},15.2900000000001,{"$f":"IFERROR(VLOOKUP(AO68,'CRUCE RIESGOS'!$C$9:$D$13,2,FALSE),\"\")","v":""},16.290000000000099,{"$f":"IFERROR(VLOOKUP(AQ68,'CRUCE RIESGOS'!$C$9:$D$13,2,FALSE),\"\")","v":""},17.290000000000202,{"$f":"IFERROR(VLOOKUP(AS68,'CRUCE RIESGOS'!$C$9:$D$13,2,FALSE),\"\")","v":""},18.290000000000202,{"$f":"IFERROR(VLOOKUP(AU68,'CRUCE RIESGOS'!$C$9:$D$13,2,FALSE),\"\")","v":""},19.290000000000202,{"$f":"IFERROR(VLOOKUP(AW68,'CRUCE RIESGOS'!$C$9:$D$13,2,FALSE),\"\")","v":""},20.290000000000202,{"$f":"IFERROR(VLOOKUP(AY68,'CRUCE RIESGOS'!$C$9:$D$13,2,FALSE),\"\")","v":""},21.290000000000202,{"$f":"IFERROR(VLOOKUP(BA68,'CRUCE RIESGOS'!$C$9:$D$13,2,FALSE),\"\")","v":""},22.290000000000202,{"$f":"IFERROR(VLOOKUP(BC68,'CRUCE RIESGOS'!$C$9:$D$13,2,FALSE),\"\")","v":""},23.290000000000202,{"$f":"IFERROR(VLOOKUP(BE68,'CRUCE RIESGOS'!$C$9:$D$13,2,FALSE),\"\")","v":""},24.290000000000202,{"$f":"IFERROR(VLOOKUP(BG68,'CRUCE RIESGOS'!$C$9:$D$13,2,FALSE),\"\")","v":""},25.290000000000202,{"$f":"IFERROR(VLOOKUP(BI68,'CRUCE RIESGOS'!$C$9:$D$13,2,FALSE),\"\")","v":""}]
[null,null,null,null,null,null,null,null,null,null,null,null,null,{"$f":"IF(N70<>\"\",\" -R\",\"\")","v":""},null,{"$f":"IF(P70<>\"\",\" -R\",\"\")","v":""},null,{"$f":"IF(R70<>\"\",\" -R\",\"\")","v":""},null,{"$f":"IF(T70<>\"\",\" -R\",\"\")","v":""},null,{"$f":"IF(V70<>\"\",\" -R\",\"\")","v":""},null,{"$f":"IF(X70<>\"\",\" -R\",\"\")","v":""},null,{"$f":"IF(Z70<>\"\",\" -R\",\"\")","v":""},null,{"$f":"IF(AB70<>\"\",\" -R\",\"\")","v":""},null,{"$f":"IF(AD70<>\"\",\" -R\",\"\")","v":""},null,{"$f":"IF(AF70<>\"\",\" -R\",\"\")","v":""},null,{"$f":"IF(AH70<>\"\",\" -R\",\"\")","v":""},null,{"$f":"IF(AJ70<>\"\",\" -R\",\"\")","v":""},null,{"$f":"IF(AL70<>\"\",\" -R\",\"\")","v":""},null,{"$f":"IF(AN70<>\"\",\" -R\",\"\")","v":""},null,{"$f":"IF(AP70<>\"\",\" -R\",\"\")","v":""},null,{"$f":"IF(AR70<>\"\",\" -R\",\"\")","v":""},null,{"$f":"IF(AT70<>\"\",\" -R\",\"\")","v":""},null,{"$f":"IF(AV70<>\"\",\" -R\",\"\")","v":""},null,{"$f":"IF(AX70<>\"\",\" -R\",\"\")","v":""},null,{"$f":"IF(AZ70<>\"\",\" -R\",\"\")","v":""},null,{"$f":"IF(BB70<>\"\",\" -R\",\"\")","v":""},null,{"$f":"IF(BD70<>\"\",\" -R\",\"\")","v":""},null,{"$f":"IF(BF70<>\"\",\" -R\",\"\")","v":""},null,{"$f":"IF(BH70<>\"\",\" -R\",\"\")","v":""},null,{"$f":"IF(BJ70<>\"\",\" -R\",\"\")","v":""}]
[null,null,null,null,null,null,null,null,null,null,null,null,1.3,{"$f":"IFERROR(VLOOKUP(M70,'CRUCE RIESGOS'!$C$9:$D$13,2,FALSE),\"\")","v":""},2.30000000000001,{"$f":"IFERROR(VLOOKUP(O70,'CRUCE RIESGOS'!$C$9:$D$13,2,FALSE),\"\")","v":""},3.3000000000000198,{"$f":"IFERROR(VLOOKUP(Q70,'CRUCE RIESGOS'!$C$9:$D$13,2,FALSE),\"\")","v":""},4.30000000000003,{"$f":"IFERROR(VLOOKUP(S70,'CRUCE RIESGOS'!$C$9:$D$13,2,FALSE),\"\")","v":""},5.3000000000000398,{"$f":"IFERROR(VLOOKUP(U70,'CRUCE RIESGOS'!$C$9:$D$13,2,FALSE),\"\")","v":""},6.3000000000000496,{"$f":"IFERROR(VLOOKUP(W70,'CRUCE RIESGOS'!$C$9:$D$13,2,FALSE),\"\")","v":""},7.3000000000000602,{"$f":"IFERROR(VLOOKUP(Y70,'CRUCE RIESGOS'!$C$9:$D$13,2,FALSE),\"\")","v":""},8.30000000000007,{"$f":"IFERROR(VLOOKUP(AA70,'CRUCE RIESGOS'!$C$9:$D$13,2,FALSE),\"\")","v":""},9.3000000000000806,{"$f":"IFERROR(VLOOKUP(AC70,'CRUCE RIESGOS'!$C$9:$D$13,2,FALSE),\"\")","v":""},10.3000000000001,{"$f":"IFERROR(VLOOKUP(AE70,'CRUCE RIESGOS'!$C$9:$D$13,2,FALSE),\"\")","v":""},11.3000000000001,{"$f":"IFERROR(VLOOKUP(AG70,'CRUCE RIESGOS'!$C$9:$D$13,2,FALSE),\"\")","v":""},12.3000000000001,{"$f":"IFERROR(VLOOKUP(AI70,'CRUCE RIESGOS'!$C$9:$D$13,2,FALSE),\"\")","v":""},13.3000000000001,{"$f":"IFERROR(VLOOKUP(AK70,'CRUCE RIESGOS'!$C$9:$D$13,2,FALSE),\"\")","v":""},14.3000000000001,{"$f":"IFERROR(VLOOKUP(AM70,'CRUCE RIESGOS'!$C$9:$D$13,2,FALSE),\"\")","v":""},15.3000000000001,{"$f":"IFERROR(VLOOKUP(AO70,'CRUCE RIESGOS'!$C$9:$D$13,2,FALSE),\"\")","v":""},16.3000000000001,{"$f":"IFERROR(VLOOKUP(AQ70,'CRUCE RIESGOS'!$C$9:$D$13,2,FALSE),\"\")","v":""},17.3000000000002,{"$f":"IFERROR(VLOOKUP(AS70,'CRUCE RIESGOS'!$C$9:$D$13,2,FALSE),\"\")","v":""},18.3000000000002,{"$f":"IFERROR(VLOOKUP(AU70,'CRUCE RIESGOS'!$C$9:$D$13,2,FALSE),\"\")","v":""},19.3000000000002,{"$f":"IFERROR(VLOOKUP(AW70,'CRUCE RIESGOS'!$C$9:$D$13,2,FALSE),\"\")","v":""},20.3000000000002,{"$f":"IFERROR(VLOOKUP(AY70,'CRUCE RIESGOS'!$C$9:$D$13,2,FALSE),\"\")","v":""},21.3000000000002,{"$f":"IFERROR(VLOOKUP(BA70,'CRUCE RIESGOS'!$C$9:$D$13,2,FALSE),\"\")","v":""},22.3000000000002,{"$f":"IFERROR(VLOOKUP(BC70,'CRUCE RIESGOS'!$C$9:$D$13,2,FALSE),\"\")","v":""},23.3000000000002,{"$f":"IFERROR(VLOOKUP(BE70,'CRUCE RIESGOS'!$C$9:$D$13,2,FALSE),\"\")","v":""},24.3000000000002,{"$f":"IFERROR(VLOOKUP(BG70,'CRUCE RIESGOS'!$C$9:$D$13,2,FALSE),\"\")","v":""},25.3000000000002,{"$f":"IFERROR(VLOOKUP(BI70,'CRUCE RIESGOS'!$C$9:$D$13,2,FALSE),\"\")","v":""}]
[null,null,null,null,null,null,null,null,null,null,null,null,null,{"$f":"IF(N72<>\"\",\" -R\",\"\")","v":""},null,{"$f":"IF(P72<>\"\",\" -R\",\"\")","v":""},null,{"$f":"IF(R72<>\"\",\" -R\",\"\")","v":""},null,{"$f":"IF(T72<>\"\",\" -R\",\"\")","v":""},null,{"$f":"IF(V72<>\"\",\" -R\",\"\")","v":""},null,{"$f":"IF(X72<>\"\",\" -R\",\"\")","v":""},null,{"$f":"IF(Z72<>\"\",\" -R\",\"\")","v":""},null,{"$f":"IF(AB72<>\"\",\" -R\",\"\")","v":""},null,{"$f":"IF(AD72<>\"\",\" -R\",\"\")","v":""},null,{"$f":"IF(AF72<>\"\",\" -R\",\"\")","v":""},null,{"$f":"IF(AH72<>\"\",\" -R\",\"\")","v":""},null,{"$f":"IF(AJ72<>\"\",\" -R\",\"\")","v":""},null,{"$f":"IF(AL72<>\"\",\" -R\",\"\")","v":""},null,{"$f":"IF(AN72<>\"\",\" -R\",\"\")","v":""},null,{"$f":"IF(AP72<>\"\",\" -R\",\"\")","v":""},null,{"$f":"IF(AR72<>\"\",\" -R\",\"\")","v":""},null,{"$f":"IF(AT72<>\"\",\" -R\",\"\")","v":""},null,{"$f":"IF(AV72<>\"\",\" -R\",\"\")","v":""},null,{"$f":"IF(AX72<>\"\",\" -R\",\"\")","v":""},null,{"$f":"IF(AZ72<>\"\",\" -R\",\"\")","v":""},null,{"$f":"IF(BB72<>\"\",\" -R\",\"\")","v":""},null,{"$f":"IF(BD72<>\"\",\" -R\",\"\")","v":""},null,{"$f":"IF(BF72<>\"\",\" -R\",\"\")","v":""},null,{"$f":"IF(BH72<>\"\",\" -R\",\"\")","v":""},null,{"$f":"IF(BJ72<>\"\",\" -R\",\"\")","v":""}]
[null,null,null,null,null,null,null,null,null,null,null,null,1.31,{"$f":"IFERROR(VLOOKUP(M72,'CRUCE RIESGOS'!$C$9:$D$13,2,FALSE),\"\")","v":""},2.3100000000000098,{"$f":"IFERROR(VLOOKUP(O72,'CRUCE RIESGOS'!$C$9:$D$13,2,FALSE),\"\")","v":""},3.31000000000002,{"$f":"IFERROR(VLOOKUP(Q72,'CRUCE RIESGOS'!$C$9:$D$13,2,FALSE),\"\")","v":""},4.3100000000000298,{"$f":"IFERROR(VLOOKUP(S72,'CRUCE RIESGOS'!$C$9:$D$13,2,FALSE),\"\")","v":""},5.3100000000000396,{"$f":"IFERROR(VLOOKUP(U72,'CRUCE RIESGOS'!$C$9:$D$13,2,FALSE),\"\")","v":""},6.3100000000000502,{"$f":"IFERROR(VLOOKUP(W72,'CRUCE RIESGOS'!$C$9:$D$13,2,FALSE),\"\")","v":""},7.31000000000006,{"$f":"IFERROR(VLOOKUP(Y72,'CRUCE RIESGOS'!$C$9:$D$13,2,FALSE),\"\")","v":""},8.3100000000000698,{"$f":"IFERROR(VLOOKUP(AA72,'CRUCE RIESGOS'!$C$9:$D$13,2,FALSE),\"\")","v":""},9.3100000000000804,{"$f":"IFERROR(VLOOKUP(AC72,'CRUCE RIESGOS'!$C$9:$D$13,2,FALSE),\"\")","v":""},10.3100000000001,{"$f":"IFERROR(VLOOKUP(AE72,'CRUCE RIESGOS'!$C$9:$D$13,2,FALSE),\"\")","v":""},11.3100000000001,{"$f":"IFERROR(VLOOKUP(AG72,'CRUCE RIESGOS'!$C$9:$D$13,2,FALSE),\"\")","v":""},12.3100000000001,{"$f":"IFERROR(VLOOKUP(AI72,'CRUCE RIESGOS'!$C$9:$D$13,2,FALSE),\"\")","v":""},13.3100000000001,{"$f":"IFERROR(VLOOKUP(AK72,'CRUCE RIESGOS'!$C$9:$D$13,2,FALSE),\"\")","v":""},14.3100000000001,{"$f":"IFERROR(VLOOKUP(AM72,'CRUCE RIESGOS'!$C$9:$D$13,2,FALSE),\"\")","v":""},15.3100000000001,{"$f":"IFERROR(VLOOKUP(AO72,'CRUCE RIESGOS'!$C$9:$D$13,2,FALSE),\"\")","v":""},16.310000000000102,{"$f":"IFERROR(VLOOKUP(AQ72,'CRUCE RIESGOS'!$C$9:$D$13,2,FALSE),\"\")","v":""},17.310000000000201,{"$f":"IFERROR(VLOOKUP(AS72,'CRUCE RIESGOS'!$C$9:$D$13,2,FALSE),\"\")","v":""},18.310000000000201,{"$f":"IFERROR(VLOOKUP(AU72,'CRUCE RIESGOS'!$C$9:$D$13,2,FALSE),\"\")","v":""},19.310000000000201,{"$f":"IFERROR(VLOOKUP(AW72,'CRUCE RIESGOS'!$C$9:$D$13,2,FALSE),\"\")","v":""},20.310000000000201,{"$f":"IFERROR(VLOOKUP(AY72,'CRUCE RIESGOS'!$C$9:$D$13,2,FALSE),\"\")","v":""},21.310000000000201,{"$f":"IFERROR(VLOOKUP(BA72,'CRUCE RIESGOS'!$C$9:$D$13,2,FALSE),\"\")","v":""},22.310000000000201,{"$f":"IFERROR(VLOOKUP(BC72,'CRUCE RIESGOS'!$C$9:$D$13,2,FALSE),\"\")","v":""},23.310000000000201,{"$f":"IFERROR(VLOOKUP(BE72,'CRUCE RIESGOS'!$C$9:$D$13,2,FALSE),\"\")","v":""},24.310000000000201,{"$f":"IFERROR(VLOOKUP(BG72,'CRUCE RIESGOS'!$C$9:$D$13,2,FALSE),\"\")","v":""},25.310000000000201,{"$f":"IFERROR(VLOOKUP(BI72,'CRUCE RIESGOS'!$C$9:$D$13,2,FALSE),\"\")","v":""}]
[null,null,null,null,null,null,null,null,null,null,null,null,null,{"$f":"IF(N74<>\"\",\" -R\",\"\")","v":""},null,{"$f":"IF(P74<>\"\",\" -R\",\"\")","v":""},null,{"$f":"IF(R74<>\"\",\" -R\",\"\")","v":""},null,{"$f":"IF(T74<>\"\",\" -R\",\"\")","v":""},null,{"$f":"IF(V74<>\"\",\" -R\",\"\")","v":""},null,{"$f":"IF(X74<>\"\",\" -R\",\"\")","v":""},null,{"$f":"IF(Z74<>\"\",\" -R\",\"\")","v":""},null,{"$f":"IF(AB74<>\"\",\" -R\",\"\")","v":""},null,{"$f":"IF(AD74<>\"\",\" -R\",\"\")","v":""},null,{"$f":"IF(AF74<>\"\",\" -R\",\"\")","v":""},null,{"$f":"IF(AH74<>\"\",\" -R\",\"\")","v":""},null,{"$f":"IF(AJ74<>\"\",\" -R\",\"\")","v":""},null,{"$f":"IF(AL74<>\"\",\" -R\",\"\")","v":""},null,{"$f":"IF(AN74<>\"\",\" -R\",\"\")","v":""},null,{"$f":"IF(AP74<>\"\",\" -R\",\"\")","v":""},null,{"$f":"IF(AR74<>\"\",\" -R\",\"\")","v":""},null,{"$f":"IF(AT74<>\"\",\" -R\",\"\")","v":""},null,{"$f":"IF(AV74<>\"\",\" -R\",\"\")","v":""},null,{"$f":"IF(AX74<>\"\",\" -R\",\"\")","v":""},null,{"$f":"IF(AZ74<>\"\",\" -R\",\"\")","v":""},null,{"$f":"IF(BB74<>\"\",\" -R\",\"\")","v":""},null,{"$f":"IF(BD74<>\"\",\" -R\",\"\")","v":""},null,{"$f":"IF(BF74<>\"\",\" -R\",\"\")","v":""},null,{"$f":"IF(BH74<>\"\",\" -R\",\"\")","v":""},null,{"$f":"IF(BJ74<>\"\",\" -R\",\"\")","v":""}]
[null,null,null,null,null,null,null,null,null,null,null,null,1.32,{"$f":"IFERROR(VLOOKUP(M74,'CRUCE RIESGOS'!$C$9:$D$13,2,FALSE),\"\")","v":""},2.3200000000000101,{"$f":"IFERROR(VLOOKUP(O74,'CRUCE RIESGOS'!$C$9:$D$13,2,FALSE),\"\")","v":""},3.3200000000000198,{"$f":"IFERROR(VLOOKUP(Q74,'CRUCE RIESGOS'!$C$9:$D$13,2,FALSE),\"\")","v":""},4.3200000000000296,{"$f":"IFERROR(VLOOKUP(S74,'CRUCE RIESGOS'!$C$9:$D$13,2,FALSE),\"\")","v":""},5.3200000000000403,{"$f":"IFERROR(VLOOKUP(U74,'CRUCE RIESGOS'!$C$9:$D$13,2,FALSE),\"\")","v":""},6.32000000000005,{"$f":"IFERROR(VLOOKUP(W74,'CRUCE RIESGOS'!$C$9:$D$13,2,FALSE),\"\")","v":""},7.3200000000000598,{"$f":"IFERROR(VLOOKUP(Y74,'CRUCE RIESGOS'!$C$9:$D$13,2,FALSE),\"\")","v":""},8.3200000000000696,{"$f":"IFERROR(VLOOKUP(AA74,'CRUCE RIESGOS'!$C$9:$D$13,2,FALSE),\"\")","v":""},9.3200000000000802,{"$f":"IFERROR(VLOOKUP(AC74,'CRUCE RIESGOS'!$C$9:$D$13,2,FALSE),\"\")","v":""},10.3200000000001,{"$f":"IFERROR(VLOOKUP(AE74,'CRUCE RIESGOS'!$C$9:$D$13,2,FALSE),\"\")","v":""},11.3200000000001,{"$f":"IFERROR(VLOOKUP(AG74,'CRUCE RIESGOS'!$C$9:$D$13,2,FALSE),\"\")","v":""},12.3200000000001,{"$f":"IFERROR(VLOOKUP(AI74,'CRUCE RIESGOS'!$C$9:$D$13,2,FALSE),\"\")","v":""},13.3200000000001,{"$f":"IFERROR(VLOOKUP(AK74,'CRUCE RIESGOS'!$C$9:$D$13,2,FALSE),\"\")","v":""},14.3200000000001,{"$f":"IFERROR(VLOOKUP(AM74,'CRUCE RIESGOS'!$C$9:$D$13,2,FALSE),\"\")","v":""},15.3200000000001,{"$f":"IFERROR(VLOOKUP(AO74,'CRUCE RIESGOS'!$C$9:$D$13,2,FALSE),\"\")","v":""},16.3200000000001,{"$f":"IFERROR(VLOOKUP(AQ74,'CRUCE RIESGOS'!$C$9:$D$13,2,FALSE),\"\")","v":""},17.320000000000199,{"$f":"IFERROR(VLOOKUP(AS74,'CRUCE RIESGOS'!$C$9:$D$13,2,FALSE),\"\")","v":""},18.320000000000199,{"$f":"IFERROR(VLOOKUP(AU74,'CRUCE RIESGOS'!$C$9:$D$13,2,FALSE),\"\")","v":""},19.320000000000199,{"$f":"IFERROR(VLOOKUP(AW74,'CRUCE RIESGOS'!$C$9:$D$13,2,FALSE),\"\")","v":""},20.320000000000199,{"$f":"IFERROR(VLOOKUP(AY74,'CRUCE RIESGOS'!$C$9:$D$13,2,FALSE),\"\")","v":""},21.320000000000199,{"$f":"IFERROR(VLOOKUP(BA74,'CRUCE RIESGOS'!$C$9:$D$13,2,FALSE),\"\")","v":""},22.320000000000199,{"$f":"IFERROR(VLOOKUP(BC74,'CRUCE RIESGOS'!$C$9:$D$13,2,FALSE),\"\")","v":""},23.320000000000199,{"$f":"IFERROR(VLOOKUP(BE74,'CRUCE RIESGOS'!$C$9:$D$13,2,FALSE),\"\")","v":""},24.320000000000199,{"$f":"IFERROR(VLOOKUP(BG74,'CRUCE RIESGOS'!$C$9:$D$13,2,FALSE),\"\")","v":""},25.320000000000199,{"$f":"IFERROR(VLOOKUP(BI74,'CRUCE RIESGOS'!$C$9:$D$13,2,FALSE),\"\")","v":""}]
[null,null,null,null,null,null,null,null,null,null,null,null,null,{"$f":"IF(N76<>\"\",\" -R\",\"\")","v":""},null,{"$f":"IF(P76<>\"\",\" -R\",\"\")","v":""},null,{"$f":"IF(R76<>\"\",\" -R\",\"\")","v":""},null,{"$f":"IF(T76<>\"\",\" -R\",\"\")","v":""},null,{"$f":"IF(V76<>\"\",\" -R\",\"\")","v":""},null,{"$f":"IF(X76<>\"\",\" -R\",\"\")","v":""},null,{"$f":"IF(Z76<>\"\",\" -R\",\"\")","v":""},null,{"$f":"IF(AB76<>\"\",\" -R\",\"\")","v":""},null,{"$f":"IF(AD76<>\"\",\" -R\",\"\")","v":""},null,{"$f":"IF(AF76<>\"\",\" -R\",\"\")","v":""},null,{"$f":"IF(AH76<>\"\",\" -R\",\"\")","v":""},null,{"$f":"IF(AJ76<>\"\",\" -R\",\"\")","v":""},null,{"$f":"IF(AL76<>\"\",\" -R\",\"\")","v":""},null,{"$f":"IF(AN76<>\"\",\" -R\",\"\")","v":""},null,{"$f":"IF(AP76<>\"\",\" -R\",\"\")","v":""},null,{"$f":"IF(AR76<>\"\",\" -R\",\"\")","v":""},null,{"$f":"IF(AT76<>\"\",\" -R\",\"\")","v":""},null,{"$f":"IF(AV76<>\"\",\" -R\",\"\")","v":""},null,{"$f":"IF(AX76<>\"\",\" -R\",\"\")","v":""},null,{"$f":"IF(AZ76<>\"\",\" -R\",\"\")","v":""},null,{"$f":"IF(BB76<>\"\",\" -R\",\"\")","v":""},null,{"$f":"IF(BD76<>\"\",\" -R\",\"\")","v":""},null,{"$f":"IF(BF76<>\"\",\" -R\",\"\")","v":""},null,{"$f":"IF(BH76<>\"\",\" -R\",\"\")","v":""},null,{"$f":"IF(BJ76<>\"\",\" -R\",\"\")","v":""}]
[null,null,null,null,null,null,null,null,null,null,null,null,1.33,{"$f":"IFERROR(VLOOKUP(M76,'CRUCE RIESGOS'!$C$9:$D$13,2,FALSE),\"\")","v":""},2.3300000000000098,{"$f":"IFERROR(VLOOKUP(O76,'CRUCE RIESGOS'!$C$9:$D$13,2,FALSE),\"\")","v":""},3.3300000000000201,{"$f":"IFERROR(VLOOKUP(Q76,'CRUCE RIESGOS'!$C$9:$D$13,2,FALSE),\"\")","v":""},4.3300000000000303,{"$f":"IFERROR(VLOOKUP(S76,'CRUCE RIESGOS'!$C$9:$D$13,2,FALSE),\"\")","v":""},5.33000000000004,{"$f":"IFERROR(VLOOKUP(U76,'CRUCE RIESGOS'!$C$9:$D$13,2,FALSE),\"\")","v":""},6.3300000000000498,{"$f":"IFERROR(VLOOKUP(W76,'CRUCE RIESGOS'!$C$9:$D$13,2,FALSE),\"\")","v":""},7.3300000000000596,{"$f":"IFERROR(VLOOKUP(Y76,'CRUCE RIESGOS'!$C$9:$D$13,2,FALSE),\"\")","v":""},8.3300000000000693,{"$f":"IFERROR(VLOOKUP(AA76,'CRUCE RIESGOS'!$C$9:$D$13,2,FALSE),\"\")","v":""},9.33000000000008,{"$f":"IFERROR(VLOOKUP(AC76,'CRUCE RIESGOS'!$C$9:$D$13,2,FALSE),\"\")","v":""},10.3300000000001,{"$f":"IFERROR(VLOOKUP(AE76,'CRUCE RIESGOS'!$C$9:$D$13,2,FALSE),\"\")","v":""},11.3300000000001,{"$f":"IFERROR(VLOOKUP(AG76,'CRUCE RIESGOS'!$C$9:$D$13,2,FALSE),\"\")","v":""},12.3300000000001,{"$f":"IFERROR(VLOOKUP(AI76,'CRUCE RIESGOS'!$C$9:$D$13,2,FALSE),\"\")","v":""},13.3300000000001,{"$f":"IFERROR(VLOOKUP(AK76,'CRUCE RIESGOS'!$C$9:$D$13,2,FALSE),\"\")","v":""},14.3300000000001,{"$f":"IFERROR(VLOOKUP(AM76,'CRUCE RIESGOS'!$C$9:$D$13,2,FALSE),\"\")","v":""},15.3300000000001,{"$f":"IFERROR(VLOOKUP(AO76,'CRUCE RIESGOS'!$C$9:$D$13,2,FALSE),\"\")","v":""},16.330000000000101,{"$f":"IFERROR(VLOOKUP(AQ76,'CRUCE RIESGOS'!$C$9:$D$13,2,FALSE),\"\")","v":""},17.330000000000201,{"$f":"IFERROR(VLOOKUP(AS76,'CRUCE RIESGOS'!$C$9:$D$13,2,FALSE),\"\")","v":""},18.330000000000201,{"$f":"IFERROR(VLOOKUP(AU76,'CRUCE RIESGOS'!$C$9:$D$13,2,FALSE),\"\")","v":""},19.330000000000201,{"$f":"IFERROR(VLOOKUP(AW76,'CRUCE RIESGOS'!$C$9:$D$13,2,FALSE),\"\")","v":""},20.330000000000201,{"$f":"IFERROR(VLOOKUP(AY76,'CRUCE RIESGOS'!$C$9:$D$13,2,FALSE),\"\")","v":""},21.330000000000201,{"$f":"IFERROR(VLOOKUP(BA76,'CRUCE RIESGOS'!$C$9:$D$13,2,FALSE),\"\")","v":""},22.330000000000201,{"$f":"IFERROR(VLOOKUP(BC76,'CRUCE RIESGOS'!$C$9:$D$13,2,FALSE),\"\")","v":""},23.330000000000201,{"$f":"IFERROR(VLOOKUP(BE76,'CRUCE RIESGOS'!$C$9:$D$13,2,FALSE),\"\")","v":""},24.330000000000201,{"$f":"IFERROR(VLOOKUP(BG76,'CRUCE RIESGOS'!$C$9:$D$13,2,FALSE),\"\")","v":""},25.330000000000201,{"$f":"IFERROR(VLOOKUP(BI76,'CRUCE RIESGOS'!$C$9:$D$13,2,FALSE),\"\")","v":""}]
[null,null,null,null,null,null,null,null,null,null,null,null,null,"",null,{"$f":"IF(P78<>\"\",\" -R\",\"\")","v":""},null,{"$f":"IF(R78<>\"\",\" -R\",\"\")","v":""},null,{"$f":"IF(T78<>\"\",\" -R\",\"\")","v":""},null,{"$f":"IF(V78<>\"\",\" -R\",\"\")","v":""},null,{"$f":"IF(X78<>\"\",\" -R\",\"\")","v":""},null,{"$f":"IF(Z78<>\"\",\" -R\",\"\")","v":""},null,{"$f":"IF(AB78<>\"\",\" -R\",\"\")","v":""},null,{"$f":"IF(AD78<>\"\",\" -R\",\"\")","v":""},null,"",null,"",null,"",null,"",null,"",null,"",null,"",null,"",null,"",null,"",null,"",null,"",null,"",null,"",null,"",null,""]
[null,null,null,null,null,null,null,null,null,null,null,null,1.34,{"$f":"IFERROR(VLOOKUP(M78,'CRUCE RIESGOS'!$C$9:$D$13,2,FALSE),\"\")","v":""},2.3400000000000101,{"$f":"IFERROR(VLOOKUP(O78,'CRUCE RIESGOS'!$C$9:$D$13,2,FALSE),\"\")","v":""},3.3400000000000198,{"$f":"IFERROR(VLOOKUP(Q78,'CRUCE RIESGOS'!$C$9:$D$13,2,FALSE),\"\")","v":""},4.3400000000000301,{"$f":"IFERROR(VLOOKUP(S78,'CRUCE RIESGOS'!$C$9:$D$13,2,FALSE),\"\")","v":""},5.3400000000000398,{"$f":"IFERROR(VLOOKUP(U78,'CRUCE RIESGOS'!$C$9:$D$13,2,FALSE),\"\")","v":""},6.3400000000000496,{"$f":"IFERROR(VLOOKUP(W78,'CRUCE RIESGOS'!$C$9:$D$13,2,FALSE),\"\")","v":""},7.3400000000000603,{"$f":"IFERROR(VLOOKUP(Y78,'CRUCE RIESGOS'!$C$9:$D$13,2,FALSE),\"\")","v":""},8.3400000000000691,{"$f":"IFERROR(VLOOKUP(AA78,'CRUCE RIESGOS'!$C$9:$D$13,2,FALSE),\"\")","v":""},9.3400000000000798,{"$f":"IFERROR(VLOOKUP(AC78,'CRUCE RIESGOS'!$C$9:$D$13,2,FALSE),\"\")","v":""},10.340000000000099,{"$f":"IFERROR(VLOOKUP(AE78,'CRUCE RIESGOS'!$C$9:$D$13,2,FALSE),\"\")","v":""},11.340000000000099,{"$f":"IFERROR(VLOOKUP(AG78,'CRUCE RIESGOS'!$C$9:$D$13,2,FALSE),\"\")","v":""},12.340000000000099,{"$f":"IFERROR(VLOOKUP(AI78,'CRUCE RIESGOS'!$C$9:$D$13,2,FALSE),\"\")","v":""},13.340000000000099,{"$f":"IFERROR(VLOOKUP(AK78,'CRUCE RIESGOS'!$C$9:$D$13,2,FALSE),\"\")","v":""},14.340000000000099,{"$f":"IFERROR(VLOOKUP(AM78,'CRUCE RIESGOS'!$C$9:$D$13,2,FALSE),\"\")","v":""},15.340000000000099,{"$f":"IFERROR(VLOOKUP(AO78,'CRUCE RIESGOS'!$C$9:$D$13,2,FALSE),\"\")","v":""},16.340000000000099,{"$f":"IFERROR(VLOOKUP(AQ78,'CRUCE RIESGOS'!$C$9:$D$13,2,FALSE),\"\")","v":""},17.340000000000199,{"$f":"IFERROR(VLOOKUP(AS78,'CRUCE RIESGOS'!$C$9:$D$13,2,FALSE),\"\")","v":""},18.340000000000199,{"$f":"IFERROR(VLOOKUP(AU78,'CRUCE RIESGOS'!$C$9:$D$13,2,FALSE),\"\")","v":""},19.340000000000199,{"$f":"IFERROR(VLOOKUP(AW78,'CRUCE RIESGOS'!$C$9:$D$13,2,FALSE),\"\")","v":""},20.340000000000199,{"$f":"IFERROR(VLOOKUP(AY78,'CRUCE RIESGOS'!$C$9:$D$13,2,FALSE),\"\")","v":""},21.340000000000199,{"$f":"IFERROR(VLOOKUP(BA78,'CRUCE RIESGOS'!$C$9:$D$13,2,FALSE),\"\")","v":""},22.340000000000199,{"$f":"IFERROR(VLOOKUP(BC78,'CRUCE RIESGOS'!$C$9:$D$13,2,FALSE),\"\")","v":""},23.340000000000199,{"$f":"IFERROR(VLOOKUP(BE78,'CRUCE RIESGOS'!$C$9:$D$13,2,FALSE),\"\")","v":""},24.340000000000199,{"$f":"IFERROR(VLOOKUP(BG78,'CRUCE RIESGOS'!$C$9:$D$13,2,FALSE),\"\")","v":""},25.340000000000199,{"$f":"IFERROR(VLOOKUP(BI78,'CRUCE RIESGOS'!$C$9:$D$13,2,FALSE),\"\")","v":""}]
[null,null,null,null,null,null,null,null,null,null,null,null,null,"",null,{"$f":"IF(P80<>\"\",\" -R\",\"\")","v":""},null,{"$f":"IF(R80<>\"\",\" -R\",\"\")","v":""},null,{"$f":"IF(T80<>\"\",\" -R\",\"\")","v":""},null,{"$f":"IF(V80<>\"\",\" -R\",\"\")","v":""},null,{"$f":"IF(X80<>\"\",\" -R\",\"\")","v":""},null,{"$f":"IF(Z80<>\"\",\" -R\",\"\")","v":""},null,{"$f":"IF(AB80<>\"\",\" -R\",\"\")","v":""},null,{"$f":"IF(AD80<>\"\",\" -R\",\"\")","v":""},null,"",null,"",null,"",null,"",null,"",null,"",null,"",null,"",null,"",null,"",null,"",null,"",null,"",null,"",null,"",null,""]
[null,null,null,null,null,null,null,null,null,null,null,null,1.35,{"$f":"IFERROR(VLOOKUP(M80,'CRUCE RIESGOS'!$C$9:$D$13,2,FALSE),\"\")","v":""},2.3500000000000099,{"$f":"IFERROR(VLOOKUP(O80,'CRUCE RIESGOS'!$C$9:$D$13,2,FALSE),\"\")","v":""},3.3500000000000201,{"$f":"IFERROR(VLOOKUP(Q80,'CRUCE RIESGOS'!$C$9:$D$13,2,FALSE),\"\")","v":""},4.3500000000000298,{"$f":"IFERROR(VLOOKUP(S80,'CRUCE RIESGOS'!$C$9:$D$13,2,FALSE),\"\")","v":""},5.3500000000000396,{"$f":"IFERROR(VLOOKUP(U80,'CRUCE RIESGOS'!$C$9:$D$13,2,FALSE),\"\")","v":""},6.3500000000000503,{"$f":"IFERROR(VLOOKUP(W80,'CRUCE RIESGOS'!$C$9:$D$13,2,FALSE),\"\")","v":""},7.35000000000006,{"$f":"IFERROR(VLOOKUP(Y80,'CRUCE RIESGOS'!$C$9:$D$13,2,FALSE),\"\")","v":""},8.3500000000000707,{"$f":"IFERROR(VLOOKUP(AA80,'CRUCE RIESGOS'!$C$9:$D$13,2,FALSE),\"\")","v":""},9.3500000000000796,{"$f":"IFERROR(VLOOKUP(AC80,'CRUCE RIESGOS'!$C$9:$D$13,2,FALSE),\"\")","v":""},10.350000000000099,{"$f":"IFERROR(VLOOKUP(AE80,'CRUCE RIESGOS'!$C$9:$D$13,2,FALSE),\"\")","v":""},11.350000000000099,{"$f":"IFERROR(VLOOKUP(AG80,'CRUCE RIESGOS'!$C$9:$D$13,2,FALSE),\"\")","v":""},12.350000000000099,{"$f":"IFERROR(VLOOKUP(AI80,'CRUCE RIESGOS'!$C$9:$D$13,2,FALSE),\"\")","v":""},13.350000000000099,{"$f":"IFERROR(VLOOKUP(AK80,'CRUCE RIESGOS'!$C$9:$D$13,2,FALSE),\"\")","v":""},14.350000000000099,{"$f":"IFERROR(VLOOKUP(AM80,'CRUCE RIESGOS'!$C$9:$D$13,2,FALSE),\"\")","v":""},15.350000000000099,{"$f":"IFERROR(VLOOKUP(AO80,'CRUCE RIESGOS'!$C$9:$D$13,2,FALSE),\"\")","v":""},16.350000000000101,{"$f":"IFERROR(VLOOKUP(AQ80,'CRUCE RIESGOS'!$C$9:$D$13,2,FALSE),\"\")","v":""},17.3500000000002,{"$f":"IFERROR(VLOOKUP(AS80,'CRUCE RIESGOS'!$C$9:$D$13,2,FALSE),\"\")","v":""},18.3500000000002,{"$f":"IFERROR(VLOOKUP(AU80,'CRUCE RIESGOS'!$C$9:$D$13,2,FALSE),\"\")","v":""},19.3500000000002,{"$f":"IFERROR(VLOOKUP(AW80,'CRUCE RIESGOS'!$C$9:$D$13,2,FALSE),\"\")","v":""},20.3500000000002,{"$f":"IFERROR(VLOOKUP(AY80,'CRUCE RIESGOS'!$C$9:$D$13,2,FALSE),\"\")","v":""},21.3500000000002,{"$f":"IFERROR(VLOOKUP(BA80,'CRUCE RIESGOS'!$C$9:$D$13,2,FALSE),\"\")","v":""},22.3500000000002,{"$f":"IFERROR(VLOOKUP(BC80,'CRUCE RIESGOS'!$C$9:$D$13,2,FALSE),\"\")","v":""},23.3500000000002,{"$f":"IFERROR(VLOOKUP(BE80,'CRUCE RIESGOS'!$C$9:$D$13,2,FALSE),\"\")","v":""},24.3500000000002,{"$f":"IFERROR(VLOOKUP(BG80,'CRUCE RIESGOS'!$C$9:$D$13,2,FALSE),\"\")","v":""},25.3500000000002,{"$f":"IFERROR(VLOOKUP(BI80,'CRUCE RIESGOS'!$C$9:$D$13,2,FALSE),\"\")","v":""}]
[null,null,null,null,null,null,null,null,null,null,null,null,null,"",null,{"$f":"IF(P82<>\"\",\" -R\",\"\")","v":""},null,{"$f":"IF(R82<>\"\",\" -R\",\"\")","v":""},null,{"$f":"IF(T82<>\"\",\" -R\",\"\")","v":""},null,{"$f":"IF(V82<>\"\",\" -R\",\"\")","v":""},null,{"$f":"IF(X82<>\"\",\" -R\",\"\")","v":""},null,{"$f":"IF(Z82<>\"\",\" -R\",\"\")","v":""},null,{"$f":"IF(AB82<>\"\",\" -R\",\"\")","v":""},null,{"$f":"IF(AD82<>\"\",\" -R\",\"\")","v":""},null,"",null,"",null,"",null,"",null,"",null,"",null,"",null,"",null,"",null,"",null,"",null,"",null,"",null,"",null,"",null,""]
[null,null,null,null,null,null,null,null,null,null,null,null,1.36,{"$f":"IFERROR(VLOOKUP(M82,'CRUCE RIESGOS'!$C$9:$D$13,2,FALSE),\"\")","v":""},2.3600000000000101,{"$f":"IFERROR(VLOOKUP(O82,'CRUCE RIESGOS'!$C$9:$D$13,2,FALSE),\"\")","v":""},3.3600000000000199,{"$f":"IFERROR(VLOOKUP(Q82,'CRUCE RIESGOS'!$C$9:$D$13,2,FALSE),\"\")","v":""},4.3600000000000296,{"$f":"IFERROR(VLOOKUP(S82,'CRUCE RIESGOS'!$C$9:$D$13,2,FALSE),\"\")","v":""},5.3600000000000403,{"$f":"IFERROR(VLOOKUP(U82,'CRUCE RIESGOS'!$C$9:$D$13,2,FALSE),\"\")","v":""},6.3600000000000501,{"$f":"IFERROR(VLOOKUP(W82,'CRUCE RIESGOS'!$C$9:$D$13,2,FALSE),\"\")","v":""},7.3600000000000598,{"$f":"IFERROR(VLOOKUP(Y82,'CRUCE RIESGOS'!$C$9:$D$13,2,FALSE),\"\")","v":""},8.3600000000000705,{"$f":"IFERROR(VLOOKUP(AA82,'CRUCE RIESGOS'!$C$9:$D$13,2,FALSE),\"\")","v":""},9.3600000000000794,{"$f":"IFERROR(VLOOKUP(AC82,'CRUCE RIESGOS'!$C$9:$D$13,2,FALSE),\"\")","v":""},10.360000000000101,{"$f":"IFERROR(VLOOKUP(AE82,'CRUCE RIESGOS'!$C$9:$D$13,2,FALSE),\"\")","v":""},11.360000000000101,{"$f":"IFERROR(VLOOKUP(AG82,'CRUCE RIESGOS'!$C$9:$D$13,2,FALSE),\"\")","v":""},12.360000000000101,{"$f":"IFERROR(VLOOKUP(AI82,'CRUCE RIESGOS'!$C$9:$D$13,2,FALSE),\"\")","v":""},13.360000000000101,{"$f":"IFERROR(VLOOKUP(AK82,'CRUCE RIESGOS'!$C$9:$D$13,2,FALSE),\"\")","v":""},14.360000000000101,{"$f":"IFERROR(VLOOKUP(AM82,'CRUCE RIESGOS'!$C$9:$D$13,2,FALSE),\"\")","v":""},15.360000000000101,{"$f":"IFERROR(VLOOKUP(AO82,'CRUCE RIESGOS'!$C$9:$D$13,2,FALSE),\"\")","v":""},16.360000000000099,{"$f":"IFERROR(VLOOKUP(AQ82,'CRUCE RIESGOS'!$C$9:$D$13,2,FALSE),\"\")","v":""},17.360000000000198,{"$f":"IFERROR(VLOOKUP(AS82,'CRUCE RIESGOS'!$C$9:$D$13,2,FALSE),\"\")","v":""},18.360000000000198,{"$f":"IFERROR(VLOOKUP(AU82,'CRUCE RIESGOS'!$C$9:$D$13,2,FALSE),\"\")","v":""},19.360000000000198,{"$f":"IFERROR(VLOOKUP(AW82,'CRUCE RIESGOS'!$C$9:$D$13,2,FALSE),\"\")","v":""},20.360000000000198,{"$f":"IFERROR(VLOOKUP(AY82,'CRUCE RIESGOS'!$C$9:$D$13,2,FALSE),\"\")","v":""},21.360000000000198,{"$f":"IFERROR(VLOOKUP(BA82,'CRUCE RIESGOS'!$C$9:$D$13,2,FALSE),\"\")","v":""},22.360000000000198,{"$f":"IFERROR(VLOOKUP(BC82,'CRUCE RIESGOS'!$C$9:$D$13,2,FALSE),\"\")","v":""},23.360000000000198,{"$f":"IFERROR(VLOOKUP(BE82,'CRUCE RIESGOS'!$C$9:$D$13,2,FALSE),\"\")","v":""},24.360000000000198,{"$f":"IFERROR(VLOOKUP(BG82,'CRUCE RIESGOS'!$C$9:$D$13,2,FALSE),\"\")","v":""},25.360000000000198,{"$f":"IFERROR(VLOOKUP(BI82,'CRUCE RIESGOS'!$C$9:$D$13,2,FALSE),\"\")","v":""}]
[null,null,null,null,null,null,null,null,null,null,null,null,null,"",null,{"$f":"IF(P84<>\"\",\" -R\",\"\")","v":""},null,{"$f":"IF(R84<>\"\",\" -R\",\"\")","v":""},null,{"$f":"IF(T84<>\"\",\" -R\",\"\")","v":""},null,{"$f":"IF(V84<>\"\",\" -R\",\"\")","v":""},null,{"$f":"IF(X84<>\"\",\" -R\",\"\")","v":""},null,{"$f":"IF(Z84<>\"\",\" -R\",\"\")","v":""},null,{"$f":"IF(AB84<>\"\",\" -R\",\"\")","v":""},null,{"$f":"IF(AD84<>\"\",\" -R\",\"\")","v":""},null,"",null,"",null,"",null,"",null,"",null,"",null,"",null,"",null,"",null,"",null,"",null,"",null,"",null,"",null,"",null,""]
[null,null,null,null,null,null,null,null,null,null,null,null,1.37,{"$f":"IFERROR(VLOOKUP(M84,'CRUCE RIESGOS'!$C$9:$D$13,2,FALSE),\"\")","v":""},2.3700000000000099,{"$f":"IFERROR(VLOOKUP(O84,'CRUCE RIESGOS'!$C$9:$D$13,2,FALSE),\"\")","v":""},3.3700000000000201,{"$f":"IFERROR(VLOOKUP(Q84,'CRUCE RIESGOS'!$C$9:$D$13,2,FALSE),\"\")","v":""},4.3700000000000303,{"$f":"IFERROR(VLOOKUP(S84,'CRUCE RIESGOS'!$C$9:$D$13,2,FALSE),\"\")","v":""},5.3700000000000401,{"$f":"IFERROR(VLOOKUP(U84,'CRUCE RIESGOS'!$C$9:$D$13,2,FALSE),\"\")","v":""},6.3700000000000498,{"$f":"IFERROR(VLOOKUP(W84,'CRUCE RIESGOS'!$C$9:$D$13,2,FALSE),\"\")","v":""},7.3700000000000596,{"$f":"IFERROR(VLOOKUP(Y84,'CRUCE RIESGOS'!$C$9:$D$13,2,FALSE),\"\")","v":""},8.3700000000000703,{"$f":"IFERROR(VLOOKUP(AA84,'CRUCE RIESGOS'!$C$9:$D$13,2,FALSE),\"\")","v":""},9.3700000000000792,{"$f":"IFERROR(VLOOKUP(AC84,'CRUCE RIESGOS'!$C$9:$D$13,2,FALSE),\"\")","v":""},10.3700000000001,{"$f":"IFERROR(VLOOKUP(AE84,'CRUCE RIESGOS'!$C$9:$D$13,2,FALSE),\"\")","v":""},11.3700000000001,{"$f":"IFERROR(VLOOKUP(AG84,'CRUCE RIESGOS'!$C$9:$D$13,2,FALSE),\"\")","v":""},12.3700000000001,{"$f":"IFERROR(VLOOKUP(AI84,'CRUCE RIESGOS'!$C$9:$D$13,2,FALSE),\"\")","v":""},13.3700000000001,{"$f":"IFERROR(VLOOKUP(AK84,'CRUCE RIESGOS'!$C$9:$D$13,2,FALSE),\"\")","v":""},14.3700000000001,{"$f":"IFERROR(VLOOKUP(AM84,'CRUCE RIESGOS'!$C$9:$D$13,2,FALSE),\"\")","v":""},15.3700000000001,{"$f":"IFERROR(VLOOKUP(AO84,'CRUCE RIESGOS'!$C$9:$D$13,2,FALSE),\"\")","v":""},16.3700000000001,{"$f":"IFERROR(VLOOKUP(AQ84,'CRUCE RIESGOS'!$C$9:$D$13,2,FALSE),\"\")","v":""},17.3700000000002,{"$f":"IFERROR(VLOOKUP(AS84,'CRUCE RIESGOS'!$C$9:$D$13,2,FALSE),\"\")","v":""},18.3700000000002,{"$f":"IFERROR(VLOOKUP(AU84,'CRUCE RIESGOS'!$C$9:$D$13,2,FALSE),\"\")","v":""},19.3700000000002,{"$f":"IFERROR(VLOOKUP(AW84,'CRUCE RIESGOS'!$C$9:$D$13,2,FALSE),\"\")","v":""},20.3700000000002,{"$f":"IFERROR(VLOOKUP(AY84,'CRUCE RIESGOS'!$C$9:$D$13,2,FALSE),\"\")","v":""},21.3700000000002,{"$f":"IFERROR(VLOOKUP(BA84,'CRUCE RIESGOS'!$C$9:$D$13,2,FALSE),\"\")","v":""},22.3700000000002,{"$f":"IFERROR(VLOOKUP(BC84,'CRUCE RIESGOS'!$C$9:$D$13,2,FALSE),\"\")","v":""},23.3700000000002,{"$f":"IFERROR(VLOOKUP(BE84,'CRUCE RIESGOS'!$C$9:$D$13,2,FALSE),\"\")","v":""},24.3700000000002,{"$f":"IFERROR(VLOOKUP(BG84,'CRUCE RIESGOS'!$C$9:$D$13,2,FALSE),\"\")","v":""},25.3700000000002,{"$f":"IFERROR(VLOOKUP(BI84,'CRUCE RIESGOS'!$C$9:$D$13,2,FALSE),\"\")","v":""}]
[null,null,null,null,null,null,null,null,null,null,null,null,null,"",null,{"$f":"IF(P86<>\"\",\" -R\",\"\")","v":""},null,{"$f":"IF(R86<>\"\",\" -R\",\"\")","v":""},null,{"$f":"IF(T86<>\"\",\" -R\",\"\")","v":""},null,{"$f":"IF(V86<>\"\",\" -R\",\"\")","v":""},null,{"$f":"IF(X86<>\"\",\" -R\",\"\")","v":""},null,{"$f":"IF(Z86<>\"\",\" -R\",\"\")","v":""},null,{"$f":"IF(AB86<>\"\",\" -R\",\"\")","v":""},null,{"$f":"IF(AD86<>\"\",\" -R\",\"\")","v":""},null,"",null,"",null,"",null,"",null,"",null,"",null,"",null,"",null,"",null,"",null,"",null,"",null,"",null,"",null,"",null,""]
[null,null,null,null,null,null,null,null,null,null,null,null,1.38,{"$f":"IFERROR(VLOOKUP(M86,'CRUCE RIESGOS'!$C$9:$D$13,2,FALSE),\"\")","v":""},2.3800000000000101,{"$f":"IFERROR(VLOOKUP(O86,'CRUCE RIESGOS'!$C$9:$D$13,2,FALSE),\"\")","v":""},3.3800000000000199,{"$f":"IFERROR(VLOOKUP(Q86,'CRUCE RIESGOS'!$C$9:$D$13,2,FALSE),\"\")","v":""},4.3800000000000301,{"$f":"IFERROR(VLOOKUP(S86,'CRUCE RIESGOS'!$C$9:$D$13,2,FALSE),\"\")","v":""},5.3800000000000399,{"$f":"IFERROR(VLOOKUP(U86,'CRUCE RIESGOS'!$C$9:$D$13,2,FALSE),\"\")","v":""},6.3800000000000496,{"$f":"IFERROR(VLOOKUP(W86,'CRUCE RIESGOS'!$C$9:$D$13,2,FALSE),\"\")","v":""},7.3800000000000603,{"$f":"IFERROR(VLOOKUP(Y86,'CRUCE RIESGOS'!$C$9:$D$13,2,FALSE),\"\")","v":""},8.3800000000000701,{"$f":"IFERROR(VLOOKUP(AA86,'CRUCE RIESGOS'!$C$9:$D$13,2,FALSE),\"\")","v":""},9.3800000000000807,{"$f":"IFERROR(VLOOKUP(AC86,'CRUCE RIESGOS'!$C$9:$D$13,2,FALSE),\"\")","v":""},10.3800000000001,{"$f":"IFERROR(VLOOKUP(AE86,'CRUCE RIESGOS'!$C$9:$D$13,2,FALSE),\"\")","v":""},11.3800000000001,{"$f":"IFERROR(VLOOKUP(AG86,'CRUCE RIESGOS'!$C$9:$D$13,2,FALSE),\"\")","v":""},12.3800000000001,{"$f":"IFERROR(VLOOKUP(AI86,'CRUCE RIESGOS'!$C$9:$D$13,2,FALSE),\"\")","v":""},13.3800000000001,{"$f":"IFERROR(VLOOKUP(AK86,'CRUCE RIESGOS'!$C$9:$D$13,2,FALSE),\"\")","v":""},14.3800000000001,{"$f":"IFERROR(VLOOKUP(AM86,'CRUCE RIESGOS'!$C$9:$D$13,2,FALSE),\"\")","v":""},15.3800000000001,{"$f":"IFERROR(VLOOKUP(AO86,'CRUCE RIESGOS'!$C$9:$D$13,2,FALSE),\"\")","v":""},16.380000000000202,{"$f":"IFERROR(VLOOKUP(AQ86,'CRUCE RIESGOS'!$C$9:$D$13,2,FALSE),\"\")","v":""},17.380000000000202,{"$f":"IFERROR(VLOOKUP(AS86,'CRUCE RIESGOS'!$C$9:$D$13,2,FALSE),\"\")","v":""},18.380000000000202,{"$f":"IFERROR(VLOOKUP(AU86,'CRUCE RIESGOS'!$C$9:$D$13,2,FALSE),\"\")","v":""},19.380000000000202,{"$f":"IFERROR(VLOOKUP(AW86,'CRUCE RIESGOS'!$C$9:$D$13,2,FALSE),\"\")","v":""},20.380000000000202,{"$f":"IFERROR(VLOOKUP(AY86,'CRUCE RIESGOS'!$C$9:$D$13,2,FALSE),\"\")","v":""},21.380000000000202,{"$f":"IFERROR(VLOOKUP(BA86,'CRUCE RIESGOS'!$C$9:$D$13,2,FALSE),\"\")","v":""},22.380000000000202,{"$f":"IFERROR(VLOOKUP(BC86,'CRUCE RIESGOS'!$C$9:$D$13,2,FALSE),\"\")","v":""},23.380000000000202,{"$f":"IFERROR(VLOOKUP(BE86,'CRUCE RIESGOS'!$C$9:$D$13,2,FALSE),\"\")","v":""},24.380000000000202,{"$f":"IFERROR(VLOOKUP(BG86,'CRUCE RIESGOS'!$C$9:$D$13,2,FALSE),\"\")","v":""},25.380000000000202,{"$f":"IFERROR(VLOOKUP(BI86,'CRUCE RIESGOS'!$C$9:$D$13,2,FALSE),\"\")","v":""}]
[null,null,null,null,null,null,null,null,null,null,null,null,null,"",null,{"$f":"IF(P88<>\"\",\" -R\",\"\")","v":""},null,{"$f":"IF(R88<>\"\",\" -R\",\"\")","v":""},null,{"$f":"IF(T88<>\"\",\" -R\",\"\")","v":""},null,{"$f":"IF(V88<>\"\",\" -R\",\"\")","v":""},null,{"$f":"IF(X88<>\"\",\" -R\",\"\")","v":""},null,{"$f":"IF(Z88<>\"\",\" -R\",\"\")","v":""},null,{"$f":"IF(AB88<>\"\",\" -R\",\"\")","v":""},null,{"$f":"IF(AD88<>\"\",\" -R\",\"\")","v":""},null,"",null,"",null,"",null,"",null,"",null,"",null,"",null,"",null,"",null,"",null,"",null,"",null,"",null,"",null,"",null,""]
[null,null,null,null,null,null,null,null,null,null,null,null,1.39,{"$f":"IFERROR(VLOOKUP(M88,'CRUCE RIESGOS'!$C$9:$D$13,2,FALSE),\"\")","v":""},2.3900000000000099,{"$f":"IFERROR(VLOOKUP(O88,'CRUCE RIESGOS'!$C$9:$D$13,2,FALSE),\"\")","v":""},3.3900000000000201,{"$f":"IFERROR(VLOOKUP(Q88,'CRUCE RIESGOS'!$C$9:$D$13,2,FALSE),\"\")","v":""},4.3900000000000299,{"$f":"IFERROR(VLOOKUP(S88,'CRUCE RIESGOS'!$C$9:$D$13,2,FALSE),\"\")","v":""},5.3900000000000396,{"$f":"IFERROR(VLOOKUP(U88,'CRUCE RIESGOS'!$C$9:$D$13,2,FALSE),\"\")","v":""},6.3900000000000503,{"$f":"IFERROR(VLOOKUP(W88,'CRUCE RIESGOS'!$C$9:$D$13,2,FALSE),\"\")","v":""},7.3900000000000601,{"$f":"IFERROR(VLOOKUP(Y88,'CRUCE RIESGOS'!$C$9:$D$13,2,FALSE),\"\")","v":""},8.3900000000000698,{"$f":"IFERROR(VLOOKUP(AA88,'CRUCE RIESGOS'!$C$9:$D$13,2,FALSE),\"\")","v":""},9.3900000000000805,{"$f":"IFERROR(VLOOKUP(AC88,'CRUCE RIESGOS'!$C$9:$D$13,2,FALSE),\"\")","v":""},10.3900000000001,{"$f":"IFERROR(VLOOKUP(AE88,'CRUCE RIESGOS'!$C$9:$D$13,2,FALSE),\"\")","v":""},11.3900000000001,{"$f":"IFERROR(VLOOKUP(AG88,'CRUCE RIESGOS'!$C$9:$D$13,2,FALSE),\"\")","v":""},12.3900000000001,{"$f":"IFERROR(VLOOKUP(AI88,'CRUCE RIESGOS'!$C$9:$D$13,2,FALSE),\"\")","v":""},13.3900000000001,{"$f":"IFERROR(VLOOKUP(AK88,'CRUCE RIESGOS'!$C$9:$D$13,2,FALSE),\"\")","v":""},14.3900000000001,{"$f":"IFERROR(VLOOKUP(AM88,'CRUCE RIESGOS'!$C$9:$D$13,2,FALSE),\"\")","v":""},15.3900000000001,{"$f":"IFERROR(VLOOKUP(AO88,'CRUCE RIESGOS'!$C$9:$D$13,2,FALSE),\"\")","v":""},16.3900000000001,{"$f":"IFERROR(VLOOKUP(AQ88,'CRUCE RIESGOS'!$C$9:$D$13,2,FALSE),\"\")","v":""},17.3900000000002,{"$f":"IFERROR(VLOOKUP(AS88,'CRUCE RIESGOS'!$C$9:$D$13,2,FALSE),\"\")","v":""},18.3900000000002,{"$f":"IFERROR(VLOOKUP(AU88,'CRUCE RIESGOS'!$C$9:$D$13,2,FALSE),\"\")","v":""},19.3900000000002,{"$f":"IFERROR(VLOOKUP(AW88,'CRUCE RIESGOS'!$C$9:$D$13,2,FALSE),\"\")","v":""},20.3900000000002,{"$f":"IFERROR(VLOOKUP(AY88,'CRUCE RIESGOS'!$C$9:$D$13,2,FALSE),\"\")","v":""},21.3900000000002,{"$f":"IFERROR(VLOOKUP(BA88,'CRUCE RIESGOS'!$C$9:$D$13,2,FALSE),\"\")","v":""},22.3900000000002,{"$f":"IFERROR(VLOOKUP(BC88,'CRUCE RIESGOS'!$C$9:$D$13,2,FALSE),\"\")","v":""},23.3900000000002,{"$f":"IFERROR(VLOOKUP(BE88,'CRUCE RIESGOS'!$C$9:$D$13,2,FALSE),\"\")","v":""},24.3900000000002,{"$f":"IFERROR(VLOOKUP(BG88,'CRUCE RIESGOS'!$C$9:$D$13,2,FALSE),\"\")","v":""},25.3900000000002,{"$f":"IFERROR(VLOOKUP(BI88,'CRUCE RIESGOS'!$C$9:$D$13,2,FALSE),\"\")","v":""}]
[null,null,null,null,null,null,null,null,null,null,null,null,null,"",null,{"$f":"IF(P90<>\"\",\" -R\",\"\")","v":""},null,{"$f":"IF(R90<>\"\",\" -R\",\"\")","v":""},null,{"$f":"IF(T90<>\"\",\" -R\",\"\")","v":""},null,{"$f":"IF(V90<>\"\",\" -R\",\"\")","v":""},null,{"$f":"IF(X90<>\"\",\" -R\",\"\")","v":""},null,{"$f":"IF(Z90<>\"\",\" -R\",\"\")","v":""},null,{"$f":"IF(AB90<>\"\",\" -R\",\"\")","v":""},null,{"$f":"IF(AD90<>\"\",\" -R\",\"\")","v":""},null,"",null,"",null,"",null,"",null,"",null,"",null,"",null,"",null,"",null,"",null,"",null,"",null,"",null,"",null,"",null,""]
[null,null,null,null,null,null,null,null,null,null,null,null,1.4,{"$f":"IFERROR(VLOOKUP(M90,'CRUCE RIESGOS'!$C$9:$D$13,2,FALSE),\"\")","v":""},2.4000000000000101,{"$f":"IFERROR(VLOOKUP(O90,'CRUCE RIESGOS'!$C$9:$D$13,2,FALSE),\"\")","v":""},3.4000000000000199,{"$f":"IFERROR(VLOOKUP(Q90,'CRUCE RIESGOS'!$C$9:$D$13,2,FALSE),\"\")","v":""},4.4000000000000297,{"$f":"IFERROR(VLOOKUP(S90,'CRUCE RIESGOS'!$C$9:$D$13,2,FALSE),\"\")","v":""},5.4000000000000403,{"$f":"IFERROR(VLOOKUP(U90,'CRUCE RIESGOS'!$C$9:$D$13,2,FALSE),\"\")","v":""},6.4000000000000501,{"$f":"IFERROR(VLOOKUP(W90,'CRUCE RIESGOS'!$C$9:$D$13,2,FALSE),\"\")","v":""},7.4000000000000599,{"$f":"IFERROR(VLOOKUP(Y90,'CRUCE RIESGOS'!$C$9:$D$13,2,FALSE),\"\")","v":""},8.4000000000000696,{"$f":"IFERROR(VLOOKUP(AA90,'CRUCE RIESGOS'!$C$9:$D$13,2,FALSE),\"\")","v":""},9.4000000000000803,{"$f":"IFERROR(VLOOKUP(AC90,'CRUCE RIESGOS'!$C$9:$D$13,2,FALSE),\"\")","v":""},10.4000000000001,{"$f":"IFERROR(VLOOKUP(AE90,'CRUCE RIESGOS'!$C$9:$D$13,2,FALSE),\"\")","v":""},11.4000000000001,{"$f":"IFERROR(VLOOKUP(AG90,'CRUCE RIESGOS'!$C$9:$D$13,2,FALSE),\"\")","v":""},12.4000000000001,{"$f":"IFERROR(VLOOKUP(AI90,'CRUCE RIESGOS'!$C$9:$D$13,2,FALSE),\"\")","v":""},13.4000000000001,{"$f":"IFERROR(VLOOKUP(AK90,'CRUCE RIESGOS'!$C$9:$D$13,2,FALSE),\"\")","v":""},14.4000000000001,{"$f":"IFERROR(VLOOKUP(AM90,'CRUCE RIESGOS'!$C$9:$D$13,2,FALSE),\"\")","v":""},15.4000000000001,{"$f":"IFERROR(VLOOKUP(AO90,'CRUCE RIESGOS'!$C$9:$D$13,2,FALSE),\"\")","v":""},16.400000000000201,{"$f":"IFERROR(VLOOKUP(AQ90,'CRUCE RIESGOS'!$C$9:$D$13,2,FALSE),\"\")","v":""},17.400000000000201,{"$f":"IFERROR(VLOOKUP(AS90,'CRUCE RIESGOS'!$C$9:$D$13,2,FALSE),\"\")","v":""},18.400000000000201,{"$f":"IFERROR(VLOOKUP(AU90,'CRUCE RIESGOS'!$C$9:$D$13,2,FALSE),\"\")","v":""},19.400000000000201,{"$f":"IFERROR(VLOOKUP(AW90,'CRUCE RIESGOS'!$C$9:$D$13,2,FALSE),\"\")","v":""},20.400000000000201,{"$f":"IFERROR(VLOOKUP(AY90,'CRUCE RIESGOS'!$C$9:$D$13,2,FALSE),\"\")","v":""},21.400000000000201,{"$f":"IFERROR(VLOOKUP(BA90,'CRUCE RIESGOS'!$C$9:$D$13,2,FALSE),\"\")","v":""},22.400000000000201,{"$f":"IFERROR(VLOOKUP(BC90,'CRUCE RIESGOS'!$C$9:$D$13,2,FALSE),\"\")","v":""},23.400000000000201,{"$f":"IFERROR(VLOOKUP(BE90,'CRUCE RIESGOS'!$C$9:$D$13,2,FALSE),\"\")","v":""},24.400000000000201,{"$f":"IFERROR(VLOOKUP(BG90,'CRUCE RIESGOS'!$C$9:$D$13,2,FALSE),\"\")","v":""},25.400000000000201,{"$f":"IFERROR(VLOOKUP(BI90,'CRUCE RIESGOS'!$C$9:$D$13,2,FALSE),\"\")","v":""}]
[null,null,null,null,null,null,null,null,null,null,null,null,null,"",null,{"$f":"IF(P92<>\"\",\" -R\",\"\")","v":""},null,{"$f":"IF(R92<>\"\",\" -R\",\"\")","v":""},null,{"$f":"IF(T92<>\"\",\" -R\",\"\")","v":""},null,{"$f":"IF(V92<>\"\",\" -R\",\"\")","v":""},null,{"$f":"IF(X92<>\"\",\" -R\",\"\")","v":""},null,{"$f":"IF(Z92<>\"\",\" -R\",\"\")","v":""},null,{"$f":"IF(AB92<>\"\",\" -R\",\"\")","v":""},null,{"$f":"IF(AD92<>\"\",\" -R\",\"\")","v":""},null,"",null,"",null,"",null,"",null,"",null,"",null,"",null,"",null,"",null,"",null,"",null,"",null,"",null,"",null,"",null,""]
[null,null,null,null,null,null,null,null,null,null,null,null,1.41,{"$f":"IFERROR(VLOOKUP(M92,'CRUCE RIESGOS'!$C$9:$D$13,2,FALSE),\"\")","v":""},2.4100000000000099,{"$f":"IFERROR(VLOOKUP(O92,'CRUCE RIESGOS'!$C$9:$D$13,2,FALSE),\"\")","v":""},3.4100000000000201,{"$f":"IFERROR(VLOOKUP(Q92,'CRUCE RIESGOS'!$C$9:$D$13,2,FALSE),\"\")","v":""},4.4100000000000303,{"$f":"IFERROR(VLOOKUP(S92,'CRUCE RIESGOS'!$C$9:$D$13,2,FALSE),\"\")","v":""},5.4100000000000401,{"$f":"IFERROR(VLOOKUP(U92,'CRUCE RIESGOS'!$C$9:$D$13,2,FALSE),\"\")","v":""},6.4100000000000499,{"$f":"IFERROR(VLOOKUP(W92,'CRUCE RIESGOS'!$C$9:$D$13,2,FALSE),\"\")","v":""},7.4100000000000597,{"$f":"IFERROR(VLOOKUP(Y92,'CRUCE RIESGOS'!$C$9:$D$13,2,FALSE),\"\")","v":""},8.4100000000000694,{"$f":"IFERROR(VLOOKUP(AA92,'CRUCE RIESGOS'!$C$9:$D$13,2,FALSE),\"\")","v":""},9.4100000000000801,{"$f":"IFERROR(VLOOKUP(AC92,'CRUCE RIESGOS'!$C$9:$D$13,2,FALSE),\"\")","v":""},10.4100000000001,{"$f":"IFERROR(VLOOKUP(AE92,'CRUCE RIESGOS'!$C$9:$D$13,2,FALSE),\"\")","v":""},11.4100000000001,{"$f":"IFERROR(VLOOKUP(AG92,'CRUCE RIESGOS'!$C$9:$D$13,2,FALSE),\"\")","v":""},12.4100000000001,{"$f":"IFERROR(VLOOKUP(AI92,'CRUCE RIESGOS'!$C$9:$D$13,2,FALSE),\"\")","v":""},13.4100000000001,{"$f":"IFERROR(VLOOKUP(AK92,'CRUCE RIESGOS'!$C$9:$D$13,2,FALSE),\"\")","v":""},14.4100000000001,{"$f":"IFERROR(VLOOKUP(AM92,'CRUCE RIESGOS'!$C$9:$D$13,2,FALSE),\"\")","v":""},15.4100000000001,{"$f":"IFERROR(VLOOKUP(AO92,'CRUCE RIESGOS'!$C$9:$D$13,2,FALSE),\"\")","v":""},16.4100000000001,{"$f":"IFERROR(VLOOKUP(AQ92,'CRUCE RIESGOS'!$C$9:$D$13,2,FALSE),\"\")","v":""},17.410000000000199,{"$f":"IFERROR(VLOOKUP(AS92,'CRUCE RIESGOS'!$C$9:$D$13,2,FALSE),\"\")","v":""},18.410000000000199,{"$f":"IFERROR(VLOOKUP(AU92,'CRUCE RIESGOS'!$C$9:$D$13,2,FALSE),\"\")","v":""},19.410000000000199,{"$f":"IFERROR(VLOOKUP(AW92,'CRUCE RIESGOS'!$C$9:$D$13,2,FALSE),\"\")","v":""},20.410000000000199,{"$f":"IFERROR(VLOOKUP(AY92,'CRUCE RIESGOS'!$C$9:$D$13,2,FALSE),\"\")","v":""},21.410000000000199,{"$f":"IFERROR(VLOOKUP(BA92,'CRUCE RIESGOS'!$C$9:$D$13,2,FALSE),\"\")","v":""},22.410000000000199,{"$f":"IFERROR(VLOOKUP(BC92,'CRUCE RIESGOS'!$C$9:$D$13,2,FALSE),\"\")","v":""},23.410000000000199,{"$f":"IFERROR(VLOOKUP(BE92,'CRUCE RIESGOS'!$C$9:$D$13,2,FALSE),\"\")","v":""},24.410000000000199,{"$f":"IFERROR(VLOOKUP(BG92,'CRUCE RIESGOS'!$C$9:$D$13,2,FALSE),\"\")","v":""},25.410000000000199,{"$f":"IFERROR(VLOOKUP(BI92,'CRUCE RIESGOS'!$C$9:$D$13,2,FALSE),\"\")","v":""}]
[null,null,null,null,null,null,null,null,null,null,null,null,null,"",null,{"$f":"IF(P94<>\"\",\" -R\",\"\")","v":""},null,{"$f":"IF(R94<>\"\",\" -R\",\"\")","v":""},null,{"$f":"IF(T94<>\"\",\" -R\",\"\")","v":""},null,{"$f":"IF(V94<>\"\",\" -R\",\"\")","v":""},null,{"$f":"IF(X94<>\"\",\" -R\",\"\")","v":""},null,{"$f":"IF(Z94<>\"\",\" -R\",\"\")","v":""},null,{"$f":"IF(AB94<>\"\",\" -R\",\"\")","v":""},null,{"$f":"IF(AD94<>\"\",\" -R\",\"\")","v":""},null,"",null,"",null,"",null,"",null,"",null,"",null,"",null,"",null,"",null,"",null,"",null,"",null,"",null,"",null,"",null,""]
[null,null,null,null,null,null,null,null,null,null,null,null,1.42,{"$f":"IFERROR(VLOOKUP(M94,'CRUCE RIESGOS'!$C$9:$D$13,2,FALSE),\"\")","v":""},2.4200000000000101,{"$f":"IFERROR(VLOOKUP(O94,'CRUCE RIESGOS'!$C$9:$D$13,2,FALSE),\"\")","v":""},3.4200000000000199,{"$f":"IFERROR(VLOOKUP(Q94,'CRUCE RIESGOS'!$C$9:$D$13,2,FALSE),\"\")","v":""},4.4200000000000301,{"$f":"IFERROR(VLOOKUP(S94,'CRUCE RIESGOS'!$C$9:$D$13,2,FALSE),\"\")","v":""},5.4200000000000399,{"$f":"IFERROR(VLOOKUP(U94,'CRUCE RIESGOS'!$C$9:$D$13,2,FALSE),\"\")","v":""},6.4200000000000497,{"$f":"IFERROR(VLOOKUP(W94,'CRUCE RIESGOS'!$C$9:$D$13,2,FALSE),\"\")","v":""},7.4200000000000603,{"$f":"IFERROR(VLOOKUP(Y94,'CRUCE RIESGOS'!$C$9:$D$13,2,FALSE),\"\")","v":""},8.4200000000000692,{"$f":"IFERROR(VLOOKUP(AA94,'CRUCE RIESGOS'!$C$9:$D$13,2,FALSE),\"\")","v":""},9.4200000000000799,{"$f":"IFERROR(VLOOKUP(AC94,'CRUCE RIESGOS'!$C$9:$D$13,2,FALSE),\"\")","v":""},10.420000000000099,{"$f":"IFERROR(VLOOKUP(AE94,'CRUCE RIESGOS'!$C$9:$D$13,2,FALSE),\"\")","v":""},11.420000000000099,{"$f":"IFERROR(VLOOKUP(AG94,'CRUCE RIESGOS'!$C$9:$D$13,2,FALSE),\"\")","v":""},12.420000000000099,{"$f":"IFERROR(VLOOKUP(AI94,'CRUCE RIESGOS'!$C$9:$D$13,2,FALSE),\"\")","v":""},13.420000000000099,{"$f":"IFERROR(VLOOKUP(AK94,'CRUCE RIESGOS'!$C$9:$D$13,2,FALSE),\"\")","v":""},14.420000000000099,{"$f":"IFERROR(VLOOKUP(AM94,'CRUCE RIESGOS'!$C$9:$D$13,2,FALSE),\"\")","v":""},15.420000000000099,{"$f":"IFERROR(VLOOKUP(AO94,'CRUCE RIESGOS'!$C$9:$D$13,2,FALSE),\"\")","v":""},16.420000000000201,{"$f":"IFERROR(VLOOKUP(AQ94,'CRUCE RIESGOS'!$C$9:$D$13,2,FALSE),\"\")","v":""},17.420000000000201,{"$f":"IFERROR(VLOOKUP(AS94,'CRUCE RIESGOS'!$C$9:$D$13,2,FALSE),\"\")","v":""},18.420000000000201,{"$f":"IFERROR(VLOOKUP(AU94,'CRUCE RIESGOS'!$C$9:$D$13,2,FALSE),\"\")","v":""},19.420000000000201,{"$f":"IFERROR(VLOOKUP(AW94,'CRUCE RIESGOS'!$C$9:$D$13,2,FALSE),\"\")","v":""},20.420000000000201,{"$f":"IFERROR(VLOOKUP(AY94,'CRUCE RIESGOS'!$C$9:$D$13,2,FALSE),\"\")","v":""},21.420000000000201,{"$f":"IFERROR(VLOOKUP(BA94,'CRUCE RIESGOS'!$C$9:$D$13,2,FALSE),\"\")","v":""},22.420000000000201,{"$f":"IFERROR(VLOOKUP(BC94,'CRUCE RIESGOS'!$C$9:$D$13,2,FALSE),\"\")","v":""},23.420000000000201,{"$f":"IFERROR(VLOOKUP(BE94,'CRUCE RIESGOS'!$C$9:$D$13,2,FALSE),\"\")","v":""},24.420000000000201,{"$f":"IFERROR(VLOOKUP(BG94,'CRUCE RIESGOS'!$C$9:$D$13,2,FALSE),\"\")","v":""},25.420000000000201,{"$f":"IFERROR(VLOOKUP(BI94,'CRUCE RIESGOS'!$C$9:$D$13,2,FALSE),\"\")","v":""}]
[null,null,null,null,null,null,null,null,null,null,null,null,null,"",null,{"$f":"IF(P96<>\"\",\" -R\",\"\")","v":""},null,{"$f":"IF(R96<>\"\",\" -R\",\"\")","v":""},null,{"$f":"IF(T96<>\"\",\" -R\",\"\")","v":""},null,{"$f":"IF(V96<>\"\",\" -R\",\"\")","v":""},null,{"$f":"IF(X96<>\"\",\" -R\",\"\")","v":""},null,{"$f":"IF(Z96<>\"\",\" -R\",\"\")","v":""},null,{"$f":"IF(AB96<>\"\",\" -R\",\"\")","v":""},null,{"$f":"IF(AD96<>\"\",\" -R\",\"\")","v":""},null,"",null,"",null,"",null,"",null,"",null,"",null,"",null,"",null,"",null,"",null,"",null,"",null,"",null,"",null,"",null,""]
[null,null,null,null,null,null,null,null,null,null,null,null,1.43,{"$f":"IFERROR(VLOOKUP(M96,'CRUCE RIESGOS'!$C$9:$D$13,2,FALSE),\"\")","v":""},2.4300000000000099,{"$f":"IFERROR(VLOOKUP(O96,'CRUCE RIESGOS'!$C$9:$D$13,2,FALSE),\"\")","v":""},3.4300000000000201,{"$f":"IFERROR(VLOOKUP(Q96,'CRUCE RIESGOS'!$C$9:$D$13,2,FALSE),\"\")","v":""},4.4300000000000299,{"$f":"IFERROR(VLOOKUP(S96,'CRUCE RIESGOS'!$C$9:$D$13,2,FALSE),\"\")","v":""},5.4300000000000397,{"$f":"IFERROR(VLOOKUP(U96,'CRUCE RIESGOS'!$C$9:$D$13,2,FALSE),\"\")","v":""},6.4300000000000503,{"$f":"IFERROR(VLOOKUP(W96,'CRUCE RIESGOS'!$C$9:$D$13,2,FALSE),\"\")","v":""},7.4300000000000601,{"$f":"IFERROR(VLOOKUP(Y96,'CRUCE RIESGOS'!$C$9:$D$13,2,FALSE),\"\")","v":""},8.4300000000000708,{"$f":"IFERROR(VLOOKUP(AA96,'CRUCE RIESGOS'!$C$9:$D$13,2,FALSE),\"\")","v":""},9.4300000000000797,{"$f":"IFERROR(VLOOKUP(AC96,'CRUCE RIESGOS'!$C$9:$D$13,2,FALSE),\"\")","v":""},10.430000000000099,{"$f":"IFERROR(VLOOKUP(AE96,'CRUCE RIESGOS'!$C$9:$D$13,2,FALSE),\"\")","v":""},11.430000000000099,{"$f":"IFERROR(VLOOKUP(AG96,'CRUCE RIESGOS'!$C$9:$D$13,2,FALSE),\"\")","v":""},12.430000000000099,{"$f":"IFERROR(VLOOKUP(AI96,'CRUCE RIESGOS'!$C$9:$D$13,2,FALSE),\"\")","v":""},13.430000000000099,{"$f":"IFERROR(VLOOKUP(AK96,'CRUCE RIESGOS'!$C$9:$D$13,2,FALSE),\"\")","v":""},14.430000000000099,{"$f":"IFERROR(VLOOKUP(AM96,'CRUCE RIESGOS'!$C$9:$D$13,2,FALSE),\"\")","v":""},15.430000000000099,{"$f":"IFERROR(VLOOKUP(AO96,'CRUCE RIESGOS'!$C$9:$D$13,2,FALSE),\"\")","v":""},16.430000000000099,{"$f":"IFERROR(VLOOKUP(AQ96,'CRUCE RIESGOS'!$C$9:$D$13,2,FALSE),\"\")","v":""},17.430000000000199,{"$f":"IFERROR(VLOOKUP(AS96,'CRUCE RIESGOS'!$C$9:$D$13,2,FALSE),\"\")","v":""},18.430000000000199,{"$f":"IFERROR(VLOOKUP(AU96,'CRUCE RIESGOS'!$C$9:$D$13,2,FALSE),\"\")","v":""},19.430000000000199,{"$f":"IFERROR(VLOOKUP(AW96,'CRUCE RIESGOS'!$C$9:$D$13,2,FALSE),\"\")","v":""},20.430000000000199,{"$f":"IFERROR(VLOOKUP(AY96,'CRUCE RIESGOS'!$C$9:$D$13,2,FALSE),\"\")","v":""},21.430000000000199,{"$f":"IFERROR(VLOOKUP(BA96,'CRUCE RIESGOS'!$C$9:$D$13,2,FALSE),\"\")","v":""},22.430000000000199,{"$f":"IFERROR(VLOOKUP(BC96,'CRUCE RIESGOS'!$C$9:$D$13,2,FALSE),\"\")","v":""},23.430000000000199,{"$f":"IFERROR(VLOOKUP(BE96,'CRUCE RIESGOS'!$C$9:$D$13,2,FALSE),\"\")","v":""},24.430000000000199,{"$f":"IFERROR(VLOOKUP(BG96,'CRUCE RIESGOS'!$C$9:$D$13,2,FALSE),\"\")","v":""},25.430000000000199,{"$f":"IFERROR(VLOOKUP(BI96,'CRUCE RIESGOS'!$C$9:$D$13,2,FALSE),\"\")","v":""}]
[null,null,null,null,null,null,null,null,null,null,null,null,null,"",null,{"$f":"IF(P98<>\"\",\" -R\",\"\")","v":""},null,{"$f":"IF(R98<>\"\",\" -R\",\"\")","v":""},null,{"$f":"IF(T98<>\"\",\" -R\",\"\")","v":""},null,{"$f":"IF(V98<>\"\",\" -R\",\"\")","v":""},null,{"$f":"IF(X98<>\"\",\" -R\",\"\")","v":""},null,{"$f":"IF(Z98<>\"\",\" -R\",\"\")","v":""},null,{"$f":"IF(AB98<>\"\",\" -R\",\"\")","v":""},null,{"$f":"IF(AD98<>\"\",\" -R\",\"\")","v":""},null,"",null,"",null,"",null,"",null,"",null,"",null,"",null,"",null,"",null,"",null,"",null,"",null,"",null,"",null,"",null,""]
[null,null,null,null,null,null,null,null,null,null,null,null,1.44,{"$f":"IFERROR(VLOOKUP(M98,'CRUCE RIESGOS'!$C$9:$D$13,2,FALSE),\"\")","v":""},2.4400000000000102,{"$f":"IFERROR(VLOOKUP(O98,'CRUCE RIESGOS'!$C$9:$D$13,2,FALSE),\"\")","v":""},3.4400000000000199,{"$f":"IFERROR(VLOOKUP(Q98,'CRUCE RIESGOS'!$C$9:$D$13,2,FALSE),\"\")","v":""},4.4400000000000297,{"$f":"IFERROR(VLOOKUP(S98,'CRUCE RIESGOS'!$C$9:$D$13,2,FALSE),\"\")","v":""},5.4400000000000404,{"$f":"IFERROR(VLOOKUP(U98,'CRUCE RIESGOS'!$C$9:$D$13,2,FALSE),\"\")","v":""},6.4400000000000501,{"$f":"IFERROR(VLOOKUP(W98,'CRUCE RIESGOS'!$C$9:$D$13,2,FALSE),\"\")","v":""},7.4400000000000599,{"$f":"IFERROR(VLOOKUP(Y98,'CRUCE RIESGOS'!$C$9:$D$13,2,FALSE),\"\")","v":""},8.4400000000000706,{"$f":"IFERROR(VLOOKUP(AA98,'CRUCE RIESGOS'!$C$9:$D$13,2,FALSE),\"\")","v":""},9.4400000000000794,{"$f":"IFERROR(VLOOKUP(AC98,'CRUCE RIESGOS'!$C$9:$D$13,2,FALSE),\"\")","v":""},10.440000000000101,{"$f":"IFERROR(VLOOKUP(AE98,'CRUCE RIESGOS'!$C$9:$D$13,2,FALSE),\"\")","v":""},11.440000000000101,{"$f":"IFERROR(VLOOKUP(AG98,'CRUCE RIESGOS'!$C$9:$D$13,2,FALSE),\"\")","v":""},12.440000000000101,{"$f":"IFERROR(VLOOKUP(AI98,'CRUCE RIESGOS'!$C$9:$D$13,2,FALSE),\"\")","v":""},13.440000000000101,{"$f":"IFERROR(VLOOKUP(AK98,'CRUCE RIESGOS'!$C$9:$D$13,2,FALSE),\"\")","v":""},14.440000000000101,{"$f":"IFERROR(VLOOKUP(AM98,'CRUCE RIESGOS'!$C$9:$D$13,2,FALSE),\"\")","v":""},15.440000000000101,{"$f":"IFERROR(VLOOKUP(AO98,'CRUCE RIESGOS'!$C$9:$D$13,2,FALSE),\"\")","v":""},16.4400000000002,{"$f":"IFERROR(VLOOKUP(AQ98,'CRUCE RIESGOS'!$C$9:$D$13,2,FALSE),\"\")","v":""},17.4400000000002,{"$f":"IFERROR(VLOOKUP(AS98,'CRUCE RIESGOS'!$C$9:$D$13,2,FALSE),\"\")","v":""},18.4400000000002,{"$f":"IFERROR(VLOOKUP(AU98,'CRUCE RIESGOS'!$C$9:$D$13,2,FALSE),\"\")","v":""},19.4400000000002,{"$f":"IFERROR(VLOOKUP(AW98,'CRUCE RIESGOS'!$C$9:$D$13,2,FALSE),\"\")","v":""},20.4400000000002,{"$f":"IFERROR(VLOOKUP(AY98,'CRUCE RIESGOS'!$C$9:$D$13,2,FALSE),\"\")","v":""},21.4400000000002,{"$f":"IFERROR(VLOOKUP(BA98,'CRUCE RIESGOS'!$C$9:$D$13,2,FALSE),\"\")","v":""},22.4400000000002,{"$f":"IFERROR(VLOOKUP(BC98,'CRUCE RIESGOS'!$C$9:$D$13,2,FALSE),\"\")","v":""},23.4400000000002,{"$f":"IFERROR(VLOOKUP(BE98,'CRUCE RIESGOS'!$C$9:$D$13,2,FALSE),\"\")","v":""},24.4400000000002,{"$f":"IFERROR(VLOOKUP(BG98,'CRUCE RIESGOS'!$C$9:$D$13,2,FALSE),\"\")","v":""},25.4400000000002,{"$f":"IFERROR(VLOOKUP(BI98,'CRUCE RIESGOS'!$C$9:$D$13,2,FALSE),\"\")","v":""}]
[null,null,null,null,null,null,null,null,null,null,null,null,null,"",null,{"$f":"IF(P100<>\"\",\" -R\",\"\")","v":""},null,{"$f":"IF(R100<>\"\",\" -R\",\"\")","v":""},null,{"$f":"IF(T100<>\"\",\" -R\",\"\")","v":""},null,{"$f":"IF(V100<>\"\",\" -R\",\"\")","v":""},null,{"$f":"IF(X100<>\"\",\" -R\",\"\")","v":""},null,{"$f":"IF(Z100<>\"\",\" -R\",\"\")","v":""},null,{"$f":"IF(AB100<>\"\",\" -R\",\"\")","v":""},null,{"$f":"IF(AD100<>\"\",\" -R\",\"\")","v":""},null,"",null,"",null,"",null,"",null,"",null,"",null,"",null,"",null,"",null,"",null,"",null,"",null,"",null,"",null,"",null,""]
[null,null,null,null,null,null,null,null,null,null,null,null,1.45,{"$f":"IFERROR(VLOOKUP(M100,'CRUCE RIESGOS'!$C$9:$D$13,2,FALSE),\"\")","v":""},2.4500000000000099,{"$f":"IFERROR(VLOOKUP(O100,'CRUCE RIESGOS'!$C$9:$D$13,2,FALSE),\"\")","v":""},3.4500000000000202,{"$f":"IFERROR(VLOOKUP(Q100,'CRUCE RIESGOS'!$C$9:$D$13,2,FALSE),\"\")","v":""},4.4500000000000304,{"$f":"IFERROR(VLOOKUP(S100,'CRUCE RIESGOS'!$C$9:$D$13,2,FALSE),\"\")","v":""},5.4500000000000401,{"$f":"IFERROR(VLOOKUP(U100,'CRUCE RIESGOS'!$C$9:$D$13,2,FALSE),\"\")","v":""},6.4500000000000499,{"$f":"IFERROR(VLOOKUP(W100,'CRUCE RIESGOS'!$C$9:$D$13,2,FALSE),\"\")","v":""},7.4500000000000597,{"$f":"IFERROR(VLOOKUP(Y100,'CRUCE RIESGOS'!$C$9:$D$13,2,FALSE),\"\")","v":""},8.4500000000000703,{"$f":"IFERROR(VLOOKUP(AA100,'CRUCE RIESGOS'!$C$9:$D$13,2,FALSE),\"\")","v":""},9.4500000000000792,{"$f":"IFERROR(VLOOKUP(AC100,'CRUCE RIESGOS'!$C$9:$D$13,2,FALSE),\"\")","v":""},10.450000000000101,{"$f":"IFERROR(VLOOKUP(AE100,'CRUCE RIESGOS'!$C$9:$D$13,2,FALSE),\"\")","v":""},11.450000000000101,{"$f":"IFERROR(VLOOKUP(AG100,'CRUCE RIESGOS'!$C$9:$D$13,2,FALSE),\"\")","v":""},12.450000000000101,{"$f":"IFERROR(VLOOKUP(AI100,'CRUCE RIESGOS'!$C$9:$D$13,2,FALSE),\"\")","v":""},13.450000000000101,{"$f":"IFERROR(VLOOKUP(AK100,'CRUCE RIESGOS'!$C$9:$D$13,2,FALSE),\"\")","v":""},14.450000000000101,{"$f":"IFERROR(VLOOKUP(AM100,'CRUCE RIESGOS'!$C$9:$D$13,2,FALSE),\"\")","v":""},15.450000000000101,{"$f":"IFERROR(VLOOKUP(AO100,'CRUCE RIESGOS'!$C$9:$D$13,2,FALSE),\"\")","v":""},16.450000000000099,{"$f":"IFERROR(VLOOKUP(AQ100,'CRUCE RIESGOS'!$C$9:$D$13,2,FALSE),\"\")","v":""},17.450000000000198,{"$f":"IFERROR(VLOOKUP(AS100,'CRUCE RIESGOS'!$C$9:$D$13,2,FALSE),\"\")","v":""},18.450000000000198,{"$f":"IFERROR(VLOOKUP(AU100,'CRUCE RIESGOS'!$C$9:$D$13,2,FALSE),\"\")","v":""},19.450000000000198,{"$f":"IFERROR(VLOOKUP(AW100,'CRUCE RIESGOS'!$C$9:$D$13,2,FALSE),\"\")","v":""},20.450000000000198,{"$f":"IFERROR(VLOOKUP(AY100,'CRUCE RIESGOS'!$C$9:$D$13,2,FALSE),\"\")","v":""},21.450000000000198,{"$f":"IFERROR(VLOOKUP(BA100,'CRUCE RIESGOS'!$C$9:$D$13,2,FALSE),\"\")","v":""},22.450000000000198,{"$f":"IFERROR(VLOOKUP(BC100,'CRUCE RIESGOS'!$C$9:$D$13,2,FALSE),\"\")","v":""},23.450000000000198,{"$f":"IFERROR(VLOOKUP(BE100,'CRUCE RIESGOS'!$C$9:$D$13,2,FALSE),\"\")","v":""},24.450000000000198,{"$f":"IFERROR(VLOOKUP(BG100,'CRUCE RIESGOS'!$C$9:$D$13,2,FALSE),\"\")","v":""},25.450000000000198,{"$f":"IFERROR(VLOOKUP(BI100,'CRUCE RIESGOS'!$C$9:$D$13,2,FALSE),\"\")","v":""}]
[null,null,null,null,null,null,null,null,null,null,null,null,null,"",null,{"$f":"IF(P102<>\"\",\" -R\",\"\")","v":""},null,{"$f":"IF(R102<>\"\",\" -R\",\"\")","v":""},null,{"$f":"IF(T102<>\"\",\" -R\",\"\")","v":""},null,{"$f":"IF(V102<>\"\",\" -R\",\"\")","v":""},null,{"$f":"IF(X102<>\"\",\" -R\",\"\")","v":""},null,{"$f":"IF(Z102<>\"\",\" -R\",\"\")","v":""},null,{"$f":"IF(AB102<>\"\",\" -R\",\"\")","v":""},null,{"$f":"IF(AD102<>\"\",\" -R\",\"\")","v":""},null,"",null,"",null,"",null,"",null,"",null,"",null,"",null,"",null,"",null,"",null,"",null,"",null,"",null,"",null,"",null,""]
[null,null,null,null,null,null,null,null,null,null,null,null,1.46,{"$f":"IFERROR(VLOOKUP(M102,'CRUCE RIESGOS'!$C$9:$D$13,2,FALSE),\"\")","v":""},2.4600000000000102,{"$f":"IFERROR(VLOOKUP(O102,'CRUCE RIESGOS'!$C$9:$D$13,2,FALSE),\"\")","v":""},3.4600000000000199,{"$f":"IFERROR(VLOOKUP(Q102,'CRUCE RIESGOS'!$C$9:$D$13,2,FALSE),\"\")","v":""},4.4600000000000302,{"$f":"IFERROR(VLOOKUP(S102,'CRUCE RIESGOS'!$C$9:$D$13,2,FALSE),\"\")","v":""},5.4600000000000399,{"$f":"IFERROR(VLOOKUP(U102,'CRUCE RIESGOS'!$C$9:$D$13,2,FALSE),\"\")","v":""},6.4600000000000497,{"$f":"IFERROR(VLOOKUP(W102,'CRUCE RIESGOS'!$C$9:$D$13,2,FALSE),\"\")","v":""},7.4600000000000604,{"$f":"IFERROR(VLOOKUP(Y102,'CRUCE RIESGOS'!$C$9:$D$13,2,FALSE),\"\")","v":""},8.4600000000000701,{"$f":"IFERROR(VLOOKUP(AA102,'CRUCE RIESGOS'!$C$9:$D$13,2,FALSE),\"\")","v":""},9.4600000000000808,{"$f":"IFERROR(VLOOKUP(AC102,'CRUCE RIESGOS'!$C$9:$D$13,2,FALSE),\"\")","v":""},10.4600000000001,{"$f":"IFERROR(VLOOKUP(AE102,'CRUCE RIESGOS'!$C$9:$D$13,2,FALSE),\"\")","v":""},11.4600000000001,{"$f":"IFERROR(VLOOKUP(AG102,'CRUCE RIESGOS'!$C$9:$D$13,2,FALSE),\"\")","v":""},12.4600000000001,{"$f":"IFERROR(VLOOKUP(AI102,'CRUCE RIESGOS'!$C$9:$D$13,2,FALSE),\"\")","v":""},13.4600000000001,{"$f":"IFERROR(VLOOKUP(AK102,'CRUCE RIESGOS'!$C$9:$D$13,2,FALSE),\"\")","v":""},14.4600000000001,{"$f":"IFERROR(VLOOKUP(AM102,'CRUCE RIESGOS'!$C$9:$D$13,2,FALSE),\"\")","v":""},15.4600000000001,{"$f":"IFERROR(VLOOKUP(AO102,'CRUCE RIESGOS'!$C$9:$D$13,2,FALSE),\"\")","v":""},16.4600000000002,{"$f":"IFERROR(VLOOKUP(AQ102,'CRUCE RIESGOS'!$C$9:$D$13,2,FALSE),\"\")","v":""},17.4600000000002,{"$f":"IFERROR(VLOOKUP(AS102,'CRUCE RIESGOS'!$C$9:$D$13,2,FALSE),\"\")","v":""},18.4600000000002,{"$f":"IFERROR(VLOOKUP(AU102,'CRUCE RIESGOS'!$C$9:$D$13,2,FALSE),\"\")","v":""},19.4600000000002,{"$f":"IFERROR(VLOOKUP(AW102,'CRUCE RIESGOS'!$C$9:$D$13,2,FALSE),\"\")","v":""},20.4600000000002,{"$f":"IFERROR(VLOOKUP(AY102,'CRUCE RIESGOS'!$C$9:$D$13,2,FALSE),\"\")","v":""},21.4600000000002,{"$f":"IFERROR(VLOOKUP(BA102,'CRUCE RIESGOS'!$C$9:$D$13,2,FALSE),\"\")","v":""},22.4600000000002,{"$f":"IFERROR(VLOOKUP(BC102,'CRUCE RIESGOS'!$C$9:$D$13,2,FALSE),\"\")","v":""},23.4600000000002,{"$f":"IFERROR(VLOOKUP(BE102,'CRUCE RIESGOS'!$C$9:$D$13,2,FALSE),\"\")","v":""},24.4600000000002,{"$f":"IFERROR(VLOOKUP(BG102,'CRUCE RIESGOS'!$C$9:$D$13,2,FALSE),\"\")","v":""},25.4600000000002,{"$f":"IFERROR(VLOOKUP(BI102,'CRUCE RIESGOS'!$C$9:$D$13,2,FALSE),\"\")","v":""}]
[null,null,null,null,null,null,null,null,null,null,null,null,null,"",null,{"$f":"IF(P104<>\"\",\" -R\",\"\")","v":""},null,{"$f":"IF(R104<>\"\",\" -R\",\"\")","v":""},null,{"$f":"IF(T104<>\"\",\" -R\",\"\")","v":""},null,{"$f":"IF(V104<>\"\",\" -R\",\"\")","v":""},null,{"$f":"IF(X104<>\"\",\" -R\",\"\")","v":""},null,{"$f":"IF(Z104<>\"\",\" -R\",\"\")","v":""},null,{"$f":"IF(AB104<>\"\",\" -R\",\"\")","v":""},null,{"$f":"IF(AD104<>\"\",\" -R\",\"\")","v":""},null,"",null,"",null,"",null,"",null,"",null,"",null,"",null,"",null,"",null,"",null,"",null,"",null,"",null,"",null,"",null,""]
[null,null,null,null,null,null,null,null,null,null,null,null,1.47,{"$f":"IFERROR(VLOOKUP(M104,'CRUCE RIESGOS'!$C$9:$D$13,2,FALSE),\"\")","v":""},2.47000000000001,{"$f":"IFERROR(VLOOKUP(O104,'CRUCE RIESGOS'!$C$9:$D$13,2,FALSE),\"\")","v":""},3.4700000000000202,{"$f":"IFERROR(VLOOKUP(Q104,'CRUCE RIESGOS'!$C$9:$D$13,2,FALSE),\"\")","v":""},4.4700000000000299,{"$f":"IFERROR(VLOOKUP(S104,'CRUCE RIESGOS'!$C$9:$D$13,2,FALSE),\"\")","v":""},5.4700000000000397,{"$f":"IFERROR(VLOOKUP(U104,'CRUCE RIESGOS'!$C$9:$D$13,2,FALSE),\"\")","v":""},6.4700000000000504,{"$f":"IFERROR(VLOOKUP(W104,'CRUCE RIESGOS'!$C$9:$D$13,2,FALSE),\"\")","v":""},7.4700000000000601,{"$f":"IFERROR(VLOOKUP(Y104,'CRUCE RIESGOS'!$C$9:$D$13,2,FALSE),\"\")","v":""},8.4700000000000699,{"$f":"IFERROR(VLOOKUP(AA104,'CRUCE RIESGOS'!$C$9:$D$13,2,FALSE),\"\")","v":""},9.4700000000000806,{"$f":"IFERROR(VLOOKUP(AC104,'CRUCE RIESGOS'!$C$9:$D$13,2,FALSE),\"\")","v":""},10.4700000000001,{"$f":"IFERROR(VLOOKUP(AE104,'CRUCE RIESGOS'!$C$9:$D$13,2,FALSE),\"\")","v":""},11.4700000000001,{"$f":"IFERROR(VLOOKUP(AG104,'CRUCE RIESGOS'!$C$9:$D$13,2,FALSE),\"\")","v":""},12.4700000000001,{"$f":"IFERROR(VLOOKUP(AI104,'CRUCE RIESGOS'!$C$9:$D$13,2,FALSE),\"\")","v":""},13.4700000000001,{"$f":"IFERROR(VLOOKUP(AK104,'CRUCE RIESGOS'!$C$9:$D$13,2,FALSE),\"\")","v":""},14.4700000000001,{"$f":"IFERROR(VLOOKUP(AM104,'CRUCE RIESGOS'!$C$9:$D$13,2,FALSE),\"\")","v":""},15.4700000000001,{"$f":"IFERROR(VLOOKUP(AO104,'CRUCE RIESGOS'!$C$9:$D$13,2,FALSE),\"\")","v":""},16.470000000000098,{"$f":"IFERROR(VLOOKUP(AQ104,'CRUCE RIESGOS'!$C$9:$D$13,2,FALSE),\"\")","v":""},17.470000000000201,{"$f":"IFERROR(VLOOKUP(AS104,'CRUCE RIESGOS'!$C$9:$D$13,2,FALSE),\"\")","v":""},18.470000000000201,{"$f":"IFERROR(VLOOKUP(AU104,'CRUCE RIESGOS'!$C$9:$D$13,2,FALSE),\"\")","v":""},19.470000000000201,{"$f":"IFERROR(VLOOKUP(AW104,'CRUCE RIESGOS'!$C$9:$D$13,2,FALSE),\"\")","v":""},20.470000000000201,{"$f":"IFERROR(VLOOKUP(AY104,'CRUCE RIESGOS'!$C$9:$D$13,2,FALSE),\"\")","v":""},21.470000000000201,{"$f":"IFERROR(VLOOKUP(BA104,'CRUCE RIESGOS'!$C$9:$D$13,2,FALSE),\"\")","v":""},22.470000000000201,{"$f":"IFERROR(VLOOKUP(BC104,'CRUCE RIESGOS'!$C$9:$D$13,2,FALSE),\"\")","v":""},23.470000000000201,{"$f":"IFERROR(VLOOKUP(BE104,'CRUCE RIESGOS'!$C$9:$D$13,2,FALSE),\"\")","v":""},24.470000000000201,{"$f":"IFERROR(VLOOKUP(BG104,'CRUCE RIESGOS'!$C$9:$D$13,2,FALSE),\"\")","v":""},25.470000000000201,{"$f":"IFERROR(VLOOKUP(BI104,'CRUCE RIESGOS'!$C$9:$D$13,2,FALSE),\"\")","v":""}]
[null,null,null,null,null,null,null,null,null,null,null,null,null,"",null,{"$f":"IF(P106<>\"\",\" -R\",\"\")","v":""},null,{"$f":"IF(R106<>\"\",\" -R\",\"\")","v":""},null,{"$f":"IF(T106<>\"\",\" -R\",\"\")","v":""},null,{"$f":"IF(V106<>\"\",\" -R\",\"\")","v":""},null,{"$f":"IF(X106<>\"\",\" -R\",\"\")","v":""},null,{"$f":"IF(Z106<>\"\",\" -R\",\"\")","v":""},null,{"$f":"IF(AB106<>\"\",\" -R\",\"\")","v":""},null,{"$f":"IF(AD106<>\"\",\" -R\",\"\")","v":""},null,"",null,"",null,"",null,"",null,"",null,"",null,"",null,"",null,"",null,"",null,"",null,"",null,"",null,"",null,"",null,""]
[null,null,null,null,null,null,null,null,null,null,null,null,1.48,{"$f":"IFERROR(VLOOKUP(M106,'CRUCE RIESGOS'!$C$9:$D$13,2,FALSE),\"\")","v":""},2.4800000000000102,{"$f":"IFERROR(VLOOKUP(O106,'CRUCE RIESGOS'!$C$9:$D$13,2,FALSE),\"\")","v":""},3.48000000000002,{"$f":"IFERROR(VLOOKUP(Q106,'CRUCE RIESGOS'!$C$9:$D$13,2,FALSE),\"\")","v":""},4.4800000000000297,{"$f":"IFERROR(VLOOKUP(S106,'CRUCE RIESGOS'!$C$9:$D$13,2,FALSE),\"\")","v":""},5.4800000000000404,{"$f":"IFERROR(VLOOKUP(U106,'CRUCE RIESGOS'!$C$9:$D$13,2,FALSE),\"\")","v":""},6.4800000000000502,{"$f":"IFERROR(VLOOKUP(W106,'CRUCE RIESGOS'!$C$9:$D$13,2,FALSE),\"\")","v":""},7.4800000000000599,{"$f":"IFERROR(VLOOKUP(Y106,'CRUCE RIESGOS'!$C$9:$D$13,2,FALSE),\"\")","v":""},8.4800000000000697,{"$f":"IFERROR(VLOOKUP(AA106,'CRUCE RIESGOS'!$C$9:$D$13,2,FALSE),\"\")","v":""},9.4800000000000804,{"$f":"IFERROR(VLOOKUP(AC106,'CRUCE RIESGOS'!$C$9:$D$13,2,FALSE),\"\")","v":""},10.4800000000001,{"$f":"IFERROR(VLOOKUP(AE106,'CRUCE RIESGOS'!$C$9:$D$13,2,FALSE),\"\")","v":""},11.4800000000001,{"$f":"IFERROR(VLOOKUP(AG106,'CRUCE RIESGOS'!$C$9:$D$13,2,FALSE),\"\")","v":""},12.4800000000001,{"$f":"IFERROR(VLOOKUP(AI106,'CRUCE RIESGOS'!$C$9:$D$13,2,FALSE),\"\")","v":""},13.4800000000001,{"$f":"IFERROR(VLOOKUP(AK106,'CRUCE RIESGOS'!$C$9:$D$13,2,FALSE),\"\")","v":""},14.4800000000001,{"$f":"IFERROR(VLOOKUP(AM106,'CRUCE RIESGOS'!$C$9:$D$13,2,FALSE),\"\")","v":""},15.4800000000001,{"$f":"IFERROR(VLOOKUP(AO106,'CRUCE RIESGOS'!$C$9:$D$13,2,FALSE),\"\")","v":""},16.480000000000199,{"$f":"IFERROR(VLOOKUP(AQ106,'CRUCE RIESGOS'!$C$9:$D$13,2,FALSE),\"\")","v":""},17.480000000000199,{"$f":"IFERROR(VLOOKUP(AS106,'CRUCE RIESGOS'!$C$9:$D$13,2,FALSE),\"\")","v":""},18.480000000000199,{"$f":"IFERROR(VLOOKUP(AU106,'CRUCE RIESGOS'!$C$9:$D$13,2,FALSE),\"\")","v":""},19.480000000000199,{"$f":"IFERROR(VLOOKUP(AW106,'CRUCE RIESGOS'!$C$9:$D$13,2,FALSE),\"\")","v":""},20.480000000000199,{"$f":"IFERROR(VLOOKUP(AY106,'CRUCE RIESGOS'!$C$9:$D$13,2,FALSE),\"\")","v":""},21.480000000000199,{"$f":"IFERROR(VLOOKUP(BA106,'CRUCE RIESGOS'!$C$9:$D$13,2,FALSE),\"\")","v":""},22.480000000000199,{"$f":"IFERROR(VLOOKUP(BC106,'CRUCE RIESGOS'!$C$9:$D$13,2,FALSE),\"\")","v":""},23.480000000000199,{"$f":"IFERROR(VLOOKUP(BE106,'CRUCE RIESGOS'!$C$9:$D$13,2,FALSE),\"\")","v":""},24.480000000000199,{"$f":"IFERROR(VLOOKUP(BG106,'CRUCE RIESGOS'!$C$9:$D$13,2,FALSE),\"\")","v":""},25.480000000000199,{"$f":"IFERROR(VLOOKUP(BI106,'CRUCE RIESGOS'!$C$9:$D$13,2,FALSE),\"\")","v":""}]
[null,null,null,null,null,null,null,null,null,null,null,null,null,"",null,{"$f":"IF(P108<>\"\",\" -R\",\"\")","v":""},null,{"$f":"IF(R108<>\"\",\" -R\",\"\")","v":""},null,{"$f":"IF(T108<>\"\",\" -R\",\"\")","v":""},null,{"$f":"IF(V108<>\"\",\" -R\",\"\")","v":""},null,{"$f":"IF(X108<>\"\",\" -R\",\"\")","v":""},null,{"$f":"IF(Z108<>\"\",\" -R\",\"\")","v":""},null,{"$f":"IF(AB108<>\"\",\" -R\",\"\")","v":""},null,{"$f":"IF(AD108<>\"\",\" -R\",\"\")","v":""},null,"",null,"",null,"",null,"",null,"",null,"",null,"",null,"",null,"",null,"",null,"",null,"",null,"",null,"",null,"",null,""]
[null,null,null,null,null,null,null,null,null,null,null,null,1.49,{"$f":"IFERROR(VLOOKUP(M108,'CRUCE RIESGOS'!$C$9:$D$13,2,FALSE),\"\")","v":""},2.49000000000001,{"$f":"IFERROR(VLOOKUP(O108,'CRUCE RIESGOS'!$C$9:$D$13,2,FALSE),\"\")","v":""},3.4900000000000202,{"$f":"IFERROR(VLOOKUP(Q108,'CRUCE RIESGOS'!$C$9:$D$13,2,FALSE),\"\")","v":""},4.4900000000000304,{"$f":"IFERROR(VLOOKUP(S108,'CRUCE RIESGOS'!$C$9:$D$13,2,FALSE),\"\")","v":""},5.4900000000000402,{"$f":"IFERROR(VLOOKUP(U108,'CRUCE RIESGOS'!$C$9:$D$13,2,FALSE),\"\")","v":""},6.49000000000005,{"$f":"IFERROR(VLOOKUP(W108,'CRUCE RIESGOS'!$C$9:$D$13,2,FALSE),\"\")","v":""},7.4900000000000597,{"$f":"IFERROR(VLOOKUP(Y108,'CRUCE RIESGOS'!$C$9:$D$13,2,FALSE),\"\")","v":""},8.4900000000000695,{"$f":"IFERROR(VLOOKUP(AA108,'CRUCE RIESGOS'!$C$9:$D$13,2,FALSE),\"\")","v":""},9.4900000000000801,{"$f":"IFERROR(VLOOKUP(AC108,'CRUCE RIESGOS'!$C$9:$D$13,2,FALSE),\"\")","v":""},10.4900000000001,{"$f":"IFERROR(VLOOKUP(AE108,'CRUCE RIESGOS'!$C$9:$D$13,2,FALSE),\"\")","v":""},11.4900000000001,{"$f":"IFERROR(VLOOKUP(AG108,'CRUCE RIESGOS'!$C$9:$D$13,2,FALSE),\"\")","v":""},12.4900000000001,{"$f":"IFERROR(VLOOKUP(AI108,'CRUCE RIESGOS'!$C$9:$D$13,2,FALSE),\"\")","v":""},13.4900000000001,{"$f":"IFERROR(VLOOKUP(AK108,'CRUCE RIESGOS'!$C$9:$D$13,2,FALSE),\"\")","v":""},14.4900000000001,{"$f":"IFERROR(VLOOKUP(AM108,'CRUCE RIESGOS'!$C$9:$D$13,2,FALSE),\"\")","v":""},15.4900000000001,{"$f":"IFERROR(VLOOKUP(AO108,'CRUCE RIESGOS'!$C$9:$D$13,2,FALSE),\"\")","v":""},16.490000000000101,{"$f":"IFERROR(VLOOKUP(AQ108,'CRUCE RIESGOS'!$C$9:$D$13,2,FALSE),\"\")","v":""},17.490000000000201,{"$f":"IFERROR(VLOOKUP(AS108,'CRUCE RIESGOS'!$C$9:$D$13,2,FALSE),\"\")","v":""},18.490000000000201,{"$f":"IFERROR(VLOOKUP(AU108,'CRUCE RIESGOS'!$C$9:$D$13,2,FALSE),\"\")","v":""},19.490000000000201,{"$f":"IFERROR(VLOOKUP(AW108,'CRUCE RIESGOS'!$C$9:$D$13,2,FALSE),\"\")","v":""},20.490000000000201,{"$f":"IFERROR(VLOOKUP(AY108,'CRUCE RIESGOS'!$C$9:$D$13,2,FALSE),\"\")","v":""},21.490000000000201,{"$f":"IFERROR(VLOOKUP(BA108,'CRUCE RIESGOS'!$C$9:$D$13,2,FALSE),\"\")","v":""},22.490000000000201,{"$f":"IFERROR(VLOOKUP(BC108,'CRUCE RIESGOS'!$C$9:$D$13,2,FALSE),\"\")","v":""},23.490000000000201,{"$f":"IFERROR(VLOOKUP(BE108,'CRUCE RIESGOS'!$C$9:$D$13,2,FALSE),\"\")","v":""},24.490000000000201,{"$f":"IFERROR(VLOOKUP(BG108,'CRUCE RIESGOS'!$C$9:$D$13,2,FALSE),\"\")","v":""},25.490000000000201,{"$f":"IFERROR(VLOOKUP(BI108,'CRUCE RIESGOS'!$C$9:$D$13,2,FALSE),\"\")","v":""}]
[null,null,null,null,null,null,null,null,null,null,null,null,null,"",null,{"$f":"IF(P110<>\"\",\" -R\",\"\")","v":""},null,{"$f":"IF(R110<>\"\",\" -R\",\"\")","v":""},null,{"$f":"IF(T110<>\"\",\" -R\",\"\")","v":""},null,{"$f":"IF(V110<>\"\",\" -R\",\"\")","v":""},null,{"$f":"IF(X110<>\"\",\" -R\",\"\")","v":""},null,{"$f":"IF(Z110<>\"\",\" -R\",\"\")","v":""},null,{"$f":"IF(AB110<>\"\",\" -R\",\"\")","v":""},null,{"$f":"IF(AD110<>\"\",\" -R\",\"\")","v":""},null,"",null,"",null,"",null,"",null,"",null,"",null,"",null,"",null,"",null,"",null,"",null,"",null,"",null,"",null,"",null,""]
[null,null,null,null,null,null,null,null,null,null,null,null,1.5,{"$f":"IFERROR(VLOOKUP(M110,'CRUCE RIESGOS'!$C$9:$D$13,2,FALSE),\"\")","v":""},2.5000000000000102,{"$f":"IFERROR(VLOOKUP(O110,'CRUCE RIESGOS'!$C$9:$D$13,2,FALSE),\"\")","v":""},3.50000000000002,{"$f":"IFERROR(VLOOKUP(Q110,'CRUCE RIESGOS'!$C$9:$D$13,2,FALSE),\"\")","v":""},4.5000000000000302,{"$f":"IFERROR(VLOOKUP(S110,'CRUCE RIESGOS'!$C$9:$D$13,2,FALSE),\"\")","v":""},5.50000000000004,{"$f":"IFERROR(VLOOKUP(U110,'CRUCE RIESGOS'!$C$9:$D$13,2,FALSE),\"\")","v":""},6.5000000000000497,{"$f":"IFERROR(VLOOKUP(W110,'CRUCE RIESGOS'!$C$9:$D$13,2,FALSE),\"\")","v":""},7.5000000000000604,{"$f":"IFERROR(VLOOKUP(Y110,'CRUCE RIESGOS'!$C$9:$D$13,2,FALSE),\"\")","v":""},8.5000000000000693,{"$f":"IFERROR(VLOOKUP(AA110,'CRUCE RIESGOS'!$C$9:$D$13,2,FALSE),\"\")","v":""},9.5000000000000799,{"$f":"IFERROR(VLOOKUP(AC110,'CRUCE RIESGOS'!$C$9:$D$13,2,FALSE),\"\")","v":""},10.500000000000099,{"$f":"IFERROR(VLOOKUP(AE110,'CRUCE RIESGOS'!$C$9:$D$13,2,FALSE),\"\")","v":""},11.500000000000099,{"$f":"IFERROR(VLOOKUP(AG110,'CRUCE RIESGOS'!$C$9:$D$13,2,FALSE),\"\")","v":""},12.500000000000099,{"$f":"IFERROR(VLOOKUP(AI110,'CRUCE RIESGOS'!$C$9:$D$13,2,FALSE),\"\")","v":""},13.500000000000099,{"$f":"IFERROR(VLOOKUP(AK110,'CRUCE RIESGOS'!$C$9:$D$13,2,FALSE),\"\")","v":""},14.500000000000099,{"$f":"IFERROR(VLOOKUP(AM110,'CRUCE RIESGOS'!$C$9:$D$13,2,FALSE),\"\")","v":""},15.500000000000099,{"$f":"IFERROR(VLOOKUP(AO110,'CRUCE RIESGOS'!$C$9:$D$13,2,FALSE),\"\")","v":""},16.500000000000199,{"$f":"IFERROR(VLOOKUP(AQ110,'CRUCE RIESGOS'!$C$9:$D$13,2,FALSE),\"\")","v":""},17.500000000000199,{"$f":"IFERROR(VLOOKUP(AS110,'CRUCE RIESGOS'!$C$9:$D$13,2,FALSE),\"\")","v":""},18.500000000000199,{"$f":"IFERROR(VLOOKUP(AU110,'CRUCE RIESGOS'!$C$9:$D$13,2,FALSE),\"\")","v":""},19.500000000000199,{"$f":"IFERROR(VLOOKUP(AW110,'CRUCE RIESGOS'!$C$9:$D$13,2,FALSE),\"\")","v":""},20.500000000000199,{"$f":"IFERROR(VLOOKUP(AY110,'CRUCE RIESGOS'!$C$9:$D$13,2,FALSE),\"\")","v":""},21.500000000000199,{"$f":"IFERROR(VLOOKUP(BA110,'CRUCE RIESGOS'!$C$9:$D$13,2,FALSE),\"\")","v":""},22.500000000000199,{"$f":"IFERROR(VLOOKUP(BC110,'CRUCE RIESGOS'!$C$9:$D$13,2,FALSE),\"\")","v":""},23.500000000000199,{"$f":"IFERROR(VLOOKUP(BE110,'CRUCE RIESGOS'!$C$9:$D$13,2,FALSE),\"\")","v":""},24.500000000000199,{"$f":"IFERROR(VLOOKUP(BG110,'CRUCE RIESGOS'!$C$9:$D$13,2,FALSE),\"\")","v":""},25.500000000000199,{"$f":"IFERROR(VLOOKUP(BI110,'CRUCE RIESGOS'!$C$9:$D$13,2,FALSE),\"\")","v":""}]
[null,null,null,null,null,null,null,null,null,null,null,null,null,"",null,{"$f":"IF(P112<>\"\",\" -R\",\"\")","v":""},null,{"$f":"IF(R112<>\"\",\" -R\",\"\")","v":""},null,{"$f":"IF(T112<>\"\",\" -R\",\"\")","v":""},null,{"$f":"IF(V112<>\"\",\" -R\",\"\")","v":""},null,{"$f":"IF(X112<>\"\",\" -R\",\"\")","v":""},null,{"$f":"IF(Z112<>\"\",\" -R\",\"\")","v":""},null,{"$f":"IF(AB112<>\"\",\" -R\",\"\")","v":""},null,{"$f":"IF(AD112<>\"\",\" -R\",\"\")","v":""},null,"",null,"",null,"",null,"",null,"",null,"",null,"",null,"",null,"",null,"",null,"",null,"",null,"",null,"",null,"",null,""]
[null,null,null,null,null,null,null,null,null,null,null,null,1.51,{"$f":"IFERROR(VLOOKUP(M112,'CRUCE RIESGOS'!$C$9:$D$13,2,FALSE),\"\")","v":""},2.51000000000001,{"$f":"IFERROR(VLOOKUP(O112,'CRUCE RIESGOS'!$C$9:$D$13,2,FALSE),\"\")","v":""},3.5100000000000202,{"$f":"IFERROR(VLOOKUP(Q112,'CRUCE RIESGOS'!$C$9:$D$13,2,FALSE),\"\")","v":""},4.51000000000003,{"$f":"IFERROR(VLOOKUP(S112,'CRUCE RIESGOS'!$C$9:$D$13,2,FALSE),\"\")","v":""},5.5100000000000398,{"$f":"IFERROR(VLOOKUP(U112,'CRUCE RIESGOS'!$C$9:$D$13,2,FALSE),\"\")","v":""},6.5100000000000504,{"$f":"IFERROR(VLOOKUP(W112,'CRUCE RIESGOS'!$C$9:$D$13,2,FALSE),\"\")","v":""},7.5100000000000602,{"$f":"IFERROR(VLOOKUP(Y112,'CRUCE RIESGOS'!$C$9:$D$13,2,FALSE),\"\")","v":""},8.5100000000000708,{"$f":"IFERROR(VLOOKUP(AA112,'CRUCE RIESGOS'!$C$9:$D$13,2,FALSE),\"\")","v":""},9.5100000000000797,{"$f":"IFERROR(VLOOKUP(AC112,'CRUCE RIESGOS'!$C$9:$D$13,2,FALSE),\"\")","v":""},10.510000000000099,{"$f":"IFERROR(VLOOKUP(AE112,'CRUCE RIESGOS'!$C$9:$D$13,2,FALSE),\"\")","v":""},11.510000000000099,{"$f":"IFERROR(VLOOKUP(AG112,'CRUCE RIESGOS'!$C$9:$D$13,2,FALSE),\"\")","v":""},12.510000000000099,{"$f":"IFERROR(VLOOKUP(AI112,'CRUCE RIESGOS'!$C$9:$D$13,2,FALSE),\"\")","v":""},13.510000000000099,{"$f":"IFERROR(VLOOKUP(AK112,'CRUCE RIESGOS'!$C$9:$D$13,2,FALSE),\"\")","v":""},14.510000000000099,{"$f":"IFERROR(VLOOKUP(AM112,'CRUCE RIESGOS'!$C$9:$D$13,2,FALSE),\"\")","v":""},15.510000000000099,{"$f":"IFERROR(VLOOKUP(AO112,'CRUCE RIESGOS'!$C$9:$D$13,2,FALSE),\"\")","v":""},16.510000000000101,{"$f":"IFERROR(VLOOKUP(AQ112,'CRUCE RIESGOS'!$C$9:$D$13,2,FALSE),\"\")","v":""},17.510000000000201,{"$f":"IFERROR(VLOOKUP(AS112,'CRUCE RIESGOS'!$C$9:$D$13,2,FALSE),\"\")","v":""},18.510000000000201,{"$f":"IFERROR(VLOOKUP(AU112,'CRUCE RIESGOS'!$C$9:$D$13,2,FALSE),\"\")","v":""},19.510000000000201,{"$f":"IFERROR(VLOOKUP(AW112,'CRUCE RIESGOS'!$C$9:$D$13,2,FALSE),\"\")","v":""},20.510000000000201,{"$f":"IFERROR(VLOOKUP(AY112,'CRUCE RIESGOS'!$C$9:$D$13,2,FALSE),\"\")","v":""},21.510000000000201,{"$f":"IFERROR(VLOOKUP(BA112,'CRUCE RIESGOS'!$C$9:$D$13,2,FALSE),\"\")","v":""},22.510000000000201,{"$f":"IFERROR(VLOOKUP(BC112,'CRUCE RIESGOS'!$C$9:$D$13,2,FALSE),\"\")","v":""},23.510000000000201,{"$f":"IFERROR(VLOOKUP(BE112,'CRUCE RIESGOS'!$C$9:$D$13,2,FALSE),\"\")","v":""},24.510000000000201,{"$f":"IFERROR(VLOOKUP(BG112,'CRUCE RIESGOS'!$C$9:$D$13,2,FALSE),\"\")","v":""},25.510000000000201,{"$f":"IFERROR(VLOOKUP(BI112,'CRUCE RIESGOS'!$C$9:$D$13,2,FALSE),\"\")","v":""}]
[null,null,null,null,null,null,null,null,null,null,null,null,null,"",null,{"$f":"IF(P114<>\"\",\" -R\",\"\")","v":""},null,{"$f":"IF(R114<>\"\",\" -R\",\"\")","v":""},null,{"$f":"IF(T114<>\"\",\" -R\",\"\")","v":""},null,{"$f":"IF(V114<>\"\",\" -R\",\"\")","v":""},null,{"$f":"IF(X114<>\"\",\" -R\",\"\")","v":""},null,{"$f":"IF(Z114<>\"\",\" -R\",\"\")","v":""},null,{"$f":"IF(AB114<>\"\",\" -R\",\"\")","v":""},null,{"$f":"IF(AD114<>\"\",\" -R\",\"\")","v":""},null,"",null,"",null,"",null,"",null,"",null,"",null,"",null,"",null,"",null,"",null,"",null,"",null,"",null,"",null,"",null,""]
[null,null,null,null,null,null,null,null,null,null,null,null,1.52,{"$f":"IFERROR(VLOOKUP(M114,'CRUCE RIESGOS'!$C$9:$D$13,2,FALSE),\"\")","v":""},2.5200000000000098,{"$f":"IFERROR(VLOOKUP(O114,'CRUCE RIESGOS'!$C$9:$D$13,2,FALSE),\"\")","v":""},3.52000000000002,{"$f":"IFERROR(VLOOKUP(Q114,'CRUCE RIESGOS'!$C$9:$D$13,2,FALSE),\"\")","v":""},4.5200000000000298,{"$f":"IFERROR(VLOOKUP(S114,'CRUCE RIESGOS'!$C$9:$D$13,2,FALSE),\"\")","v":""},5.5200000000000404,{"$f":"IFERROR(VLOOKUP(U114,'CRUCE RIESGOS'!$C$9:$D$13,2,FALSE),\"\")","v":""},6.5200000000000502,{"$f":"IFERROR(VLOOKUP(W114,'CRUCE RIESGOS'!$C$9:$D$13,2,FALSE),\"\")","v":""},7.52000000000006,{"$f":"IFERROR(VLOOKUP(Y114,'CRUCE RIESGOS'!$C$9:$D$13,2,FALSE),\"\")","v":""},8.5200000000000706,{"$f":"IFERROR(VLOOKUP(AA114,'CRUCE RIESGOS'!$C$9:$D$13,2,FALSE),\"\")","v":""},9.5200000000000795,{"$f":"IFERROR(VLOOKUP(AC114,'CRUCE RIESGOS'!$C$9:$D$13,2,FALSE),\"\")","v":""},10.520000000000101,{"$f":"IFERROR(VLOOKUP(AE114,'CRUCE RIESGOS'!$C$9:$D$13,2,FALSE),\"\")","v":""},11.520000000000101,{"$f":"IFERROR(VLOOKUP(AG114,'CRUCE RIESGOS'!$C$9:$D$13,2,FALSE),\"\")","v":""},12.520000000000101,{"$f":"IFERROR(VLOOKUP(AI114,'CRUCE RIESGOS'!$C$9:$D$13,2,FALSE),\"\")","v":""},13.520000000000101,{"$f":"IFERROR(VLOOKUP(AK114,'CRUCE RIESGOS'!$C$9:$D$13,2,FALSE),\"\")","v":""},14.520000000000101,{"$f":"IFERROR(VLOOKUP(AM114,'CRUCE RIESGOS'!$C$9:$D$13,2,FALSE),\"\")","v":""},15.520000000000101,{"$f":"IFERROR(VLOOKUP(AO114,'CRUCE RIESGOS'!$C$9:$D$13,2,FALSE),\"\")","v":""},16.520000000000099,{"$f":"IFERROR(VLOOKUP(AQ114,'CRUCE RIESGOS'!$C$9:$D$13,2,FALSE),\"\")","v":""},17.520000000000199,{"$f":"IFERROR(VLOOKUP(AS114,'CRUCE RIESGOS'!$C$9:$D$13,2,FALSE),\"\")","v":""},18.520000000000199,{"$f":"IFERROR(VLOOKUP(AU114,'CRUCE RIESGOS'!$C$9:$D$13,2,FALSE),\"\")","v":""},19.520000000000199,{"$f":"IFERROR(VLOOKUP(AW114,'CRUCE RIESGOS'!$C$9:$D$13,2,FALSE),\"\")","v":""},20.520000000000199,{"$f":"IFERROR(VLOOKUP(AY114,'CRUCE RIESGOS'!$C$9:$D$13,2,FALSE),\"\")","v":""},21.520000000000199,{"$f":"IFERROR(VLOOKUP(BA114,'CRUCE RIESGOS'!$C$9:$D$13,2,FALSE),\"\")","v":""},22.520000000000199,{"$f":"IFERROR(VLOOKUP(BC114,'CRUCE RIESGOS'!$C$9:$D$13,2,FALSE),\"\")","v":""},23.520000000000199,{"$f":"IFERROR(VLOOKUP(BE114,'CRUCE RIESGOS'!$C$9:$D$13,2,FALSE),\"\")","v":""},24.520000000000199,{"$f":"IFERROR(VLOOKUP(BG114,'CRUCE RIESGOS'!$C$9:$D$13,2,FALSE),\"\")","v":""},25.520000000000199,{"$f":"IFERROR(VLOOKUP(BI114,'CRUCE RIESGOS'!$C$9:$D$13,2,FALSE),\"\")","v":""}]
[null,null,null,null,null,null,null,null,null,null,null,null,null,"",null,{"$f":"IF(P116<>\"\",\" -R\",\"\")","v":""},null,{"$f":"IF(R116<>\"\",\" -R\",\"\")","v":""},null,{"$f":"IF(T116<>\"\",\" -R\",\"\")","v":""},null,{"$f":"IF(V116<>\"\",\" -R\",\"\")","v":""},null,{"$f":"IF(X116<>\"\",\" -R\",\"\")","v":""},null,{"$f":"IF(Z116<>\"\",\" -R\",\"\")","v":""},null,{"$f":"IF(AB116<>\"\",\" -R\",\"\")","v":""},null,{"$f":"IF(AD116<>\"\",\" -R\",\"\")","v":""},null,"",null,"",null,"",null,"",null,"",null,"",null,"",null,"",null,"",null,"",null,"",null,"",null,"",null,"",null,"",null,""]
[null,null,null,null,null,null,null,null,null,null,null,null,1.53,{"$f":"IFERROR(VLOOKUP(M116,'CRUCE RIESGOS'!$C$9:$D$13,2,FALSE),\"\")","v":""},2.53000000000001,{"$f":"IFERROR(VLOOKUP(O116,'CRUCE RIESGOS'!$C$9:$D$13,2,FALSE),\"\")","v":""},3.5300000000000198,{"$f":"IFERROR(VLOOKUP(Q116,'CRUCE RIESGOS'!$C$9:$D$13,2,FALSE),\"\")","v":""},4.5300000000000296,{"$f":"IFERROR(VLOOKUP(S116,'CRUCE RIESGOS'!$C$9:$D$13,2,FALSE),\"\")","v":""},5.5300000000000402,{"$f":"IFERROR(VLOOKUP(U116,'CRUCE RIESGOS'!$C$9:$D$13,2,FALSE),\"\")","v":""},6.53000000000005,{"$f":"IFERROR(VLOOKUP(W116,'CRUCE RIESGOS'!$C$9:$D$13,2,FALSE),\"\")","v":""},7.5300000000000598,{"$f":"IFERROR(VLOOKUP(Y116,'CRUCE RIESGOS'!$C$9:$D$13,2,FALSE),\"\")","v":""},8.5300000000000704,{"$f":"IFERROR(VLOOKUP(AA116,'CRUCE RIESGOS'!$C$9:$D$13,2,FALSE),\"\")","v":""},9.5300000000000793,{"$f":"IFERROR(VLOOKUP(AC116,'CRUCE RIESGOS'!$C$9:$D$13,2,FALSE),\"\")","v":""},10.530000000000101,{"$f":"IFERROR(VLOOKUP(AE116,'CRUCE RIESGOS'!$C$9:$D$13,2,FALSE),\"\")","v":""},11.530000000000101,{"$f":"IFERROR(VLOOKUP(AG116,'CRUCE RIESGOS'!$C$9:$D$13,2,FALSE),\"\")","v":""},12.530000000000101,{"$f":"IFERROR(VLOOKUP(AI116,'CRUCE RIESGOS'!$C$9:$D$13,2,FALSE),\"\")","v":""},13.530000000000101,{"$f":"IFERROR(VLOOKUP(AK116,'CRUCE RIESGOS'!$C$9:$D$13,2,FALSE),\"\")","v":""},14.530000000000101,{"$f":"IFERROR(VLOOKUP(AM116,'CRUCE RIESGOS'!$C$9:$D$13,2,FALSE),\"\")","v":""},15.530000000000101,{"$f":"IFERROR(VLOOKUP(AO116,'CRUCE RIESGOS'!$C$9:$D$13,2,FALSE),\"\")","v":""},16.530000000000101,{"$f":"IFERROR(VLOOKUP(AQ116,'CRUCE RIESGOS'!$C$9:$D$13,2,FALSE),\"\")","v":""},17.5300000000002,{"$f":"IFERROR(VLOOKUP(AS116,'CRUCE RIESGOS'!$C$9:$D$13,2,FALSE),\"\")","v":""},18.5300000000002,{"$f":"IFERROR(VLOOKUP(AU116,'CRUCE RIESGOS'!$C$9:$D$13,2,FALSE),\"\")","v":""},19.5300000000002,{"$f":"IFERROR(VLOOKUP(AW116,'CRUCE RIESGOS'!$C$9:$D$13,2,FALSE),\"\")","v":""},20.5300000000002,{"$f":"IFERROR(VLOOKUP(AY116,'CRUCE RIESGOS'!$C$9:$D$13,2,FALSE),\"\")","v":""},21.5300000000002,{"$f":"IFERROR(VLOOKUP(BA116,'CRUCE RIESGOS'!$C$9:$D$13,2,FALSE),\"\")","v":""},22.5300000000002,{"$f":"IFERROR(VLOOKUP(BC116,'CRUCE RIESGOS'!$C$9:$D$13,2,FALSE),\"\")","v":""},23.5300000000002,{"$f":"IFERROR(VLOOKUP(BE116,'CRUCE RIESGOS'!$C$9:$D$13,2,FALSE),\"\")","v":""},24.5300000000002,{"$f":"IFERROR(VLOOKUP(BG116,'CRUCE RIESGOS'!$C$9:$D$13,2,FALSE),\"\")","v":""},25.5300000000002,{"$f":"IFERROR(VLOOKUP(BI116,'CRUCE RIESGOS'!$C$9:$D$13,2,FALSE),\"\")","v":""}]
[null,null,null,null,null,null,null,null,null,null,null,null,null,"",null,{"$f":"IF(P118<>\"\",\" -R\",\"\")","v":""},null,{"$f":"IF(R118<>\"\",\" -R\",\"\")","v":""},null,{"$f":"IF(T118<>\"\",\" -R\",\"\")","v":""},null,{"$f":"IF(V118<>\"\",\" -R\",\"\")","v":""},null,{"$f":"IF(X118<>\"\",\" -R\",\"\")","v":""},null,{"$f":"IF(Z118<>\"\",\" -R\",\"\")","v":""},null,{"$f":"IF(AB118<>\"\",\" -R\",\"\")","v":""},null,{"$f":"IF(AD118<>\"\",\" -R\",\"\")","v":""},null,"",null,"",null,"",null,"",null,"",null,"",null,"",null,"",null,"",null,"",null,"",null,"",null,"",null,"",null,"",null,""]
[null,null,null,null,null,null,null,null,null,null,null,null,1.54,{"$f":"IFERROR(VLOOKUP(M118,'CRUCE RIESGOS'!$C$9:$D$13,2,FALSE),\"\")","v":""},2.5400000000000098,{"$f":"IFERROR(VLOOKUP(O118,'CRUCE RIESGOS'!$C$9:$D$13,2,FALSE),\"\")","v":""},3.54000000000002,{"$f":"IFERROR(VLOOKUP(Q118,'CRUCE RIESGOS'!$C$9:$D$13,2,FALSE),\"\")","v":""},4.5400000000000302,{"$f":"IFERROR(VLOOKUP(S118,'CRUCE RIESGOS'!$C$9:$D$13,2,FALSE),\"\")","v":""},5.54000000000004,{"$f":"IFERROR(VLOOKUP(U118,'CRUCE RIESGOS'!$C$9:$D$13,2,FALSE),\"\")","v":""},6.5400000000000498,{"$f":"IFERROR(VLOOKUP(W118,'CRUCE RIESGOS'!$C$9:$D$13,2,FALSE),\"\")","v":""},7.5400000000000604,{"$f":"IFERROR(VLOOKUP(Y118,'CRUCE RIESGOS'!$C$9:$D$13,2,FALSE),\"\")","v":""},8.5400000000000702,{"$f":"IFERROR(VLOOKUP(AA118,'CRUCE RIESGOS'!$C$9:$D$13,2,FALSE),\"\")","v":""},9.5400000000000809,{"$f":"IFERROR(VLOOKUP(AC118,'CRUCE RIESGOS'!$C$9:$D$13,2,FALSE),\"\")","v":""},10.5400000000001,{"$f":"IFERROR(VLOOKUP(AE118,'CRUCE RIESGOS'!$C$9:$D$13,2,FALSE),\"\")","v":""},11.5400000000001,{"$f":"IFERROR(VLOOKUP(AG118,'CRUCE RIESGOS'!$C$9:$D$13,2,FALSE),\"\")","v":""},12.5400000000001,{"$f":"IFERROR(VLOOKUP(AI118,'CRUCE RIESGOS'!$C$9:$D$13,2,FALSE),\"\")","v":""},13.5400000000001,{"$f":"IFERROR(VLOOKUP(AK118,'CRUCE RIESGOS'!$C$9:$D$13,2,FALSE),\"\")","v":""},14.5400000000001,{"$f":"IFERROR(VLOOKUP(AM118,'CRUCE RIESGOS'!$C$9:$D$13,2,FALSE),\"\")","v":""},15.5400000000001,{"$f":"IFERROR(VLOOKUP(AO118,'CRUCE RIESGOS'!$C$9:$D$13,2,FALSE),\"\")","v":""},16.540000000000099,{"$f":"IFERROR(VLOOKUP(AQ118,'CRUCE RIESGOS'!$C$9:$D$13,2,FALSE),\"\")","v":""},17.540000000000202,{"$f":"IFERROR(VLOOKUP(AS118,'CRUCE RIESGOS'!$C$9:$D$13,2,FALSE),\"\")","v":""},18.540000000000202,{"$f":"IFERROR(VLOOKUP(AU118,'CRUCE RIESGOS'!$C$9:$D$13,2,FALSE),\"\")","v":""},19.540000000000202,{"$f":"IFERROR(VLOOKUP(AW118,'CRUCE RIESGOS'!$C$9:$D$13,2,FALSE),\"\")","v":""},20.540000000000202,{"$f":"IFERROR(VLOOKUP(AY118,'CRUCE RIESGOS'!$C$9:$D$13,2,FALSE),\"\")","v":""},21.540000000000202,{"$f":"IFERROR(VLOOKUP(BA118,'CRUCE RIESGOS'!$C$9:$D$13,2,FALSE),\"\")","v":""},22.540000000000202,{"$f":"IFERROR(VLOOKUP(BC118,'CRUCE RIESGOS'!$C$9:$D$13,2,FALSE),\"\")","v":""},23.540000000000202,{"$f":"IFERROR(VLOOKUP(BE118,'CRUCE RIESGOS'!$C$9:$D$13,2,FALSE),\"\")","v":""},24.540000000000202,{"$f":"IFERROR(VLOOKUP(BG118,'CRUCE RIESGOS'!$C$9:$D$13,2,FALSE),\"\")","v":""},25.540000000000202,{"$f":"IFERROR(VLOOKUP(BI118,'CRUCE RIESGOS'!$C$9:$D$13,2,FALSE),\"\")","v":""}]
[null,null,null,null,null,null,null,null,null,null,null,null,null,"",null,{"$f":"IF(P120<>\"\",\" -R\",\"\")","v":""},null,{"$f":"IF(R120<>\"\",\" -R\",\"\")","v":""},null,{"$f":"IF(T120<>\"\",\" -R\",\"\")","v":""},null,{"$f":"IF(V120<>\"\",\" -R\",\"\")","v":""},null,{"$f":"IF(X120<>\"\",\" -R\",\"\")","v":""},null,{"$f":"IF(Z120<>\"\",\" -R\",\"\")","v":""},null,{"$f":"IF(AB120<>\"\",\" -R\",\"\")","v":""},null,{"$f":"IF(AD120<>\"\",\" -R\",\"\")","v":""},null,"",null,"",null,"",null,"",null,"",null,"",null,"",null,"",null,"",null,"",null,"",null,"",null,"",null,"",null,"",null,""]
[null,null,null,null,null,null,null,null,null,null,null,null,1.55,{"$f":"IFERROR(VLOOKUP(M120,'CRUCE RIESGOS'!$C$9:$D$13,2,FALSE),\"\")","v":""},2.55000000000001,{"$f":"IFERROR(VLOOKUP(O120,'CRUCE RIESGOS'!$C$9:$D$13,2,FALSE),\"\")","v":""},3.5500000000000198,{"$f":"IFERROR(VLOOKUP(Q120,'CRUCE RIESGOS'!$C$9:$D$13,2,FALSE),\"\")","v":""},4.55000000000003,{"$f":"IFERROR(VLOOKUP(S120,'CRUCE RIESGOS'!$C$9:$D$13,2,FALSE),\"\")","v":""},5.5500000000000398,{"$f":"IFERROR(VLOOKUP(U120,'CRUCE RIESGOS'!$C$9:$D$13,2,FALSE),\"\")","v":""},6.5500000000000496,{"$f":"IFERROR(VLOOKUP(W120,'CRUCE RIESGOS'!$C$9:$D$13,2,FALSE),\"\")","v":""},7.5500000000000602,{"$f":"IFERROR(VLOOKUP(Y120,'CRUCE RIESGOS'!$C$9:$D$13,2,FALSE),\"\")","v":""},8.55000000000007,{"$f":"IFERROR(VLOOKUP(AA120,'CRUCE RIESGOS'!$C$9:$D$13,2,FALSE),\"\")","v":""},9.5500000000000806,{"$f":"IFERROR(VLOOKUP(AC120,'CRUCE RIESGOS'!$C$9:$D$13,2,FALSE),\"\")","v":""},10.5500000000001,{"$f":"IFERROR(VLOOKUP(AE120,'CRUCE RIESGOS'!$C$9:$D$13,2,FALSE),\"\")","v":""},11.5500000000001,{"$f":"IFERROR(VLOOKUP(AG120,'CRUCE RIESGOS'!$C$9:$D$13,2,FALSE),\"\")","v":""},12.5500000000001,{"$f":"IFERROR(VLOOKUP(AI120,'CRUCE RIESGOS'!$C$9:$D$13,2,FALSE),\"\")","v":""},13.5500000000001,{"$f":"IFERROR(VLOOKUP(AK120,'CRUCE RIESGOS'!$C$9:$D$13,2,FALSE),\"\")","v":""},14.5500000000001,{"$f":"IFERROR(VLOOKUP(AM120,'CRUCE RIESGOS'!$C$9:$D$13,2,FALSE),\"\")","v":""},15.5500000000001,{"$f":"IFERROR(VLOOKUP(AO120,'CRUCE RIESGOS'!$C$9:$D$13,2,FALSE),\"\")","v":""},16.5500000000001,{"$f":"IFERROR(VLOOKUP(AQ120,'CRUCE RIESGOS'!$C$9:$D$13,2,FALSE),\"\")","v":""},17.5500000000002,{"$f":"IFERROR(VLOOKUP(AS120,'CRUCE RIESGOS'!$C$9:$D$13,2,FALSE),\"\")","v":""},18.5500000000002,{"$f":"IFERROR(VLOOKUP(AU120,'CRUCE RIESGOS'!$C$9:$D$13,2,FALSE),\"\")","v":""},19.5500000000002,{"$f":"IFERROR(VLOOKUP(AW120,'CRUCE RIESGOS'!$C$9:$D$13,2,FALSE),\"\")","v":""},20.5500000000002,{"$f":"IFERROR(VLOOKUP(AY120,'CRUCE RIESGOS'!$C$9:$D$13,2,FALSE),\"\")","v":""},21.5500000000002,{"$f":"IFERROR(VLOOKUP(BA120,'CRUCE RIESGOS'!$C$9:$D$13,2,FALSE),\"\")","v":""},22.5500000000002,{"$f":"IFERROR(VLOOKUP(BC120,'CRUCE RIESGOS'!$C$9:$D$13,2,FALSE),\"\")","v":""},23.5500000000002,{"$f":"IFERROR(VLOOKUP(BE120,'CRUCE RIESGOS'!$C$9:$D$13,2,FALSE),\"\")","v":""},24.5500000000002,{"$f":"IFERROR(VLOOKUP(BG120,'CRUCE RIESGOS'!$C$9:$D$13,2,FALSE),\"\")","v":""},25.5500000000002,{"$f":"IFERROR(VLOOKUP(BI120,'CRUCE RIESGOS'!$C$9:$D$13,2,FALSE),\"\")","v":""}]
[null,null,null,null,null,null,null,null,null,null,null,null,null,"",null,{"$f":"IF(P122<>\"\",\" -R\",\"\")","v":""},null,{"$f":"IF(R122<>\"\",\" -R\",\"\")","v":""},null,{"$f":"IF(T122<>\"\",\" -R\",\"\")","v":""},null,{"$f":"IF(V122<>\"\",\" -R\",\"\")","v":""},null,{"$f":"IF(X122<>\"\",\" -R\",\"\")","v":""},null,{"$f":"IF(Z122<>\"\",\" -R\",\"\")","v":""},null,{"$f":"IF(AB122<>\"\",\" -R\",\"\")","v":""},null,{"$f":"IF(AD122<>\"\",\" -R\",\"\")","v":""},null,"",null,"",null,"",null,"",null,"",null,"",null,"",null,"",null,"",null,"",null,"",null,"",null,"",null,"",null,"",null,""]
[null,null,null,null,null,null,null,null,null,null,null,null,1.56,{"$f":"IFERROR(VLOOKUP(M122,'CRUCE RIESGOS'!$C$9:$D$13,2,FALSE),\"\")","v":""},2.5600000000000098,{"$f":"IFERROR(VLOOKUP(O122,'CRUCE RIESGOS'!$C$9:$D$13,2,FALSE),\"\")","v":""},3.56000000000002,{"$f":"IFERROR(VLOOKUP(Q122,'CRUCE RIESGOS'!$C$9:$D$13,2,FALSE),\"\")","v":""},4.5600000000000298,{"$f":"IFERROR(VLOOKUP(S122,'CRUCE RIESGOS'!$C$9:$D$13,2,FALSE),\"\")","v":""},5.5600000000000396,{"$f":"IFERROR(VLOOKUP(U122,'CRUCE RIESGOS'!$C$9:$D$13,2,FALSE),\"\")","v":""},6.5600000000000502,{"$f":"IFERROR(VLOOKUP(W122,'CRUCE RIESGOS'!$C$9:$D$13,2,FALSE),\"\")","v":""},7.56000000000006,{"$f":"IFERROR(VLOOKUP(Y122,'CRUCE RIESGOS'!$C$9:$D$13,2,FALSE),\"\")","v":""},8.5600000000000698,{"$f":"IFERROR(VLOOKUP(AA122,'CRUCE RIESGOS'!$C$9:$D$13,2,FALSE),\"\")","v":""},9.5600000000000804,{"$f":"IFERROR(VLOOKUP(AC122,'CRUCE RIESGOS'!$C$9:$D$13,2,FALSE),\"\")","v":""},10.5600000000001,{"$f":"IFERROR(VLOOKUP(AE122,'CRUCE RIESGOS'!$C$9:$D$13,2,FALSE),\"\")","v":""},11.5600000000001,{"$f":"IFERROR(VLOOKUP(AG122,'CRUCE RIESGOS'!$C$9:$D$13,2,FALSE),\"\")","v":""},12.5600000000001,{"$f":"IFERROR(VLOOKUP(AI122,'CRUCE RIESGOS'!$C$9:$D$13,2,FALSE),\"\")","v":""},13.5600000000001,{"$f":"IFERROR(VLOOKUP(AK122,'CRUCE RIESGOS'!$C$9:$D$13,2,FALSE),\"\")","v":""},14.5600000000001,{"$f":"IFERROR(VLOOKUP(AM122,'CRUCE RIESGOS'!$C$9:$D$13,2,FALSE),\"\")","v":""},15.5600000000001,{"$f":"IFERROR(VLOOKUP(AO122,'CRUCE RIESGOS'!$C$9:$D$13,2,FALSE),\"\")","v":""},16.560000000000102,{"$f":"IFERROR(VLOOKUP(AQ122,'CRUCE RIESGOS'!$C$9:$D$13,2,FALSE),\"\")","v":""},17.560000000000201,{"$f":"IFERROR(VLOOKUP(AS122,'CRUCE RIESGOS'!$C$9:$D$13,2,FALSE),\"\")","v":""},18.560000000000201,{"$f":"IFERROR(VLOOKUP(AU122,'CRUCE RIESGOS'!$C$9:$D$13,2,FALSE),\"\")","v":""},19.560000000000201,{"$f":"IFERROR(VLOOKUP(AW122,'CRUCE RIESGOS'!$C$9:$D$13,2,FALSE),\"\")","v":""},20.560000000000201,{"$f":"IFERROR(VLOOKUP(AY122,'CRUCE RIESGOS'!$C$9:$D$13,2,FALSE),\"\")","v":""},21.560000000000201,{"$f":"IFERROR(VLOOKUP(BA122,'CRUCE RIESGOS'!$C$9:$D$13,2,FALSE),\"\")","v":""},22.560000000000201,{"$f":"IFERROR(VLOOKUP(BC122,'CRUCE RIESGOS'!$C$9:$D$13,2,FALSE),\"\")","v":""},23.560000000000201,{"$f":"IFERROR(VLOOKUP(BE122,'CRUCE RIESGOS'!$C$9:$D$13,2,FALSE),\"\")","v":""},24.560000000000201,{"$f":"IFERROR(VLOOKUP(BG122,'CRUCE RIESGOS'!$C$9:$D$13,2,FALSE),\"\")","v":""},25.560000000000201,{"$f":"IFERROR(VLOOKUP(BI122,'CRUCE RIESGOS'!$C$9:$D$13,2,FALSE),\"\")","v":""}]
[null,null,null,null,null,null,null,null,null,null,null,null,null,"",null,{"$f":"IF(P124<>\"\",\" -R\",\"\")","v":""},null,{"$f":"IF(R124<>\"\",\" -R\",\"\")","v":""},null,{"$f":"IF(T124<>\"\",\" -R\",\"\")","v":""},null,{"$f":"IF(V124<>\"\",\" -R\",\"\")","v":""},null,{"$f":"IF(X124<>\"\",\" -R\",\"\")","v":""},null,{"$f":"IF(Z124<>\"\",\" -R\",\"\")","v":""},null,{"$f":"IF(AB124<>\"\",\" -R\",\"\")","v":""},null,{"$f":"IF(AD124<>\"\",\" -R\",\"\")","v":""},null,"",null,"",null,"",null,"",null,"",null,"",null,"",null,"",null,"",null,"",null,"",null,"",null,"",null,"",null,"",null,""]
[null,null,null,null,null,null,null,null,null,null,null,null,1.57,{"$f":"IFERROR(VLOOKUP(M124,'CRUCE RIESGOS'!$C$9:$D$13,2,FALSE),\"\")","v":""},2.5700000000000101,{"$f":"IFERROR(VLOOKUP(O124,'CRUCE RIESGOS'!$C$9:$D$13,2,FALSE),\"\")","v":""},3.5700000000000198,{"$f":"IFERROR(VLOOKUP(Q124,'CRUCE RIESGOS'!$C$9:$D$13,2,FALSE),\"\")","v":""},4.5700000000000296,{"$f":"IFERROR(VLOOKUP(S124,'CRUCE RIESGOS'!$C$9:$D$13,2,FALSE),\"\")","v":""},5.5700000000000403,{"$f":"IFERROR(VLOOKUP(U124,'CRUCE RIESGOS'!$C$9:$D$13,2,FALSE),\"\")","v":""},6.57000000000005,{"$f":"IFERROR(VLOOKUP(W124,'CRUCE RIESGOS'!$C$9:$D$13,2,FALSE),\"\")","v":""},7.5700000000000598,{"$f":"IFERROR(VLOOKUP(Y124,'CRUCE RIESGOS'!$C$9:$D$13,2,FALSE),\"\")","v":""},8.5700000000000696,{"$f":"IFERROR(VLOOKUP(AA124,'CRUCE RIESGOS'!$C$9:$D$13,2,FALSE),\"\")","v":""},9.5700000000000802,{"$f":"IFERROR(VLOOKUP(AC124,'CRUCE RIESGOS'!$C$9:$D$13,2,FALSE),\"\")","v":""},10.5700000000001,{"$f":"IFERROR(VLOOKUP(AE124,'CRUCE RIESGOS'!$C$9:$D$13,2,FALSE),\"\")","v":""},11.5700000000001,{"$f":"IFERROR(VLOOKUP(AG124,'CRUCE RIESGOS'!$C$9:$D$13,2,FALSE),\"\")","v":""},12.5700000000001,{"$f":"IFERROR(VLOOKUP(AI124,'CRUCE RIESGOS'!$C$9:$D$13,2,FALSE),\"\")","v":""},13.5700000000001,{"$f":"IFERROR(VLOOKUP(AK124,'CRUCE RIESGOS'!$C$9:$D$13,2,FALSE),\"\")","v":""},14.5700000000001,{"$f":"IFERROR(VLOOKUP(AM124,'CRUCE RIESGOS'!$C$9:$D$13,2,FALSE),\"\")","v":""},15.5700000000001,{"$f":"IFERROR(VLOOKUP(AO124,'CRUCE RIESGOS'!$C$9:$D$13,2,FALSE),\"\")","v":""},16.5700000000001,{"$f":"IFERROR(VLOOKUP(AQ124,'CRUCE RIESGOS'!$C$9:$D$13,2,FALSE),\"\")","v":""},17.570000000000199,{"$f":"IFERROR(VLOOKUP(AS124,'CRUCE RIESGOS'!$C$9:$D$13,2,FALSE),\"\")","v":""},18.570000000000199,{"$f":"IFERROR(VLOOKUP(AU124,'CRUCE RIESGOS'!$C$9:$D$13,2,FALSE),\"\")","v":""},19.570000000000199,{"$f":"IFERROR(VLOOKUP(AW124,'CRUCE RIESGOS'!$C$9:$D$13,2,FALSE),\"\")","v":""},20.570000000000199,{"$f":"IFERROR(VLOOKUP(AY124,'CRUCE RIESGOS'!$C$9:$D$13,2,FALSE),\"\")","v":""},21.570000000000199,{"$f":"IFERROR(VLOOKUP(BA124,'CRUCE RIESGOS'!$C$9:$D$13,2,FALSE),\"\")","v":""},22.570000000000199,{"$f":"IFERROR(VLOOKUP(BC124,'CRUCE RIESGOS'!$C$9:$D$13,2,FALSE),\"\")","v":""},23.570000000000199,{"$f":"IFERROR(VLOOKUP(BE124,'CRUCE RIESGOS'!$C$9:$D$13,2,FALSE),\"\")","v":""},24.570000000000199,{"$f":"IFERROR(VLOOKUP(BG124,'CRUCE RIESGOS'!$C$9:$D$13,2,FALSE),\"\")","v":""},25.570000000000199,{"$f":"IFERROR(VLOOKUP(BI124,'CRUCE RIESGOS'!$C$9:$D$13,2,FALSE),\"\")","v":""}]
[null,null,null,null,null,null,null,null,null,null,null,null,null,"",null,{"$f":"IF(P126<>\"\",\" -R\",\"\")","v":""},null,{"$f":"IF(R126<>\"\",\" -R\",\"\")","v":""},null,{"$f":"IF(T126<>\"\",\" -R\",\"\")","v":""},null,{"$f":"IF(V126<>\"\",\" -R\",\"\")","v":""},null,{"$f":"IF(X126<>\"\",\" -R\",\"\")","v":""},null,{"$f":"IF(Z126<>\"\",\" -R\",\"\")","v":""},null,{"$f":"IF(AB126<>\"\",\" -R\",\"\")","v":""},null,{"$f":"IF(AD126<>\"\",\" -R\",\"\")","v":""},null,"",null,"",null,"",null,"",null,"",null,"",null,"",null,"",null,"",null,"",null,"",null,"",null,"",null,"",null,"",null,""]
[null,null,null,null,null,null,null,null,null,null,null,null,1.58,{"$f":"IFERROR(VLOOKUP(M126,'CRUCE RIESGOS'!$C$9:$D$13,2,FALSE),\"\")","v":""},2.5800000000000098,{"$f":"IFERROR(VLOOKUP(O126,'CRUCE RIESGOS'!$C$9:$D$13,2,FALSE),\"\")","v":""},3.5800000000000201,{"$f":"IFERROR(VLOOKUP(Q126,'CRUCE RIESGOS'!$C$9:$D$13,2,FALSE),\"\")","v":""},4.5800000000000303,{"$f":"IFERROR(VLOOKUP(S126,'CRUCE RIESGOS'!$C$9:$D$13,2,FALSE),\"\")","v":""},5.58000000000004,{"$f":"IFERROR(VLOOKUP(U126,'CRUCE RIESGOS'!$C$9:$D$13,2,FALSE),\"\")","v":""},6.5800000000000498,{"$f":"IFERROR(VLOOKUP(W126,'CRUCE RIESGOS'!$C$9:$D$13,2,FALSE),\"\")","v":""},7.5800000000000596,{"$f":"IFERROR(VLOOKUP(Y126,'CRUCE RIESGOS'!$C$9:$D$13,2,FALSE),\"\")","v":""},8.5800000000000693,{"$f":"IFERROR(VLOOKUP(AA126,'CRUCE RIESGOS'!$C$9:$D$13,2,FALSE),\"\")","v":""},9.58000000000008,{"$f":"IFERROR(VLOOKUP(AC126,'CRUCE RIESGOS'!$C$9:$D$13,2,FALSE),\"\")","v":""},10.5800000000001,{"$f":"IFERROR(VLOOKUP(AE126,'CRUCE RIESGOS'!$C$9:$D$13,2,FALSE),\"\")","v":""},11.5800000000001,{"$f":"IFERROR(VLOOKUP(AG126,'CRUCE RIESGOS'!$C$9:$D$13,2,FALSE),\"\")","v":""},12.5800000000001,{"$f":"IFERROR(VLOOKUP(AI126,'CRUCE RIESGOS'!$C$9:$D$13,2,FALSE),\"\")","v":""},13.5800000000001,{"$f":"IFERROR(VLOOKUP(AK126,'CRUCE RIESGOS'!$C$9:$D$13,2,FALSE),\"\")","v":""},14.5800000000001,{"$f":"IFERROR(VLOOKUP(AM126,'CRUCE RIESGOS'!$C$9:$D$13,2,FALSE),\"\")","v":""},15.5800000000001,{"$f":"IFERROR(VLOOKUP(AO126,'CRUCE RIESGOS'!$C$9:$D$13,2,FALSE),\"\")","v":""},16.580000000000101,{"$f":"IFERROR(VLOOKUP(AQ126,'CRUCE RIESGOS'!$C$9:$D$13,2,FALSE),\"\")","v":""},17.580000000000201,{"$f":"IFERROR(VLOOKUP(AS126,'CRUCE RIESGOS'!$C$9:$D$13,2,FALSE),\"\")","v":""},18.580000000000201,{"$f":"IFERROR(VLOOKUP(AU126,'CRUCE RIESGOS'!$C$9:$D$13,2,FALSE),\"\")","v":""},19.580000000000201,{"$f":"IFERROR(VLOOKUP(AW126,'CRUCE RIESGOS'!$C$9:$D$13,2,FALSE),\"\")","v":""},20.580000000000201,{"$f":"IFERROR(VLOOKUP(AY126,'CRUCE RIESGOS'!$C$9:$D$13,2,FALSE),\"\")","v":""},21.580000000000201,{"$f":"IFERROR(VLOOKUP(BA126,'CRUCE RIESGOS'!$C$9:$D$13,2,FALSE),\"\")","v":""},22.580000000000201,{"$f":"IFERROR(VLOOKUP(BC126,'CRUCE RIESGOS'!$C$9:$D$13,2,FALSE),\"\")","v":""},23.580000000000201,{"$f":"IFERROR(VLOOKUP(BE126,'CRUCE RIESGOS'!$C$9:$D$13,2,FALSE),\"\")","v":""},24.580000000000201,{"$f":"IFERROR(VLOOKUP(BG126,'CRUCE RIESGOS'!$C$9:$D$13,2,FALSE),\"\")","v":""},25.580000000000201,{"$f":"IFERROR(VLOOKUP(BI126,'CRUCE RIESGOS'!$C$9:$D$13,2,FALSE),\"\")","v":""}]
[null,null,null,null,null,null,null,null,null,null,null,null,null,"",null,{"$f":"IF(P128<>\"\",\" -R\",\"\")","v":""},null,{"$f":"IF(R128<>\"\",\" -R\",\"\")","v":""},null,{"$f":"IF(T128<>\"\",\" -R\",\"\")","v":""},null,{"$f":"IF(V128<>\"\",\" -R\",\"\")","v":""},null,{"$f":"IF(X128<>\"\",\" -R\",\"\")","v":""},null,{"$f":"IF(Z128<>\"\",\" -R\",\"\")","v":""},null,{"$f":"IF(AB128<>\"\",\" -R\",\"\")","v":""},null,{"$f":"IF(AD128<>\"\",\" -R\",\"\")","v":""},null,"",null,"",null,"",null,"",null,"",null,"",null,"",null,"",null,"",null,"",null,"",null,"",null,"",null,"",null,"",null,""]
[null,null,null,null,null,null,null,null,null,null,null,null,1.59,{"$f":"IFERROR(VLOOKUP(M128,'CRUCE RIESGOS'!$C$9:$D$13,2,FALSE),\"\")","v":""},2.5900000000000101,{"$f":"IFERROR(VLOOKUP(O128,'CRUCE RIESGOS'!$C$9:$D$13,2,FALSE),\"\")","v":""},3.5900000000000198,{"$f":"IFERROR(VLOOKUP(Q128,'CRUCE RIESGOS'!$C$9:$D$13,2,FALSE),\"\")","v":""},4.5900000000000301,{"$f":"IFERROR(VLOOKUP(S128,'CRUCE RIESGOS'!$C$9:$D$13,2,FALSE),\"\")","v":""},5.5900000000000398,{"$f":"IFERROR(VLOOKUP(U128,'CRUCE RIESGOS'!$C$9:$D$13,2,FALSE),\"\")","v":""},6.5900000000000496,{"$f":"IFERROR(VLOOKUP(W128,'CRUCE RIESGOS'!$C$9:$D$13,2,FALSE),\"\")","v":""},7.5900000000000603,{"$f":"IFERROR(VLOOKUP(Y128,'CRUCE RIESGOS'!$C$9:$D$13,2,FALSE),\"\")","v":""},8.5900000000000691,{"$f":"IFERROR(VLOOKUP(AA128,'CRUCE RIESGOS'!$C$9:$D$13,2,FALSE),\"\")","v":""},9.5900000000000798,{"$f":"IFERROR(VLOOKUP(AC128,'CRUCE RIESGOS'!$C$9:$D$13,2,FALSE),\"\")","v":""},10.590000000000099,{"$f":"IFERROR(VLOOKUP(AE128,'CRUCE RIESGOS'!$C$9:$D$13,2,FALSE),\"\")","v":""},11.590000000000099,{"$f":"IFERROR(VLOOKUP(AG128,'CRUCE RIESGOS'!$C$9:$D$13,2,FALSE),\"\")","v":""},12.590000000000099,{"$f":"IFERROR(VLOOKUP(AI128,'CRUCE RIESGOS'!$C$9:$D$13,2,FALSE),\"\")","v":""},13.590000000000099,{"$f":"IFERROR(VLOOKUP(AK128,'CRUCE RIESGOS'!$C$9:$D$13,2,FALSE),\"\")","v":""},14.590000000000099,{"$f":"IFERROR(VLOOKUP(AM128,'CRUCE RIESGOS'!$C$9:$D$13,2,FALSE),\"\")","v":""},15.590000000000099,{"$f":"IFERROR(VLOOKUP(AO128,'CRUCE RIESGOS'!$C$9:$D$13,2,FALSE),\"\")","v":""},16.590000000000099,{"$f":"IFERROR(VLOOKUP(AQ128,'CRUCE RIESGOS'!$C$9:$D$13,2,FALSE),\"\")","v":""},17.590000000000199,{"$f":"IFERROR(VLOOKUP(AS128,'CRUCE RIESGOS'!$C$9:$D$13,2,FALSE),\"\")","v":""},18.590000000000199,{"$f":"IFERROR(VLOOKUP(AU128,'CRUCE RIESGOS'!$C$9:$D$13,2,FALSE),\"\")","v":""},19.590000000000199,{"$f":"IFERROR(VLOOKUP(AW128,'CRUCE RIESGOS'!$C$9:$D$13,2,FALSE),\"\")","v":""},20.590000000000199,{"$f":"IFERROR(VLOOKUP(AY128,'CRUCE RIESGOS'!$C$9:$D$13,2,FALSE),\"\")","v":""},21.590000000000199,{"$f":"IFERROR(VLOOKUP(BA128,'CRUCE RIESGOS'!$C$9:$D$13,2,FALSE),\"\")","v":""},22.590000000000199,{"$f":"IFERROR(VLOOKUP(BC128,'CRUCE RIESGOS'!$C$9:$D$13,2,FALSE),\"\")","v":""},23.590000000000199,{"$f":"IFERROR(VLOOKUP(BE128,'CRUCE RIESGOS'!$C$9:$D$13,2,FALSE),\"\")","v":""},24.590000000000199,{"$f":"IFERROR(VLOOKUP(BG128,'CRUCE RIESGOS'!$C$9:$D$13,2,FALSE),\"\")","v":""},25.590000000000199,{"$f":"IFERROR(VLOOKUP(BI128,'CRUCE RIESGOS'!$C$9:$D$13,2,FALSE),\"\")","v":""}]
[null,null,null,null,null,null,null,null,null,null,null,null,null,"",null,{"$f":"IF(P130<>\"\",\" -R\",\"\")","v":""},null,{"$f":"IF(R130<>\"\",\" -R\",\"\")","v":""},null,{"$f":"IF(T130<>\"\",\" -R\",\"\")","v":""},null,{"$f":"IF(V130<>\"\",\" -R\",\"\")","v":""},null,{"$f":"IF(X130<>\"\",\" -R\",\"\")","v":""},null,{"$f":"IF(Z130<>\"\",\" -R\",\"\")","v":""},null,{"$f":"IF(AB130<>\"\",\" -R\",\"\")","v":""},null,{"$f":"IF(AD130<>\"\",\" -R\",\"\")","v":""},null,"",null,"",null,"",null,"",null,"",null,"",null,"",null,"",null,"",null,"",null,"",null,"",null,"",null,"",null,"",null,""]
[null,null,null,null,null,null,null,null,null,null,null,null,1.6,{"$f":"IFERROR(VLOOKUP(M130,'CRUCE RIESGOS'!$C$9:$D$13,2,FALSE),\"\")","v":""},2.6000000000000099,{"$f":"IFERROR(VLOOKUP(O130,'CRUCE RIESGOS'!$C$9:$D$13,2,FALSE),\"\")","v":""},3.6000000000000201,{"$f":"IFERROR(VLOOKUP(Q130,'CRUCE RIESGOS'!$C$9:$D$13,2,FALSE),\"\")","v":""},4.6000000000000298,{"$f":"IFERROR(VLOOKUP(S130,'CRUCE RIESGOS'!$C$9:$D$13,2,FALSE),\"\")","v":""},5.6000000000000396,{"$f":"IFERROR(VLOOKUP(U130,'CRUCE RIESGOS'!$C$9:$D$13,2,FALSE),\"\")","v":""},6.6000000000000503,{"$f":"IFERROR(VLOOKUP(W130,'CRUCE RIESGOS'!$C$9:$D$13,2,FALSE),\"\")","v":""},7.60000000000006,{"$f":"IFERROR(VLOOKUP(Y130,'CRUCE RIESGOS'!$C$9:$D$13,2,FALSE),\"\")","v":""},8.6000000000000707,{"$f":"IFERROR(VLOOKUP(AA130,'CRUCE RIESGOS'!$C$9:$D$13,2,FALSE),\"\")","v":""},9.6000000000000796,{"$f":"IFERROR(VLOOKUP(AC130,'CRUCE RIESGOS'!$C$9:$D$13,2,FALSE),\"\")","v":""},10.600000000000099,{"$f":"IFERROR(VLOOKUP(AE130,'CRUCE RIESGOS'!$C$9:$D$13,2,FALSE),\"\")","v":""},11.600000000000099,{"$f":"IFERROR(VLOOKUP(AG130,'CRUCE RIESGOS'!$C$9:$D$13,2,FALSE),\"\")","v":""},12.600000000000099,{"$f":"IFERROR(VLOOKUP(AI130,'CRUCE RIESGOS'!$C$9:$D$13,2,FALSE),\"\")","v":""},13.600000000000099,{"$f":"IFERROR(VLOOKUP(AK130,'CRUCE RIESGOS'!$C$9:$D$13,2,FALSE),\"\")","v":""},14.600000000000099,{"$f":"IFERROR(VLOOKUP(AM130,'CRUCE RIESGOS'!$C$9:$D$13,2,FALSE),\"\")","v":""},15.600000000000099,{"$f":"IFERROR(VLOOKUP(AO130,'CRUCE RIESGOS'!$C$9:$D$13,2,FALSE),\"\")","v":""},16.600000000000101,{"$f":"IFERROR(VLOOKUP(AQ130,'CRUCE RIESGOS'!$C$9:$D$13,2,FALSE),\"\")","v":""},17.6000000000002,{"$f":"IFERROR(VLOOKUP(AS130,'CRUCE RIESGOS'!$C$9:$D$13,2,FALSE),\"\")","v":""},18.6000000000002,{"$f":"IFERROR(VLOOKUP(AU130,'CRUCE RIESGOS'!$C$9:$D$13,2,FALSE),\"\")","v":""},19.6000000000002,{"$f":"IFERROR(VLOOKUP(AW130,'CRUCE RIESGOS'!$C$9:$D$13,2,FALSE),\"\")","v":""},20.6000000000002,{"$f":"IFERROR(VLOOKUP(AY130,'CRUCE RIESGOS'!$C$9:$D$13,2,FALSE),\"\")","v":""},21.6000000000002,{"$f":"IFERROR(VLOOKUP(BA130,'CRUCE RIESGOS'!$C$9:$D$13,2,FALSE),\"\")","v":""},22.6000000000002,{"$f":"IFERROR(VLOOKUP(BC130,'CRUCE RIESGOS'!$C$9:$D$13,2,FALSE),\"\")","v":""},23.6000000000002,{"$f":"IFERROR(VLOOKUP(BE130,'CRUCE RIESGOS'!$C$9:$D$13,2,FALSE),\"\")","v":""},24.6000000000002,{"$f":"IFERROR(VLOOKUP(BG130,'CRUCE RIESGOS'!$C$9:$D$13,2,FALSE),\"\")","v":""},25.6000000000002,{"$f":"IFERROR(VLOOKUP(BI130,'CRUCE RIESGOS'!$C$9:$D$13,2,FALSE),\"\")","v":""}]
[null,null,null,null,null,null,null,null,null,null,null,null,null,"",null,{"$f":"IF(P132<>\"\",\" -R\",\"\")","v":""},null,{"$f":"IF(R132<>\"\",\" -R\",\"\")","v":""},null,{"$f":"IF(T132<>\"\",\" -R\",\"\")","v":""},null,{"$f":"IF(V132<>\"\",\" -R\",\"\")","v":""},null,{"$f":"IF(X132<>\"\",\" -R\",\"\")","v":""},null,{"$f":"IF(Z132<>\"\",\" -R\",\"\")","v":""},null,{"$f":"IF(AB132<>\"\",\" -R\",\"\")","v":""},null,{"$f":"IF(AD132<>\"\",\" -R\",\"\")","v":""},null,"",null,"",null,"",null,"",null,"",null,"",null,"",null,"",null,"",null,"",null,"",null,"",null,"",null,"",null,"",null,""]
[null,null,null,null,null,null,null,null,null,null,null,null,1.61,{"$f":"IFERROR(VLOOKUP(M132,'CRUCE RIESGOS'!$C$9:$D$13,2,FALSE),\"\")","v":""},2.6100000000000101,{"$f":"IFERROR(VLOOKUP(O132,'CRUCE RIESGOS'!$C$9:$D$13,2,FALSE),\"\")","v":""},3.6100000000000199,{"$f":"IFERROR(VLOOKUP(Q132,'CRUCE RIESGOS'!$C$9:$D$13,2,FALSE),\"\")","v":""},4.6100000000000296,{"$f":"IFERROR(VLOOKUP(S132,'CRUCE RIESGOS'!$C$9:$D$13,2,FALSE),\"\")","v":""},5.6100000000000403,{"$f":"IFERROR(VLOOKUP(U132,'CRUCE RIESGOS'!$C$9:$D$13,2,FALSE),\"\")","v":""},6.6100000000000501,{"$f":"IFERROR(VLOOKUP(W132,'CRUCE RIESGOS'!$C$9:$D$13,2,FALSE),\"\")","v":""},7.6100000000000598,{"$f":"IFERROR(VLOOKUP(Y132,'CRUCE RIESGOS'!$C$9:$D$13,2,FALSE),\"\")","v":""},8.6100000000000705,{"$f":"IFERROR(VLOOKUP(AA132,'CRUCE RIESGOS'!$C$9:$D$13,2,FALSE),\"\")","v":""},9.6100000000000794,{"$f":"IFERROR(VLOOKUP(AC132,'CRUCE RIESGOS'!$C$9:$D$13,2,FALSE),\"\")","v":""},10.610000000000101,{"$f":"IFERROR(VLOOKUP(AE132,'CRUCE RIESGOS'!$C$9:$D$13,2,FALSE),\"\")","v":""},11.610000000000101,{"$f":"IFERROR(VLOOKUP(AG132,'CRUCE RIESGOS'!$C$9:$D$13,2,FALSE),\"\")","v":""},12.610000000000101,{"$f":"IFERROR(VLOOKUP(AI132,'CRUCE RIESGOS'!$C$9:$D$13,2,FALSE),\"\")","v":""},13.610000000000101,{"$f":"IFERROR(VLOOKUP(AK132,'CRUCE RIESGOS'!$C$9:$D$13,2,FALSE),\"\")","v":""},14.610000000000101,{"$f":"IFERROR(VLOOKUP(AM132,'CRUCE RIESGOS'!$C$9:$D$13,2,FALSE),\"\")","v":""},15.610000000000101,{"$f":"IFERROR(VLOOKUP(AO132,'CRUCE RIESGOS'!$C$9:$D$13,2,FALSE),\"\")","v":""},16.610000000000099,{"$f":"IFERROR(VLOOKUP(AQ132,'CRUCE RIESGOS'!$C$9:$D$13,2,FALSE),\"\")","v":""},17.610000000000198,{"$f":"IFERROR(VLOOKUP(AS132,'CRUCE RIESGOS'!$C$9:$D$13,2,FALSE),\"\")","v":""},18.610000000000198,{"$f":"IFERROR(VLOOKUP(AU132,'CRUCE RIESGOS'!$C$9:$D$13,2,FALSE),\"\")","v":""},19.610000000000198,{"$f":"IFERROR(VLOOKUP(AW132,'CRUCE RIESGOS'!$C$9:$D$13,2,FALSE),\"\")","v":""},20.610000000000198,{"$f":"IFERROR(VLOOKUP(AY132,'CRUCE RIESGOS'!$C$9:$D$13,2,FALSE),\"\")","v":""},21.610000000000198,{"$f":"IFERROR(VLOOKUP(BA132,'CRUCE RIESGOS'!$C$9:$D$13,2,FALSE),\"\")","v":""},22.610000000000198,{"$f":"IFERROR(VLOOKUP(BC132,'CRUCE RIESGOS'!$C$9:$D$13,2,FALSE),\"\")","v":""},23.610000000000198,{"$f":"IFERROR(VLOOKUP(BE132,'CRUCE RIESGOS'!$C$9:$D$13,2,FALSE),\"\")","v":""},24.610000000000198,{"$f":"IFERROR(VLOOKUP(BG132,'CRUCE RIESGOS'!$C$9:$D$13,2,FALSE),\"\")","v":""},25.610000000000198,{"$f":"IFERROR(VLOOKUP(BI132,'CRUCE RIESGOS'!$C$9:$D$13,2,FALSE),\"\")","v":""}]
[null,null,null,null,null,null,null,null,null,null,null,null,null,"",null,{"$f":"IF(P134<>\"\",\" -R\",\"\")","v":""},null,{"$f":"IF(R134<>\"\",\" -R\",\"\")","v":""},null,{"$f":"IF(T134<>\"\",\" -R\",\"\")","v":""},null,{"$f":"IF(V134<>\"\",\" -R\",\"\")","v":""},null,{"$f":"IF(X134<>\"\",\" -R\",\"\")","v":""},null,{"$f":"IF(Z134<>\"\",\" -R\",\"\")","v":""},null,{"$f":"IF(AB134<>\"\",\" -R\",\"\")","v":""},null,{"$f":"IF(AD134<>\"\",\" -R\",\"\")","v":""},null,"",null,"",null,"",null,"",null,"",null,"",null,"",null,"",null,"",null,"",null,"",null,"",null,"",null,"",null,"",null,""]
[null,null,null,null,null,null,null,null,null,null,null,null,1.62,{"$f":"IFERROR(VLOOKUP(M134,'CRUCE RIESGOS'!$C$9:$D$13,2,FALSE),\"\")","v":""},2.6200000000000099,{"$f":"IFERROR(VLOOKUP(O134,'CRUCE RIESGOS'!$C$9:$D$13,2,FALSE),\"\")","v":""},3.6200000000000201,{"$f":"IFERROR(VLOOKUP(Q134,'CRUCE RIESGOS'!$C$9:$D$13,2,FALSE),\"\")","v":""},4.6200000000000303,{"$f":"IFERROR(VLOOKUP(S134,'CRUCE RIESGOS'!$C$9:$D$13,2,FALSE),\"\")","v":""},5.6200000000000401,{"$f":"IFERROR(VLOOKUP(U134,'CRUCE RIESGOS'!$C$9:$D$13,2,FALSE),\"\")","v":""},6.6200000000000498,{"$f":"IFERROR(VLOOKUP(W134,'CRUCE RIESGOS'!$C$9:$D$13,2,FALSE),\"\")","v":""},7.6200000000000596,{"$f":"IFERROR(VLOOKUP(Y134,'CRUCE RIESGOS'!$C$9:$D$13,2,FALSE),\"\")","v":""},8.6200000000000703,{"$f":"IFERROR(VLOOKUP(AA134,'CRUCE RIESGOS'!$C$9:$D$13,2,FALSE),\"\")","v":""},9.6200000000000792,{"$f":"IFERROR(VLOOKUP(AC134,'CRUCE RIESGOS'!$C$9:$D$13,2,FALSE),\"\")","v":""},10.6200000000001,{"$f":"IFERROR(VLOOKUP(AE134,'CRUCE RIESGOS'!$C$9:$D$13,2,FALSE),\"\")","v":""},11.6200000000001,{"$f":"IFERROR(VLOOKUP(AG134,'CRUCE RIESGOS'!$C$9:$D$13,2,FALSE),\"\")","v":""},12.6200000000001,{"$f":"IFERROR(VLOOKUP(AI134,'CRUCE RIESGOS'!$C$9:$D$13,2,FALSE),\"\")","v":""},13.6200000000001,{"$f":"IFERROR(VLOOKUP(AK134,'CRUCE RIESGOS'!$C$9:$D$13,2,FALSE),\"\")","v":""},14.6200000000001,{"$f":"IFERROR(VLOOKUP(AM134,'CRUCE RIESGOS'!$C$9:$D$13,2,FALSE),\"\")","v":""},15.6200000000001,{"$f":"IFERROR(VLOOKUP(AO134,'CRUCE RIESGOS'!$C$9:$D$13,2,FALSE),\"\")","v":""},16.6200000000001,{"$f":"IFERROR(VLOOKUP(AQ134,'CRUCE RIESGOS'!$C$9:$D$13,2,FALSE),\"\")","v":""},17.6200000000002,{"$f":"IFERROR(VLOOKUP(AS134,'CRUCE RIESGOS'!$C$9:$D$13,2,FALSE),\"\")","v":""},18.6200000000002,{"$f":"IFERROR(VLOOKUP(AU134,'CRUCE RIESGOS'!$C$9:$D$13,2,FALSE),\"\")","v":""},19.6200000000002,{"$f":"IFERROR(VLOOKUP(AW134,'CRUCE RIESGOS'!$C$9:$D$13,2,FALSE),\"\")","v":""},20.6200000000002,{"$f":"IFERROR(VLOOKUP(AY134,'CRUCE RIESGOS'!$C$9:$D$13,2,FALSE),\"\")","v":""},21.6200000000002,{"$f":"IFERROR(VLOOKUP(BA134,'CRUCE RIESGOS'!$C$9:$D$13,2,FALSE),\"\")","v":""},22.6200000000002,{"$f":"IFERROR(VLOOKUP(BC134,'CRUCE RIESGOS'!$C$9:$D$13,2,FALSE),\"\")","v":""},23.6200000000002,{"$f":"IFERROR(VLOOKUP(BE134,'CRUCE RIESGOS'!$C$9:$D$13,2,FALSE),\"\")","v":""},24.6200000000002,{"$f":"IFERROR(VLOOKUP(BG134,'CRUCE RIESGOS'!$C$9:$D$13,2,FALSE),\"\")","v":""},25.6200000000002,{"$f":"IFERROR(VLOOKUP(BI134,'CRUCE RIESGOS'!$C$9:$D$13,2,FALSE),\"\")","v":""}]
[null,null,null,null,null,null,null,null,null,null,null,null,null,"",null,{"$f":"IF(P136<>\"\",\" -R\",\"\")","v":""},null,{"$f":"IF(R136<>\"\",\" -R\",\"\")","v":""},null,{"$f":"IF(T136<>\"\",\" -R\",\"\")","v":""},null,{"$f":"IF(V136<>\"\",\" -R\",\"\")","v":""},null,{"$f":"IF(X136<>\"\",\" -R\",\"\")","v":""},null,{"$f":"IF(Z136<>\"\",\" -R\",\"\")","v":""},null,{"$f":"IF(AB136<>\"\",\" -R\",\"\")","v":""},null,{"$f":"IF(AD136<>\"\",\" -R\",\"\")","v":""},null,"",null,"",null,"",null,"",null,"",null,"",null,"",null,"",null,"",null,"",null,"",null,"",null,"",null,"",null,"",null,""]
[null,null,null,null,null,null,null,null,null,null,null,null,1.63,{"$f":"IFERROR(VLOOKUP(M136,'CRUCE RIESGOS'!$C$9:$D$13,2,FALSE),\"\")","v":""},2.6300000000000101,{"$f":"IFERROR(VLOOKUP(O136,'CRUCE RIESGOS'!$C$9:$D$13,2,FALSE),\"\")","v":""},3.6300000000000199,{"$f":"IFERROR(VLOOKUP(Q136,'CRUCE RIESGOS'!$C$9:$D$13,2,FALSE),\"\")","v":""},4.6300000000000301,{"$f":"IFERROR(VLOOKUP(S136,'CRUCE RIESGOS'!$C$9:$D$13,2,FALSE),\"\")","v":""},5.6300000000000399,{"$f":"IFERROR(VLOOKUP(U136,'CRUCE RIESGOS'!$C$9:$D$13,2,FALSE),\"\")","v":""},6.6300000000000496,{"$f":"IFERROR(VLOOKUP(W136,'CRUCE RIESGOS'!$C$9:$D$13,2,FALSE),\"\")","v":""},7.6300000000000603,{"$f":"IFERROR(VLOOKUP(Y136,'CRUCE RIESGOS'!$C$9:$D$13,2,FALSE),\"\")","v":""},8.6300000000000701,{"$f":"IFERROR(VLOOKUP(AA136,'CRUCE RIESGOS'!$C$9:$D$13,2,FALSE),\"\")","v":""},9.6300000000000807,{"$f":"IFERROR(VLOOKUP(AC136,'CRUCE RIESGOS'!$C$9:$D$13,2,FALSE),\"\")","v":""},10.6300000000001,{"$f":"IFERROR(VLOOKUP(AE136,'CRUCE RIESGOS'!$C$9:$D$13,2,FALSE),\"\")","v":""},11.6300000000001,{"$f":"IFERROR(VLOOKUP(AG136,'CRUCE RIESGOS'!$C$9:$D$13,2,FALSE),\"\")","v":""},12.6300000000001,{"$f":"IFERROR(VLOOKUP(AI136,'CRUCE RIESGOS'!$C$9:$D$13,2,FALSE),\"\")","v":""},13.6300000000001,{"$f":"IFERROR(VLOOKUP(AK136,'CRUCE RIESGOS'!$C$9:$D$13,2,FALSE),\"\")","v":""},14.6300000000001,{"$f":"IFERROR(VLOOKUP(AM136,'CRUCE RIESGOS'!$C$9:$D$13,2,FALSE),\"\")","v":""},15.6300000000001,{"$f":"IFERROR(VLOOKUP(AO136,'CRUCE RIESGOS'!$C$9:$D$13,2,FALSE),\"\")","v":""},16.630000000000202,{"$f":"IFERROR(VLOOKUP(AQ136,'CRUCE RIESGOS'!$C$9:$D$13,2,FALSE),\"\")","v":""},17.630000000000202,{"$f":"IFERROR(VLOOKUP(AS136,'CRUCE RIESGOS'!$C$9:$D$13,2,FALSE),\"\")","v":""},18.630000000000202,{"$f":"IFERROR(VLOOKUP(AU136,'CRUCE RIESGOS'!$C$9:$D$13,2,FALSE),\"\")","v":""},19.630000000000202,{"$f":"IFERROR(VLOOKUP(AW136,'CRUCE RIESGOS'!$C$9:$D$13,2,FALSE),\"\")","v":""},20.630000000000202,{"$f":"IFERROR(VLOOKUP(AY136,'CRUCE RIESGOS'!$C$9:$D$13,2,FALSE),\"\")","v":""},21.630000000000202,{"$f":"IFERROR(VLOOKUP(BA136,'CRUCE RIESGOS'!$C$9:$D$13,2,FALSE),\"\")","v":""},22.630000000000202,{"$f":"IFERROR(VLOOKUP(BC136,'CRUCE RIESGOS'!$C$9:$D$13,2,FALSE),\"\")","v":""},23.630000000000202,{"$f":"IFERROR(VLOOKUP(BE136,'CRUCE RIESGOS'!$C$9:$D$13,2,FALSE),\"\")","v":""},24.630000000000202,{"$f":"IFERROR(VLOOKUP(BG136,'CRUCE RIESGOS'!$C$9:$D$13,2,FALSE),\"\")","v":""},25.630000000000202,{"$f":"IFERROR(VLOOKUP(BI136,'CRUCE RIESGOS'!$C$9:$D$13,2,FALSE),\"\")","v":""}]
[null,null,null,null,null,null,null,null,null,null,null,null,null,"",null,{"$f":"IF(P138<>\"\",\" -R\",\"\")","v":""},null,{"$f":"IF(R138<>\"\",\" -R\",\"\")","v":""},null,{"$f":"IF(T138<>\"\",\" -R\",\"\")","v":""},null,{"$f":"IF(V138<>\"\",\" -R\",\"\")","v":""},null,{"$f":"IF(X138<>\"\",\" -R\",\"\")","v":""},null,{"$f":"IF(Z138<>\"\",\" -R\",\"\")","v":""},null,{"$f":"IF(AB138<>\"\",\" -R\",\"\")","v":""},null,{"$f":"IF(AD138<>\"\",\" -R\",\"\")","v":""},null,"",null,"",null,"",null,"",null,"",null,"",null,"",null,"",null,"",null,"",null,"",null,"",null,"",null,"",null,"",null,""]
[null,null,null,null,null,null,null,null,null,null,null,null,1.64,{"$f":"IFERROR(VLOOKUP(M138,'CRUCE RIESGOS'!$C$9:$D$13,2,FALSE),\"\")","v":""},2.6400000000000099,{"$f":"IFERROR(VLOOKUP(O138,'CRUCE RIESGOS'!$C$9:$D$13,2,FALSE),\"\")","v":""},3.6400000000000201,{"$f":"IFERROR(VLOOKUP(Q138,'CRUCE RIESGOS'!$C$9:$D$13,2,FALSE),\"\")","v":""},4.6400000000000299,{"$f":"IFERROR(VLOOKUP(S138,'CRUCE RIESGOS'!$C$9:$D$13,2,FALSE),\"\")","v":""},5.6400000000000396,{"$f":"IFERROR(VLOOKUP(U138,'CRUCE RIESGOS'!$C$9:$D$13,2,FALSE),\"\")","v":""},6.6400000000000503,{"$f":"IFERROR(VLOOKUP(W138,'CRUCE RIESGOS'!$C$9:$D$13,2,FALSE),\"\")","v":""},7.6400000000000601,{"$f":"IFERROR(VLOOKUP(Y138,'CRUCE RIESGOS'!$C$9:$D$13,2,FALSE),\"\")","v":""},8.6400000000000698,{"$f":"IFERROR(VLOOKUP(AA138,'CRUCE RIESGOS'!$C$9:$D$13,2,FALSE),\"\")","v":""},9.6400000000000805,{"$f":"IFERROR(VLOOKUP(AC138,'CRUCE RIESGOS'!$C$9:$D$13,2,FALSE),\"\")","v":""},10.6400000000001,{"$f":"IFERROR(VLOOKUP(AE138,'CRUCE RIESGOS'!$C$9:$D$13,2,FALSE),\"\")","v":""},11.6400000000001,{"$f":"IFERROR(VLOOKUP(AG138,'CRUCE RIESGOS'!$C$9:$D$13,2,FALSE),\"\")","v":""},12.6400000000001,{"$f":"IFERROR(VLOOKUP(AI138,'CRUCE RIESGOS'!$C$9:$D$13,2,FALSE),\"\")","v":""},13.6400000000001,{"$f":"IFERROR(VLOOKUP(AK138,'CRUCE RIESGOS'!$C$9:$D$13,2,FALSE),\"\")","v":""},14.6400000000001,{"$f":"IFERROR(VLOOKUP(AM138,'CRUCE RIESGOS'!$C$9:$D$13,2,FALSE),\"\")","v":""},15.6400000000001,{"$f":"IFERROR(VLOOKUP(AO138,'CRUCE RIESGOS'!$C$9:$D$13,2,FALSE),\"\")","v":""},16.6400000000001,{"$f":"IFERROR(VLOOKUP(AQ138,'CRUCE RIESGOS'!$C$9:$D$13,2,FALSE),\"\")","v":""},17.6400000000002,{"$f":"IFERROR(VLOOKUP(AS138,'CRUCE RIESGOS'!$C$9:$D$13,2,FALSE),\"\")","v":""},18.6400000000002,{"$f":"IFERROR(VLOOKUP(AU138,'CRUCE RIESGOS'!$C$9:$D$13,2,FALSE),\"\")","v":""},19.6400000000002,{"$f":"IFERROR(VLOOKUP(AW138,'CRUCE RIESGOS'!$C$9:$D$13,2,FALSE),\"\")","v":""},20.6400000000002,{"$f":"IFERROR(VLOOKUP(AY138,'CRUCE RIESGOS'!$C$9:$D$13,2,FALSE),\"\")","v":""},21.6400000000002,{"$f":"IFERROR(VLOOKUP(BA138,'CRUCE RIESGOS'!$C$9:$D$13,2,FALSE),\"\")","v":""},22.6400000000002,{"$f":"IFERROR(VLOOKUP(BC138,'CRUCE RIESGOS'!$C$9:$D$13,2,FALSE),\"\")","v":""},23.6400000000002,{"$f":"IFERROR(VLOOKUP(BE138,'CRUCE RIESGOS'!$C$9:$D$13,2,FALSE),\"\")","v":""},24.6400000000002,{"$f":"IFERROR(VLOOKUP(BG138,'CRUCE RIESGOS'!$C$9:$D$13,2,FALSE),\"\")","v":""},25.6400000000002,{"$f":"IFERROR(VLOOKUP(BI138,'CRUCE RIESGOS'!$C$9:$D$13,2,FALSE),\"\")","v":""}]
[null,null,null,null,null,null,null,null,null,null,null,null,null,{"$f":"IF(N140<>\"\",\" -R\",\"\")","v":""},null,{"$f":"IF(P140<>\"\",\" -R\",\"\")","v":""},null,{"$f":"IF(R140<>\"\",\" -R\",\"\")","v":""},null,{"$f":"IF(T140<>\"\",\" -R\",\"\")","v":""},null,{"$f":"IF(V140<>\"\",\" -R\",\"\")","v":""},null,{"$f":"IF(X140<>\"\",\" -R\",\"\")","v":""},null,{"$f":"IF(Z140<>\"\",\" -R\",\"\")","v":""},null,{"$f":"IF(AB140<>\"\",\" -R\",\"\")","v":""},null,{"$f":"IF(AD140<>\"\",\" -R\",\"\")","v":""},null,{"$f":"IF(AF140<>\"\",\" -R\",\"\")","v":""},null,{"$f":"IF(AH140<>\"\",\" -R\",\"\")","v":""},null,{"$f":"IF(AJ140<>\"\",\" -R\",\"\")","v":""},null,{"$f":"IF(AL140<>\"\",\" -R\",\"\")","v":""},null,{"$f":"IF(AN140<>\"\",\" -R\",\"\")","v":""},null,{"$f":"IF(AP140<>\"\",\" -R\",\"\")","v":""},null,{"$f":"IF(AR140<>\"\",\" -R\",\"\")","v":""},null,{"$f":"IF(AT140<>\"\",\" -R\",\"\")","v":""},null,{"$f":"IF(AV140<>\"\",\" -R\",\"\")","v":""},null,{"$f":"IF(AX140<>\"\",\" -R\",\"\")","v":""},null,{"$f":"IF(AZ140<>\"\",\" -R\",\"\")","v":""},null,{"$f":"IF(BB140<>\"\",\" -R\",\"\")","v":""},null,{"$f":"IF(BD140<>\"\",\" -R\",\"\")","v":""},null,{"$f":"IF(BF140<>\"\",\" -R\",\"\")","v":""},null,{"$f":"IF(BH140<>\"\",\" -R\",\"\")","v":""},null,{"$f":"IF(BJ140<>\"\",\" -R\",\"\")","v":""}]
[null,null,null,null,null,null,null,null,null,null,null,null,1.65,{"$f":"IFERROR(VLOOKUP(M140,'CRUCE RIESGOS'!$C$9:$D$13,2,FALSE),\"\")","v":""},2.6500000000000101,{"$f":"IFERROR(VLOOKUP(O140,'CRUCE RIESGOS'!$C$9:$D$13,2,FALSE),\"\")","v":""},3.6500000000000199,{"$f":"IFERROR(VLOOKUP(Q140,'CRUCE RIESGOS'!$C$9:$D$13,2,FALSE),\"\")","v":""},4.6500000000000297,{"$f":"IFERROR(VLOOKUP(S140,'CRUCE RIESGOS'!$C$9:$D$13,2,FALSE),\"\")","v":""},5.6500000000000403,{"$f":"IFERROR(VLOOKUP(U140,'CRUCE RIESGOS'!$C$9:$D$13,2,FALSE),\"\")","v":""},6.6500000000000501,{"$f":"IFERROR(VLOOKUP(W140,'CRUCE RIESGOS'!$C$9:$D$13,2,FALSE),\"\")","v":""},7.6500000000000599,{"$f":"IFERROR(VLOOKUP(Y140,'CRUCE RIESGOS'!$C$9:$D$13,2,FALSE),\"\")","v":""},8.6500000000000696,{"$f":"IFERROR(VLOOKUP(AA140,'CRUCE RIESGOS'!$C$9:$D$13,2,FALSE),\"\")","v":""},9.6500000000000803,{"$f":"IFERROR(VLOOKUP(AC140,'CRUCE RIESGOS'!$C$9:$D$13,2,FALSE),\"\")","v":""},10.6500000000001,{"$f":"IFERROR(VLOOKUP(AE140,'CRUCE RIESGOS'!$C$9:$D$13,2,FALSE),\"\")","v":""},11.6500000000001,{"$f":"IFERROR(VLOOKUP(AG140,'CRUCE RIESGOS'!$C$9:$D$13,2,FALSE),\"\")","v":""},12.6500000000001,{"$f":"IFERROR(VLOOKUP(AI140,'CRUCE RIESGOS'!$C$9:$D$13,2,FALSE),\"\")","v":""},13.6500000000001,{"$f":"IFERROR(VLOOKUP(AK140,'CRUCE RIESGOS'!$C$9:$D$13,2,FALSE),\"\")","v":""},14.6500000000001,{"$f":"IFERROR(VLOOKUP(AM140,'CRUCE RIESGOS'!$C$9:$D$13,2,FALSE),\"\")","v":""},15.6500000000001,{"$f":"IFERROR(VLOOKUP(AO140,'CRUCE RIESGOS'!$C$9:$D$13,2,FALSE),\"\")","v":""},16.650000000000201,{"$f":"IFERROR(VLOOKUP(AQ140,'CRUCE RIESGOS'!$C$9:$D$13,2,FALSE),\"\")","v":""},17.650000000000201,{"$f":"IFERROR(VLOOKUP(AS140,'CRUCE RIESGOS'!$C$9:$D$13,2,FALSE),\"\")","v":""},18.650000000000201,{"$f":"IFERROR(VLOOKUP(AU140,'CRUCE RIESGOS'!$C$9:$D$13,2,FALSE),\"\")","v":""},19.650000000000201,{"$f":"IFERROR(VLOOKUP(AW140,'CRUCE RIESGOS'!$C$9:$D$13,2,FALSE),\"\")","v":""},20.650000000000201,{"$f":"IFERROR(VLOOKUP(AY140,'CRUCE RIESGOS'!$C$9:$D$13,2,FALSE),\"\")","v":""},21.650000000000201,{"$f":"IFERROR(VLOOKUP(BA140,'CRUCE RIESGOS'!$C$9:$D$13,2,FALSE),\"\")","v":""},22.650000000000201,{"$f":"IFERROR(VLOOKUP(BC140,'CRUCE RIESGOS'!$C$9:$D$13,2,FALSE),\"\")","v":""},23.650000000000201,{"$f":"IFERROR(VLOOKUP(BE140,'CRUCE RIESGOS'!$C$9:$D$13,2,FALSE),\"\")","v":""},24.650000000000201,{"$f":"IFERROR(VLOOKUP(BG140,'CRUCE RIESGOS'!$C$9:$D$13,2,FALSE),\"\")","v":""},25.650000000000201,{"$f":"IFERROR(VLOOKUP(BI140,'CRUCE RIESGOS'!$C$9:$D$13,2,FALSE),\"\")","v":""}]
[null,null,null,null,null,null,null,null,null,null,null,null,null,"",null,{"$f":"IF(P142<>\"\",\" -R\",\"\")","v":""},null,{"$f":"IF(R142<>\"\",\" -R\",\"\")","v":""},null,{"$f":"IF(T142<>\"\",\" -R\",\"\")","v":""},null,{"$f":"IF(V142<>\"\",\" -R\",\"\")","v":""},null,{"$f":"IF(X142<>\"\",\" -R\",\"\")","v":""},null,{"$f":"IF(Z142<>\"\",\" -R\",\"\")","v":""},null,{"$f":"IF(AB142<>\"\",\" -R\",\"\")","v":""},null,{"$f":"IF(AD142<>\"\",\" -R\",\"\")","v":""},null,"",null,"",null,"",null,"",null,"",null,"",null,"",null,"",null,"",null,"",null,"",null,"",null,"",null,"",null,"",null,""]
[null,null,null,null,null,null,null,null,null,null,null,null,1.66,{"$f":"IFERROR(VLOOKUP(M142,'CRUCE RIESGOS'!$C$9:$D$13,2,FALSE),\"\")","v":""},2.6600000000000099,{"$f":"IFERROR(VLOOKUP(O142,'CRUCE RIESGOS'!$C$9:$D$13,2,FALSE),\"\")","v":""},3.6600000000000201,{"$f":"IFERROR(VLOOKUP(Q142,'CRUCE RIESGOS'!$C$9:$D$13,2,FALSE),\"\")","v":""},4.6600000000000303,{"$f":"IFERROR(VLOOKUP(S142,'CRUCE RIESGOS'!$C$9:$D$13,2,FALSE),\"\")","v":""},5.6600000000000401,{"$f":"IFERROR(VLOOKUP(U142,'CRUCE RIESGOS'!$C$9:$D$13,2,FALSE),\"\")","v":""},6.6600000000000499,{"$f":"IFERROR(VLOOKUP(W142,'CRUCE RIESGOS'!$C$9:$D$13,2,FALSE),\"\")","v":""},7.6600000000000597,{"$f":"IFERROR(VLOOKUP(Y142,'CRUCE RIESGOS'!$C$9:$D$13,2,FALSE),\"\")","v":""},8.6600000000000694,{"$f":"IFERROR(VLOOKUP(AA142,'CRUCE RIESGOS'!$C$9:$D$13,2,FALSE),\"\")","v":""},9.6600000000000801,{"$f":"IFERROR(VLOOKUP(AC142,'CRUCE RIESGOS'!$C$9:$D$13,2,FALSE),\"\")","v":""},10.6600000000001,{"$f":"IFERROR(VLOOKUP(AE142,'CRUCE RIESGOS'!$C$9:$D$13,2,FALSE),\"\")","v":""},11.6600000000001,{"$f":"IFERROR(VLOOKUP(AG142,'CRUCE RIESGOS'!$C$9:$D$13,2,FALSE),\"\")","v":""},12.6600000000001,{"$f":"IFERROR(VLOOKUP(AI142,'CRUCE RIESGOS'!$C$9:$D$13,2,FALSE),\"\")","v":""},13.6600000000001,{"$f":"IFERROR(VLOOKUP(AK142,'CRUCE RIESGOS'!$C$9:$D$13,2,FALSE),\"\")","v":""},14.6600000000001,{"$f":"IFERROR(VLOOKUP(AM142,'CRUCE RIESGOS'!$C$9:$D$13,2,FALSE),\"\")","v":""},15.6600000000001,{"$f":"IFERROR(VLOOKUP(AO142,'CRUCE RIESGOS'!$C$9:$D$13,2,FALSE),\"\")","v":""},16.6600000000001,{"$f":"IFERROR(VLOOKUP(AQ142,'CRUCE RIESGOS'!$C$9:$D$13,2,FALSE),\"\")","v":""},17.660000000000199,{"$f":"IFERROR(VLOOKUP(AS142,'CRUCE RIESGOS'!$C$9:$D$13,2,FALSE),\"\")","v":""},18.660000000000199,{"$f":"IFERROR(VLOOKUP(AU142,'CRUCE RIESGOS'!$C$9:$D$13,2,FALSE),\"\")","v":""},19.660000000000199,{"$f":"IFERROR(VLOOKUP(AW142,'CRUCE RIESGOS'!$C$9:$D$13,2,FALSE),\"\")","v":""},20.660000000000199,{"$f":"IFERROR(VLOOKUP(AY142,'CRUCE RIESGOS'!$C$9:$D$13,2,FALSE),\"\")","v":""},21.660000000000199,{"$f":"IFERROR(VLOOKUP(BA142,'CRUCE RIESGOS'!$C$9:$D$13,2,FALSE),\"\")","v":""},22.660000000000199,{"$f":"IFERROR(VLOOKUP(BC142,'CRUCE RIESGOS'!$C$9:$D$13,2,FALSE),\"\")","v":""},23.660000000000199,{"$f":"IFERROR(VLOOKUP(BE142,'CRUCE RIESGOS'!$C$9:$D$13,2,FALSE),\"\")","v":""},24.660000000000199,{"$f":"IFERROR(VLOOKUP(BG142,'CRUCE RIESGOS'!$C$9:$D$13,2,FALSE),\"\")","v":""},25.660000000000199,{"$f":"IFERROR(VLOOKUP(BI142,'CRUCE RIESGOS'!$C$9:$D$13,2,FALSE),\"\")","v":""}]
[null,null,null,null,null,null,null,null,null,null,null,null,null,"",null,{"$f":"IF(P144<>\"\",\" -R\",\"\")","v":""},null,{"$f":"IF(R144<>\"\",\" -R\",\"\")","v":""},null,{"$f":"IF(T144<>\"\",\" -R\",\"\")","v":""},null,{"$f":"IF(V144<>\"\",\" -R\",\"\")","v":""},null,{"$f":"IF(X144<>\"\",\" -R\",\"\")","v":""},null,{"$f":"IF(Z144<>\"\",\" -R\",\"\")","v":""},null,{"$f":"IF(AB144<>\"\",\" -R\",\"\")","v":""},null,{"$f":"IF(AD144<>\"\",\" -R\",\"\")","v":""},null,"",null,"",null,"",null,"",null,"",null,"",null,"",null,"",null,"",null,"",null,"",null,"",null,"",null,"",null,"",null,""]
[null,null,null,null,null,null,null,null,null,null,null,null,1.67,{"$f":"IFERROR(VLOOKUP(M144,'CRUCE RIESGOS'!$C$9:$D$13,2,FALSE),\"\")","v":""},2.6700000000000199,{"$f":"IFERROR(VLOOKUP(O144,'CRUCE RIESGOS'!$C$9:$D$13,2,FALSE),\"\")","v":""},3.6700000000000399,{"$f":"IFERROR(VLOOKUP(Q144,'CRUCE RIESGOS'!$C$9:$D$13,2,FALSE),\"\")","v":""},4.6700000000000603,{"$f":"IFERROR(VLOOKUP(S144,'CRUCE RIESGOS'!$C$9:$D$13,2,FALSE),\"\")","v":""},5.6700000000000799,{"$f":"IFERROR(VLOOKUP(U144,'CRUCE RIESGOS'!$C$9:$D$13,2,FALSE),\"\")","v":""},6.6700000000001003,{"$f":"IFERROR(VLOOKUP(W144,'CRUCE RIESGOS'!$C$9:$D$13,2,FALSE),\"\")","v":""},7.6700000000001198,{"$f":"IFERROR(VLOOKUP(Y144,'CRUCE RIESGOS'!$C$9:$D$13,2,FALSE),\"\")","v":""},8.6700000000001403,{"$f":"IFERROR(VLOOKUP(AA144,'CRUCE RIESGOS'!$C$9:$D$13,2,FALSE),\"\")","v":""},9.6700000000001598,{"$f":"IFERROR(VLOOKUP(AC144,'CRUCE RIESGOS'!$C$9:$D$13,2,FALSE),\"\")","v":""},10.670000000000201,{"$f":"IFERROR(VLOOKUP(AE144,'CRUCE RIESGOS'!$C$9:$D$13,2,FALSE),\"\")","v":""},11.670000000000201,{"$f":"IFERROR(VLOOKUP(AG144,'CRUCE RIESGOS'!$C$9:$D$13,2,FALSE),\"\")","v":""},12.670000000000201,{"$f":"IFERROR(VLOOKUP(AI144,'CRUCE RIESGOS'!$C$9:$D$13,2,FALSE),\"\")","v":""},13.670000000000201,{"$f":"IFERROR(VLOOKUP(AK144,'CRUCE RIESGOS'!$C$9:$D$13,2,FALSE),\"\")","v":""},14.6700000000003,{"$f":"IFERROR(VLOOKUP(AM144,'CRUCE RIESGOS'!$C$9:$D$13,2,FALSE),\"\")","v":""},15.6700000000003,{"$f":"IFERROR(VLOOKUP(AO144,'CRUCE RIESGOS'!$C$9:$D$13,2,FALSE),\"\")","v":""},16.6700000000003,{"$f":"IFERROR(VLOOKUP(AQ144,'CRUCE RIESGOS'!$C$9:$D$13,2,FALSE),\"\")","v":""},17.6700000000003,{"$f":"IFERROR(VLOOKUP(AS144,'CRUCE RIESGOS'!$C$9:$D$13,2,FALSE),\"\")","v":""},18.6700000000003,{"$f":"IFERROR(VLOOKUP(AU144,'CRUCE RIESGOS'!$C$9:$D$13,2,FALSE),\"\")","v":""},19.6700000000004,{"$f":"IFERROR(VLOOKUP(AW144,'CRUCE RIESGOS'!$C$9:$D$13,2,FALSE),\"\")","v":""},20.6700000000004,{"$f":"IFERROR(VLOOKUP(AY144,'CRUCE RIESGOS'!$C$9:$D$13,2,FALSE),\"\")","v":""},21.6700000000004,{"$f":"IFERROR(VLOOKUP(BA144,'CRUCE RIESGOS'!$C$9:$D$13,2,FALSE),\"\")","v":""},22.6700000000004,{"$f":"IFERROR(VLOOKUP(BC144,'CRUCE RIESGOS'!$C$9:$D$13,2,FALSE),\"\")","v":""},23.6700000000004,{"$f":"IFERROR(VLOOKUP(BE144,'CRUCE RIESGOS'!$C$9:$D$13,2,FALSE),\"\")","v":""},24.670000000000499,{"$f":"IFERROR(VLOOKUP(BG144,'CRUCE RIESGOS'!$C$9:$D$13,2,FALSE),\"\")","v":""},25.670000000000499,{"$f":"IFERROR(VLOOKUP(BI144,'CRUCE RIESGOS'!$C$9:$D$13,2,FALSE),\"\")","v":""}]
[null,null,null,null,null,null,null,null,null,null,null,null,null,"",null,{"$f":"IF(P146<>\"\",\" -R\",\"\")","v":""},null,{"$f":"IF(R146<>\"\",\" -R\",\"\")","v":""},null,{"$f":"IF(T146<>\"\",\" -R\",\"\")","v":""},null,{"$f":"IF(V146<>\"\",\" -R\",\"\")","v":""},null,{"$f":"IF(X146<>\"\",\" -R\",\"\")","v":""},null,{"$f":"IF(Z146<>\"\",\" -R\",\"\")","v":""},null,{"$f":"IF(AB146<>\"\",\" -R\",\"\")","v":""},null,{"$f":"IF(AD146<>\"\",\" -R\",\"\")","v":""},null,"",null,"",null,"",null,"",null,"",null,"",null,"",null,"",null,"",null,"",null,"",null,"",null,"",null,"",null,"",null,""]
[null,null,null,null,null,null,null,null,null,null,null,null,1.68,{"$f":"IFERROR(VLOOKUP(M146,'CRUCE RIESGOS'!$C$9:$D$13,2,FALSE),\"\")","v":""},2.6800000000000099,{"$f":"IFERROR(VLOOKUP(O146,'CRUCE RIESGOS'!$C$9:$D$13,2,FALSE),\"\")","v":""},3.6800000000000201,{"$f":"IFERROR(VLOOKUP(Q146,'CRUCE RIESGOS'!$C$9:$D$13,2,FALSE),\"\")","v":""},4.6800000000000299,{"$f":"IFERROR(VLOOKUP(S146,'CRUCE RIESGOS'!$C$9:$D$13,2,FALSE),\"\")","v":""},5.6800000000000397,{"$f":"IFERROR(VLOOKUP(U146,'CRUCE RIESGOS'!$C$9:$D$13,2,FALSE),\"\")","v":""},6.6800000000000503,{"$f":"IFERROR(VLOOKUP(W146,'CRUCE RIESGOS'!$C$9:$D$13,2,FALSE),\"\")","v":""},7.6800000000000601,{"$f":"IFERROR(VLOOKUP(Y146,'CRUCE RIESGOS'!$C$9:$D$13,2,FALSE),\"\")","v":""},8.6800000000000708,{"$f":"IFERROR(VLOOKUP(AA146,'CRUCE RIESGOS'!$C$9:$D$13,2,FALSE),\"\")","v":""},9.6800000000000797,{"$f":"IFERROR(VLOOKUP(AC146,'CRUCE RIESGOS'!$C$9:$D$13,2,FALSE),\"\")","v":""},10.680000000000099,{"$f":"IFERROR(VLOOKUP(AE146,'CRUCE RIESGOS'!$C$9:$D$13,2,FALSE),\"\")","v":""},11.680000000000099,{"$f":"IFERROR(VLOOKUP(AG146,'CRUCE RIESGOS'!$C$9:$D$13,2,FALSE),\"\")","v":""},12.680000000000099,{"$f":"IFERROR(VLOOKUP(AI146,'CRUCE RIESGOS'!$C$9:$D$13,2,FALSE),\"\")","v":""},13.680000000000099,{"$f":"IFERROR(VLOOKUP(AK146,'CRUCE RIESGOS'!$C$9:$D$13,2,FALSE),\"\")","v":""},14.680000000000099,{"$f":"IFERROR(VLOOKUP(AM146,'CRUCE RIESGOS'!$C$9:$D$13,2,FALSE),\"\")","v":""},15.680000000000099,{"$f":"IFERROR(VLOOKUP(AO146,'CRUCE RIESGOS'!$C$9:$D$13,2,FALSE),\"\")","v":""},16.680000000000099,{"$f":"IFERROR(VLOOKUP(AQ146,'CRUCE RIESGOS'!$C$9:$D$13,2,FALSE),\"\")","v":""},17.680000000000199,{"$f":"IFERROR(VLOOKUP(AS146,'CRUCE RIESGOS'!$C$9:$D$13,2,FALSE),\"\")","v":""},18.680000000000199,{"$f":"IFERROR(VLOOKUP(AU146,'CRUCE RIESGOS'!$C$9:$D$13,2,FALSE),\"\")","v":""},19.680000000000199,{"$f":"IFERROR(VLOOKUP(AW146,'CRUCE RIESGOS'!$C$9:$D$13,2,FALSE),\"\")","v":""},20.680000000000199,{"$f":"IFERROR(VLOOKUP(AY146,'CRUCE RIESGOS'!$C$9:$D$13,2,FALSE),\"\")","v":""},21.680000000000199,{"$f":"IFERROR(VLOOKUP(BA146,'CRUCE RIESGOS'!$C$9:$D$13,2,FALSE),\"\")","v":""},22.680000000000199,{"$f":"IFERROR(VLOOKUP(BC146,'CRUCE RIESGOS'!$C$9:$D$13,2,FALSE),\"\")","v":""},23.680000000000199,{"$f":"IFERROR(VLOOKUP(BE146,'CRUCE RIESGOS'!$C$9:$D$13,2,FALSE),\"\")","v":""},24.680000000000199,{"$f":"IFERROR(VLOOKUP(BG146,'CRUCE RIESGOS'!$C$9:$D$13,2,FALSE),\"\")","v":""},25.680000000000199,{"$f":"IFERROR(VLOOKUP(BI146,'CRUCE RIESGOS'!$C$9:$D$13,2,FALSE),\"\")","v":""}]
[null,null,null,null,null,null,null,null,null,null,null,null,null,"",null,{"$f":"IF(P148<>\"\",\" -R\",\"\")","v":""},null,{"$f":"IF(R148<>\"\",\" -R\",\"\")","v":""},null,{"$f":"IF(T148<>\"\",\" -R\",\"\")","v":""},null,{"$f":"IF(V148<>\"\",\" -R\",\"\")","v":""},null,{"$f":"IF(X148<>\"\",\" -R\",\"\")","v":""},null,{"$f":"IF(Z148<>\"\",\" -R\",\"\")","v":""},null,{"$f":"IF(AB148<>\"\",\" -R\",\"\")","v":""},null,{"$f":"IF(AD148<>\"\",\" -R\",\"\")","v":""},null,"",null,"",null,"",null,"",null,"",null,"",null,"",null,"",null,"",null,"",null,"",null,"",null,"",null,"",null,"",null,""]
[null,null,null,null,null,null,null,null,null,null,null,null,1.69,{"$f":"IFERROR(VLOOKUP(M148,'CRUCE RIESGOS'!$C$9:$D$13,2,FALSE),\"\")","v":""},2.6900000000000102,{"$f":"IFERROR(VLOOKUP(O148,'CRUCE RIESGOS'!$C$9:$D$13,2,FALSE),\"\")","v":""},3.6900000000000199,{"$f":"IFERROR(VLOOKUP(Q148,'CRUCE RIESGOS'!$C$9:$D$13,2,FALSE),\"\")","v":""},4.6900000000000297,{"$f":"IFERROR(VLOOKUP(S148,'CRUCE RIESGOS'!$C$9:$D$13,2,FALSE),\"\")","v":""},5.6900000000000404,{"$f":"IFERROR(VLOOKUP(U148,'CRUCE RIESGOS'!$C$9:$D$13,2,FALSE),\"\")","v":""},6.6900000000000501,{"$f":"IFERROR(VLOOKUP(W148,'CRUCE RIESGOS'!$C$9:$D$13,2,FALSE),\"\")","v":""},7.6900000000000599,{"$f":"IFERROR(VLOOKUP(Y148,'CRUCE RIESGOS'!$C$9:$D$13,2,FALSE),\"\")","v":""},8.6900000000000706,{"$f":"IFERROR(VLOOKUP(AA148,'CRUCE RIESGOS'!$C$9:$D$13,2,FALSE),\"\")","v":""},9.6900000000000794,{"$f":"IFERROR(VLOOKUP(AC148,'CRUCE RIESGOS'!$C$9:$D$13,2,FALSE),\"\")","v":""},10.690000000000101,{"$f":"IFERROR(VLOOKUP(AE148,'CRUCE RIESGOS'!$C$9:$D$13,2,FALSE),\"\")","v":""},11.690000000000101,{"$f":"IFERROR(VLOOKUP(AG148,'CRUCE RIESGOS'!$C$9:$D$13,2,FALSE),\"\")","v":""},12.690000000000101,{"$f":"IFERROR(VLOOKUP(AI148,'CRUCE RIESGOS'!$C$9:$D$13,2,FALSE),\"\")","v":""},13.690000000000101,{"$f":"IFERROR(VLOOKUP(AK148,'CRUCE RIESGOS'!$C$9:$D$13,2,FALSE),\"\")","v":""},14.690000000000101,{"$f":"IFERROR(VLOOKUP(AM148,'CRUCE RIESGOS'!$C$9:$D$13,2,FALSE),\"\")","v":""},15.690000000000101,{"$f":"IFERROR(VLOOKUP(AO148,'CRUCE RIESGOS'!$C$9:$D$13,2,FALSE),\"\")","v":""},16.6900000000002,{"$f":"IFERROR(VLOOKUP(AQ148,'CRUCE RIESGOS'!$C$9:$D$13,2,FALSE),\"\")","v":""},17.6900000000002,{"$f":"IFERROR(VLOOKUP(AS148,'CRUCE RIESGOS'!$C$9:$D$13,2,FALSE),\"\")","v":""},18.6900000000002,{"$f":"IFERROR(VLOOKUP(AU148,'CRUCE RIESGOS'!$C$9:$D$13,2,FALSE),\"\")","v":""},19.6900000000002,{"$f":"IFERROR(VLOOKUP(AW148,'CRUCE RIESGOS'!$C$9:$D$13,2,FALSE),\"\")","v":""},20.6900000000002,{"$f":"IFERROR(VLOOKUP(AY148,'CRUCE RIESGOS'!$C$9:$D$13,2,FALSE),\"\")","v":""},21.6900000000002,{"$f":"IFERROR(VLOOKUP(BA148,'CRUCE RIESGOS'!$C$9:$D$13,2,FALSE),\"\")","v":""},22.6900000000002,{"$f":"IFERROR(VLOOKUP(BC148,'CRUCE RIESGOS'!$C$9:$D$13,2,FALSE),\"\")","v":""},23.6900000000002,{"$f":"IFERROR(VLOOKUP(BE148,'CRUCE RIESGOS'!$C$9:$D$13,2,FALSE),\"\")","v":""},24.6900000000002,{"$f":"IFERROR(VLOOKUP(BG148,'CRUCE RIESGOS'!$C$9:$D$13,2,FALSE),\"\")","v":""},25.6900000000002,{"$f":"IFERROR(VLOOKUP(BI148,'CRUCE RIESGOS'!$C$9:$D$13,2,FALSE),\"\")","v":""}]
[null,null,null,null,null,null,null,null,null,null,null,null,null,"",null,{"$f":"IF(P150<>\"\",\" -R\",\"\")","v":""},null,{"$f":"IF(R150<>\"\",\" -R\",\"\")","v":""},null,{"$f":"IF(T150<>\"\",\" -R\",\"\")","v":""},null,{"$f":"IF(V150<>\"\",\" -R\",\"\")","v":""},null,{"$f":"IF(X150<>\"\",\" -R\",\"\")","v":""},null,{"$f":"IF(Z150<>\"\",\" -R\",\"\")","v":""},null,{"$f":"IF(AB150<>\"\",\" -R\",\"\")","v":""},null,{"$f":"IF(AD150<>\"\",\" -R\",\"\")","v":""},null,"",null,"",null,"",null,"",null,"",null,"",null,"",null,"",null,"",null,"",null,"",null,"",null,"",null,"",null,"",null,""]
[null,null,null,null,null,null,null,null,null,null,null,null,1.7,{"$f":"IFERROR(VLOOKUP(M150,'CRUCE RIESGOS'!$C$9:$D$13,2,FALSE),\"\")","v":""},2.7000000000000099,{"$f":"IFERROR(VLOOKUP(O150,'CRUCE RIESGOS'!$C$9:$D$13,2,FALSE),\"\")","v":""},3.7000000000000202,{"$f":"IFERROR(VLOOKUP(Q150,'CRUCE RIESGOS'!$C$9:$D$13,2,FALSE),\"\")","v":""},4.7000000000000304,{"$f":"IFERROR(VLOOKUP(S150,'CRUCE RIESGOS'!$C$9:$D$13,2,FALSE),\"\")","v":""},5.7000000000000401,{"$f":"IFERROR(VLOOKUP(U150,'CRUCE RIESGOS'!$C$9:$D$13,2,FALSE),\"\")","v":""},6.7000000000000499,{"$f":"IFERROR(VLOOKUP(W150,'CRUCE RIESGOS'!$C$9:$D$13,2,FALSE),\"\")","v":""},7.7000000000000597,{"$f":"IFERROR(VLOOKUP(Y150,'CRUCE RIESGOS'!$C$9:$D$13,2,FALSE),\"\")","v":""},8.7000000000000703,{"$f":"IFERROR(VLOOKUP(AA150,'CRUCE RIESGOS'!$C$9:$D$13,2,FALSE),\"\")","v":""},9.7000000000000792,{"$f":"IFERROR(VLOOKUP(AC150,'CRUCE RIESGOS'!$C$9:$D$13,2,FALSE),\"\")","v":""},10.700000000000101,{"$f":"IFERROR(VLOOKUP(AE150,'CRUCE RIESGOS'!$C$9:$D$13,2,FALSE),\"\")","v":""},11.700000000000101,{"$f":"IFERROR(VLOOKUP(AG150,'CRUCE RIESGOS'!$C$9:$D$13,2,FALSE),\"\")","v":""},12.700000000000101,{"$f":"IFERROR(VLOOKUP(AI150,'CRUCE RIESGOS'!$C$9:$D$13,2,FALSE),\"\")","v":""},13.700000000000101,{"$f":"IFERROR(VLOOKUP(AK150,'CRUCE RIESGOS'!$C$9:$D$13,2,FALSE),\"\")","v":""},14.700000000000101,{"$f":"IFERROR(VLOOKUP(AM150,'CRUCE RIESGOS'!$C$9:$D$13,2,FALSE),\"\")","v":""},15.700000000000101,{"$f":"IFERROR(VLOOKUP(AO150,'CRUCE RIESGOS'!$C$9:$D$13,2,FALSE),\"\")","v":""},16.700000000000099,{"$f":"IFERROR(VLOOKUP(AQ150,'CRUCE RIESGOS'!$C$9:$D$13,2,FALSE),\"\")","v":""},17.700000000000198,{"$f":"IFERROR(VLOOKUP(AS150,'CRUCE RIESGOS'!$C$9:$D$13,2,FALSE),\"\")","v":""},18.700000000000198,{"$f":"IFERROR(VLOOKUP(AU150,'CRUCE RIESGOS'!$C$9:$D$13,2,FALSE),\"\")","v":""},19.700000000000198,{"$f":"IFERROR(VLOOKUP(AW150,'CRUCE RIESGOS'!$C$9:$D$13,2,FALSE),\"\")","v":""},20.700000000000198,{"$f":"IFERROR(VLOOKUP(AY150,'CRUCE RIESGOS'!$C$9:$D$13,2,FALSE),\"\")","v":""},21.700000000000198,{"$f":"IFERROR(VLOOKUP(BA150,'CRUCE RIESGOS'!$C$9:$D$13,2,FALSE),\"\")","v":""},22.700000000000198,{"$f":"IFERROR(VLOOKUP(BC150,'CRUCE RIESGOS'!$C$9:$D$13,2,FALSE),\"\")","v":""},23.700000000000198,{"$f":"IFERROR(VLOOKUP(BE150,'CRUCE RIESGOS'!$C$9:$D$13,2,FALSE),\"\")","v":""},24.700000000000198,{"$f":"IFERROR(VLOOKUP(BG150,'CRUCE RIESGOS'!$C$9:$D$13,2,FALSE),\"\")","v":""},25.700000000000198,{"$f":"IFERROR(VLOOKUP(BI150,'CRUCE RIESGOS'!$C$9:$D$13,2,FALSE),\"\")","v":""}]
[null,null,null,null,null,null,null,null,null,null,null,null,null,"",null,{"$f":"IF(P152<>\"\",\" -R\",\"\")","v":""},null,{"$f":"IF(R152<>\"\",\" -R\",\"\")","v":""},null,{"$f":"IF(T152<>\"\",\" -R\",\"\")","v":""},null,{"$f":"IF(V152<>\"\",\" -R\",\"\")","v":""},null,{"$f":"IF(X152<>\"\",\" -R\",\"\")","v":""},null,{"$f":"IF(Z152<>\"\",\" -R\",\"\")","v":""},null,{"$f":"IF(AB152<>\"\",\" -R\",\"\")","v":""},null,{"$f":"IF(AD152<>\"\",\" -R\",\"\")","v":""},null,"",null,"",null,"",null,"",null,"",null,"",null,"",null,"",null,"",null,"",null,"",null,"",null,"",null,"",null,"",null,""]
[null,null,null,null,null,null,null,null,null,null,null,null,1.71,{"$f":"IFERROR(VLOOKUP(M152,'CRUCE RIESGOS'!$C$9:$D$13,2,FALSE),\"\")","v":""},2.7100000000000199,{"$f":"IFERROR(VLOOKUP(O152,'CRUCE RIESGOS'!$C$9:$D$13,2,FALSE),\"\")","v":""},3.7100000000000399,{"$f":"IFERROR(VLOOKUP(Q152,'CRUCE RIESGOS'!$C$9:$D$13,2,FALSE),\"\")","v":""},4.7100000000000604,{"$f":"IFERROR(VLOOKUP(S152,'CRUCE RIESGOS'!$C$9:$D$13,2,FALSE),\"\")","v":""},5.7100000000000799,{"$f":"IFERROR(VLOOKUP(U152,'CRUCE RIESGOS'!$C$9:$D$13,2,FALSE),\"\")","v":""},6.7100000000001003,{"$f":"IFERROR(VLOOKUP(W152,'CRUCE RIESGOS'!$C$9:$D$13,2,FALSE),\"\")","v":""},7.7100000000001199,{"$f":"IFERROR(VLOOKUP(Y152,'CRUCE RIESGOS'!$C$9:$D$13,2,FALSE),\"\")","v":""},8.7100000000001394,{"$f":"IFERROR(VLOOKUP(AA152,'CRUCE RIESGOS'!$C$9:$D$13,2,FALSE),\"\")","v":""},9.7100000000001607,{"$f":"IFERROR(VLOOKUP(AC152,'CRUCE RIESGOS'!$C$9:$D$13,2,FALSE),\"\")","v":""},10.7100000000002,{"$f":"IFERROR(VLOOKUP(AE152,'CRUCE RIESGOS'!$C$9:$D$13,2,FALSE),\"\")","v":""},11.7100000000002,{"$f":"IFERROR(VLOOKUP(AG152,'CRUCE RIESGOS'!$C$9:$D$13,2,FALSE),\"\")","v":""},12.7100000000002,{"$f":"IFERROR(VLOOKUP(AI152,'CRUCE RIESGOS'!$C$9:$D$13,2,FALSE),\"\")","v":""},13.7100000000002,{"$f":"IFERROR(VLOOKUP(AK152,'CRUCE RIESGOS'!$C$9:$D$13,2,FALSE),\"\")","v":""},14.710000000000299,{"$f":"IFERROR(VLOOKUP(AM152,'CRUCE RIESGOS'!$C$9:$D$13,2,FALSE),\"\")","v":""},15.710000000000299,{"$f":"IFERROR(VLOOKUP(AO152,'CRUCE RIESGOS'!$C$9:$D$13,2,FALSE),\"\")","v":""},16.710000000000299,{"$f":"IFERROR(VLOOKUP(AQ152,'CRUCE RIESGOS'!$C$9:$D$13,2,FALSE),\"\")","v":""},17.710000000000299,{"$f":"IFERROR(VLOOKUP(AS152,'CRUCE RIESGOS'!$C$9:$D$13,2,FALSE),\"\")","v":""},18.710000000000299,{"$f":"IFERROR(VLOOKUP(AU152,'CRUCE RIESGOS'!$C$9:$D$13,2,FALSE),\"\")","v":""},19.710000000000399,{"$f":"IFERROR(VLOOKUP(AW152,'CRUCE RIESGOS'!$C$9:$D$13,2,FALSE),\"\")","v":""},20.710000000000399,{"$f":"IFERROR(VLOOKUP(AY152,'CRUCE RIESGOS'!$C$9:$D$13,2,FALSE),\"\")","v":""},21.710000000000399,{"$f":"IFERROR(VLOOKUP(BA152,'CRUCE RIESGOS'!$C$9:$D$13,2,FALSE),\"\")","v":""},22.710000000000399,{"$f":"IFERROR(VLOOKUP(BC152,'CRUCE RIESGOS'!$C$9:$D$13,2,FALSE),\"\")","v":""},23.710000000000399,{"$f":"IFERROR(VLOOKUP(BE152,'CRUCE RIESGOS'!$C$9:$D$13,2,FALSE),\"\")","v":""},24.710000000000498,{"$f":"IFERROR(VLOOKUP(BG152,'CRUCE RIESGOS'!$C$9:$D$13,2,FALSE),\"\")","v":""},25.710000000000498,{"$f":"IFERROR(VLOOKUP(BI152,'CRUCE RIESGOS'!$C$9:$D$13,2,FALSE),\"\")","v":""}]
[null,null,null,null,null,null,null,null,null,null,null,null,null,"",null,{"$f":"IF(P154<>\"\",\" -R\",\"\")","v":""},null,{"$f":"IF(R154<>\"\",\" -R\",\"\")","v":""},null,{"$f":"IF(T154<>\"\",\" -R\",\"\")","v":""},null,{"$f":"IF(V154<>\"\",\" -R\",\"\")","v":""},null,{"$f":"IF(X154<>\"\",\" -R\",\"\")","v":""},null,{"$f":"IF(Z154<>\"\",\" -R\",\"\")","v":""},null,{"$f":"IF(AB154<>\"\",\" -R\",\"\")","v":""},null,{"$f":"IF(AD154<>\"\",\" -R\",\"\")","v":""},null,"",null,"",null,"",null,"",null,"",null,"",null,"",null,"",null,"",null,"",null,"",null,"",null,"",null,"",null,"",null,""]
[null,null,null,null,null,null,null,null,null,null,null,null,1.72,{"$f":"IFERROR(VLOOKUP(M154,'CRUCE RIESGOS'!$C$9:$D$13,2,FALSE),\"\")","v":""},2.7200000000000202,{"$f":"IFERROR(VLOOKUP(O154,'CRUCE RIESGOS'!$C$9:$D$13,2,FALSE),\"\")","v":""},3.7200000000000402,{"$f":"IFERROR(VLOOKUP(Q154,'CRUCE RIESGOS'!$C$9:$D$13,2,FALSE),\"\")","v":""},4.7200000000000601,{"$f":"IFERROR(VLOOKUP(S154,'CRUCE RIESGOS'!$C$9:$D$13,2,FALSE),\"\")","v":""},5.7200000000000797,{"$f":"IFERROR(VLOOKUP(U154,'CRUCE RIESGOS'!$C$9:$D$13,2,FALSE),\"\")","v":""},6.7200000000001001,{"$f":"IFERROR(VLOOKUP(W154,'CRUCE RIESGOS'!$C$9:$D$13,2,FALSE),\"\")","v":""},7.7200000000001197,{"$f":"IFERROR(VLOOKUP(Y154,'CRUCE RIESGOS'!$C$9:$D$13,2,FALSE),\"\")","v":""},8.7200000000001392,{"$f":"IFERROR(VLOOKUP(AA154,'CRUCE RIESGOS'!$C$9:$D$13,2,FALSE),\"\")","v":""},9.7200000000001605,{"$f":"IFERROR(VLOOKUP(AC154,'CRUCE RIESGOS'!$C$9:$D$13,2,FALSE),\"\")","v":""},10.7200000000002,{"$f":"IFERROR(VLOOKUP(AE154,'CRUCE RIESGOS'!$C$9:$D$13,2,FALSE),\"\")","v":""},11.7200000000002,{"$f":"IFERROR(VLOOKUP(AG154,'CRUCE RIESGOS'!$C$9:$D$13,2,FALSE),\"\")","v":""},12.7200000000002,{"$f":"IFERROR(VLOOKUP(AI154,'CRUCE RIESGOS'!$C$9:$D$13,2,FALSE),\"\")","v":""},13.7200000000002,{"$f":"IFERROR(VLOOKUP(AK154,'CRUCE RIESGOS'!$C$9:$D$13,2,FALSE),\"\")","v":""},14.720000000000301,{"$f":"IFERROR(VLOOKUP(AM154,'CRUCE RIESGOS'!$C$9:$D$13,2,FALSE),\"\")","v":""},15.720000000000301,{"$f":"IFERROR(VLOOKUP(AO154,'CRUCE RIESGOS'!$C$9:$D$13,2,FALSE),\"\")","v":""},16.720000000000301,{"$f":"IFERROR(VLOOKUP(AQ154,'CRUCE RIESGOS'!$C$9:$D$13,2,FALSE),\"\")","v":""},17.720000000000301,{"$f":"IFERROR(VLOOKUP(AS154,'CRUCE RIESGOS'!$C$9:$D$13,2,FALSE),\"\")","v":""},18.720000000000301,{"$f":"IFERROR(VLOOKUP(AU154,'CRUCE RIESGOS'!$C$9:$D$13,2,FALSE),\"\")","v":""},19.7200000000004,{"$f":"IFERROR(VLOOKUP(AW154,'CRUCE RIESGOS'!$C$9:$D$13,2,FALSE),\"\")","v":""},20.7200000000004,{"$f":"IFERROR(VLOOKUP(AY154,'CRUCE RIESGOS'!$C$9:$D$13,2,FALSE),\"\")","v":""},21.7200000000004,{"$f":"IFERROR(VLOOKUP(BA154,'CRUCE RIESGOS'!$C$9:$D$13,2,FALSE),\"\")","v":""},22.7200000000004,{"$f":"IFERROR(VLOOKUP(BC154,'CRUCE RIESGOS'!$C$9:$D$13,2,FALSE),\"\")","v":""},23.7200000000004,{"$f":"IFERROR(VLOOKUP(BE154,'CRUCE RIESGOS'!$C$9:$D$13,2,FALSE),\"\")","v":""},24.7200000000005,{"$f":"IFERROR(VLOOKUP(BG154,'CRUCE RIESGOS'!$C$9:$D$13,2,FALSE),\"\")","v":""},25.7200000000005,{"$f":"IFERROR(VLOOKUP(BI154,'CRUCE RIESGOS'!$C$9:$D$13,2,FALSE),\"\")","v":""}]
[null,null,null,null,null,null,null,null,null,null,null,null,null,"",null,{"$f":"IF(P156<>\"\",\" -R\",\"\")","v":""},null,{"$f":"IF(R156<>\"\",\" -R\",\"\")","v":""},null,{"$f":"IF(T156<>\"\",\" -R\",\"\")","v":""},null,{"$f":"IF(V156<>\"\",\" -R\",\"\")","v":""},null,{"$f":"IF(X156<>\"\",\" -R\",\"\")","v":""},null,{"$f":"IF(Z156<>\"\",\" -R\",\"\")","v":""},null,{"$f":"IF(AB156<>\"\",\" -R\",\"\")","v":""},null,{"$f":"IF(AD156<>\"\",\" -R\",\"\")","v":""},null,"",null,"",null,"",null,"",null,"",null,"",null,"",null,"",null,"",null,"",null,"",null,"",null,"",null,"",null,"",null,""]
[null,null,null,null,null,null,null,null,null,null,null,null,1.73,{"$f":"IFERROR(VLOOKUP(M156,'CRUCE RIESGOS'!$C$9:$D$13,2,FALSE),\"\")","v":""},2.73000000000002,{"$f":"IFERROR(VLOOKUP(O156,'CRUCE RIESGOS'!$C$9:$D$13,2,FALSE),\"\")","v":""},3.73000000000004,{"$f":"IFERROR(VLOOKUP(Q156,'CRUCE RIESGOS'!$C$9:$D$13,2,FALSE),\"\")","v":""},4.7300000000000599,{"$f":"IFERROR(VLOOKUP(S156,'CRUCE RIESGOS'!$C$9:$D$13,2,FALSE),\"\")","v":""},5.7300000000000804,{"$f":"IFERROR(VLOOKUP(U156,'CRUCE RIESGOS'!$C$9:$D$13,2,FALSE),\"\")","v":""},6.7300000000000999,{"$f":"IFERROR(VLOOKUP(W156,'CRUCE RIESGOS'!$C$9:$D$13,2,FALSE),\"\")","v":""},7.7300000000001203,{"$f":"IFERROR(VLOOKUP(Y156,'CRUCE RIESGOS'!$C$9:$D$13,2,FALSE),\"\")","v":""},8.7300000000001408,{"$f":"IFERROR(VLOOKUP(AA156,'CRUCE RIESGOS'!$C$9:$D$13,2,FALSE),\"\")","v":""},9.7300000000001603,{"$f":"IFERROR(VLOOKUP(AC156,'CRUCE RIESGOS'!$C$9:$D$13,2,FALSE),\"\")","v":""},10.730000000000199,{"$f":"IFERROR(VLOOKUP(AE156,'CRUCE RIESGOS'!$C$9:$D$13,2,FALSE),\"\")","v":""},11.730000000000199,{"$f":"IFERROR(VLOOKUP(AG156,'CRUCE RIESGOS'!$C$9:$D$13,2,FALSE),\"\")","v":""},12.730000000000199,{"$f":"IFERROR(VLOOKUP(AI156,'CRUCE RIESGOS'!$C$9:$D$13,2,FALSE),\"\")","v":""},13.730000000000199,{"$f":"IFERROR(VLOOKUP(AK156,'CRUCE RIESGOS'!$C$9:$D$13,2,FALSE),\"\")","v":""},14.730000000000301,{"$f":"IFERROR(VLOOKUP(AM156,'CRUCE RIESGOS'!$C$9:$D$13,2,FALSE),\"\")","v":""},15.730000000000301,{"$f":"IFERROR(VLOOKUP(AO156,'CRUCE RIESGOS'!$C$9:$D$13,2,FALSE),\"\")","v":""},16.730000000000299,{"$f":"IFERROR(VLOOKUP(AQ156,'CRUCE RIESGOS'!$C$9:$D$13,2,FALSE),\"\")","v":""},17.730000000000299,{"$f":"IFERROR(VLOOKUP(AS156,'CRUCE RIESGOS'!$C$9:$D$13,2,FALSE),\"\")","v":""},18.730000000000299,{"$f":"IFERROR(VLOOKUP(AU156,'CRUCE RIESGOS'!$C$9:$D$13,2,FALSE),\"\")","v":""},19.730000000000398,{"$f":"IFERROR(VLOOKUP(AW156,'CRUCE RIESGOS'!$C$9:$D$13,2,FALSE),\"\")","v":""},20.730000000000398,{"$f":"IFERROR(VLOOKUP(AY156,'CRUCE RIESGOS'!$C$9:$D$13,2,FALSE),\"\")","v":""},21.730000000000398,{"$f":"IFERROR(VLOOKUP(BA156,'CRUCE RIESGOS'!$C$9:$D$13,2,FALSE),\"\")","v":""},22.730000000000398,{"$f":"IFERROR(VLOOKUP(BC156,'CRUCE RIESGOS'!$C$9:$D$13,2,FALSE),\"\")","v":""},23.730000000000398,{"$f":"IFERROR(VLOOKUP(BE156,'CRUCE RIESGOS'!$C$9:$D$13,2,FALSE),\"\")","v":""},24.730000000000501,{"$f":"IFERROR(VLOOKUP(BG156,'CRUCE RIESGOS'!$C$9:$D$13,2,FALSE),\"\")","v":""},25.730000000000501,{"$f":"IFERROR(VLOOKUP(BI156,'CRUCE RIESGOS'!$C$9:$D$13,2,FALSE),\"\")","v":""}]
[null,null,null,null,null,null,null,null,null,null,null,null,null,"",null,{"$f":"IF(P158<>\"\",\" -R\",\"\")","v":""},null,{"$f":"IF(R158<>\"\",\" -R\",\"\")","v":""},null,{"$f":"IF(T158<>\"\",\" -R\",\"\")","v":""},null,{"$f":"IF(V158<>\"\",\" -R\",\"\")","v":""},null,{"$f":"IF(X158<>\"\",\" -R\",\"\")","v":""},null,{"$f":"IF(Z158<>\"\",\" -R\",\"\")","v":""},null,{"$f":"IF(AB158<>\"\",\" -R\",\"\")","v":""},null,{"$f":"IF(AD158<>\"\",\" -R\",\"\")","v":""},null,"",null,"",null,"",null,"",null,"",null,"",null,"",null,"",null,"",null,"",null,"",null,"",null,"",null,"",null,"",null,""]
[null,null,null,null,null,null,null,null,null,null,null,null,1.74,{"$f":"IFERROR(VLOOKUP(M158,'CRUCE RIESGOS'!$C$9:$D$13,2,FALSE),\"\")","v":""},2.7400000000000202,{"$f":"IFERROR(VLOOKUP(O158,'CRUCE RIESGOS'!$C$9:$D$13,2,FALSE),\"\")","v":""},3.7400000000000402,{"$f":"IFERROR(VLOOKUP(Q158,'CRUCE RIESGOS'!$C$9:$D$13,2,FALSE),\"\")","v":""},4.7400000000000597,{"$f":"IFERROR(VLOOKUP(S158,'CRUCE RIESGOS'!$C$9:$D$13,2,FALSE),\"\")","v":""},5.7400000000000801,{"$f":"IFERROR(VLOOKUP(U158,'CRUCE RIESGOS'!$C$9:$D$13,2,FALSE),\"\")","v":""},6.7400000000000997,{"$f":"IFERROR(VLOOKUP(W158,'CRUCE RIESGOS'!$C$9:$D$13,2,FALSE),\"\")","v":""},7.7400000000001201,{"$f":"IFERROR(VLOOKUP(Y158,'CRUCE RIESGOS'!$C$9:$D$13,2,FALSE),\"\")","v":""},8.7400000000001405,{"$f":"IFERROR(VLOOKUP(AA158,'CRUCE RIESGOS'!$C$9:$D$13,2,FALSE),\"\")","v":""},9.7400000000001601,{"$f":"IFERROR(VLOOKUP(AC158,'CRUCE RIESGOS'!$C$9:$D$13,2,FALSE),\"\")","v":""},10.740000000000199,{"$f":"IFERROR(VLOOKUP(AE158,'CRUCE RIESGOS'!$C$9:$D$13,2,FALSE),\"\")","v":""},11.740000000000199,{"$f":"IFERROR(VLOOKUP(AG158,'CRUCE RIESGOS'!$C$9:$D$13,2,FALSE),\"\")","v":""},12.740000000000199,{"$f":"IFERROR(VLOOKUP(AI158,'CRUCE RIESGOS'!$C$9:$D$13,2,FALSE),\"\")","v":""},13.740000000000199,{"$f":"IFERROR(VLOOKUP(AK158,'CRUCE RIESGOS'!$C$9:$D$13,2,FALSE),\"\")","v":""},14.7400000000003,{"$f":"IFERROR(VLOOKUP(AM158,'CRUCE RIESGOS'!$C$9:$D$13,2,FALSE),\"\")","v":""},15.7400000000003,{"$f":"IFERROR(VLOOKUP(AO158,'CRUCE RIESGOS'!$C$9:$D$13,2,FALSE),\"\")","v":""},16.7400000000003,{"$f":"IFERROR(VLOOKUP(AQ158,'CRUCE RIESGOS'!$C$9:$D$13,2,FALSE),\"\")","v":""},17.7400000000003,{"$f":"IFERROR(VLOOKUP(AS158,'CRUCE RIESGOS'!$C$9:$D$13,2,FALSE),\"\")","v":""},18.7400000000003,{"$f":"IFERROR(VLOOKUP(AU158,'CRUCE RIESGOS'!$C$9:$D$13,2,FALSE),\"\")","v":""},19.7400000000004,{"$f":"IFERROR(VLOOKUP(AW158,'CRUCE RIESGOS'!$C$9:$D$13,2,FALSE),\"\")","v":""},20.7400000000004,{"$f":"IFERROR(VLOOKUP(AY158,'CRUCE RIESGOS'!$C$9:$D$13,2,FALSE),\"\")","v":""},21.7400000000004,{"$f":"IFERROR(VLOOKUP(BA158,'CRUCE RIESGOS'!$C$9:$D$13,2,FALSE),\"\")","v":""},22.7400000000004,{"$f":"IFERROR(VLOOKUP(BC158,'CRUCE RIESGOS'!$C$9:$D$13,2,FALSE),\"\")","v":""},23.7400000000004,{"$f":"IFERROR(VLOOKUP(BE158,'CRUCE RIESGOS'!$C$9:$D$13,2,FALSE),\"\")","v":""},24.740000000000499,{"$f":"IFERROR(VLOOKUP(BG158,'CRUCE RIESGOS'!$C$9:$D$13,2,FALSE),\"\")","v":""},25.740000000000499,{"$f":"IFERROR(VLOOKUP(BI158,'CRUCE RIESGOS'!$C$9:$D$13,2,FALSE),\"\")","v":""}]
[null,null,null,null,null,null,null,null,null,null,null,null,null,"",null,{"$f":"IF(P160<>\"\",\" -R\",\"\")","v":""},null,{"$f":"IF(R160<>\"\",\" -R\",\"\")","v":""},null,{"$f":"IF(T160<>\"\",\" -R\",\"\")","v":""},null,{"$f":"IF(V160<>\"\",\" -R\",\"\")","v":""},null,{"$f":"IF(X160<>\"\",\" -R\",\"\")","v":""},null,{"$f":"IF(Z160<>\"\",\" -R\",\"\")","v":""},null,{"$f":"IF(AB160<>\"\",\" -R\",\"\")","v":""},null,{"$f":"IF(AD160<>\"\",\" -R\",\"\")","v":""},null,"",null,"",null,"",null,"",null,"",null,"",null,"",null,"",null,"",null,"",null,"",null,"",null,"",null,"",null,"",null,""]
[null,null,null,null,null,null,null,null,null,null,null,null,1.75,{"$f":"IFERROR(VLOOKUP(M160,'CRUCE RIESGOS'!$C$9:$D$13,2,FALSE),\"\")","v":""},2.75000000000002,{"$f":"IFERROR(VLOOKUP(O160,'CRUCE RIESGOS'!$C$9:$D$13,2,FALSE),\"\")","v":""},3.75000000000004,{"$f":"IFERROR(VLOOKUP(Q160,'CRUCE RIESGOS'!$C$9:$D$13,2,FALSE),\"\")","v":""},4.7500000000000604,{"$f":"IFERROR(VLOOKUP(S160,'CRUCE RIESGOS'!$C$9:$D$13,2,FALSE),\"\")","v":""},5.7500000000000799,{"$f":"IFERROR(VLOOKUP(U160,'CRUCE RIESGOS'!$C$9:$D$13,2,FALSE),\"\")","v":""},6.7500000000001004,{"$f":"IFERROR(VLOOKUP(W160,'CRUCE RIESGOS'!$C$9:$D$13,2,FALSE),\"\")","v":""},7.7500000000001199,{"$f":"IFERROR(VLOOKUP(Y160,'CRUCE RIESGOS'!$C$9:$D$13,2,FALSE),\"\")","v":""},8.7500000000001403,{"$f":"IFERROR(VLOOKUP(AA160,'CRUCE RIESGOS'!$C$9:$D$13,2,FALSE),\"\")","v":""},9.7500000000001599,{"$f":"IFERROR(VLOOKUP(AC160,'CRUCE RIESGOS'!$C$9:$D$13,2,FALSE),\"\")","v":""},10.750000000000201,{"$f":"IFERROR(VLOOKUP(AE160,'CRUCE RIESGOS'!$C$9:$D$13,2,FALSE),\"\")","v":""},11.750000000000201,{"$f":"IFERROR(VLOOKUP(AG160,'CRUCE RIESGOS'!$C$9:$D$13,2,FALSE),\"\")","v":""},12.750000000000201,{"$f":"IFERROR(VLOOKUP(AI160,'CRUCE RIESGOS'!$C$9:$D$13,2,FALSE),\"\")","v":""},13.750000000000201,{"$f":"IFERROR(VLOOKUP(AK160,'CRUCE RIESGOS'!$C$9:$D$13,2,FALSE),\"\")","v":""},14.7500000000003,{"$f":"IFERROR(VLOOKUP(AM160,'CRUCE RIESGOS'!$C$9:$D$13,2,FALSE),\"\")","v":""},15.7500000000003,{"$f":"IFERROR(VLOOKUP(AO160,'CRUCE RIESGOS'!$C$9:$D$13,2,FALSE),\"\")","v":""},16.750000000000298,{"$f":"IFERROR(VLOOKUP(AQ160,'CRUCE RIESGOS'!$C$9:$D$13,2,FALSE),\"\")","v":""},17.750000000000298,{"$f":"IFERROR(VLOOKUP(AS160,'CRUCE RIESGOS'!$C$9:$D$13,2,FALSE),\"\")","v":""},18.750000000000298,{"$f":"IFERROR(VLOOKUP(AU160,'CRUCE RIESGOS'!$C$9:$D$13,2,FALSE),\"\")","v":""},19.750000000000401,{"$f":"IFERROR(VLOOKUP(AW160,'CRUCE RIESGOS'!$C$9:$D$13,2,FALSE),\"\")","v":""},20.750000000000401,{"$f":"IFERROR(VLOOKUP(AY160,'CRUCE RIESGOS'!$C$9:$D$13,2,FALSE),\"\")","v":""},21.750000000000401,{"$f":"IFERROR(VLOOKUP(BA160,'CRUCE RIESGOS'!$C$9:$D$13,2,FALSE),\"\")","v":""},22.750000000000401,{"$f":"IFERROR(VLOOKUP(BC160,'CRUCE RIESGOS'!$C$9:$D$13,2,FALSE),\"\")","v":""},23.750000000000401,{"$f":"IFERROR(VLOOKUP(BE160,'CRUCE RIESGOS'!$C$9:$D$13,2,FALSE),\"\")","v":""},24.750000000000501,{"$f":"IFERROR(VLOOKUP(BG160,'CRUCE RIESGOS'!$C$9:$D$13,2,FALSE),\"\")","v":""},25.750000000000501,{"$f":"IFERROR(VLOOKUP(BI160,'CRUCE RIESGOS'!$C$9:$D$13,2,FALSE),\"\")","v":""}]
[null,null,null,null,null,null,null,null,null,null,null,null,null,"",null,{"$f":"IF(P162<>\"\",\" -R\",\"\")","v":""},null,{"$f":"IF(R162<>\"\",\" -R\",\"\")","v":""},null,{"$f":"IF(T162<>\"\",\" -R\",\"\")","v":""},null,{"$f":"IF(V162<>\"\",\" -R\",\"\")","v":""},null,{"$f":"IF(X162<>\"\",\" -R\",\"\")","v":""},null,{"$f":"IF(Z162<>\"\",\" -R\",\"\")","v":""},null,{"$f":"IF(AB162<>\"\",\" -R\",\"\")","v":""},null,{"$f":"IF(AD162<>\"\",\" -R\",\"\")","v":""},null,"",null,"",null,"",null,"",null,"",null,"",null,"",null,"",null,"",null,"",null,"",null,"",null,"",null,"",null,"",null,""]
[null,null,null,null,null,null,null,null,null,null,null,null,1.76,{"$f":"IFERROR(VLOOKUP(M162,'CRUCE RIESGOS'!$C$9:$D$13,2,FALSE),\"\")","v":""},2.7600000000000202,{"$f":"IFERROR(VLOOKUP(O162,'CRUCE RIESGOS'!$C$9:$D$13,2,FALSE),\"\")","v":""},3.7600000000000402,{"$f":"IFERROR(VLOOKUP(Q162,'CRUCE RIESGOS'!$C$9:$D$13,2,FALSE),\"\")","v":""},4.7600000000000602,{"$f":"IFERROR(VLOOKUP(S162,'CRUCE RIESGOS'!$C$9:$D$13,2,FALSE),\"\")","v":""},5.7600000000000797,{"$f":"IFERROR(VLOOKUP(U162,'CRUCE RIESGOS'!$C$9:$D$13,2,FALSE),\"\")","v":""},6.7600000000001002,{"$f":"IFERROR(VLOOKUP(W162,'CRUCE RIESGOS'!$C$9:$D$13,2,FALSE),\"\")","v":""},7.7600000000001197,{"$f":"IFERROR(VLOOKUP(Y162,'CRUCE RIESGOS'!$C$9:$D$13,2,FALSE),\"\")","v":""},8.7600000000001401,{"$f":"IFERROR(VLOOKUP(AA162,'CRUCE RIESGOS'!$C$9:$D$13,2,FALSE),\"\")","v":""},9.7600000000001597,{"$f":"IFERROR(VLOOKUP(AC162,'CRUCE RIESGOS'!$C$9:$D$13,2,FALSE),\"\")","v":""},10.760000000000201,{"$f":"IFERROR(VLOOKUP(AE162,'CRUCE RIESGOS'!$C$9:$D$13,2,FALSE),\"\")","v":""},11.760000000000201,{"$f":"IFERROR(VLOOKUP(AG162,'CRUCE RIESGOS'!$C$9:$D$13,2,FALSE),\"\")","v":""},12.760000000000201,{"$f":"IFERROR(VLOOKUP(AI162,'CRUCE RIESGOS'!$C$9:$D$13,2,FALSE),\"\")","v":""},13.760000000000201,{"$f":"IFERROR(VLOOKUP(AK162,'CRUCE RIESGOS'!$C$9:$D$13,2,FALSE),\"\")","v":""},14.7600000000003,{"$f":"IFERROR(VLOOKUP(AM162,'CRUCE RIESGOS'!$C$9:$D$13,2,FALSE),\"\")","v":""},15.7600000000003,{"$f":"IFERROR(VLOOKUP(AO162,'CRUCE RIESGOS'!$C$9:$D$13,2,FALSE),\"\")","v":""},16.7600000000003,{"$f":"IFERROR(VLOOKUP(AQ162,'CRUCE RIESGOS'!$C$9:$D$13,2,FALSE),\"\")","v":""},17.7600000000003,{"$f":"IFERROR(VLOOKUP(AS162,'CRUCE RIESGOS'!$C$9:$D$13,2,FALSE),\"\")","v":""},18.7600000000003,{"$f":"IFERROR(VLOOKUP(AU162,'CRUCE RIESGOS'!$C$9:$D$13,2,FALSE),\"\")","v":""},19.760000000000399,{"$f":"IFERROR(VLOOKUP(AW162,'CRUCE RIESGOS'!$C$9:$D$13,2,FALSE),\"\")","v":""},20.760000000000399,{"$f":"IFERROR(VLOOKUP(AY162,'CRUCE RIESGOS'!$C$9:$D$13,2,FALSE),\"\")","v":""},21.760000000000399,{"$f":"IFERROR(VLOOKUP(BA162,'CRUCE RIESGOS'!$C$9:$D$13,2,FALSE),\"\")","v":""},22.760000000000399,{"$f":"IFERROR(VLOOKUP(BC162,'CRUCE RIESGOS'!$C$9:$D$13,2,FALSE),\"\")","v":""},23.760000000000399,{"$f":"IFERROR(VLOOKUP(BE162,'CRUCE RIESGOS'!$C$9:$D$13,2,FALSE),\"\")","v":""},24.760000000000499,{"$f":"IFERROR(VLOOKUP(BG162,'CRUCE RIESGOS'!$C$9:$D$13,2,FALSE),\"\")","v":""},25.760000000000499,{"$f":"IFERROR(VLOOKUP(BI162,'CRUCE RIESGOS'!$C$9:$D$13,2,FALSE),\"\")","v":""}]
[null,null,null,null,null,null,null,null,null,null,null,null,null,"",null,{"$f":"IF(P164<>\"\",\" -R\",\"\")","v":""},null,{"$f":"IF(R164<>\"\",\" -R\",\"\")","v":""},null,{"$f":"IF(T164<>\"\",\" -R\",\"\")","v":""},null,{"$f":"IF(V164<>\"\",\" -R\",\"\")","v":""},null,{"$f":"IF(X164<>\"\",\" -R\",\"\")","v":""},null,{"$f":"IF(Z164<>\"\",\" -R\",\"\")","v":""},null,{"$f":"IF(AB164<>\"\",\" -R\",\"\")","v":""},null,{"$f":"IF(AD164<>\"\",\" -R\",\"\")","v":""},null,"",null,"",null,"",null,"",null,"",null,"",null,"",null,"",null,"",null,"",null,"",null,"",null,"",null,"",null,"",null,""]
[null,null,null,null,null,null,null,null,null,null,null,null,1.77,{"$f":"IFERROR(VLOOKUP(M164,'CRUCE RIESGOS'!$C$9:$D$13,2,FALSE),\"\")","v":""},2.77000000000002,{"$f":"IFERROR(VLOOKUP(O164,'CRUCE RIESGOS'!$C$9:$D$13,2,FALSE),\"\")","v":""},3.77000000000004,{"$f":"IFERROR(VLOOKUP(Q164,'CRUCE RIESGOS'!$C$9:$D$13,2,FALSE),\"\")","v":""},4.77000000000006,{"$f":"IFERROR(VLOOKUP(S164,'CRUCE RIESGOS'!$C$9:$D$13,2,FALSE),\"\")","v":""},5.7700000000000804,{"$f":"IFERROR(VLOOKUP(U164,'CRUCE RIESGOS'!$C$9:$D$13,2,FALSE),\"\")","v":""},6.7700000000000999,{"$f":"IFERROR(VLOOKUP(W164,'CRUCE RIESGOS'!$C$9:$D$13,2,FALSE),\"\")","v":""},7.7700000000001204,{"$f":"IFERROR(VLOOKUP(Y164,'CRUCE RIESGOS'!$C$9:$D$13,2,FALSE),\"\")","v":""},8.7700000000001399,{"$f":"IFERROR(VLOOKUP(AA164,'CRUCE RIESGOS'!$C$9:$D$13,2,FALSE),\"\")","v":""},9.7700000000001594,{"$f":"IFERROR(VLOOKUP(AC164,'CRUCE RIESGOS'!$C$9:$D$13,2,FALSE),\"\")","v":""},10.7700000000002,{"$f":"IFERROR(VLOOKUP(AE164,'CRUCE RIESGOS'!$C$9:$D$13,2,FALSE),\"\")","v":""},11.7700000000002,{"$f":"IFERROR(VLOOKUP(AG164,'CRUCE RIESGOS'!$C$9:$D$13,2,FALSE),\"\")","v":""},12.7700000000002,{"$f":"IFERROR(VLOOKUP(AI164,'CRUCE RIESGOS'!$C$9:$D$13,2,FALSE),\"\")","v":""},13.7700000000002,{"$f":"IFERROR(VLOOKUP(AK164,'CRUCE RIESGOS'!$C$9:$D$13,2,FALSE),\"\")","v":""},14.7700000000003,{"$f":"IFERROR(VLOOKUP(AM164,'CRUCE RIESGOS'!$C$9:$D$13,2,FALSE),\"\")","v":""},15.7700000000003,{"$f":"IFERROR(VLOOKUP(AO164,'CRUCE RIESGOS'!$C$9:$D$13,2,FALSE),\"\")","v":""},16.770000000000302,{"$f":"IFERROR(VLOOKUP(AQ164,'CRUCE RIESGOS'!$C$9:$D$13,2,FALSE),\"\")","v":""},17.770000000000302,{"$f":"IFERROR(VLOOKUP(AS164,'CRUCE RIESGOS'!$C$9:$D$13,2,FALSE),\"\")","v":""},18.770000000000302,{"$f":"IFERROR(VLOOKUP(AU164,'CRUCE RIESGOS'!$C$9:$D$13,2,FALSE),\"\")","v":""},19.770000000000401,{"$f":"IFERROR(VLOOKUP(AW164,'CRUCE RIESGOS'!$C$9:$D$13,2,FALSE),\"\")","v":""},20.770000000000401,{"$f":"IFERROR(VLOOKUP(AY164,'CRUCE RIESGOS'!$C$9:$D$13,2,FALSE),\"\")","v":""},21.770000000000401,{"$f":"IFERROR(VLOOKUP(BA164,'CRUCE RIESGOS'!$C$9:$D$13,2,FALSE),\"\")","v":""},22.770000000000401,{"$f":"IFERROR(VLOOKUP(BC164,'CRUCE RIESGOS'!$C$9:$D$13,2,FALSE),\"\")","v":""},23.770000000000401,{"$f":"IFERROR(VLOOKUP(BE164,'CRUCE RIESGOS'!$C$9:$D$13,2,FALSE),\"\")","v":""},24.770000000000501,{"$f":"IFERROR(VLOOKUP(BG164,'CRUCE RIESGOS'!$C$9:$D$13,2,FALSE),\"\")","v":""},25.770000000000501,{"$f":"IFERROR(VLOOKUP(BI164,'CRUCE RIESGOS'!$C$9:$D$13,2,FALSE),\"\")","v":""}]
[null,null,null,null,null,null,null,null,null,null,null,null,null,"",null,{"$f":"IF(P166<>\"\",\" -R\",\"\")","v":""},null,{"$f":"IF(R166<>\"\",\" -R\",\"\")","v":""},null,{"$f":"IF(T166<>\"\",\" -R\",\"\")","v":""},null,{"$f":"IF(V166<>\"\",\" -R\",\"\")","v":""},null,{"$f":"IF(X166<>\"\",\" -R\",\"\")","v":""},null,{"$f":"IF(Z166<>\"\",\" -R\",\"\")","v":""},null,{"$f":"IF(AB166<>\"\",\" -R\",\"\")","v":""},null,{"$f":"IF(AD166<>\"\",\" -R\",\"\")","v":""},null,"",null,"",null,"",null,"",null,"",null,"",null,"",null,"",null,"",null,"",null,"",null,"",null,"",null,"",null,"",null,""]
[null,null,null,null,null,null,null,null,null,null,null,null,1.78,{"$f":"IFERROR(VLOOKUP(M166,'CRUCE RIESGOS'!$C$9:$D$13,2,FALSE),\"\")","v":""},2.7800000000000198,{"$f":"IFERROR(VLOOKUP(O166,'CRUCE RIESGOS'!$C$9:$D$13,2,FALSE),\"\")","v":""},3.7800000000000402,{"$f":"IFERROR(VLOOKUP(Q166,'CRUCE RIESGOS'!$C$9:$D$13,2,FALSE),\"\")","v":""},4.7800000000000598,{"$f":"IFERROR(VLOOKUP(S166,'CRUCE RIESGOS'!$C$9:$D$13,2,FALSE),\"\")","v":""},5.7800000000000802,{"$f":"IFERROR(VLOOKUP(U166,'CRUCE RIESGOS'!$C$9:$D$13,2,FALSE),\"\")","v":""},6.7800000000000997,{"$f":"IFERROR(VLOOKUP(W166,'CRUCE RIESGOS'!$C$9:$D$13,2,FALSE),\"\")","v":""},7.7800000000001202,{"$f":"IFERROR(VLOOKUP(Y166,'CRUCE RIESGOS'!$C$9:$D$13,2,FALSE),\"\")","v":""},8.7800000000001397,{"$f":"IFERROR(VLOOKUP(AA166,'CRUCE RIESGOS'!$C$9:$D$13,2,FALSE),\"\")","v":""},9.7800000000001592,{"$f":"IFERROR(VLOOKUP(AC166,'CRUCE RIESGOS'!$C$9:$D$13,2,FALSE),\"\")","v":""},10.7800000000002,{"$f":"IFERROR(VLOOKUP(AE166,'CRUCE RIESGOS'!$C$9:$D$13,2,FALSE),\"\")","v":""},11.7800000000002,{"$f":"IFERROR(VLOOKUP(AG166,'CRUCE RIESGOS'!$C$9:$D$13,2,FALSE),\"\")","v":""},12.7800000000002,{"$f":"IFERROR(VLOOKUP(AI166,'CRUCE RIESGOS'!$C$9:$D$13,2,FALSE),\"\")","v":""},13.7800000000002,{"$f":"IFERROR(VLOOKUP(AK166,'CRUCE RIESGOS'!$C$9:$D$13,2,FALSE),\"\")","v":""},14.7800000000003,{"$f":"IFERROR(VLOOKUP(AM166,'CRUCE RIESGOS'!$C$9:$D$13,2,FALSE),\"\")","v":""},15.7800000000003,{"$f":"IFERROR(VLOOKUP(AO166,'CRUCE RIESGOS'!$C$9:$D$13,2,FALSE),\"\")","v":""},16.7800000000003,{"$f":"IFERROR(VLOOKUP(AQ166,'CRUCE RIESGOS'!$C$9:$D$13,2,FALSE),\"\")","v":""},17.7800000000003,{"$f":"IFERROR(VLOOKUP(AS166,'CRUCE RIESGOS'!$C$9:$D$13,2,FALSE),\"\")","v":""},18.7800000000003,{"$f":"IFERROR(VLOOKUP(AU166,'CRUCE RIESGOS'!$C$9:$D$13,2,FALSE),\"\")","v":""},19.780000000000399,{"$f":"IFERROR(VLOOKUP(AW166,'CRUCE RIESGOS'!$C$9:$D$13,2,FALSE),\"\")","v":""},20.780000000000399,{"$f":"IFERROR(VLOOKUP(AY166,'CRUCE RIESGOS'!$C$9:$D$13,2,FALSE),\"\")","v":""},21.780000000000399,{"$f":"IFERROR(VLOOKUP(BA166,'CRUCE RIESGOS'!$C$9:$D$13,2,FALSE),\"\")","v":""},22.780000000000399,{"$f":"IFERROR(VLOOKUP(BC166,'CRUCE RIESGOS'!$C$9:$D$13,2,FALSE),\"\")","v":""},23.780000000000399,{"$f":"IFERROR(VLOOKUP(BE166,'CRUCE RIESGOS'!$C$9:$D$13,2,FALSE),\"\")","v":""},24.780000000000499,{"$f":"IFERROR(VLOOKUP(BG166,'CRUCE RIESGOS'!$C$9:$D$13,2,FALSE),\"\")","v":""},25.780000000000499,{"$f":"IFERROR(VLOOKUP(BI166,'CRUCE RIESGOS'!$C$9:$D$13,2,FALSE),\"\")","v":""}]
[null,null,null,null,null,null,null,null,null,null,null,null,null,"",null,{"$f":"IF(P168<>\"\",\" -R\",\"\")","v":""},null,{"$f":"IF(R168<>\"\",\" -R\",\"\")","v":""},null,{"$f":"IF(T168<>\"\",\" -R\",\"\")","v":""},null,{"$f":"IF(V168<>\"\",\" -R\",\"\")","v":""},null,{"$f":"IF(X168<>\"\",\" -R\",\"\")","v":""},null,{"$f":"IF(Z168<>\"\",\" -R\",\"\")","v":""},null,{"$f":"IF(AB168<>\"\",\" -R\",\"\")","v":""},null,{"$f":"IF(AD168<>\"\",\" -R\",\"\")","v":""},null,"",null,"",null,"",null,"",null,"",null,"",null,"",null,"",null,"",null,"",null,"",null,"",null,"",null,"",null,"",null,""]
[null,null,null,null,null,null,null,null,null,null,null,null,1.79,{"$f":"IFERROR(VLOOKUP(M168,'CRUCE RIESGOS'!$C$9:$D$13,2,FALSE),\"\")","v":""},2.79000000000002,{"$f":"IFERROR(VLOOKUP(O168,'CRUCE RIESGOS'!$C$9:$D$13,2,FALSE),\"\")","v":""},3.79000000000004,{"$f":"IFERROR(VLOOKUP(Q168,'CRUCE RIESGOS'!$C$9:$D$13,2,FALSE),\"\")","v":""},4.7900000000000604,{"$f":"IFERROR(VLOOKUP(S168,'CRUCE RIESGOS'!$C$9:$D$13,2,FALSE),\"\")","v":""},5.79000000000008,{"$f":"IFERROR(VLOOKUP(U168,'CRUCE RIESGOS'!$C$9:$D$13,2,FALSE),\"\")","v":""},6.7900000000001004,{"$f":"IFERROR(VLOOKUP(W168,'CRUCE RIESGOS'!$C$9:$D$13,2,FALSE),\"\")","v":""},7.7900000000001199,{"$f":"IFERROR(VLOOKUP(Y168,'CRUCE RIESGOS'!$C$9:$D$13,2,FALSE),\"\")","v":""},8.7900000000001395,{"$f":"IFERROR(VLOOKUP(AA168,'CRUCE RIESGOS'!$C$9:$D$13,2,FALSE),\"\")","v":""},9.7900000000001608,{"$f":"IFERROR(VLOOKUP(AC168,'CRUCE RIESGOS'!$C$9:$D$13,2,FALSE),\"\")","v":""},10.7900000000002,{"$f":"IFERROR(VLOOKUP(AE168,'CRUCE RIESGOS'!$C$9:$D$13,2,FALSE),\"\")","v":""},11.7900000000002,{"$f":"IFERROR(VLOOKUP(AG168,'CRUCE RIESGOS'!$C$9:$D$13,2,FALSE),\"\")","v":""},12.7900000000002,{"$f":"IFERROR(VLOOKUP(AI168,'CRUCE RIESGOS'!$C$9:$D$13,2,FALSE),\"\")","v":""},13.7900000000002,{"$f":"IFERROR(VLOOKUP(AK168,'CRUCE RIESGOS'!$C$9:$D$13,2,FALSE),\"\")","v":""},14.790000000000299,{"$f":"IFERROR(VLOOKUP(AM168,'CRUCE RIESGOS'!$C$9:$D$13,2,FALSE),\"\")","v":""},15.790000000000299,{"$f":"IFERROR(VLOOKUP(AO168,'CRUCE RIESGOS'!$C$9:$D$13,2,FALSE),\"\")","v":""},16.790000000000301,{"$f":"IFERROR(VLOOKUP(AQ168,'CRUCE RIESGOS'!$C$9:$D$13,2,FALSE),\"\")","v":""},17.790000000000301,{"$f":"IFERROR(VLOOKUP(AS168,'CRUCE RIESGOS'!$C$9:$D$13,2,FALSE),\"\")","v":""},18.790000000000301,{"$f":"IFERROR(VLOOKUP(AU168,'CRUCE RIESGOS'!$C$9:$D$13,2,FALSE),\"\")","v":""},19.790000000000401,{"$f":"IFERROR(VLOOKUP(AW168,'CRUCE RIESGOS'!$C$9:$D$13,2,FALSE),\"\")","v":""},20.790000000000401,{"$f":"IFERROR(VLOOKUP(AY168,'CRUCE RIESGOS'!$C$9:$D$13,2,FALSE),\"\")","v":""},21.790000000000401,{"$f":"IFERROR(VLOOKUP(BA168,'CRUCE RIESGOS'!$C$9:$D$13,2,FALSE),\"\")","v":""},22.790000000000401,{"$f":"IFERROR(VLOOKUP(BC168,'CRUCE RIESGOS'!$C$9:$D$13,2,FALSE),\"\")","v":""},23.790000000000401,{"$f":"IFERROR(VLOOKUP(BE168,'CRUCE RIESGOS'!$C$9:$D$13,2,FALSE),\"\")","v":""},24.7900000000005,{"$f":"IFERROR(VLOOKUP(BG168,'CRUCE RIESGOS'!$C$9:$D$13,2,FALSE),\"\")","v":""},25.7900000000005,{"$f":"IFERROR(VLOOKUP(BI168,'CRUCE RIESGOS'!$C$9:$D$13,2,FALSE),\"\")","v":""}]
[null,null,null,null,null,null,null,null,null,null,null,null,null,"",null,{"$f":"IF(P170<>\"\",\" -R\",\"\")","v":""},null,{"$f":"IF(R170<>\"\",\" -R\",\"\")","v":""},null,{"$f":"IF(T170<>\"\",\" -R\",\"\")","v":""},null,{"$f":"IF(V170<>\"\",\" -R\",\"\")","v":""},null,{"$f":"IF(X170<>\"\",\" -R\",\"\")","v":""},null,{"$f":"IF(Z170<>\"\",\" -R\",\"\")","v":""},null,{"$f":"IF(AB170<>\"\",\" -R\",\"\")","v":""},null,{"$f":"IF(AD170<>\"\",\" -R\",\"\")","v":""},null,"",null,"",null,"",null,"",null,"",null,"",null,"",null,"",null,"",null,"",null,"",null,"",null,"",null,"",null,"",null,""]
[null,null,null,null,null,null,null,null,null,null,null,null,1.8,{"$f":"IFERROR(VLOOKUP(M170,'CRUCE RIESGOS'!$C$9:$D$13,2,FALSE),\"\")","v":""},2.8000000000000198,{"$f":"IFERROR(VLOOKUP(O170,'CRUCE RIESGOS'!$C$9:$D$13,2,FALSE),\"\")","v":""},3.8000000000000398,{"$f":"IFERROR(VLOOKUP(Q170,'CRUCE RIESGOS'!$C$9:$D$13,2,FALSE),\"\")","v":""},4.8000000000000602,{"$f":"IFERROR(VLOOKUP(S170,'CRUCE RIESGOS'!$C$9:$D$13,2,FALSE),\"\")","v":""},5.8000000000000798,{"$f":"IFERROR(VLOOKUP(U170,'CRUCE RIESGOS'!$C$9:$D$13,2,FALSE),\"\")","v":""},6.8000000000001002,{"$f":"IFERROR(VLOOKUP(W170,'CRUCE RIESGOS'!$C$9:$D$13,2,FALSE),\"\")","v":""},7.8000000000001197,{"$f":"IFERROR(VLOOKUP(Y170,'CRUCE RIESGOS'!$C$9:$D$13,2,FALSE),\"\")","v":""},8.8000000000001393,{"$f":"IFERROR(VLOOKUP(AA170,'CRUCE RIESGOS'!$C$9:$D$13,2,FALSE),\"\")","v":""},9.8000000000001606,{"$f":"IFERROR(VLOOKUP(AC170,'CRUCE RIESGOS'!$C$9:$D$13,2,FALSE),\"\")","v":""},10.8000000000002,{"$f":"IFERROR(VLOOKUP(AE170,'CRUCE RIESGOS'!$C$9:$D$13,2,FALSE),\"\")","v":""},11.8000000000002,{"$f":"IFERROR(VLOOKUP(AG170,'CRUCE RIESGOS'!$C$9:$D$13,2,FALSE),\"\")","v":""},12.8000000000002,{"$f":"IFERROR(VLOOKUP(AI170,'CRUCE RIESGOS'!$C$9:$D$13,2,FALSE),\"\")","v":""},13.8000000000002,{"$f":"IFERROR(VLOOKUP(AK170,'CRUCE RIESGOS'!$C$9:$D$13,2,FALSE),\"\")","v":""},14.800000000000299,{"$f":"IFERROR(VLOOKUP(AM170,'CRUCE RIESGOS'!$C$9:$D$13,2,FALSE),\"\")","v":""},15.800000000000299,{"$f":"IFERROR(VLOOKUP(AO170,'CRUCE RIESGOS'!$C$9:$D$13,2,FALSE),\"\")","v":""},16.800000000000299,{"$f":"IFERROR(VLOOKUP(AQ170,'CRUCE RIESGOS'!$C$9:$D$13,2,FALSE),\"\")","v":""},17.800000000000299,{"$f":"IFERROR(VLOOKUP(AS170,'CRUCE RIESGOS'!$C$9:$D$13,2,FALSE),\"\")","v":""},18.800000000000299,{"$f":"IFERROR(VLOOKUP(AU170,'CRUCE RIESGOS'!$C$9:$D$13,2,FALSE),\"\")","v":""},19.800000000000399,{"$f":"IFERROR(VLOOKUP(AW170,'CRUCE RIESGOS'!$C$9:$D$13,2,FALSE),\"\")","v":""},20.800000000000399,{"$f":"IFERROR(VLOOKUP(AY170,'CRUCE RIESGOS'!$C$9:$D$13,2,FALSE),\"\")","v":""},21.800000000000399,{"$f":"IFERROR(VLOOKUP(BA170,'CRUCE RIESGOS'!$C$9:$D$13,2,FALSE),\"\")","v":""},22.800000000000399,{"$f":"IFERROR(VLOOKUP(BC170,'CRUCE RIESGOS'!$C$9:$D$13,2,FALSE),\"\")","v":""},23.800000000000399,{"$f":"IFERROR(VLOOKUP(BE170,'CRUCE RIESGOS'!$C$9:$D$13,2,FALSE),\"\")","v":""},24.800000000000502,{"$f":"IFERROR(VLOOKUP(BG170,'CRUCE RIESGOS'!$C$9:$D$13,2,FALSE),\"\")","v":""},25.800000000000502,{"$f":"IFERROR(VLOOKUP(BI170,'CRUCE RIESGOS'!$C$9:$D$13,2,FALSE),\"\")","v":""}]
[null,null,null,null,null,null,null,null,null,null,null,null,null,"",null,{"$f":"IF(P172<>\"\",\" -R\",\"\")","v":""},null,{"$f":"IF(R172<>\"\",\" -R\",\"\")","v":""},null,{"$f":"IF(T172<>\"\",\" -R\",\"\")","v":""},null,{"$f":"IF(V172<>\"\",\" -R\",\"\")","v":""},null,{"$f":"IF(X172<>\"\",\" -R\",\"\")","v":""},null,{"$f":"IF(Z172<>\"\",\" -R\",\"\")","v":""},null,{"$f":"IF(AB172<>\"\",\" -R\",\"\")","v":""},null,{"$f":"IF(AD172<>\"\",\" -R\",\"\")","v":""},null,"",null,"",null,"",null,"",null,"",null,"",null,"",null,"",null,"",null,"",null,"",null,"",null,"",null,"",null,"",null,""]
[null,null,null,null,null,null,null,null,null,null,null,null,1.81,{"$f":"IFERROR(VLOOKUP(M172,'CRUCE RIESGOS'!$C$9:$D$13,2,FALSE),\"\")","v":""},2.81000000000002,{"$f":"IFERROR(VLOOKUP(O172,'CRUCE RIESGOS'!$C$9:$D$13,2,FALSE),\"\")","v":""},3.81000000000004,{"$f":"IFERROR(VLOOKUP(Q172,'CRUCE RIESGOS'!$C$9:$D$13,2,FALSE),\"\")","v":""},4.81000000000006,{"$f":"IFERROR(VLOOKUP(S172,'CRUCE RIESGOS'!$C$9:$D$13,2,FALSE),\"\")","v":""},5.8100000000000804,{"$f":"IFERROR(VLOOKUP(U172,'CRUCE RIESGOS'!$C$9:$D$13,2,FALSE),\"\")","v":""},6.8100000000001,{"$f":"IFERROR(VLOOKUP(W172,'CRUCE RIESGOS'!$C$9:$D$13,2,FALSE),\"\")","v":""},7.8100000000001204,{"$f":"IFERROR(VLOOKUP(Y172,'CRUCE RIESGOS'!$C$9:$D$13,2,FALSE),\"\")","v":""},8.8100000000001408,{"$f":"IFERROR(VLOOKUP(AA172,'CRUCE RIESGOS'!$C$9:$D$13,2,FALSE),\"\")","v":""},9.8100000000001604,{"$f":"IFERROR(VLOOKUP(AC172,'CRUCE RIESGOS'!$C$9:$D$13,2,FALSE),\"\")","v":""},10.810000000000199,{"$f":"IFERROR(VLOOKUP(AE172,'CRUCE RIESGOS'!$C$9:$D$13,2,FALSE),\"\")","v":""},11.810000000000199,{"$f":"IFERROR(VLOOKUP(AG172,'CRUCE RIESGOS'!$C$9:$D$13,2,FALSE),\"\")","v":""},12.810000000000199,{"$f":"IFERROR(VLOOKUP(AI172,'CRUCE RIESGOS'!$C$9:$D$13,2,FALSE),\"\")","v":""},13.810000000000199,{"$f":"IFERROR(VLOOKUP(AK172,'CRUCE RIESGOS'!$C$9:$D$13,2,FALSE),\"\")","v":""},14.810000000000301,{"$f":"IFERROR(VLOOKUP(AM172,'CRUCE RIESGOS'!$C$9:$D$13,2,FALSE),\"\")","v":""},15.810000000000301,{"$f":"IFERROR(VLOOKUP(AO172,'CRUCE RIESGOS'!$C$9:$D$13,2,FALSE),\"\")","v":""},16.810000000000301,{"$f":"IFERROR(VLOOKUP(AQ172,'CRUCE RIESGOS'!$C$9:$D$13,2,FALSE),\"\")","v":""},17.810000000000301,{"$f":"IFERROR(VLOOKUP(AS172,'CRUCE RIESGOS'!$C$9:$D$13,2,FALSE),\"\")","v":""},18.810000000000301,{"$f":"IFERROR(VLOOKUP(AU172,'CRUCE RIESGOS'!$C$9:$D$13,2,FALSE),\"\")","v":""},19.8100000000004,{"$f":"IFERROR(VLOOKUP(AW172,'CRUCE RIESGOS'!$C$9:$D$13,2,FALSE),\"\")","v":""},20.8100000000004,{"$f":"IFERROR(VLOOKUP(AY172,'CRUCE RIESGOS'!$C$9:$D$13,2,FALSE),\"\")","v":""},21.8100000000004,{"$f":"IFERROR(VLOOKUP(BA172,'CRUCE RIESGOS'!$C$9:$D$13,2,FALSE),\"\")","v":""},22.8100000000004,{"$f":"IFERROR(VLOOKUP(BC172,'CRUCE RIESGOS'!$C$9:$D$13,2,FALSE),\"\")","v":""},23.8100000000004,{"$f":"IFERROR(VLOOKUP(BE172,'CRUCE RIESGOS'!$C$9:$D$13,2,FALSE),\"\")","v":""},24.8100000000005,{"$f":"IFERROR(VLOOKUP(BG172,'CRUCE RIESGOS'!$C$9:$D$13,2,FALSE),\"\")","v":""},25.8100000000005,{"$f":"IFERROR(VLOOKUP(BI172,'CRUCE RIESGOS'!$C$9:$D$13,2,FALSE),\"\")","v":""}]
[null,null,null,null,null,null,null,null,null,null,null,null,null,"",null,{"$f":"IF(P174<>\"\",\" -R\",\"\")","v":""},null,{"$f":"IF(R174<>\"\",\" -R\",\"\")","v":""},null,{"$f":"IF(T174<>\"\",\" -R\",\"\")","v":""},null,{"$f":"IF(V174<>\"\",\" -R\",\"\")","v":""},null,{"$f":"IF(X174<>\"\",\" -R\",\"\")","v":""},null,{"$f":"IF(Z174<>\"\",\" -R\",\"\")","v":""},null,{"$f":"IF(AB174<>\"\",\" -R\",\"\")","v":""},null,{"$f":"IF(AD174<>\"\",\" -R\",\"\")","v":""},null,"",null,"",null,"",null,"",null,"",null,"",null,"",null,"",null,"",null,"",null,"",null,"",null,"",null,"",null,"",null,""]
[null,null,null,null,null,null,null,null,null,null,null,null,1.82,{"$f":"IFERROR(VLOOKUP(M174,'CRUCE RIESGOS'!$C$9:$D$13,2,FALSE),\"\")","v":""},2.8200000000000198,{"$f":"IFERROR(VLOOKUP(O174,'CRUCE RIESGOS'!$C$9:$D$13,2,FALSE),\"\")","v":""},3.8200000000000398,{"$f":"IFERROR(VLOOKUP(Q174,'CRUCE RIESGOS'!$C$9:$D$13,2,FALSE),\"\")","v":""},4.8200000000000598,{"$f":"IFERROR(VLOOKUP(S174,'CRUCE RIESGOS'!$C$9:$D$13,2,FALSE),\"\")","v":""},5.8200000000000802,{"$f":"IFERROR(VLOOKUP(U174,'CRUCE RIESGOS'!$C$9:$D$13,2,FALSE),\"\")","v":""},6.8200000000000998,{"$f":"IFERROR(VLOOKUP(W174,'CRUCE RIESGOS'!$C$9:$D$13,2,FALSE),\"\")","v":""},7.8200000000001202,{"$f":"IFERROR(VLOOKUP(Y174,'CRUCE RIESGOS'!$C$9:$D$13,2,FALSE),\"\")","v":""},8.8200000000001406,{"$f":"IFERROR(VLOOKUP(AA174,'CRUCE RIESGOS'!$C$9:$D$13,2,FALSE),\"\")","v":""},9.8200000000001602,{"$f":"IFERROR(VLOOKUP(AC174,'CRUCE RIESGOS'!$C$9:$D$13,2,FALSE),\"\")","v":""},10.820000000000199,{"$f":"IFERROR(VLOOKUP(AE174,'CRUCE RIESGOS'!$C$9:$D$13,2,FALSE),\"\")","v":""},11.820000000000199,{"$f":"IFERROR(VLOOKUP(AG174,'CRUCE RIESGOS'!$C$9:$D$13,2,FALSE),\"\")","v":""},12.820000000000199,{"$f":"IFERROR(VLOOKUP(AI174,'CRUCE RIESGOS'!$C$9:$D$13,2,FALSE),\"\")","v":""},13.820000000000199,{"$f":"IFERROR(VLOOKUP(AK174,'CRUCE RIESGOS'!$C$9:$D$13,2,FALSE),\"\")","v":""},14.8200000000003,{"$f":"IFERROR(VLOOKUP(AM174,'CRUCE RIESGOS'!$C$9:$D$13,2,FALSE),\"\")","v":""},15.8200000000003,{"$f":"IFERROR(VLOOKUP(AO174,'CRUCE RIESGOS'!$C$9:$D$13,2,FALSE),\"\")","v":""},16.820000000000299,{"$f":"IFERROR(VLOOKUP(AQ174,'CRUCE RIESGOS'!$C$9:$D$13,2,FALSE),\"\")","v":""},17.820000000000299,{"$f":"IFERROR(VLOOKUP(AS174,'CRUCE RIESGOS'!$C$9:$D$13,2,FALSE),\"\")","v":""},18.820000000000299,{"$f":"IFERROR(VLOOKUP(AU174,'CRUCE RIESGOS'!$C$9:$D$13,2,FALSE),\"\")","v":""},19.820000000000402,{"$f":"IFERROR(VLOOKUP(AW174,'CRUCE RIESGOS'!$C$9:$D$13,2,FALSE),\"\")","v":""},20.820000000000402,{"$f":"IFERROR(VLOOKUP(AY174,'CRUCE RIESGOS'!$C$9:$D$13,2,FALSE),\"\")","v":""},21.820000000000402,{"$f":"IFERROR(VLOOKUP(BA174,'CRUCE RIESGOS'!$C$9:$D$13,2,FALSE),\"\")","v":""},22.820000000000402,{"$f":"IFERROR(VLOOKUP(BC174,'CRUCE RIESGOS'!$C$9:$D$13,2,FALSE),\"\")","v":""},23.820000000000402,{"$f":"IFERROR(VLOOKUP(BE174,'CRUCE RIESGOS'!$C$9:$D$13,2,FALSE),\"\")","v":""},24.820000000000501,{"$f":"IFERROR(VLOOKUP(BG174,'CRUCE RIESGOS'!$C$9:$D$13,2,FALSE),\"\")","v":""},25.820000000000501,{"$f":"IFERROR(VLOOKUP(BI174,'CRUCE RIESGOS'!$C$9:$D$13,2,FALSE),\"\")","v":""}]
[null,null,null,null,null,null,null,null,null,null,null,null,null,"",null,{"$f":"IF(P176<>\"\",\" -R\",\"\")","v":""},null,{"$f":"IF(R176<>\"\",\" -R\",\"\")","v":""},null,{"$f":"IF(T176<>\"\",\" -R\",\"\")","v":""},null,{"$f":"IF(V176<>\"\",\" -R\",\"\")","v":""},null,{"$f":"IF(X176<>\"\",\" -R\",\"\")","v":""},null,{"$f":"IF(Z176<>\"\",\" -R\",\"\")","v":""},null,{"$f":"IF(AB176<>\"\",\" -R\",\"\")","v":""},null,{"$f":"IF(AD176<>\"\",\" -R\",\"\")","v":""},null,"",null,"",null,"",null,"",null,"",null,"",null,"",null,"",null,"",null,"",null,"",null,"",null,"",null,"",null,"",null,""]
[null,null,null,null,null,null,null,null,null,null,null,null,1.83,{"$f":"IFERROR(VLOOKUP(M176,'CRUCE RIESGOS'!$C$9:$D$13,2,FALSE),\"\")","v":""},2.8300000000000201,{"$f":"IFERROR(VLOOKUP(O176,'CRUCE RIESGOS'!$C$9:$D$13,2,FALSE),\"\")","v":""},3.83000000000004,{"$f":"IFERROR(VLOOKUP(Q176,'CRUCE RIESGOS'!$C$9:$D$13,2,FALSE),\"\")","v":""},4.8300000000000596,{"$f":"IFERROR(VLOOKUP(S176,'CRUCE RIESGOS'!$C$9:$D$13,2,FALSE),\"\")","v":""},5.83000000000008,{"$f":"IFERROR(VLOOKUP(U176,'CRUCE RIESGOS'!$C$9:$D$13,2,FALSE),\"\")","v":""},6.8300000000001004,{"$f":"IFERROR(VLOOKUP(W176,'CRUCE RIESGOS'!$C$9:$D$13,2,FALSE),\"\")","v":""},7.83000000000012,{"$f":"IFERROR(VLOOKUP(Y176,'CRUCE RIESGOS'!$C$9:$D$13,2,FALSE),\"\")","v":""},8.8300000000001404,{"$f":"IFERROR(VLOOKUP(AA176,'CRUCE RIESGOS'!$C$9:$D$13,2,FALSE),\"\")","v":""},9.8300000000001599,{"$f":"IFERROR(VLOOKUP(AC176,'CRUCE RIESGOS'!$C$9:$D$13,2,FALSE),\"\")","v":""},10.830000000000201,{"$f":"IFERROR(VLOOKUP(AE176,'CRUCE RIESGOS'!$C$9:$D$13,2,FALSE),\"\")","v":""},11.830000000000201,{"$f":"IFERROR(VLOOKUP(AG176,'CRUCE RIESGOS'!$C$9:$D$13,2,FALSE),\"\")","v":""},12.830000000000201,{"$f":"IFERROR(VLOOKUP(AI176,'CRUCE RIESGOS'!$C$9:$D$13,2,FALSE),\"\")","v":""},13.830000000000201,{"$f":"IFERROR(VLOOKUP(AK176,'CRUCE RIESGOS'!$C$9:$D$13,2,FALSE),\"\")","v":""},14.8300000000003,{"$f":"IFERROR(VLOOKUP(AM176,'CRUCE RIESGOS'!$C$9:$D$13,2,FALSE),\"\")","v":""},15.8300000000003,{"$f":"IFERROR(VLOOKUP(AO176,'CRUCE RIESGOS'!$C$9:$D$13,2,FALSE),\"\")","v":""},16.8300000000003,{"$f":"IFERROR(VLOOKUP(AQ176,'CRUCE RIESGOS'!$C$9:$D$13,2,FALSE),\"\")","v":""},17.8300000000003,{"$f":"IFERROR(VLOOKUP(AS176,'CRUCE RIESGOS'!$C$9:$D$13,2,FALSE),\"\")","v":""},18.8300000000003,{"$f":"IFERROR(VLOOKUP(AU176,'CRUCE RIESGOS'!$C$9:$D$13,2,FALSE),\"\")","v":""},19.8300000000004,{"$f":"IFERROR(VLOOKUP(AW176,'CRUCE RIESGOS'!$C$9:$D$13,2,FALSE),\"\")","v":""},20.8300000000004,{"$f":"IFERROR(VLOOKUP(AY176,'CRUCE RIESGOS'!$C$9:$D$13,2,FALSE),\"\")","v":""},21.8300000000004,{"$f":"IFERROR(VLOOKUP(BA176,'CRUCE RIESGOS'!$C$9:$D$13,2,FALSE),\"\")","v":""},22.8300000000004,{"$f":"IFERROR(VLOOKUP(BC176,'CRUCE RIESGOS'!$C$9:$D$13,2,FALSE),\"\")","v":""},23.8300000000004,{"$f":"IFERROR(VLOOKUP(BE176,'CRUCE RIESGOS'!$C$9:$D$13,2,FALSE),\"\")","v":""},24.830000000000499,{"$f":"IFERROR(VLOOKUP(BG176,'CRUCE RIESGOS'!$C$9:$D$13,2,FALSE),\"\")","v":""},25.830000000000499,{"$f":"IFERROR(VLOOKUP(BI176,'CRUCE RIESGOS'!$C$9:$D$13,2,FALSE),\"\")","v":""}]
[null,null,null,null,null,null,null,null,null,null,null,null,null,"",null,{"$f":"IF(P178<>\"\",\" -R\",\"\")","v":""},null,{"$f":"IF(R178<>\"\",\" -R\",\"\")","v":""},null,{"$f":"IF(T178<>\"\",\" -R\",\"\")","v":""},null,{"$f":"IF(V178<>\"\",\" -R\",\"\")","v":""},null,{"$f":"IF(X178<>\"\",\" -R\",\"\")","v":""},null,{"$f":"IF(Z178<>\"\",\" -R\",\"\")","v":""},null,{"$f":"IF(AB178<>\"\",\" -R\",\"\")","v":""},null,{"$f":"IF(AD178<>\"\",\" -R\",\"\")","v":""},null,"",null,"",null,"",null,"",null,"",null,"",null,"",null,"",null,"",null,"",null,"",null,"",null,"",null,"",null,"",null,""]
[null,null,null,null,null,null,null,null,null,null,null,null,1.84,{"$f":"IFERROR(VLOOKUP(M178,'CRUCE RIESGOS'!$C$9:$D$13,2,FALSE),\"\")","v":""},2.8400000000000198,{"$f":"IFERROR(VLOOKUP(O178,'CRUCE RIESGOS'!$C$9:$D$13,2,FALSE),\"\")","v":""},3.8400000000000398,{"$f":"IFERROR(VLOOKUP(Q178,'CRUCE RIESGOS'!$C$9:$D$13,2,FALSE),\"\")","v":""},4.8400000000000603,{"$f":"IFERROR(VLOOKUP(S178,'CRUCE RIESGOS'!$C$9:$D$13,2,FALSE),\"\")","v":""},5.8400000000000798,{"$f":"IFERROR(VLOOKUP(U178,'CRUCE RIESGOS'!$C$9:$D$13,2,FALSE),\"\")","v":""},6.8400000000001002,{"$f":"IFERROR(VLOOKUP(W178,'CRUCE RIESGOS'!$C$9:$D$13,2,FALSE),\"\")","v":""},7.8400000000001198,{"$f":"IFERROR(VLOOKUP(Y178,'CRUCE RIESGOS'!$C$9:$D$13,2,FALSE),\"\")","v":""},8.8400000000001402,{"$f":"IFERROR(VLOOKUP(AA178,'CRUCE RIESGOS'!$C$9:$D$13,2,FALSE),\"\")","v":""},9.8400000000001597,{"$f":"IFERROR(VLOOKUP(AC178,'CRUCE RIESGOS'!$C$9:$D$13,2,FALSE),\"\")","v":""},10.840000000000201,{"$f":"IFERROR(VLOOKUP(AE178,'CRUCE RIESGOS'!$C$9:$D$13,2,FALSE),\"\")","v":""},11.840000000000201,{"$f":"IFERROR(VLOOKUP(AG178,'CRUCE RIESGOS'!$C$9:$D$13,2,FALSE),\"\")","v":""},12.840000000000201,{"$f":"IFERROR(VLOOKUP(AI178,'CRUCE RIESGOS'!$C$9:$D$13,2,FALSE),\"\")","v":""},13.840000000000201,{"$f":"IFERROR(VLOOKUP(AK178,'CRUCE RIESGOS'!$C$9:$D$13,2,FALSE),\"\")","v":""},14.8400000000003,{"$f":"IFERROR(VLOOKUP(AM178,'CRUCE RIESGOS'!$C$9:$D$13,2,FALSE),\"\")","v":""},15.8400000000003,{"$f":"IFERROR(VLOOKUP(AO178,'CRUCE RIESGOS'!$C$9:$D$13,2,FALSE),\"\")","v":""},16.840000000000298,{"$f":"IFERROR(VLOOKUP(AQ178,'CRUCE RIESGOS'!$C$9:$D$13,2,FALSE),\"\")","v":""},17.840000000000298,{"$f":"IFERROR(VLOOKUP(AS178,'CRUCE RIESGOS'!$C$9:$D$13,2,FALSE),\"\")","v":""},18.840000000000298,{"$f":"IFERROR(VLOOKUP(AU178,'CRUCE RIESGOS'!$C$9:$D$13,2,FALSE),\"\")","v":""},19.840000000000401,{"$f":"IFERROR(VLOOKUP(AW178,'CRUCE RIESGOS'!$C$9:$D$13,2,FALSE),\"\")","v":""},20.840000000000401,{"$f":"IFERROR(VLOOKUP(AY178,'CRUCE RIESGOS'!$C$9:$D$13,2,FALSE),\"\")","v":""},21.840000000000401,{"$f":"IFERROR(VLOOKUP(BA178,'CRUCE RIESGOS'!$C$9:$D$13,2,FALSE),\"\")","v":""},22.840000000000401,{"$f":"IFERROR(VLOOKUP(BC178,'CRUCE RIESGOS'!$C$9:$D$13,2,FALSE),\"\")","v":""},23.840000000000401,{"$f":"IFERROR(VLOOKUP(BE178,'CRUCE RIESGOS'!$C$9:$D$13,2,FALSE),\"\")","v":""},24.840000000000501,{"$f":"IFERROR(VLOOKUP(BG178,'CRUCE RIESGOS'!$C$9:$D$13,2,FALSE),\"\")","v":""},25.840000000000501,{"$f":"IFERROR(VLOOKUP(BI178,'CRUCE RIESGOS'!$C$9:$D$13,2,FALSE),\"\")","v":""}]
[null,null,null,null,null,null,null,null,null,null,null,null,null,"",null,{"$f":"IF(P180<>\"\",\" -R\",\"\")","v":""},null,{"$f":"IF(R180<>\"\",\" -R\",\"\")","v":""},null,{"$f":"IF(T180<>\"\",\" -R\",\"\")","v":""},null,{"$f":"IF(V180<>\"\",\" -R\",\"\")","v":""},null,{"$f":"IF(X180<>\"\",\" -R\",\"\")","v":""},null,{"$f":"IF(Z180<>\"\",\" -R\",\"\")","v":""},null,{"$f":"IF(AB180<>\"\",\" -R\",\"\")","v":""},null,{"$f":"IF(AD180<>\"\",\" -R\",\"\")","v":""},null,"",null,"",null,"",null,"",null,"",null,"",null,"",null,"",null,"",null,"",null,"",null,"",null,"",null,"",null,"",null,""]
[null,null,null,null,null,null,null,null,null,null,null,null,1.85,{"$f":"IFERROR(VLOOKUP(M180,'CRUCE RIESGOS'!$C$9:$D$13,2,FALSE),\"\")","v":""},2.8500000000000201,{"$f":"IFERROR(VLOOKUP(O180,'CRUCE RIESGOS'!$C$9:$D$13,2,FALSE),\"\")","v":""},3.8500000000000401,{"$f":"IFERROR(VLOOKUP(Q180,'CRUCE RIESGOS'!$C$9:$D$13,2,FALSE),\"\")","v":""},4.85000000000006,{"$f":"IFERROR(VLOOKUP(S180,'CRUCE RIESGOS'!$C$9:$D$13,2,FALSE),\"\")","v":""},5.8500000000000796,{"$f":"IFERROR(VLOOKUP(U180,'CRUCE RIESGOS'!$C$9:$D$13,2,FALSE),\"\")","v":""},6.8500000000001,{"$f":"IFERROR(VLOOKUP(W180,'CRUCE RIESGOS'!$C$9:$D$13,2,FALSE),\"\")","v":""},7.8500000000001204,{"$f":"IFERROR(VLOOKUP(Y180,'CRUCE RIESGOS'!$C$9:$D$13,2,FALSE),\"\")","v":""},8.85000000000014,{"$f":"IFERROR(VLOOKUP(AA180,'CRUCE RIESGOS'!$C$9:$D$13,2,FALSE),\"\")","v":""},9.8500000000001595,{"$f":"IFERROR(VLOOKUP(AC180,'CRUCE RIESGOS'!$C$9:$D$13,2,FALSE),\"\")","v":""},10.8500000000002,{"$f":"IFERROR(VLOOKUP(AE180,'CRUCE RIESGOS'!$C$9:$D$13,2,FALSE),\"\")","v":""},11.8500000000002,{"$f":"IFERROR(VLOOKUP(AG180,'CRUCE RIESGOS'!$C$9:$D$13,2,FALSE),\"\")","v":""},12.8500000000002,{"$f":"IFERROR(VLOOKUP(AI180,'CRUCE RIESGOS'!$C$9:$D$13,2,FALSE),\"\")","v":""},13.8500000000002,{"$f":"IFERROR(VLOOKUP(AK180,'CRUCE RIESGOS'!$C$9:$D$13,2,FALSE),\"\")","v":""},14.8500000000003,{"$f":"IFERROR(VLOOKUP(AM180,'CRUCE RIESGOS'!$C$9:$D$13,2,FALSE),\"\")","v":""},15.8500000000003,{"$f":"IFERROR(VLOOKUP(AO180,'CRUCE RIESGOS'!$C$9:$D$13,2,FALSE),\"\")","v":""},16.8500000000003,{"$f":"IFERROR(VLOOKUP(AQ180,'CRUCE RIESGOS'!$C$9:$D$13,2,FALSE),\"\")","v":""},17.8500000000003,{"$f":"IFERROR(VLOOKUP(AS180,'CRUCE RIESGOS'!$C$9:$D$13,2,FALSE),\"\")","v":""},18.8500000000003,{"$f":"IFERROR(VLOOKUP(AU180,'CRUCE RIESGOS'!$C$9:$D$13,2,FALSE),\"\")","v":""},19.850000000000399,{"$f":"IFERROR(VLOOKUP(AW180,'CRUCE RIESGOS'!$C$9:$D$13,2,FALSE),\"\")","v":""},20.850000000000399,{"$f":"IFERROR(VLOOKUP(AY180,'CRUCE RIESGOS'!$C$9:$D$13,2,FALSE),\"\")","v":""},21.850000000000399,{"$f":"IFERROR(VLOOKUP(BA180,'CRUCE RIESGOS'!$C$9:$D$13,2,FALSE),\"\")","v":""},22.850000000000399,{"$f":"IFERROR(VLOOKUP(BC180,'CRUCE RIESGOS'!$C$9:$D$13,2,FALSE),\"\")","v":""},23.850000000000399,{"$f":"IFERROR(VLOOKUP(BE180,'CRUCE RIESGOS'!$C$9:$D$13,2,FALSE),\"\")","v":""},24.850000000000499,{"$f":"IFERROR(VLOOKUP(BG180,'CRUCE RIESGOS'!$C$9:$D$13,2,FALSE),\"\")","v":""},25.850000000000499,{"$f":"IFERROR(VLOOKUP(BI180,'CRUCE RIESGOS'!$C$9:$D$13,2,FALSE),\"\")","v":""}]
[null,null,null,null,null,null,null,null,null,null,null,null,null,"",null,{"$f":"IF(P182<>\"\",\" -R\",\"\")","v":""},null,{"$f":"IF(R182<>\"\",\" -R\",\"\")","v":""},null,{"$f":"IF(T182<>\"\",\" -R\",\"\")","v":""},null,{"$f":"IF(V182<>\"\",\" -R\",\"\")","v":""},null,{"$f":"IF(X182<>\"\",\" -R\",\"\")","v":""},null,{"$f":"IF(Z182<>\"\",\" -R\",\"\")","v":""},null,{"$f":"IF(AB182<>\"\",\" -R\",\"\")","v":""},null,{"$f":"IF(AD182<>\"\",\" -R\",\"\")","v":""},null,"",null,"",null,"",null,"",null,"",null,"",null,"",null,"",null,"",null,"",null,"",null,"",null,"",null,"",null,"",null,""]
[null,null,null,null,null,null,null,null,null,null,null,null,1.86,{"$f":"IFERROR(VLOOKUP(M182,'CRUCE RIESGOS'!$C$9:$D$13,2,FALSE),\"\")","v":""},2.8600000000000199,{"$f":"IFERROR(VLOOKUP(O182,'CRUCE RIESGOS'!$C$9:$D$13,2,FALSE),\"\")","v":""},3.8600000000000398,{"$f":"IFERROR(VLOOKUP(Q182,'CRUCE RIESGOS'!$C$9:$D$13,2,FALSE),\"\")","v":""},4.8600000000000598,{"$f":"IFERROR(VLOOKUP(S182,'CRUCE RIESGOS'!$C$9:$D$13,2,FALSE),\"\")","v":""},5.8600000000000803,{"$f":"IFERROR(VLOOKUP(U182,'CRUCE RIESGOS'!$C$9:$D$13,2,FALSE),\"\")","v":""},6.8600000000000998,{"$f":"IFERROR(VLOOKUP(W182,'CRUCE RIESGOS'!$C$9:$D$13,2,FALSE),\"\")","v":""},7.8600000000001202,{"$f":"IFERROR(VLOOKUP(Y182,'CRUCE RIESGOS'!$C$9:$D$13,2,FALSE),\"\")","v":""},8.8600000000001398,{"$f":"IFERROR(VLOOKUP(AA182,'CRUCE RIESGOS'!$C$9:$D$13,2,FALSE),\"\")","v":""},9.8600000000001593,{"$f":"IFERROR(VLOOKUP(AC182,'CRUCE RIESGOS'!$C$9:$D$13,2,FALSE),\"\")","v":""},10.8600000000002,{"$f":"IFERROR(VLOOKUP(AE182,'CRUCE RIESGOS'!$C$9:$D$13,2,FALSE),\"\")","v":""},11.8600000000002,{"$f":"IFERROR(VLOOKUP(AG182,'CRUCE RIESGOS'!$C$9:$D$13,2,FALSE),\"\")","v":""},12.8600000000002,{"$f":"IFERROR(VLOOKUP(AI182,'CRUCE RIESGOS'!$C$9:$D$13,2,FALSE),\"\")","v":""},13.8600000000002,{"$f":"IFERROR(VLOOKUP(AK182,'CRUCE RIESGOS'!$C$9:$D$13,2,FALSE),\"\")","v":""},14.8600000000003,{"$f":"IFERROR(VLOOKUP(AM182,'CRUCE RIESGOS'!$C$9:$D$13,2,FALSE),\"\")","v":""},15.8600000000003,{"$f":"IFERROR(VLOOKUP(AO182,'CRUCE RIESGOS'!$C$9:$D$13,2,FALSE),\"\")","v":""},16.860000000000301,{"$f":"IFERROR(VLOOKUP(AQ182,'CRUCE RIESGOS'!$C$9:$D$13,2,FALSE),\"\")","v":""},17.860000000000301,{"$f":"IFERROR(VLOOKUP(AS182,'CRUCE RIESGOS'!$C$9:$D$13,2,FALSE),\"\")","v":""},18.860000000000301,{"$f":"IFERROR(VLOOKUP(AU182,'CRUCE RIESGOS'!$C$9:$D$13,2,FALSE),\"\")","v":""},19.860000000000401,{"$f":"IFERROR(VLOOKUP(AW182,'CRUCE RIESGOS'!$C$9:$D$13,2,FALSE),\"\")","v":""},20.860000000000401,{"$f":"IFERROR(VLOOKUP(AY182,'CRUCE RIESGOS'!$C$9:$D$13,2,FALSE),\"\")","v":""},21.860000000000401,{"$f":"IFERROR(VLOOKUP(BA182,'CRUCE RIESGOS'!$C$9:$D$13,2,FALSE),\"\")","v":""},22.860000000000401,{"$f":"IFERROR(VLOOKUP(BC182,'CRUCE RIESGOS'!$C$9:$D$13,2,FALSE),\"\")","v":""},23.860000000000401,{"$f":"IFERROR(VLOOKUP(BE182,'CRUCE RIESGOS'!$C$9:$D$13,2,FALSE),\"\")","v":""},24.8600000000005,{"$f":"IFERROR(VLOOKUP(BG182,'CRUCE RIESGOS'!$C$9:$D$13,2,FALSE),\"\")","v":""},25.8600000000005,{"$f":"IFERROR(VLOOKUP(BI182,'CRUCE RIESGOS'!$C$9:$D$13,2,FALSE),\"\")","v":""}]
[null,null,null,null,null,null,null,null,null,null,null,null,null,"",null,{"$f":"IF(P184<>\"\",\" -R\",\"\")","v":""},null,{"$f":"IF(R184<>\"\",\" -R\",\"\")","v":""},null,{"$f":"IF(T184<>\"\",\" -R\",\"\")","v":""},null,{"$f":"IF(V184<>\"\",\" -R\",\"\")","v":""},null,{"$f":"IF(X184<>\"\",\" -R\",\"\")","v":""},null,{"$f":"IF(Z184<>\"\",\" -R\",\"\")","v":""},null,{"$f":"IF(AB184<>\"\",\" -R\",\"\")","v":""},null,{"$f":"IF(AD184<>\"\",\" -R\",\"\")","v":""},null,"",null,"",null,"",null,"",null,"",null,"",null,"",null,"",null,"",null,"",null,"",null,"",null,"",null,"",null,"",null,""]
[null,null,null,null,null,null,null,null,null,null,null,null,1.87,{"$f":"IFERROR(VLOOKUP(M184,'CRUCE RIESGOS'!$C$9:$D$13,2,FALSE),\"\")","v":""},2.8700000000000201,{"$f":"IFERROR(VLOOKUP(O184,'CRUCE RIESGOS'!$C$9:$D$13,2,FALSE),\"\")","v":""},3.8700000000000401,{"$f":"IFERROR(VLOOKUP(Q184,'CRUCE RIESGOS'!$C$9:$D$13,2,FALSE),\"\")","v":""},4.8700000000000596,{"$f":"IFERROR(VLOOKUP(S184,'CRUCE RIESGOS'!$C$9:$D$13,2,FALSE),\"\")","v":""},5.87000000000008,{"$f":"IFERROR(VLOOKUP(U184,'CRUCE RIESGOS'!$C$9:$D$13,2,FALSE),\"\")","v":""},6.8700000000000996,{"$f":"IFERROR(VLOOKUP(W184,'CRUCE RIESGOS'!$C$9:$D$13,2,FALSE),\"\")","v":""},7.87000000000012,{"$f":"IFERROR(VLOOKUP(Y184,'CRUCE RIESGOS'!$C$9:$D$13,2,FALSE),\"\")","v":""},8.8700000000001396,{"$f":"IFERROR(VLOOKUP(AA184,'CRUCE RIESGOS'!$C$9:$D$13,2,FALSE),\"\")","v":""},9.8700000000001609,{"$f":"IFERROR(VLOOKUP(AC184,'CRUCE RIESGOS'!$C$9:$D$13,2,FALSE),\"\")","v":""},10.8700000000002,{"$f":"IFERROR(VLOOKUP(AE184,'CRUCE RIESGOS'!$C$9:$D$13,2,FALSE),\"\")","v":""},11.8700000000002,{"$f":"IFERROR(VLOOKUP(AG184,'CRUCE RIESGOS'!$C$9:$D$13,2,FALSE),\"\")","v":""},12.8700000000002,{"$f":"IFERROR(VLOOKUP(AI184,'CRUCE RIESGOS'!$C$9:$D$13,2,FALSE),\"\")","v":""},13.8700000000002,{"$f":"IFERROR(VLOOKUP(AK184,'CRUCE RIESGOS'!$C$9:$D$13,2,FALSE),\"\")","v":""},14.870000000000299,{"$f":"IFERROR(VLOOKUP(AM184,'CRUCE RIESGOS'!$C$9:$D$13,2,FALSE),\"\")","v":""},15.870000000000299,{"$f":"IFERROR(VLOOKUP(AO184,'CRUCE RIESGOS'!$C$9:$D$13,2,FALSE),\"\")","v":""},16.870000000000299,{"$f":"IFERROR(VLOOKUP(AQ184,'CRUCE RIESGOS'!$C$9:$D$13,2,FALSE),\"\")","v":""},17.870000000000299,{"$f":"IFERROR(VLOOKUP(AS184,'CRUCE RIESGOS'!$C$9:$D$13,2,FALSE),\"\")","v":""},18.870000000000299,{"$f":"IFERROR(VLOOKUP(AU184,'CRUCE RIESGOS'!$C$9:$D$13,2,FALSE),\"\")","v":""},19.870000000000399,{"$f":"IFERROR(VLOOKUP(AW184,'CRUCE RIESGOS'!$C$9:$D$13,2,FALSE),\"\")","v":""},20.870000000000399,{"$f":"IFERROR(VLOOKUP(AY184,'CRUCE RIESGOS'!$C$9:$D$13,2,FALSE),\"\")","v":""},21.870000000000399,{"$f":"IFERROR(VLOOKUP(BA184,'CRUCE RIESGOS'!$C$9:$D$13,2,FALSE),\"\")","v":""},22.870000000000399,{"$f":"IFERROR(VLOOKUP(BC184,'CRUCE RIESGOS'!$C$9:$D$13,2,FALSE),\"\")","v":""},23.870000000000399,{"$f":"IFERROR(VLOOKUP(BE184,'CRUCE RIESGOS'!$C$9:$D$13,2,FALSE),\"\")","v":""},24.870000000000498,{"$f":"IFERROR(VLOOKUP(BG184,'CRUCE RIESGOS'!$C$9:$D$13,2,FALSE),\"\")","v":""},25.870000000000498,{"$f":"IFERROR(VLOOKUP(BI184,'CRUCE RIESGOS'!$C$9:$D$13,2,FALSE),\"\")","v":""}]
[null,null,null,null,null,null,null,null,null,null,null,null,null,"",null,{"$f":"IF(P186<>\"\",\" -R\",\"\")","v":""},null,{"$f":"IF(R186<>\"\",\" -R\",\"\")","v":""},null,{"$f":"IF(T186<>\"\",\" -R\",\"\")","v":""},null,{"$f":"IF(V186<>\"\",\" -R\",\"\")","v":""},null,{"$f":"IF(X186<>\"\",\" -R\",\"\")","v":""},null,{"$f":"IF(Z186<>\"\",\" -R\",\"\")","v":""},null,{"$f":"IF(AB186<>\"\",\" -R\",\"\")","v":""},null,{"$f":"IF(AD186<>\"\",\" -R\",\"\")","v":""},null,"",null,"",null,"",null,"",null,"",null,"",null,"",null,"",null,"",null,"",null,"",null,"",null,"",null,"",null,"",null,""]
[null,null,null,null,null,null,null,null,null,null,null,null,1.88,{"$f":"IFERROR(VLOOKUP(M186,'CRUCE RIESGOS'!$C$9:$D$13,2,FALSE),\"\")","v":""},2.8800000000000199,{"$f":"IFERROR(VLOOKUP(O186,'CRUCE RIESGOS'!$C$9:$D$13,2,FALSE),\"\")","v":""},3.8800000000000399,{"$f":"IFERROR(VLOOKUP(Q186,'CRUCE RIESGOS'!$C$9:$D$13,2,FALSE),\"\")","v":""},4.8800000000000603,{"$f":"IFERROR(VLOOKUP(S186,'CRUCE RIESGOS'!$C$9:$D$13,2,FALSE),\"\")","v":""},5.8800000000000798,{"$f":"IFERROR(VLOOKUP(U186,'CRUCE RIESGOS'!$C$9:$D$13,2,FALSE),\"\")","v":""},6.8800000000001003,{"$f":"IFERROR(VLOOKUP(W186,'CRUCE RIESGOS'!$C$9:$D$13,2,FALSE),\"\")","v":""},7.8800000000001198,{"$f":"IFERROR(VLOOKUP(Y186,'CRUCE RIESGOS'!$C$9:$D$13,2,FALSE),\"\")","v":""},8.8800000000001393,{"$f":"IFERROR(VLOOKUP(AA186,'CRUCE RIESGOS'!$C$9:$D$13,2,FALSE),\"\")","v":""},9.8800000000001607,{"$f":"IFERROR(VLOOKUP(AC186,'CRUCE RIESGOS'!$C$9:$D$13,2,FALSE),\"\")","v":""},10.8800000000002,{"$f":"IFERROR(VLOOKUP(AE186,'CRUCE RIESGOS'!$C$9:$D$13,2,FALSE),\"\")","v":""},11.8800000000002,{"$f":"IFERROR(VLOOKUP(AG186,'CRUCE RIESGOS'!$C$9:$D$13,2,FALSE),\"\")","v":""},12.8800000000002,{"$f":"IFERROR(VLOOKUP(AI186,'CRUCE RIESGOS'!$C$9:$D$13,2,FALSE),\"\")","v":""},13.8800000000002,{"$f":"IFERROR(VLOOKUP(AK186,'CRUCE RIESGOS'!$C$9:$D$13,2,FALSE),\"\")","v":""},14.880000000000299,{"$f":"IFERROR(VLOOKUP(AM186,'CRUCE RIESGOS'!$C$9:$D$13,2,FALSE),\"\")","v":""},15.880000000000299,{"$f":"IFERROR(VLOOKUP(AO186,'CRUCE RIESGOS'!$C$9:$D$13,2,FALSE),\"\")","v":""},16.880000000000301,{"$f":"IFERROR(VLOOKUP(AQ186,'CRUCE RIESGOS'!$C$9:$D$13,2,FALSE),\"\")","v":""},17.880000000000301,{"$f":"IFERROR(VLOOKUP(AS186,'CRUCE RIESGOS'!$C$9:$D$13,2,FALSE),\"\")","v":""},18.880000000000301,{"$f":"IFERROR(VLOOKUP(AU186,'CRUCE RIESGOS'!$C$9:$D$13,2,FALSE),\"\")","v":""},19.8800000000004,{"$f":"IFERROR(VLOOKUP(AW186,'CRUCE RIESGOS'!$C$9:$D$13,2,FALSE),\"\")","v":""},20.8800000000004,{"$f":"IFERROR(VLOOKUP(AY186,'CRUCE RIESGOS'!$C$9:$D$13,2,FALSE),\"\")","v":""},21.8800000000004,{"$f":"IFERROR(VLOOKUP(BA186,'CRUCE RIESGOS'!$C$9:$D$13,2,FALSE),\"\")","v":""},22.8800000000004,{"$f":"IFERROR(VLOOKUP(BC186,'CRUCE RIESGOS'!$C$9:$D$13,2,FALSE),\"\")","v":""},23.8800000000004,{"$f":"IFERROR(VLOOKUP(BE186,'CRUCE RIESGOS'!$C$9:$D$13,2,FALSE),\"\")","v":""},24.8800000000005,{"$f":"IFERROR(VLOOKUP(BG186,'CRUCE RIESGOS'!$C$9:$D$13,2,FALSE),\"\")","v":""},25.8800000000005,{"$f":"IFERROR(VLOOKUP(BI186,'CRUCE RIESGOS'!$C$9:$D$13,2,FALSE),\"\")","v":""}]
[null,null,null,null,null,null,null,null,null,null,null,null,null,"",null,{"$f":"IF(P188<>\"\",\" -R\",\"\")","v":""},null,{"$f":"IF(R188<>\"\",\" -R\",\"\")","v":""},null,{"$f":"IF(T188<>\"\",\" -R\",\"\")","v":""},null,{"$f":"IF(V188<>\"\",\" -R\",\"\")","v":""},null,{"$f":"IF(X188<>\"\",\" -R\",\"\")","v":""},null,{"$f":"IF(Z188<>\"\",\" -R\",\"\")","v":""},null,{"$f":"IF(AB188<>\"\",\" -R\",\"\")","v":""},null,{"$f":"IF(AD188<>\"\",\" -R\",\"\")","v":""},null,"",null,"",null,"",null,"",null,"",null,"",null,"",null,"",null,"",null,"",null,"",null,"",null,"",null,"",null,"",null,""]
[null,null,null,null,null,null,null,null,null,null,null,null,1.89,{"$f":"IFERROR(VLOOKUP(M188,'CRUCE RIESGOS'!$C$9:$D$13,2,FALSE),\"\")","v":""},2.8900000000000201,{"$f":"IFERROR(VLOOKUP(O188,'CRUCE RIESGOS'!$C$9:$D$13,2,FALSE),\"\")","v":""},3.8900000000000401,{"$f":"IFERROR(VLOOKUP(Q188,'CRUCE RIESGOS'!$C$9:$D$13,2,FALSE),\"\")","v":""},4.8900000000000601,{"$f":"IFERROR(VLOOKUP(S188,'CRUCE RIESGOS'!$C$9:$D$13,2,FALSE),\"\")","v":""},5.8900000000000796,{"$f":"IFERROR(VLOOKUP(U188,'CRUCE RIESGOS'!$C$9:$D$13,2,FALSE),\"\")","v":""},6.8900000000001,{"$f":"IFERROR(VLOOKUP(W188,'CRUCE RIESGOS'!$C$9:$D$13,2,FALSE),\"\")","v":""},7.8900000000001196,{"$f":"IFERROR(VLOOKUP(Y188,'CRUCE RIESGOS'!$C$9:$D$13,2,FALSE),\"\")","v":""},8.8900000000001391,{"$f":"IFERROR(VLOOKUP(AA188,'CRUCE RIESGOS'!$C$9:$D$13,2,FALSE),\"\")","v":""},9.8900000000001604,{"$f":"IFERROR(VLOOKUP(AC188,'CRUCE RIESGOS'!$C$9:$D$13,2,FALSE),\"\")","v":""},10.8900000000002,{"$f":"IFERROR(VLOOKUP(AE188,'CRUCE RIESGOS'!$C$9:$D$13,2,FALSE),\"\")","v":""},11.8900000000002,{"$f":"IFERROR(VLOOKUP(AG188,'CRUCE RIESGOS'!$C$9:$D$13,2,FALSE),\"\")","v":""},12.8900000000002,{"$f":"IFERROR(VLOOKUP(AI188,'CRUCE RIESGOS'!$C$9:$D$13,2,FALSE),\"\")","v":""},13.8900000000002,{"$f":"IFERROR(VLOOKUP(AK188,'CRUCE RIESGOS'!$C$9:$D$13,2,FALSE),\"\")","v":""},14.890000000000301,{"$f":"IFERROR(VLOOKUP(AM188,'CRUCE RIESGOS'!$C$9:$D$13,2,FALSE),\"\")","v":""},15.890000000000301,{"$f":"IFERROR(VLOOKUP(AO188,'CRUCE RIESGOS'!$C$9:$D$13,2,FALSE),\"\")","v":""},16.890000000000299,{"$f":"IFERROR(VLOOKUP(AQ188,'CRUCE RIESGOS'!$C$9:$D$13,2,FALSE),\"\")","v":""},17.890000000000299,{"$f":"IFERROR(VLOOKUP(AS188,'CRUCE RIESGOS'!$C$9:$D$13,2,FALSE),\"\")","v":""},18.890000000000299,{"$f":"IFERROR(VLOOKUP(AU188,'CRUCE RIESGOS'!$C$9:$D$13,2,FALSE),\"\")","v":""},19.890000000000398,{"$f":"IFERROR(VLOOKUP(AW188,'CRUCE RIESGOS'!$C$9:$D$13,2,FALSE),\"\")","v":""},20.890000000000398,{"$f":"IFERROR(VLOOKUP(AY188,'CRUCE RIESGOS'!$C$9:$D$13,2,FALSE),\"\")","v":""},21.890000000000398,{"$f":"IFERROR(VLOOKUP(BA188,'CRUCE RIESGOS'!$C$9:$D$13,2,FALSE),\"\")","v":""},22.890000000000398,{"$f":"IFERROR(VLOOKUP(BC188,'CRUCE RIESGOS'!$C$9:$D$13,2,FALSE),\"\")","v":""},23.890000000000398,{"$f":"IFERROR(VLOOKUP(BE188,'CRUCE RIESGOS'!$C$9:$D$13,2,FALSE),\"\")","v":""},24.890000000000502,{"$f":"IFERROR(VLOOKUP(BG188,'CRUCE RIESGOS'!$C$9:$D$13,2,FALSE),\"\")","v":""},25.890000000000502,{"$f":"IFERROR(VLOOKUP(BI188,'CRUCE RIESGOS'!$C$9:$D$13,2,FALSE),\"\")","v":""}]
[null,null,null,null,null,null,null,null,null,null,null,null,null,"",null,{"$f":"IF(P190<>\"\",\" -R\",\"\")","v":""},null,{"$f":"IF(R190<>\"\",\" -R\",\"\")","v":""},null,{"$f":"IF(T190<>\"\",\" -R\",\"\")","v":""},null,{"$f":"IF(V190<>\"\",\" -R\",\"\")","v":""},null,{"$f":"IF(X190<>\"\",\" -R\",\"\")","v":""},null,{"$f":"IF(Z190<>\"\",\" -R\",\"\")","v":""},null,{"$f":"IF(AB190<>\"\",\" -R\",\"\")","v":""},null,{"$f":"IF(AD190<>\"\",\" -R\",\"\")","v":""},null,"",null,"",null,"",null,"",null,"",null,"",null,"",null,"",null,"",null,"",null,"",null,"",null,"",null,"",null,"",null,""]
[null,null,null,null,null,null,null,null,null,null,null,null,1.9,{"$f":"IFERROR(VLOOKUP(M190,'CRUCE RIESGOS'!$C$9:$D$13,2,FALSE),\"\")","v":""},2.9000000000000199,{"$f":"IFERROR(VLOOKUP(O190,'CRUCE RIESGOS'!$C$9:$D$13,2,FALSE),\"\")","v":""},3.9000000000000399,{"$f":"IFERROR(VLOOKUP(Q190,'CRUCE RIESGOS'!$C$9:$D$13,2,FALSE),\"\")","v":""},4.9000000000000599,{"$f":"IFERROR(VLOOKUP(S190,'CRUCE RIESGOS'!$C$9:$D$13,2,FALSE),\"\")","v":""},5.9000000000000803,{"$f":"IFERROR(VLOOKUP(U190,'CRUCE RIESGOS'!$C$9:$D$13,2,FALSE),\"\")","v":""},6.9000000000000998,{"$f":"IFERROR(VLOOKUP(W190,'CRUCE RIESGOS'!$C$9:$D$13,2,FALSE),\"\")","v":""},7.9000000000001203,{"$f":"IFERROR(VLOOKUP(Y190,'CRUCE RIESGOS'!$C$9:$D$13,2,FALSE),\"\")","v":""},8.9000000000001407,{"$f":"IFERROR(VLOOKUP(AA190,'CRUCE RIESGOS'!$C$9:$D$13,2,FALSE),\"\")","v":""},9.9000000000001602,{"$f":"IFERROR(VLOOKUP(AC190,'CRUCE RIESGOS'!$C$9:$D$13,2,FALSE),\"\")","v":""},10.900000000000199,{"$f":"IFERROR(VLOOKUP(AE190,'CRUCE RIESGOS'!$C$9:$D$13,2,FALSE),\"\")","v":""},11.900000000000199,{"$f":"IFERROR(VLOOKUP(AG190,'CRUCE RIESGOS'!$C$9:$D$13,2,FALSE),\"\")","v":""},12.900000000000199,{"$f":"IFERROR(VLOOKUP(AI190,'CRUCE RIESGOS'!$C$9:$D$13,2,FALSE),\"\")","v":""},13.900000000000199,{"$f":"IFERROR(VLOOKUP(AK190,'CRUCE RIESGOS'!$C$9:$D$13,2,FALSE),\"\")","v":""},14.900000000000301,{"$f":"IFERROR(VLOOKUP(AM190,'CRUCE RIESGOS'!$C$9:$D$13,2,FALSE),\"\")","v":""},15.900000000000301,{"$f":"IFERROR(VLOOKUP(AO190,'CRUCE RIESGOS'!$C$9:$D$13,2,FALSE),\"\")","v":""},16.900000000000301,{"$f":"IFERROR(VLOOKUP(AQ190,'CRUCE RIESGOS'!$C$9:$D$13,2,FALSE),\"\")","v":""},17.900000000000301,{"$f":"IFERROR(VLOOKUP(AS190,'CRUCE RIESGOS'!$C$9:$D$13,2,FALSE),\"\")","v":""},18.900000000000301,{"$f":"IFERROR(VLOOKUP(AU190,'CRUCE RIESGOS'!$C$9:$D$13,2,FALSE),\"\")","v":""},19.9000000000004,{"$f":"IFERROR(VLOOKUP(AW190,'CRUCE RIESGOS'!$C$9:$D$13,2,FALSE),\"\")","v":""},20.9000000000004,{"$f":"IFERROR(VLOOKUP(AY190,'CRUCE RIESGOS'!$C$9:$D$13,2,FALSE),\"\")","v":""},21.9000000000004,{"$f":"IFERROR(VLOOKUP(BA190,'CRUCE RIESGOS'!$C$9:$D$13,2,FALSE),\"\")","v":""},22.9000000000004,{"$f":"IFERROR(VLOOKUP(BC190,'CRUCE RIESGOS'!$C$9:$D$13,2,FALSE),\"\")","v":""},23.9000000000004,{"$f":"IFERROR(VLOOKUP(BE190,'CRUCE RIESGOS'!$C$9:$D$13,2,FALSE),\"\")","v":""},24.9000000000005,{"$f":"IFERROR(VLOOKUP(BG190,'CRUCE RIESGOS'!$C$9:$D$13,2,FALSE),\"\")","v":""},25.9000000000005,{"$f":"IFERROR(VLOOKUP(BI190,'CRUCE RIESGOS'!$C$9:$D$13,2,FALSE),\"\")","v":""}]
[null,null,null,null,null,null,null,null,null,null,null,null,null,"",null,{"$f":"IF(P192<>\"\",\" -R\",\"\")","v":""},null,{"$f":"IF(R192<>\"\",\" -R\",\"\")","v":""},null,{"$f":"IF(T192<>\"\",\" -R\",\"\")","v":""},null,{"$f":"IF(V192<>\"\",\" -R\",\"\")","v":""},null,{"$f":"IF(X192<>\"\",\" -R\",\"\")","v":""},null,{"$f":"IF(Z192<>\"\",\" -R\",\"\")","v":""},null,{"$f":"IF(AB192<>\"\",\" -R\",\"\")","v":""},null,{"$f":"IF(AD192<>\"\",\" -R\",\"\")","v":""},null,"",null,"",null,"",null,"",null,"",null,"",null,"",null,"",null,"",null,"",null,"",null,"",null,"",null,"",null,"",null,""]
[null,null,null,null,null,null,null,null,null,null,null,null,1.91,{"$f":"IFERROR(VLOOKUP(M192,'CRUCE RIESGOS'!$C$9:$D$13,2,FALSE),\"\")","v":""},2.9100000000000201,{"$f":"IFERROR(VLOOKUP(O192,'CRUCE RIESGOS'!$C$9:$D$13,2,FALSE),\"\")","v":""},3.9100000000000401,{"$f":"IFERROR(VLOOKUP(Q192,'CRUCE RIESGOS'!$C$9:$D$13,2,FALSE),\"\")","v":""},4.9100000000000597,{"$f":"IFERROR(VLOOKUP(S192,'CRUCE RIESGOS'!$C$9:$D$13,2,FALSE),\"\")","v":""},5.9100000000000801,{"$f":"IFERROR(VLOOKUP(U192,'CRUCE RIESGOS'!$C$9:$D$13,2,FALSE),\"\")","v":""},6.9100000000000996,{"$f":"IFERROR(VLOOKUP(W192,'CRUCE RIESGOS'!$C$9:$D$13,2,FALSE),\"\")","v":""},7.91000000000012,{"$f":"IFERROR(VLOOKUP(Y192,'CRUCE RIESGOS'!$C$9:$D$13,2,FALSE),\"\")","v":""},8.9100000000001405,{"$f":"IFERROR(VLOOKUP(AA192,'CRUCE RIESGOS'!$C$9:$D$13,2,FALSE),\"\")","v":""},9.91000000000016,{"$f":"IFERROR(VLOOKUP(AC192,'CRUCE RIESGOS'!$C$9:$D$13,2,FALSE),\"\")","v":""},10.910000000000201,{"$f":"IFERROR(VLOOKUP(AE192,'CRUCE RIESGOS'!$C$9:$D$13,2,FALSE),\"\")","v":""},11.910000000000201,{"$f":"IFERROR(VLOOKUP(AG192,'CRUCE RIESGOS'!$C$9:$D$13,2,FALSE),\"\")","v":""},12.910000000000201,{"$f":"IFERROR(VLOOKUP(AI192,'CRUCE RIESGOS'!$C$9:$D$13,2,FALSE),\"\")","v":""},13.910000000000201,{"$f":"IFERROR(VLOOKUP(AK192,'CRUCE RIESGOS'!$C$9:$D$13,2,FALSE),\"\")","v":""},14.9100000000003,{"$f":"IFERROR(VLOOKUP(AM192,'CRUCE RIESGOS'!$C$9:$D$13,2,FALSE),\"\")","v":""},15.9100000000003,{"$f":"IFERROR(VLOOKUP(AO192,'CRUCE RIESGOS'!$C$9:$D$13,2,FALSE),\"\")","v":""},16.910000000000299,{"$f":"IFERROR(VLOOKUP(AQ192,'CRUCE RIESGOS'!$C$9:$D$13,2,FALSE),\"\")","v":""},17.910000000000299,{"$f":"IFERROR(VLOOKUP(AS192,'CRUCE RIESGOS'!$C$9:$D$13,2,FALSE),\"\")","v":""},18.910000000000299,{"$f":"IFERROR(VLOOKUP(AU192,'CRUCE RIESGOS'!$C$9:$D$13,2,FALSE),\"\")","v":""},19.910000000000402,{"$f":"IFERROR(VLOOKUP(AW192,'CRUCE RIESGOS'!$C$9:$D$13,2,FALSE),\"\")","v":""},20.910000000000402,{"$f":"IFERROR(VLOOKUP(AY192,'CRUCE RIESGOS'!$C$9:$D$13,2,FALSE),\"\")","v":""},21.910000000000402,{"$f":"IFERROR(VLOOKUP(BA192,'CRUCE RIESGOS'!$C$9:$D$13,2,FALSE),\"\")","v":""},22.910000000000402,{"$f":"IFERROR(VLOOKUP(BC192,'CRUCE RIESGOS'!$C$9:$D$13,2,FALSE),\"\")","v":""},23.910000000000402,{"$f":"IFERROR(VLOOKUP(BE192,'CRUCE RIESGOS'!$C$9:$D$13,2,FALSE),\"\")","v":""},24.910000000000501,{"$f":"IFERROR(VLOOKUP(BG192,'CRUCE RIESGOS'!$C$9:$D$13,2,FALSE),\"\")","v":""},25.910000000000501,{"$f":"IFERROR(VLOOKUP(BI192,'CRUCE RIESGOS'!$C$9:$D$13,2,FALSE),\"\")","v":""}]
[null,null,null,null,null,null,null,null,null,null,null,null,null,"",null,{"$f":"IF(P194<>\"\",\" -R\",\"\")","v":""},null,{"$f":"IF(R194<>\"\",\" -R\",\"\")","v":""},null,{"$f":"IF(T194<>\"\",\" -R\",\"\")","v":""},null,{"$f":"IF(V194<>\"\",\" -R\",\"\")","v":""},null,{"$f":"IF(X194<>\"\",\" -R\",\"\")","v":""},null,{"$f":"IF(Z194<>\"\",\" -R\",\"\")","v":""},null,{"$f":"IF(AB194<>\"\",\" -R\",\"\")","v":""},null,{"$f":"IF(AD194<>\"\",\" -R\",\"\")","v":""},null,"",null,"",null,"",null,"",null,"",null,"",null,"",null,"",null,"",null,"",null,"",null,"",null,"",null,"",null,"",null,""]
[null,null,null,null,null,null,null,null,null,null,null,null,1.92,{"$f":"IFERROR(VLOOKUP(M194,'CRUCE RIESGOS'!$C$9:$D$13,2,FALSE),\"\")","v":""},2.9200000000000199,{"$f":"IFERROR(VLOOKUP(O194,'CRUCE RIESGOS'!$C$9:$D$13,2,FALSE),\"\")","v":""},3.9200000000000399,{"$f":"IFERROR(VLOOKUP(Q194,'CRUCE RIESGOS'!$C$9:$D$13,2,FALSE),\"\")","v":""},4.9200000000000603,{"$f":"IFERROR(VLOOKUP(S194,'CRUCE RIESGOS'!$C$9:$D$13,2,FALSE),\"\")","v":""},5.9200000000000799,{"$f":"IFERROR(VLOOKUP(U194,'CRUCE RIESGOS'!$C$9:$D$13,2,FALSE),\"\")","v":""},6.9200000000001003,{"$f":"IFERROR(VLOOKUP(W194,'CRUCE RIESGOS'!$C$9:$D$13,2,FALSE),\"\")","v":""},7.9200000000001198,{"$f":"IFERROR(VLOOKUP(Y194,'CRUCE RIESGOS'!$C$9:$D$13,2,FALSE),\"\")","v":""},8.9200000000001403,{"$f":"IFERROR(VLOOKUP(AA194,'CRUCE RIESGOS'!$C$9:$D$13,2,FALSE),\"\")","v":""},9.9200000000001598,{"$f":"IFERROR(VLOOKUP(AC194,'CRUCE RIESGOS'!$C$9:$D$13,2,FALSE),\"\")","v":""},10.920000000000201,{"$f":"IFERROR(VLOOKUP(AE194,'CRUCE RIESGOS'!$C$9:$D$13,2,FALSE),\"\")","v":""},11.920000000000201,{"$f":"IFERROR(VLOOKUP(AG194,'CRUCE RIESGOS'!$C$9:$D$13,2,FALSE),\"\")","v":""},12.920000000000201,{"$f":"IFERROR(VLOOKUP(AI194,'CRUCE RIESGOS'!$C$9:$D$13,2,FALSE),\"\")","v":""},13.920000000000201,{"$f":"IFERROR(VLOOKUP(AK194,'CRUCE RIESGOS'!$C$9:$D$13,2,FALSE),\"\")","v":""},14.9200000000003,{"$f":"IFERROR(VLOOKUP(AM194,'CRUCE RIESGOS'!$C$9:$D$13,2,FALSE),\"\")","v":""},15.9200000000003,{"$f":"IFERROR(VLOOKUP(AO194,'CRUCE RIESGOS'!$C$9:$D$13,2,FALSE),\"\")","v":""},16.9200000000003,{"$f":"IFERROR(VLOOKUP(AQ194,'CRUCE RIESGOS'!$C$9:$D$13,2,FALSE),\"\")","v":""},17.9200000000003,{"$f":"IFERROR(VLOOKUP(AS194,'CRUCE RIESGOS'!$C$9:$D$13,2,FALSE),\"\")","v":""},18.9200000000003,{"$f":"IFERROR(VLOOKUP(AU194,'CRUCE RIESGOS'!$C$9:$D$13,2,FALSE),\"\")","v":""},19.9200000000004,{"$f":"IFERROR(VLOOKUP(AW194,'CRUCE RIESGOS'!$C$9:$D$13,2,FALSE),\"\")","v":""},20.9200000000004,{"$f":"IFERROR(VLOOKUP(AY194,'CRUCE RIESGOS'!$C$9:$D$13,2,FALSE),\"\")","v":""},21.9200000000004,{"$f":"IFERROR(VLOOKUP(BA194,'CRUCE RIESGOS'!$C$9:$D$13,2,FALSE),\"\")","v":""},22.9200000000004,{"$f":"IFERROR(VLOOKUP(BC194,'CRUCE RIESGOS'!$C$9:$D$13,2,FALSE),\"\")","v":""},23.9200000000004,{"$f":"IFERROR(VLOOKUP(BE194,'CRUCE RIESGOS'!$C$9:$D$13,2,FALSE),\"\")","v":""},24.920000000000499,{"$f":"IFERROR(VLOOKUP(BG194,'CRUCE RIESGOS'!$C$9:$D$13,2,FALSE),\"\")","v":""},25.920000000000499,{"$f":"IFERROR(VLOOKUP(BI194,'CRUCE RIESGOS'!$C$9:$D$13,2,FALSE),\"\")","v":""}]
[null,null,null,null,null,null,null,null,null,null,null,null,null,"",null,{"$f":"IF(P196<>\"\",\" -R\",\"\")","v":""},null,{"$f":"IF(R196<>\"\",\" -R\",\"\")","v":""},null,{"$f":"IF(T196<>\"\",\" -R\",\"\")","v":""},null,{"$f":"IF(V196<>\"\",\" -R\",\"\")","v":""},null,{"$f":"IF(X196<>\"\",\" -R\",\"\")","v":""},null,{"$f":"IF(Z196<>\"\",\" -R\",\"\")","v":""},null,{"$f":"IF(AB196<>\"\",\" -R\",\"\")","v":""},null,{"$f":"IF(AD196<>\"\",\" -R\",\"\")","v":""},null,"",null,"",null,"",null,"",null,"",null,"",null,"",null,"",null,"",null,"",null,"",null,"",null,"",null,"",null,"",null,""]
[null,null,null,null,null,null,null,null,null,null,null,null,1.93,{"$f":"IFERROR(VLOOKUP(M196,'CRUCE RIESGOS'!$C$9:$D$13,2,FALSE),\"\")","v":""},2.9300000000000201,{"$f":"IFERROR(VLOOKUP(O196,'CRUCE RIESGOS'!$C$9:$D$13,2,FALSE),\"\")","v":""},3.9300000000000401,{"$f":"IFERROR(VLOOKUP(Q196,'CRUCE RIESGOS'!$C$9:$D$13,2,FALSE),\"\")","v":""},4.9300000000000601,{"$f":"IFERROR(VLOOKUP(S196,'CRUCE RIESGOS'!$C$9:$D$13,2,FALSE),\"\")","v":""},5.9300000000000797,{"$f":"IFERROR(VLOOKUP(U196,'CRUCE RIESGOS'!$C$9:$D$13,2,FALSE),\"\")","v":""},6.9300000000001001,{"$f":"IFERROR(VLOOKUP(W196,'CRUCE RIESGOS'!$C$9:$D$13,2,FALSE),\"\")","v":""},7.9300000000001196,{"$f":"IFERROR(VLOOKUP(Y196,'CRUCE RIESGOS'!$C$9:$D$13,2,FALSE),\"\")","v":""},8.93000000000014,{"$f":"IFERROR(VLOOKUP(AA196,'CRUCE RIESGOS'!$C$9:$D$13,2,FALSE),\"\")","v":""},9.9300000000001596,{"$f":"IFERROR(VLOOKUP(AC196,'CRUCE RIESGOS'!$C$9:$D$13,2,FALSE),\"\")","v":""},10.9300000000002,{"$f":"IFERROR(VLOOKUP(AE196,'CRUCE RIESGOS'!$C$9:$D$13,2,FALSE),\"\")","v":""},11.9300000000002,{"$f":"IFERROR(VLOOKUP(AG196,'CRUCE RIESGOS'!$C$9:$D$13,2,FALSE),\"\")","v":""},12.9300000000002,{"$f":"IFERROR(VLOOKUP(AI196,'CRUCE RIESGOS'!$C$9:$D$13,2,FALSE),\"\")","v":""},13.9300000000002,{"$f":"IFERROR(VLOOKUP(AK196,'CRUCE RIESGOS'!$C$9:$D$13,2,FALSE),\"\")","v":""},14.9300000000003,{"$f":"IFERROR(VLOOKUP(AM196,'CRUCE RIESGOS'!$C$9:$D$13,2,FALSE),\"\")","v":""},15.9300000000003,{"$f":"IFERROR(VLOOKUP(AO196,'CRUCE RIESGOS'!$C$9:$D$13,2,FALSE),\"\")","v":""},16.930000000000302,{"$f":"IFERROR(VLOOKUP(AQ196,'CRUCE RIESGOS'!$C$9:$D$13,2,FALSE),\"\")","v":""},17.930000000000302,{"$f":"IFERROR(VLOOKUP(AS196,'CRUCE RIESGOS'!$C$9:$D$13,2,FALSE),\"\")","v":""},18.930000000000302,{"$f":"IFERROR(VLOOKUP(AU196,'CRUCE RIESGOS'!$C$9:$D$13,2,FALSE),\"\")","v":""},19.930000000000401,{"$f":"IFERROR(VLOOKUP(AW196,'CRUCE RIESGOS'!$C$9:$D$13,2,FALSE),\"\")","v":""},20.930000000000401,{"$f":"IFERROR(VLOOKUP(AY196,'CRUCE RIESGOS'!$C$9:$D$13,2,FALSE),\"\")","v":""},21.930000000000401,{"$f":"IFERROR(VLOOKUP(BA196,'CRUCE RIESGOS'!$C$9:$D$13,2,FALSE),\"\")","v":""},22.930000000000401,{"$f":"IFERROR(VLOOKUP(BC196,'CRUCE RIESGOS'!$C$9:$D$13,2,FALSE),\"\")","v":""},23.930000000000401,{"$f":"IFERROR(VLOOKUP(BE196,'CRUCE RIESGOS'!$C$9:$D$13,2,FALSE),\"\")","v":""},24.930000000000501,{"$f":"IFERROR(VLOOKUP(BG196,'CRUCE RIESGOS'!$C$9:$D$13,2,FALSE),\"\")","v":""},25.930000000000501,{"$f":"IFERROR(VLOOKUP(BI196,'CRUCE RIESGOS'!$C$9:$D$13,2,FALSE),\"\")","v":""}]
[null,null,null,null,null,null,null,null,null,null,null,null,null,"",null,{"$f":"IF(P198<>\"\",\" -R\",\"\")","v":""},null,{"$f":"IF(R198<>\"\",\" -R\",\"\")","v":""},null,{"$f":"IF(T198<>\"\",\" -R\",\"\")","v":""},null,{"$f":"IF(V198<>\"\",\" -R\",\"\")","v":""},null,{"$f":"IF(X198<>\"\",\" -R\",\"\")","v":""},null,{"$f":"IF(Z198<>\"\",\" -R\",\"\")","v":""},null,{"$f":"IF(AB198<>\"\",\" -R\",\"\")","v":""},null,{"$f":"IF(AD198<>\"\",\" -R\",\"\")","v":""},null,"",null,"",null,"",null,"",null,"",null,"",null,"",null,"",null,"",null,"",null,"",null,"",null,"",null,"",null,"",null,""]
[null,null,null,null,null,null,null,null,null,null,null,null,1.94,{"$f":"IFERROR(VLOOKUP(M198,'CRUCE RIESGOS'!$C$9:$D$13,2,FALSE),\"\")","v":""},2.9400000000000199,{"$f":"IFERROR(VLOOKUP(O198,'CRUCE RIESGOS'!$C$9:$D$13,2,FALSE),\"\")","v":""},3.9400000000000399,{"$f":"IFERROR(VLOOKUP(Q198,'CRUCE RIESGOS'!$C$9:$D$13,2,FALSE),\"\")","v":""},4.9400000000000599,{"$f":"IFERROR(VLOOKUP(S198,'CRUCE RIESGOS'!$C$9:$D$13,2,FALSE),\"\")","v":""},5.9400000000000803,{"$f":"IFERROR(VLOOKUP(U198,'CRUCE RIESGOS'!$C$9:$D$13,2,FALSE),\"\")","v":""},6.9400000000000999,{"$f":"IFERROR(VLOOKUP(W198,'CRUCE RIESGOS'!$C$9:$D$13,2,FALSE),\"\")","v":""},7.9400000000001203,{"$f":"IFERROR(VLOOKUP(Y198,'CRUCE RIESGOS'!$C$9:$D$13,2,FALSE),\"\")","v":""},8.9400000000001398,{"$f":"IFERROR(VLOOKUP(AA198,'CRUCE RIESGOS'!$C$9:$D$13,2,FALSE),\"\")","v":""},9.9400000000001594,{"$f":"IFERROR(VLOOKUP(AC198,'CRUCE RIESGOS'!$C$9:$D$13,2,FALSE),\"\")","v":""},10.9400000000002,{"$f":"IFERROR(VLOOKUP(AE198,'CRUCE RIESGOS'!$C$9:$D$13,2,FALSE),\"\")","v":""},11.9400000000002,{"$f":"IFERROR(VLOOKUP(AG198,'CRUCE RIESGOS'!$C$9:$D$13,2,FALSE),\"\")","v":""},12.9400000000002,{"$f":"IFERROR(VLOOKUP(AI198,'CRUCE RIESGOS'!$C$9:$D$13,2,FALSE),\"\")","v":""},13.9400000000002,{"$f":"IFERROR(VLOOKUP(AK198,'CRUCE RIESGOS'!$C$9:$D$13,2,FALSE),\"\")","v":""},14.9400000000003,{"$f":"IFERROR(VLOOKUP(AM198,'CRUCE RIESGOS'!$C$9:$D$13,2,FALSE),\"\")","v":""},15.9400000000003,{"$f":"IFERROR(VLOOKUP(AO198,'CRUCE RIESGOS'!$C$9:$D$13,2,FALSE),\"\")","v":""},16.9400000000003,{"$f":"IFERROR(VLOOKUP(AQ198,'CRUCE RIESGOS'!$C$9:$D$13,2,FALSE),\"\")","v":""},17.9400000000003,{"$f":"IFERROR(VLOOKUP(AS198,'CRUCE RIESGOS'!$C$9:$D$13,2,FALSE),\"\")","v":""},18.9400000000003,{"$f":"IFERROR(VLOOKUP(AU198,'CRUCE RIESGOS'!$C$9:$D$13,2,FALSE),\"\")","v":""},19.940000000000399,{"$f":"IFERROR(VLOOKUP(AW198,'CRUCE RIESGOS'!$C$9:$D$13,2,FALSE),\"\")","v":""},20.940000000000399,{"$f":"IFERROR(VLOOKUP(AY198,'CRUCE RIESGOS'!$C$9:$D$13,2,FALSE),\"\")","v":""},21.940000000000399,{"$f":"IFERROR(VLOOKUP(BA198,'CRUCE RIESGOS'!$C$9:$D$13,2,FALSE),\"\")","v":""},22.940000000000399,{"$f":"IFERROR(VLOOKUP(BC198,'CRUCE RIESGOS'!$C$9:$D$13,2,FALSE),\"\")","v":""},23.940000000000399,{"$f":"IFERROR(VLOOKUP(BE198,'CRUCE RIESGOS'!$C$9:$D$13,2,FALSE),\"\")","v":""},24.940000000000499,{"$f":"IFERROR(VLOOKUP(BG198,'CRUCE RIESGOS'!$C$9:$D$13,2,FALSE),\"\")","v":""},25.940000000000499,{"$f":"IFERROR(VLOOKUP(BI198,'CRUCE RIESGOS'!$C$9:$D$13,2,FALSE),\"\")","v":""}]
[null,null,null,null,null,null,null,null,null,null,null,null,null,"",null,{"$f":"IF(P200<>\"\",\" -R\",\"\")","v":""},null,{"$f":"IF(R200<>\"\",\" -R\",\"\")","v":""},null,{"$f":"IF(T200<>\"\",\" -R\",\"\")","v":""},null,{"$f":"IF(V200<>\"\",\" -R\",\"\")","v":""},null,{"$f":"IF(X200<>\"\",\" -R\",\"\")","v":""},null,{"$f":"IF(Z200<>\"\",\" -R\",\"\")","v":""},null,{"$f":"IF(AB200<>\"\",\" -R\",\"\")","v":""},null,{"$f":"IF(AD200<>\"\",\" -R\",\"\")","v":""},null,"",null,"",null,"",null,"",null,"",null,"",null,"",null,"",null,"",null,"",null,"",null,"",null,"",null,"",null,"",null,""]
[null,null,null,null,null,null,null,null,null,null,null,null,1.95,{"$f":"IFERROR(VLOOKUP(M200,'CRUCE RIESGOS'!$C$9:$D$13,2,FALSE),\"\")","v":""},2.9500000000000202,{"$f":"IFERROR(VLOOKUP(O200,'CRUCE RIESGOS'!$C$9:$D$13,2,FALSE),\"\")","v":""},3.9500000000000401,{"$f":"IFERROR(VLOOKUP(Q200,'CRUCE RIESGOS'!$C$9:$D$13,2,FALSE),\"\")","v":""},4.9500000000000597,{"$f":"IFERROR(VLOOKUP(S200,'CRUCE RIESGOS'!$C$9:$D$13,2,FALSE),\"\")","v":""},5.9500000000000801,{"$f":"IFERROR(VLOOKUP(U200,'CRUCE RIESGOS'!$C$9:$D$13,2,FALSE),\"\")","v":""},6.9500000000000997,{"$f":"IFERROR(VLOOKUP(W200,'CRUCE RIESGOS'!$C$9:$D$13,2,FALSE),\"\")","v":""},7.9500000000001201,{"$f":"IFERROR(VLOOKUP(Y200,'CRUCE RIESGOS'!$C$9:$D$13,2,FALSE),\"\")","v":""},8.9500000000001396,{"$f":"IFERROR(VLOOKUP(AA200,'CRUCE RIESGOS'!$C$9:$D$13,2,FALSE),\"\")","v":""},9.9500000000001592,{"$f":"IFERROR(VLOOKUP(AC200,'CRUCE RIESGOS'!$C$9:$D$13,2,FALSE),\"\")","v":""},10.9500000000002,{"$f":"IFERROR(VLOOKUP(AE200,'CRUCE RIESGOS'!$C$9:$D$13,2,FALSE),\"\")","v":""},11.9500000000002,{"$f":"IFERROR(VLOOKUP(AG200,'CRUCE RIESGOS'!$C$9:$D$13,2,FALSE),\"\")","v":""},12.9500000000002,{"$f":"IFERROR(VLOOKUP(AI200,'CRUCE RIESGOS'!$C$9:$D$13,2,FALSE),\"\")","v":""},13.9500000000002,{"$f":"IFERROR(VLOOKUP(AK200,'CRUCE RIESGOS'!$C$9:$D$13,2,FALSE),\"\")","v":""},14.950000000000299,{"$f":"IFERROR(VLOOKUP(AM200,'CRUCE RIESGOS'!$C$9:$D$13,2,FALSE),\"\")","v":""},15.950000000000299,{"$f":"IFERROR(VLOOKUP(AO200,'CRUCE RIESGOS'!$C$9:$D$13,2,FALSE),\"\")","v":""},16.950000000000301,{"$f":"IFERROR(VLOOKUP(AQ200,'CRUCE RIESGOS'!$C$9:$D$13,2,FALSE),\"\")","v":""},17.950000000000301,{"$f":"IFERROR(VLOOKUP(AS200,'CRUCE RIESGOS'!$C$9:$D$13,2,FALSE),\"\")","v":""},18.950000000000301,{"$f":"IFERROR(VLOOKUP(AU200,'CRUCE RIESGOS'!$C$9:$D$13,2,FALSE),\"\")","v":""},19.950000000000401,{"$f":"IFERROR(VLOOKUP(AW200,'CRUCE RIESGOS'!$C$9:$D$13,2,FALSE),\"\")","v":""},20.950000000000401,{"$f":"IFERROR(VLOOKUP(AY200,'CRUCE RIESGOS'!$C$9:$D$13,2,FALSE),\"\")","v":""},21.950000000000401,{"$f":"IFERROR(VLOOKUP(BA200,'CRUCE RIESGOS'!$C$9:$D$13,2,FALSE),\"\")","v":""},22.950000000000401,{"$f":"IFERROR(VLOOKUP(BC200,'CRUCE RIESGOS'!$C$9:$D$13,2,FALSE),\"\")","v":""},23.950000000000401,{"$f":"IFERROR(VLOOKUP(BE200,'CRUCE RIESGOS'!$C$9:$D$13,2,FALSE),\"\")","v":""},24.9500000000005,{"$f":"IFERROR(VLOOKUP(BG200,'CRUCE RIESGOS'!$C$9:$D$13,2,FALSE),\"\")","v":""},25.9500000000005,{"$f":"IFERROR(VLOOKUP(BI200,'CRUCE RIESGOS'!$C$9:$D$13,2,FALSE),\"\")","v":""}]
[null,null,null,null,null,null,null,null,null,null,null,null,null,"",null,{"$f":"IF(P202<>\"\",\" -R\",\"\")","v":""},null,{"$f":"IF(R202<>\"\",\" -R\",\"\")","v":""},null,{"$f":"IF(T202<>\"\",\" -R\",\"\")","v":""},null,{"$f":"IF(V202<>\"\",\" -R\",\"\")","v":""},null,{"$f":"IF(X202<>\"\",\" -R\",\"\")","v":""},null,{"$f":"IF(Z202<>\"\",\" -R\",\"\")","v":""},null,{"$f":"IF(AB202<>\"\",\" -R\",\"\")","v":""},null,{"$f":"IF(AD202<>\"\",\" -R\",\"\")","v":""},null,"",null,"",null,"",null,"",null,"",null,"",null,"",null,"",null,"",null,"",null,"",null,"",null,"",null,"",null,"",null,""]
[null,null,null,null,null,null,null,null,null,null,null,null,1.96,{"$f":"IFERROR(VLOOKUP(M202,'CRUCE RIESGOS'!$C$9:$D$13,2,FALSE),\"\")","v":""},2.9600000000000199,{"$f":"IFERROR(VLOOKUP(O202,'CRUCE RIESGOS'!$C$9:$D$13,2,FALSE),\"\")","v":""},3.9600000000000399,{"$f":"IFERROR(VLOOKUP(Q202,'CRUCE RIESGOS'!$C$9:$D$13,2,FALSE),\"\")","v":""},4.9600000000000604,{"$f":"IFERROR(VLOOKUP(S202,'CRUCE RIESGOS'!$C$9:$D$13,2,FALSE),\"\")","v":""},5.9600000000000799,{"$f":"IFERROR(VLOOKUP(U202,'CRUCE RIESGOS'!$C$9:$D$13,2,FALSE),\"\")","v":""},6.9600000000001003,{"$f":"IFERROR(VLOOKUP(W202,'CRUCE RIESGOS'!$C$9:$D$13,2,FALSE),\"\")","v":""},7.9600000000001199,{"$f":"IFERROR(VLOOKUP(Y202,'CRUCE RIESGOS'!$C$9:$D$13,2,FALSE),\"\")","v":""},8.9600000000001394,{"$f":"IFERROR(VLOOKUP(AA202,'CRUCE RIESGOS'!$C$9:$D$13,2,FALSE),\"\")","v":""},9.9600000000001607,{"$f":"IFERROR(VLOOKUP(AC202,'CRUCE RIESGOS'!$C$9:$D$13,2,FALSE),\"\")","v":""},10.9600000000002,{"$f":"IFERROR(VLOOKUP(AE202,'CRUCE RIESGOS'!$C$9:$D$13,2,FALSE),\"\")","v":""},11.9600000000002,{"$f":"IFERROR(VLOOKUP(AG202,'CRUCE RIESGOS'!$C$9:$D$13,2,FALSE),\"\")","v":""},12.9600000000002,{"$f":"IFERROR(VLOOKUP(AI202,'CRUCE RIESGOS'!$C$9:$D$13,2,FALSE),\"\")","v":""},13.9600000000002,{"$f":"IFERROR(VLOOKUP(AK202,'CRUCE RIESGOS'!$C$9:$D$13,2,FALSE),\"\")","v":""},14.960000000000299,{"$f":"IFERROR(VLOOKUP(AM202,'CRUCE RIESGOS'!$C$9:$D$13,2,FALSE),\"\")","v":""},15.960000000000299,{"$f":"IFERROR(VLOOKUP(AO202,'CRUCE RIESGOS'!$C$9:$D$13,2,FALSE),\"\")","v":""},16.960000000000299,{"$f":"IFERROR(VLOOKUP(AQ202,'CRUCE RIESGOS'!$C$9:$D$13,2,FALSE),\"\")","v":""},17.960000000000299,{"$f":"IFERROR(VLOOKUP(AS202,'CRUCE RIESGOS'!$C$9:$D$13,2,FALSE),\"\")","v":""},18.960000000000299,{"$f":"IFERROR(VLOOKUP(AU202,'CRUCE RIESGOS'!$C$9:$D$13,2,FALSE),\"\")","v":""},19.960000000000399,{"$f":"IFERROR(VLOOKUP(AW202,'CRUCE RIESGOS'!$C$9:$D$13,2,FALSE),\"\")","v":""},20.960000000000399,{"$f":"IFERROR(VLOOKUP(AY202,'CRUCE RIESGOS'!$C$9:$D$13,2,FALSE),\"\")","v":""},21.960000000000399,{"$f":"IFERROR(VLOOKUP(BA202,'CRUCE RIESGOS'!$C$9:$D$13,2,FALSE),\"\")","v":""},22.960000000000399,{"$f":"IFERROR(VLOOKUP(BC202,'CRUCE RIESGOS'!$C$9:$D$13,2,FALSE),\"\")","v":""},23.960000000000399,{"$f":"IFERROR(VLOOKUP(BE202,'CRUCE RIESGOS'!$C$9:$D$13,2,FALSE),\"\")","v":""},24.960000000000498,{"$f":"IFERROR(VLOOKUP(BG202,'CRUCE RIESGOS'!$C$9:$D$13,2,FALSE),\"\")","v":""},25.960000000000498,{"$f":"IFERROR(VLOOKUP(BI202,'CRUCE RIESGOS'!$C$9:$D$13,2,FALSE),\"\")","v":""}]
[null,null,null,null,null,null,null,null,null,null,null,null,null,{"$f":"IF(N204<>\"\",\" -R\",\"\")","v":""},null,{"$f":"IF(P204<>\"\",\" -R\",\"\")","v":""},null,{"$f":"IF(R204<>\"\",\" -R\",\"\")","v":""},null,{"$f":"IF(T204<>\"\",\" -R\",\"\")","v":""},null,{"$f":"IF(V204<>\"\",\" -R\",\"\")","v":""},null,{"$f":"IF(X204<>\"\",\" -R\",\"\")","v":""},null,{"$f":"IF(Z204<>\"\",\" -R\",\"\")","v":""},null,{"$f":"IF(AB204<>\"\",\" -R\",\"\")","v":""},null,{"$f":"IF(AD204<>\"\",\" -R\",\"\")","v":""},null,{"$f":"IF(AF204<>\"\",\" -R\",\"\")","v":""},null,{"$f":"IF(AH204<>\"\",\" -R\",\"\")","v":""},null,{"$f":"IF(AJ204<>\"\",\" -R\",\"\")","v":""},null,{"$f":"IF(AL204<>\"\",\" -R\",\"\")","v":""},null,{"$f":"IF(AN204<>\"\",\" -R\",\"\")","v":""},null,{"$f":"IF(AP204<>\"\",\" -R\",\"\")","v":""},null,{"$f":"IF(AR204<>\"\",\" -R\",\"\")","v":""},null,{"$f":"IF(AT204<>\"\",\" -R\",\"\")","v":""},null,{"$f":"IF(AV204<>\"\",\" -R\",\"\")","v":""},null,{"$f":"IF(AX204<>\"\",\" -R\",\"\")","v":""},null,{"$f":"IF(AZ204<>\"\",\" -R\",\"\")","v":""},null,{"$f":"IF(BB204<>\"\",\" -R\",\"\")","v":""},null,{"$f":"IF(BD204<>\"\",\" -R\",\"\")","v":""},null,{"$f":"IF(BF204<>\"\",\" -R\",\"\")","v":""},null,{"$f":"IF(BH204<>\"\",\" -R\",\"\")","v":""},null,{"$f":"IF(BJ204<>\"\",\" -R\",\"\")","v":""}]
[null,null,null,null,null,null,null,null,null,null,null,null,1.97,{"$f":"IFERROR(VLOOKUP(M204,'CRUCE RIESGOS'!$C$9:$D$13,2,FALSE),\"\")","v":""},2.9700000000000202,{"$f":"IFERROR(VLOOKUP(O204,'CRUCE RIESGOS'!$C$9:$D$13,2,FALSE),\"\")","v":""},3.9700000000000402,{"$f":"IFERROR(VLOOKUP(Q204,'CRUCE RIESGOS'!$C$9:$D$13,2,FALSE),\"\")","v":""},4.9700000000000601,{"$f":"IFERROR(VLOOKUP(S204,'CRUCE RIESGOS'!$C$9:$D$13,2,FALSE),\"\")","v":""},5.9700000000000797,{"$f":"IFERROR(VLOOKUP(U204,'CRUCE RIESGOS'!$C$9:$D$13,2,FALSE),\"\")","v":""},6.9700000000001001,{"$f":"IFERROR(VLOOKUP(W204,'CRUCE RIESGOS'!$C$9:$D$13,2,FALSE),\"\")","v":""},7.9700000000001197,{"$f":"IFERROR(VLOOKUP(Y204,'CRUCE RIESGOS'!$C$9:$D$13,2,FALSE),\"\")","v":""},8.9700000000001392,{"$f":"IFERROR(VLOOKUP(AA204,'CRUCE RIESGOS'!$C$9:$D$13,2,FALSE),\"\")","v":""},9.9700000000001605,{"$f":"IFERROR(VLOOKUP(AC204,'CRUCE RIESGOS'!$C$9:$D$13,2,FALSE),\"\")","v":""},10.9700000000002,{"$f":"IFERROR(VLOOKUP(AE204,'CRUCE RIESGOS'!$C$9:$D$13,2,FALSE),\"\")","v":""},11.9700000000002,{"$f":"IFERROR(VLOOKUP(AG204,'CRUCE RIESGOS'!$C$9:$D$13,2,FALSE),\"\")","v":""},12.9700000000002,{"$f":"IFERROR(VLOOKUP(AI204,'CRUCE RIESGOS'!$C$9:$D$13,2,FALSE),\"\")","v":""},13.9700000000002,{"$f":"IFERROR(VLOOKUP(AK204,'CRUCE RIESGOS'!$C$9:$D$13,2,FALSE),\"\")","v":""},14.970000000000301,{"$f":"IFERROR(VLOOKUP(AM204,'CRUCE RIESGOS'!$C$9:$D$13,2,FALSE),\"\")","v":""},15.970000000000301,{"$f":"IFERROR(VLOOKUP(AO204,'CRUCE RIESGOS'!$C$9:$D$13,2,FALSE),\"\")","v":""},16.970000000000301,{"$f":"IFERROR(VLOOKUP(AQ204,'CRUCE RIESGOS'!$C$9:$D$13,2,FALSE),\"\")","v":""},17.970000000000301,{"$f":"IFERROR(VLOOKUP(AS204,'CRUCE RIESGOS'!$C$9:$D$13,2,FALSE),\"\")","v":""},18.970000000000301,{"$f":"IFERROR(VLOOKUP(AU204,'CRUCE RIESGOS'!$C$9:$D$13,2,FALSE),\"\")","v":""},19.9700000000004,{"$f":"IFERROR(VLOOKUP(AW204,'CRUCE RIESGOS'!$C$9:$D$13,2,FALSE),\"\")","v":""},20.9700000000004,{"$f":"IFERROR(VLOOKUP(AY204,'CRUCE RIESGOS'!$C$9:$D$13,2,FALSE),\"\")","v":""},21.9700000000004,{"$f":"IFERROR(VLOOKUP(BA204,'CRUCE RIESGOS'!$C$9:$D$13,2,FALSE),\"\")","v":""},22.9700000000004,{"$f":"IFERROR(VLOOKUP(BC204,'CRUCE RIESGOS'!$C$9:$D$13,2,FALSE),\"\")","v":""},23.9700000000004,{"$f":"IFERROR(VLOOKUP(BE204,'CRUCE RIESGOS'!$C$9:$D$13,2,FALSE),\"\")","v":""},24.9700000000005,{"$f":"IFERROR(VLOOKUP(BG204,'CRUCE RIESGOS'!$C$9:$D$13,2,FALSE),\"\")","v":""},25.9700000000005,{"$f":"IFERROR(VLOOKUP(BI204,'CRUCE RIESGOS'!$C$9:$D$13,2,FALSE),\"\")","v":""}]
[null,null,null,null,null,null,null,null,null,null,null,null,null,{"$f":"IF(N206<>\"\",\" -R\",\"\")","v":""},null,{"$f":"IF(P206<>\"\",\" -R\",\"\")","v":""},null,{"$f":"IF(R206<>\"\",\" -R\",\"\")","v":""},null,{"$f":"IF(T206<>\"\",\" -R\",\"\")","v":""},null,{"$f":"IF(V206<>\"\",\" -R\",\"\")","v":""},null,{"$f":"IF(X206<>\"\",\" -R\",\"\")","v":""},null,{"$f":"IF(Z206<>\"\",\" -R\",\"\")","v":""},null,{"$f":"IF(AB206<>\"\",\" -R\",\"\")","v":""},null,{"$f":"IF(AD206<>\"\",\" -R\",\"\")","v":""},null,{"$f":"IF(AF206<>\"\",\" -R\",\"\")","v":""},null,{"$f":"IF(AH206<>\"\",\" -R\",\"\")","v":""},null,{"$f":"IF(AJ206<>\"\",\" -R\",\"\")","v":""},null,{"$f":"IF(AL206<>\"\",\" -R\",\"\")","v":""},null,{"$f":"IF(AN206<>\"\",\" -R\",\"\")","v":""},null,{"$f":"IF(AP206<>\"\",\" -R\",\"\")","v":""},null,{"$f":"IF(AR206<>\"\",\" -R\",\"\")","v":""},null,{"$f":"IF(AT206<>\"\",\" -R\",\"\")","v":""},null,{"$f":"IF(AV206<>\"\",\" -R\",\"\")","v":""},null,{"$f":"IF(AX206<>\"\",\" -R\",\"\")","v":""},null,{"$f":"IF(AZ206<>\"\",\" -R\",\"\")","v":""},null,{"$f":"IF(BB206<>\"\",\" -R\",\"\")","v":""},null,{"$f":"IF(BD206<>\"\",\" -R\",\"\")","v":""},null,{"$f":"IF(BF206<>\"\",\" -R\",\"\")","v":""},null,{"$f":"IF(BH206<>\"\",\" -R\",\"\")","v":""},null,{"$f":"IF(BJ206<>\"\",\" -R\",\"\")","v":""}]
[null,null,null,null,null,null,null,null,null,null,null,null,1.98,{"$f":"IFERROR(VLOOKUP(M206,'CRUCE RIESGOS'!$C$9:$D$13,2,FALSE),\"\")","v":""},2.98000000000002,{"$f":"IFERROR(VLOOKUP(O206,'CRUCE RIESGOS'!$C$9:$D$13,2,FALSE),\"\")","v":""},3.98000000000004,{"$f":"IFERROR(VLOOKUP(Q206,'CRUCE RIESGOS'!$C$9:$D$13,2,FALSE),\"\")","v":""},4.9800000000000599,{"$f":"IFERROR(VLOOKUP(S206,'CRUCE RIESGOS'!$C$9:$D$13,2,FALSE),\"\")","v":""},5.9800000000000804,{"$f":"IFERROR(VLOOKUP(U206,'CRUCE RIESGOS'!$C$9:$D$13,2,FALSE),\"\")","v":""},6.9800000000000999,{"$f":"IFERROR(VLOOKUP(W206,'CRUCE RIESGOS'!$C$9:$D$13,2,FALSE),\"\")","v":""},7.9800000000001203,{"$f":"IFERROR(VLOOKUP(Y206,'CRUCE RIESGOS'!$C$9:$D$13,2,FALSE),\"\")","v":""},8.9800000000001408,{"$f":"IFERROR(VLOOKUP(AA206,'CRUCE RIESGOS'!$C$9:$D$13,2,FALSE),\"\")","v":""},9.9800000000001603,{"$f":"IFERROR(VLOOKUP(AC206,'CRUCE RIESGOS'!$C$9:$D$13,2,FALSE),\"\")","v":""},10.980000000000199,{"$f":"IFERROR(VLOOKUP(AE206,'CRUCE RIESGOS'!$C$9:$D$13,2,FALSE),\"\")","v":""},11.980000000000199,{"$f":"IFERROR(VLOOKUP(AG206,'CRUCE RIESGOS'!$C$9:$D$13,2,FALSE),\"\")","v":""},12.980000000000199,{"$f":"IFERROR(VLOOKUP(AI206,'CRUCE RIESGOS'!$C$9:$D$13,2,FALSE),\"\")","v":""},13.980000000000199,{"$f":"IFERROR(VLOOKUP(AK206,'CRUCE RIESGOS'!$C$9:$D$13,2,FALSE),\"\")","v":""},14.980000000000301,{"$f":"IFERROR(VLOOKUP(AM206,'CRUCE RIESGOS'!$C$9:$D$13,2,FALSE),\"\")","v":""},15.980000000000301,{"$f":"IFERROR(VLOOKUP(AO206,'CRUCE RIESGOS'!$C$9:$D$13,2,FALSE),\"\")","v":""},16.980000000000299,{"$f":"IFERROR(VLOOKUP(AQ206,'CRUCE RIESGOS'!$C$9:$D$13,2,FALSE),\"\")","v":""},17.980000000000299,{"$f":"IFERROR(VLOOKUP(AS206,'CRUCE RIESGOS'!$C$9:$D$13,2,FALSE),\"\")","v":""},18.980000000000299,{"$f":"IFERROR(VLOOKUP(AU206,'CRUCE RIESGOS'!$C$9:$D$13,2,FALSE),\"\")","v":""},19.980000000000398,{"$f":"IFERROR(VLOOKUP(AW206,'CRUCE RIESGOS'!$C$9:$D$13,2,FALSE),\"\")","v":""},20.980000000000398,{"$f":"IFERROR(VLOOKUP(AY206,'CRUCE RIESGOS'!$C$9:$D$13,2,FALSE),\"\")","v":""},21.980000000000398,{"$f":"IFERROR(VLOOKUP(BA206,'CRUCE RIESGOS'!$C$9:$D$13,2,FALSE),\"\")","v":""},22.980000000000398,{"$f":"IFERROR(VLOOKUP(BC206,'CRUCE RIESGOS'!$C$9:$D$13,2,FALSE),\"\")","v":""},23.980000000000398,{"$f":"IFERROR(VLOOKUP(BE206,'CRUCE RIESGOS'!$C$9:$D$13,2,FALSE),\"\")","v":""},24.980000000000501,{"$f":"IFERROR(VLOOKUP(BG206,'CRUCE RIESGOS'!$C$9:$D$13,2,FALSE),\"\")","v":""},25.980000000000501,{"$f":"IFERROR(VLOOKUP(BI206,'CRUCE RIESGOS'!$C$9:$D$13,2,FALSE),\"\")","v":""}]
[null,null,null,null,null,null,null,null,null,null,null,null,null,{"$f":"IF(N208<>\"\",\" -R\",\"\")","v":""},null,{"$f":"IF(P208<>\"\",\" -R\",\"\")","v":""},null,{"$f":"IF(R208<>\"\",\" -R\",\"\")","v":""},null,{"$f":"IF(T208<>\"\",\" -R\",\"\")","v":""},null,{"$f":"IF(V208<>\"\",\" -R\",\"\")","v":""},null,{"$f":"IF(X208<>\"\",\" -R\",\"\")","v":""},null,{"$f":"IF(Z208<>\"\",\" -R\",\"\")","v":""},null,{"$f":"IF(AB208<>\"\",\" -R\",\"\")","v":""},null,{"$f":"IF(AD208<>\"\",\" -R\",\"\")","v":""},null,{"$f":"IF(AF208<>\"\",\" -R\",\"\")","v":""},null,{"$f":"IF(AH208<>\"\",\" -R\",\"\")","v":""},null,{"$f":"IF(AJ208<>\"\",\" -R\",\"\")","v":""},null,{"$f":"IF(AL208<>\"\",\" -R\",\"\")","v":""},null,{"$f":"IF(AN208<>\"\",\" -R\",\"\")","v":""},null,{"$f":"IF(AP208<>\"\",\" -R\",\"\")","v":""},null,{"$f":"IF(AR208<>\"\",\" -R\",\"\")","v":""},null,{"$f":"IF(AT208<>\"\",\" -R\",\"\")","v":""},null,{"$f":"IF(AV208<>\"\",\" -R\",\"\")","v":""},null,{"$f":"IF(AX208<>\"\",\" -R\",\"\")","v":""},null,{"$f":"IF(AZ208<>\"\",\" -R\",\"\")","v":""},null,{"$f":"IF(BB208<>\"\",\" -R\",\"\")","v":""},null,{"$f":"IF(BD208<>\"\",\" -R\",\"\")","v":""},null,{"$f":"IF(BF208<>\"\",\" -R\",\"\")","v":""},null,{"$f":"IF(BH208<>\"\",\" -R\",\"\")","v":""},null,{"$f":"IF(BJ208<>\"\",\" -R\",\"\")","v":""}]
[null,null,null,null,null,null,null,null,null,null,null,null,1.99,{"$f":"IFERROR(VLOOKUP(M208,'CRUCE RIESGOS'!$C$9:$D$13,2,FALSE),\"\")","v":""},2.9900000000000202,{"$f":"IFERROR(VLOOKUP(O208,'CRUCE RIESGOS'!$C$9:$D$13,2,FALSE),\"\")","v":""},3.9900000000000402,{"$f":"IFERROR(VLOOKUP(Q208,'CRUCE RIESGOS'!$C$9:$D$13,2,FALSE),\"\")","v":""},4.9900000000000597,{"$f":"IFERROR(VLOOKUP(S208,'CRUCE RIESGOS'!$C$9:$D$13,2,FALSE),\"\")","v":""},5.9900000000000801,{"$f":"IFERROR(VLOOKUP(U208,'CRUCE RIESGOS'!$C$9:$D$13,2,FALSE),\"\")","v":""},6.9900000000000997,{"$f":"IFERROR(VLOOKUP(W208,'CRUCE RIESGOS'!$C$9:$D$13,2,FALSE),\"\")","v":""},7.9900000000001201,{"$f":"IFERROR(VLOOKUP(Y208,'CRUCE RIESGOS'!$C$9:$D$13,2,FALSE),\"\")","v":""},8.9900000000001405,{"$f":"IFERROR(VLOOKUP(AA208,'CRUCE RIESGOS'!$C$9:$D$13,2,FALSE),\"\")","v":""},9.9900000000001601,{"$f":"IFERROR(VLOOKUP(AC208,'CRUCE RIESGOS'!$C$9:$D$13,2,FALSE),\"\")","v":""},10.990000000000199,{"$f":"IFERROR(VLOOKUP(AE208,'CRUCE RIESGOS'!$C$9:$D$13,2,FALSE),\"\")","v":""},11.990000000000199,{"$f":"IFERROR(VLOOKUP(AG208,'CRUCE RIESGOS'!$C$9:$D$13,2,FALSE),\"\")","v":""},12.990000000000199,{"$f":"IFERROR(VLOOKUP(AI208,'CRUCE RIESGOS'!$C$9:$D$13,2,FALSE),\"\")","v":""},13.990000000000199,{"$f":"IFERROR(VLOOKUP(AK208,'CRUCE RIESGOS'!$C$9:$D$13,2,FALSE),\"\")","v":""},14.9900000000003,{"$f":"IFERROR(VLOOKUP(AM208,'CRUCE RIESGOS'!$C$9:$D$13,2,FALSE),\"\")","v":""},15.9900000000003,{"$f":"IFERROR(VLOOKUP(AO208,'CRUCE RIESGOS'!$C$9:$D$13,2,FALSE),\"\")","v":""},16.9900000000003,{"$f":"IFERROR(VLOOKUP(AQ208,'CRUCE RIESGOS'!$C$9:$D$13,2,FALSE),\"\")","v":""},17.9900000000003,{"$f":"IFERROR(VLOOKUP(AS208,'CRUCE RIESGOS'!$C$9:$D$13,2,FALSE),\"\")","v":""},18.9900000000003,{"$f":"IFERROR(VLOOKUP(AU208,'CRUCE RIESGOS'!$C$9:$D$13,2,FALSE),\"\")","v":""},19.9900000000004,{"$f":"IFERROR(VLOOKUP(AW208,'CRUCE RIESGOS'!$C$9:$D$13,2,FALSE),\"\")","v":""},20.9900000000004,{"$f":"IFERROR(VLOOKUP(AY208,'CRUCE RIESGOS'!$C$9:$D$13,2,FALSE),\"\")","v":""},21.9900000000004,{"$f":"IFERROR(VLOOKUP(BA208,'CRUCE RIESGOS'!$C$9:$D$13,2,FALSE),\"\")","v":""},22.9900000000004,{"$f":"IFERROR(VLOOKUP(BC208,'CRUCE RIESGOS'!$C$9:$D$13,2,FALSE),\"\")","v":""},23.9900000000004,{"$f":"IFERROR(VLOOKUP(BE208,'CRUCE RIESGOS'!$C$9:$D$13,2,FALSE),\"\")","v":""},24.990000000000499,{"$f":"IFERROR(VLOOKUP(BG208,'CRUCE RIESGOS'!$C$9:$D$13,2,FALSE),\"\")","v":""},25.990000000000499,{"$f":"IFERROR(VLOOKUP(BI208,'CRUCE RIESGOS'!$C$9:$D$13,2,FALSE),\"\")","v":""}]

{"sheet":"CRUCE OPORTUNIDADES","index":11,"n_rows":111,"n_cols":44,"rows_kept":111,"cut":false,"hidden":false,"merged":[[5,42,5,43],[2,42,2,43],[5,5,5,40],[4,5,4,41],[3,5,3,41],[1,42,1,43],[1,5,2,41],[1,4,4,4],[3,42,3,43],[4,42,4,43],[9,7,9,12],[9,28,9,31],[9,13,9,25],[18,0,18,43],[20,3,20,43],[9,32,9,43],[9,3,9,6]]}
[]
[null,null,null,null,null,"MACROPROCESO ESTRATÉGICO",null,null,null,null,null,null,null,null,null,null,null,null,null,null,null,null,null,null,null,null,null,null,null,null,null,null,null,null,null,null,null,null,null,null,null,null,"CÓDIGO: ESGr028"]
[null,null,null,null,null,null,null,null,null,null,null,null,null,null,null,null,null,null,null,null,null,null,null,null,null,null,null,null,null,null,null,null,null,null,null,null,null,null,null,null,null,null,"VERSIÓN: 17"]
[null,null,null,null,null,"PROCESO GESTIÓN SISTEMAS INTEGRADOS - CALIDAD",null,null,null,null,null,null,null,null,null,null,null,null,null,null,null,null,null,null,null,null,null,null,null,null,null,null,null,null,null,null,null,null,null,null,null,null,"VIGENCIA: 2023-10-12"]
[null,null,null,null,null,"GESTIÓN DEL RIESGO Y LAS OPORTUNIDADES",null,null,null,null,null,null,null,null,null,null,null,null,null,null,null,null,null,null,null,null,null,null,null,null,null,null,null,null,null,null,null,null,null,null,null,null,"PÁGINA: 9 de 11"]
[]
[null,null,null,null,"REGRESAR"]
[]
[]
[null,null,null,"IDENTIFICACIÓN DE LAS OPORTUNIDADES",null,null,null,"VALORACIÓN DE LA OPORTUNIDAD INHERENTE",null,null,null,null,null,"VALORACIÓN DE CONTROLES",null,null,null,null,null,null,null,null,null,null,null,null,null,null,"VALORACIÓN DE LA OPORTUNIDAD RESIDUAL",null,null,null,"CONCLUSIONES DEL SEGUIMIENTO (DILIGENCIADO POR LA OFICINA DE CONTROL INTERNO)"]
["CUADRANTE","DECIMAL","SUMA","ID","CAUSAS (FACTORES DOFA)","CONSECUENCIA (OPORTUNIDADES)","CLASIFICACIÓN","PROBABILIDAD DE OCURRENCIA","MAGNITUD DEL IMPACTO","VALORACIÓN ","NIVEL","CONTROLES APLICABLES","ENTREGABLES","AFECTACIÓN DEL CONTROL","HERRAMIENTA PARA EJERCER CONTROL","DOCUMENTACIÓN EN EL MANEJO DE LA HERRAMIENTA","LA HERRAMIENTA DEMUESTRA SER EFECTIVA","RESPONSABLE DEL CONTROL Y SEGUIMIENTO","FRECUENCIA ADECUADA DEL CONTROL","SUMATORIA","FECHA DE LA VALORACIÓN","JUSTIFICACIÓN DE LA VALORACIÓN","FECHA DE LA VALORACIÓN","JUSTIFICACIÓN DE LA VALORACIÓN","FECHA DE LA VALORACIÓN","JUSTIFICACIÓN DE LA VALORACIÓN","FECHA DE LA VALORACIÓN","JUSTIFICACIÓN DE LA VALORACIÓN","PROBABILIDAD DE OCURRENCIA","MAGNITUD DEL IMPACTO","VALORACIÓN ","NIVEL","FECHA DE SEGUIMIENTO","OBSERVACIONES Y RECOMENDACIONES","FECHA DE SEGUIMIENTO","OBSERVACIONES Y RECOMENDACIONES","FECHA DE SEGUIMIENTO","OBSERVACIONES Y RECOMENDACIONES","FECHA DE SEGUIMIENTO","OBSERVACIONES Y RECOMENDACIONES","FECHA DE SEGUIMIENTO","OBSERVACIONES Y RECOMENDACIONES","FECHA DE SEGUIMIENTO","OBSERVACIONES Y RECOMENDACIONES"]
[{"$f":"IF(AND(AC12=1,AD12=1),1,IF(AND(AC12=1,AD12=2),2,IF(AND(AC12=1,AD12=3),3,IF(AND(AC12=1,AD12=4),4,IF(AND(AC12=1,AD12=5),5,IF(AND(AC12=2,AD12=1),6,IF(AND(AC12=2,AD12=2),7,IF(AND(AC12=2,AD12=3),8,IF(AND(AC12=2,AD12=4),9,IF(AND(AC12=2,AD12=5),10,IF(AND(AC12=3,AD12=1),11,IF(AND(AC12=3,AD12=2),12,IF(AND(AC12=3,AD12=3),13,IF(AND(AC12=3,AD12=4),14,IF(AND(AC12=3,AD12=5),15,IF(AND(AC12=4,AD12=1),16,IF(AND(AC12=4,AD12=2),17,IF(AND(AC12=4,AD12=3),18,IF(AND(AC12=4,AD12=4),19,IF(AND(AC12=4,AD12=5),20,IF(AND(AC12=5,AD12=1),21,IF(AND(AC12=5,AD12=2),22,IF(AND(AC12=5,AD12=3),23,IF(AND(AC12=5,AD12=4),24,IF(AND(AC12=5,AD12=5),25,\"\")))))))))))))))))))))))))","v":20},{"$f":"IF(A12=\"\",\"\",1/100)","v":0.01},{"$f":"IFERROR(A12+B12,\"\")","v":20.010000000000002},1,"                                                                       \nF3. Aplicativo informático Academisoft y los desarrollos informáticos que sistematiza la operatividad del proceso \nF4. Se cuenta con backups para la seguridad y trazabilidad de la información\n\n","Digitalización / Desarrollos propios ","Oportunidad Operativa: Comprenden oportunidades  provenientes del funcionamiento y operatividad de los sistemas de información institucional, de la definición de los procesos, de la estructura de la entidad, de la articulación entre dependencias.",4,5,{"$f":"IF(OR(H12=\"\",I12=\"\"),\"\",H12*I12)","v":20},{"$f":"IF(J12=\"\",\"\",IF(AND(H12=1,I12=1),\"BAJO\",IF(AND(H12=1,I12=2),\"BAJO\",IF(AND(H12=1,I12=3),\"MODERADO\",IF(AND(H12=1,I12=4),\"FAVORABLE\",IF(AND(H12=1,I12=5),\"FAVORABLE\",IF(AND(H12=2,I12=1),\"BAJO\",IF(AND(H12=2,I12=2),\"BAJO\",IF(AND(H12=2,I12=3),\"MODERADO\",IF(AND(H12=2,I12=4),\"FAVORABLE\",IF(AND(H12=2,I12=5),\"ALTO\",IF(AND(H12=3,I12=1),\"BAJO\",IF(AND(H12=3,I12=2),\"MODERADO\",IF(AND(H12=3,I12=3),\"FAVORABLE\",IF(AND(H12=3,I12=4),\"ALTO\",IF(AND(H12=3,I12=5),\"ALTO\",IF(AND(H12=4,I12=1),\"MODERADO\",IF(AND(H12=4,I12=2),\"FAVORABLE\",IF(AND(H12=4,I12=3),\"FAVORABLE\",IF(AND(H12=4,I12=4),\"ALTO\",IF(AND(H12=4,I12=5),\"ALTO\",IF(AND(H12=5,I12=1),\"FAVORABLE\",IF(AND(H12=5,I12=2),\"FAVORABLE\",IF(AND(H12=5,I12=3),\"ALTO\",IF(AND(H12=5,I12=4),\"ALTO\",IF(AND(H12=5,I12=5),\"ALTO\",\"\"))))))))))))))))))))))))))","v":"ALTO"},"Solicitud de desarrollos que podran apalancar la gestión administrativa de la Oficina correlacionada con la acaadémia. ","Actas de levantamiento de necesidades y Actas de Entrega\nEntrega del nuevo módulo en el aplicativo Academisoft","IMPACTO",15,15,30,15,0,{"$f":"IFERROR(SUM(O12:S12),\"\")","v":75},"2020-11-10","Solicitudes de ajustes a Academisoft a la dirección de Sistemas y Tecnologías.","16/04/2021\n\n\n\n13/10/2021\n\n\n\n05/04/2022","Se evidencian nuevos requerimientos del procesos a la dirección de sistemas y tecnología a fin de optimizar y mejorar las actividades del proceso.\n\nExiste evidencia de las solicitudes de nuevos desarrollo a sistemas y tecnología.\n\nSe evidencia nuevos requerimientos hechos a sistemas y tecnología como mejora del proceso y en respuesta al nuevo reglamento estudiantil (en desarrollo). ","2023-07-27","Se evidencian nuevos requerimientos del procesos a la dirección de sistemas y tecnología a fin de optimizar y mejorar las actividades del proceso.","2024-06-12","Se evidencia solicitud de requierimiento en nuevos desarrollos tecnológicos por parte de la Oficina de Admisiones y Registro como actualizacones en revisión de carpeta al aplicativo SIS, revisión de cargue de documentos para grado para validación de tratamiento de datos personales y busqueda de graduando por numero de identificación.\n\nDe igual manera se validará en el seguimiento con la Dirección de Sistemas y tecnología si estan relacionadas solicitudes adicionales que no hayan quedado priorizadas por la alta dirección y si quedaron dentro del cronograma de trabajo del  proceso. ",{"$f":"IF(J12=\"\",\"\",IF(OR(N12=\"\",N12=\"IMPACTO\"),H12,IF(T12<=50,H12,IF(AND(T12<=75,H12<5),H12+1,IF(AND(T12<=75,H12=5),H12,IF(AND(T12<=100,H12<4),H12+2,IF(AND(T12<=100,H12=4),H12+1,IF(AND(T12<=100,H12=5),H12,\"\"))))))))","v":4},{"$f":"IF(J12=\"\",\"\",IF(OR(N12=\"\",N12=\"PROBABILIDAD\"),I12,IF(T12<=50,I12,IF(AND(T12<=75,I12<5),I12+1,IF(AND(T12<=75,I12=5),I12,IF(AND(T12<=100,I12<4),I12+2,IF(AND(T12<=100,I12=4),I12+1,IF(AND(T12<=100,I12=5),I12,\"\"))))))))","v":5},{"$f":"IF(OR(AC12=\"\",AD12=\"\"),\"\",AC12*AD12)","v":20},{"$f":"IF(AE12=\"\",\"\",IF(AND(AC12=1,AD12=1),\"BAJO\",IF(AND(AC12=1,AD12=2),\"MODERADO\",IF(AND(AC12=1,AD12=3),\"MODERADO\",IF(AND(AC12=1,AD12=4),\"MODERADO\",IF(AND(AC12=1,AD12=5),\"MODERADO\",IF(AND(AC12=2,AD12=1),\"BAJO\",IF(AND(AC12=2,AD12=2),\"MODERADO\",IF(AND(AC12=2,AD12=3),\"MODERADO\",IF(AND(AC12=2,AD12=4),\"FAVORABLE\",IF(AND(AC12=2,AD12=5),\"FAVORABLE\",IF(AND(AC12=3,AD12=1),\"BAJO\",IF(AND(AC12=3,AD12=2),\"MODERADO\",IF(AND(AC12=3,AD12=3),\"FAVORABLE\",IF(AND(AC12=3,AD12=4),\"FAVORABLE\",IF(AND(AC12=3,AD12=5),\"FAVORABLE\",IF(AND(AC12=4,AD12=1),\"BAJO\",IF(AND(AC12=4,AD12=2),\"MODERADO\",IF(AND(AC12=4,AD12=3),\"FAVORABLE\",IF(AND(AC12=4,AD12=4),\"FAVORABLE\",IF(AND(AC12=4,AD12=5),\"ALTO\",IF(AND(AC12=5,AD12=1),\"BAJO\",IF(AND(AC12=5,AD12=2),\"MODERADO\",IF(AND(AC12=5,AD12=3),\"FAVORABLE\",IF(AND(AC12=5,AD12=4),\"ALTO\",IF(AND(AC12=5,AD12=5),\"ALTO\",\"\"))))))))))))))))))))))))))","v":"ALTO"},"2020-09-10","Los procedimientos gestionados desde la Oficina de Admisiones y Registro, se encuentra óptimos y\ncumpliendo con todos los compromisos que se establecen en la planeación del proceso que se encuentran plasmados en el Calendario Académico y fechas de gestión.","2022-08-23","De acuerdo al seguimiento realizado al proceso, se informa que en aprovechamiento de la oportunidad planteada, se ha llevado a cabo:\n\n1. Actualización al aplicativo SIS Devoluciones donde permite cargar de manera individual o masiva las solicitudes requeridas a la Oficina de Admisiones y Registro de las devoluciones, el tipo y los pagos realizados por parte del estudiante. \n2. Tableros de Control activos (Proceso de admisión y matricula académica) y en construcción (Estudiantes Retirados, novedades académicas y cierre académico)\n3. Actualización al aplicativo para el proceso de Caracterización (Cargue documento de identificación del admitido).\n4. Actualización al aplicativo de inscripción permitiendo el cargue de los documentos requisito.\n\nComo evidencia, se relacionan soportes tanto del levantamiento de necesidades, como de la aplicación del desarrollo. //YHC.","2023-07-31","De acuerdo a la informacion remitida por el proceso de admisiones se evidencia:\nOficio con capturas de pantalla de los diferentes correos de solicitudes de desarrollos tecnologicos al area de sistemas y tecnologia, asi: revisión Documentos Graduandos , revisión documentos Hojas de Vida, certificados de Notas y de las nuevas solicitudes : \"Diseñar el módulo actas de Grado, diseño e implementación de una Mesa de servicio para estudiantes, funcionalidad  Constancias de Estudio , diseñar un aplicativo de entrevistas para el proceso de selección de aspirantes,la calificación de Trabajo de grado sea cualitativa\".","2024-09-06","Se evidencia un correo electrónico remitido al área de sistemas y tecnología solicitando actualización y ajuste en el módulo de gestión de admisiones y registro - hojas de vida, adicionalmente reportan registro de asistencia de fecha 01/08/2024 con asunto entrega documentos de grado, se evidencia solicitud de requerimiento de desarrollo sistema de actualización para el procedimiento MARP06 Grados y títulos académicos, De igual manera un botón que permite descargar la información de manera masiva, debido a que tocaba copiar y pegar en Excel para llevar un control."]
[20,{"$f":"IF(A13=\"\",\"\",(COUNTIF($A$12:A13,A13))/100)","v":0.02},20.02,2,"O3. Articulación de la política de gratuidad en la matricula.\n","Actualización reglamento estudiantil","Oportunidad Operativa: Comprenden oportunidades  provenientes del funcionamiento y operatividad de los sistemas de información institucional, de la definición de los procesos, de la estructura de la entidad, de la articulación entre dependencias.",4,4,16,{"$f":"IF(J13=\"\",\"\",IF(AND(H13=1,I13=1),\"BAJO\",IF(AND(H13=1,I13=2),\"BAJO\",IF(AND(H13=1,I13=3),\"MODERADO\",IF(AND(H13=1,I13=4),\"FAVORABLE\",IF(AND(H13=1,I13=5),\"FAVORABLE\",IF(AND(H13=2,I13=1),\"BAJO\",IF(AND(H13=2,I13=2),\"BAJO\",IF(AND(H13=2,I13=3),\"MODERADO\",IF(AND(H13=2,I13=4),\"FAVORABLE\",IF(AND(H13=2,I13=5),\"ALTO\",IF(AND(H13=3,I13=1),\"BAJO\",IF(AND(H13=3,I13=2),\"MODERADO\",IF(AND(H13=3,I13=3),\"FAVORABLE\",IF(AND(H13=3,I13=4),\"ALTO\",IF(AND(H13=3,I13=5),\"ALTO\",IF(AND(H13=4,I13=1),\"MODERADO\",IF(AND(H13=4,I13=2),\"FAVORABLE\",IF(AND(H13=4,I13=3),\"FAVORABLE\",IF(AND(H13=4,I13=4),\"ALTO\",IF(AND(H13=4,I13=5),\"ALTO\",IF(AND(H13=5,I13=1),\"FAVORABLE\",IF(AND(H13=5,I13=2),\"FAVORABLE\",IF(AND(H13=5,I13=3),\"ALTO\",IF(AND(H13=5,I13=4),\"ALTO\",IF(AND(H13=5,I13=5),\"ALTO\",\"\"))))))))))))))))))))))))))","v":"ALTO"},"Solicitar conformidad ante el consejo académico para aprobación y formalización del reglamento estudiantil","Actas del consejo académico en evento de aprobación, el proyecto de acuerdo al consejo superior (reglamento estudiantil)","IMPACTO",15,15,30,15,25,{"$f":"IFERROR(SUM(O13:S13),\"\")","v":100},"2020-11-10","En trámite la actualización del reglamento. Aún no hay formalizado","16/04/2021\n\n\n\n13/10/2021\n\n\n\n05/04/2022","Se  están programando conversatorios con los estudiantes y partes interesadas para la actualización del reglamento estudiantil.\n\nEsta en proceso de construcción y formalización el nuevo reglamento estudiantil.\n\nSe evidencia el nuevo reglamento estudiantil (acuerdo 027 de 2021), el cual, está pendiente la formalización del reglamento del mismo. Se evidencia liderazgo y gestión del proceso en cuanto a la reglamentación de este acuerdo. \n","2023-07-27","Se evidencia construcción del documento borrador de reglamentación para el procedimiento de inscripción, selección y admisión de estudiantes, donde se establecen los criterios de selección que serán aplicados deacuerdo al  reglamento estudiantil, acuerdo 027 de 2021.","2024-06-12","Se evidencia construcción del documento borrador de reglamentación para el procedimiento de inscripción, selección y admisión de estudiantes, donde se establecen los criterios de selección y documentación que serán aplicados de acuerdo al reglamento estudiantil, acuerdo 027 de 2021. \nse evidencia trazabilidad de revisión y observaciones juridicos y de la alta  dirección en la construcción del documento, a la fecha se encuentra en etapa de aprobación. ",{"$f":"IF(J13=\"\",\"\",IF(OR(N13=\"\",N13=\"IMPACTO\"),H13,IF(T13<=50,H13,IF(AND(T13<=75,H13<5),H13+1,IF(AND(T13<=75,H13=5),H13,IF(AND(T13<=100,H13<4),H13+2,IF(AND(T13<=100,H13=4),H13+1,IF(AND(T13<=100,H13=5),H13,\"\"))))))))","v":4},{"$f":"IF(J13=\"\",\"\",IF(OR(N13=\"\",N13=\"PROBABILIDAD\"),I13,IF(T13<=50,I13,IF(AND(T13<=75,I13<5),I13+1,IF(AND(T13<=75,I13=5),I13,IF(AND(T13<=100,I13<4),I13+2,IF(AND(T13<=100,I13=4),I13+1,IF(AND(T13<=100,I13=5),I13,\"\"))))))))","v":5},{"$f":"IF(OR(AC13=\"\",AD13=\"\"),\"\",AC13*AD13)","v":20},{"$f":"IF(AE13=\"\",\"\",IF(AND(AC13=1,AD13=1),\"BAJO\",IF(AND(AC13=1,AD13=2),\"MODERADO\",IF(AND(AC13=1,AD13=3),\"MODERADO\",IF(AND(AC13=1,AD13=4),\"MODERADO\",IF(AND(AC13=1,AD13=5),\"MODERADO\",IF(AND(AC13=2,AD13=1),\"BAJO\",IF(AND(AC13=2,AD13=2),\"MODERADO\",IF(AND(AC13=2,AD13=3),\"MODERADO\",IF(AND(AC13=2,AD13=4),\"FAVORABLE\",IF(AND(AC13=2,AD13=5),\"FAVORABLE\",IF(AND(AC13=3,AD13=1),\"BAJO\",IF(AND(AC13=3,AD13=2),\"MODERADO\",IF(AND(AC13=3,AD13=3),\"FAVORABLE\",IF(AND(AC13=3,AD13=4),\"FAVORABLE\",IF(AND(AC13=3,AD13=5),\"FAVORABLE\",IF(AND(AC13=4,AD13=1),\"BAJO\",IF(AND(AC13=4,AD13=2),\"MODERADO\",IF(AND(AC13=4,AD13=3),\"FAVORABLE\",IF(AND(AC13=4,AD13=4),\"FAVORABLE\",IF(AND(AC13=4,AD13=5),\"ALTO\",IF(AND(AC13=5,AD13=1),\"BAJO\",IF(AND(AC13=5,AD13=2),\"MODERADO\",IF(AND(AC13=5,AD13=3),\"FAVORABLE\",IF(AND(AC13=5,AD13=4),\"ALTO\",IF(AND(AC13=5,AD13=5),\"ALTO\",\"\"))))))))))))))))))))))))))","v":"ALTO"},"2020-09-10","La actualización al Reglamento Estudiantil, se tramita desde Vicerrectoría Académica y se plantea ante el Consejo Académico para su debido estudio y aprobación preliminar;  sustentando luego ante el consejo Superior para su respectiva aprobación definitiva y aplicación al mismo, finiquitando la implementación y el cumplimiento de las actividades plasmadas, desde la Oficina de Admisiones y Registro.","2022-08-23","Conforme a la presente actividad, el proceso manifiesta que, producto de la publicación del acuerdo 027 se estableció una comisión de trabajo encargada de establecer los lineamientos para reglamentar el proceso de Inscripción, Selección y Admisión. //YHC","2023-07-31","Se evidencia oficio donde se describe: \"Es necesario resaltar que la articulación de las condiciones de la política de gratuidad no está sujeta al reglamento estudiantil acuerdo 010 y 027, dicha información se encuentra estipulada en el decreto 1667 del 2021 y el reglamento operativo del proceso de gratuidad\", adicionalmente adjuntan informe y borrador del procedimiento de MATRICULA FINANCIERA con el fin de articular el decreto 1667 del 2023 “Política de estado de gratuidad en la matrícula de Instituciones de Educación Superior Públicas” y Reglamento Operativo de la Política de Gratuidad, las áreas involucradas definiendo roles, responsabilidad y alcance","2024-09-06","Se evidencia la trazabilidad de correos del 10 de mayo al 05 de septiembre para la revisión y ajustes del Proyecto, de Acuerdo por el que reglamenta el proceso de inscripción, selección y admisión de los programas académicos de pregrado de la Universidad de Cundinamarca."]
[25,{"$f":"IF(A14=\"\",\"\",(COUNTIF($A$12:A14,A14))/100)","v":0.01},25.01,3,"F8. Estructuración de guías para la atención a población priorizada y de caracterización.\nF10. Se brinda acompañamiento a los aspirantes catalogados como poblaciones priorizadas para la culminación del proceso de selección.","Determinar y establecer la caracterización de los aspirantes y estudiantes de manera digital - formulario de inscripción","Oportunidades de Cumplimiento: Se asocian con la capacidad de la entidad para cumplir con los requisitos legales, contractuales, de ética pública y en general con su compromiso ante la comunidad.",5,5,25,"ALTO","Solicitar a  la dirección de Sistemas y Tecnología la modificación al formulario de inscripción, incluyendo los campos que determinen detalladamente la información personal de los aspirantes y estudiantes que se encuentran en condición de discapacidad y vulnerabilidad.\nDeterminar la caracterización de los aspirantes y estudiantes en materia de inclusión, para informar a las partes interesadas, presentar los servicios adecuados y realizar seguimiento a los mismos.\n","Formulario de inscripción actualizado en plataforma.\nCaracterización\nCampañas publicitarias (página web - redes sociales)","IMPACTO",15,15,30,15,25,100,"2020-11-10","La actividad se está trabajando mancomunadamente con el área de Sistemas y Tecnología para actualizar el formulario de inscripción en línea para identificar la población en condiciones de discapacidad y vulnerabilidad.","16/04/2021\n\n\n\n\n13/10/2021\n\n\n\n\n05/04/2022","Se está trabajando de la mano con sistemas y tecnología y la profesional encargada de implementar la política de inclusión institucional. \n\nSe evidencia el trabajo articulado con equidad y diversidad (inclusión) para la caracterización del estudiante y la caracterización de vulnerabilidad. \n\nExiste evidencia de la materialización de la oportunidad, no obstante, se sugiere asegurar una mayor rigurosidad en cuanto a la revisión de la información y soportes de la caracterización del estudiante, teniendo en cuenta que es el insumo para gratuidad de matrícula. ","2023-07-27","Se evidencia el formulario de inscripción actualizado, además de la parametrización con el ejercicio adelantado con la oficina de Equidad y Diversidad en la identificación de población priorizada desde la inscripción, tambien se evidencia el ejercicio de estrategia de divulgación de información realizado por el proceso, por medio de inforgrafías y enviós de correo masivos como respaldo. ","2024-06-12","Se evidencia el formulario de inscripción actualizado, además de la parametrización con el ejercicio adelantado con la oficina de Equidad y Diversidad en la identificación de población priorizada desde la inscripción, tambien se evidencia el ejercicio de estrategia de divulgación de información realizado por el proceso, por medio de inforgrafías y enviós de correo masivos como respaldo. \nActividad gestionada y cerrada, se dará alcance a la actualización del control en el proximo seguimiento. ",{"$f":"IF(J14=\"\",\"\",IF(OR(N14=\"\",N14=\"IMPACTO\"),H14,IF(T14<=50,H14,IF(AND(T14<=75,H14<5),H14+1,IF(AND(T14<=75,H14=5),H14,IF(AND(T14<=100,H14<4),H14+2,IF(AND(T14<=100,H14=4),H14+1,IF(AND(T14<=100,H14=5),H14,\"\"))))))))","v":5},5,25,"ALTO","2020-09-10","Caracterización Ítems expuestos al proceso de inscripción, selección, admisión y matrícula.\nActualización al procedimiento MARP02 - Inscripción y Selección de Aspirantes.","2022-08-23","En cuanto al cumplimiento de esta oportunidad, se manifiesta que se adelantó la actualización dentro del formulario de inscripción (Datos de la persona con discapacidad) con el fin de brindar el acompañamiento articulado con equidad y diversidad (Bienestar Universitario) para poner en marcha la guía de protocolo a población priorizadas. //YHC","2023-07-31","Se evidencia oficio con captura de pantalla donde se puede validar el  ajuste al formulario de inscripción y selección para población  priorizada (grupos étnicos), de otra parte se observan piezas graficas y asesoria a los estudiantes a traves de teams para caracterización Institucional IPA y IIPA 2023 para todos los estudiantes nuevos regulares de Sede, Seccionales y Extensiones.   ","2024-09-06","Evidencias de la actualización y ajustes del formulario de inscripción en cuanto a las categorías vigentes de identificación de aspirantes en condiciones de discapacidad. Características de tipo social, etnia grupo de población y lista de discapacidades y las campañas publicitarias del proceso de Inscripción, selección y admisión a los programas de Pregrado y Posgrado del primer periodo académico de 2024, adicionalmente se valida captura de pantalla de la publicación en redes sociales de fecha 25 enero del 2024 con relación a la matricula académica, así como también información frente a la apertura de nuevos programas académicos de pregrado, se valida publicaciones de grados y títulos académicos y estrategias para el diligenciamiento para el tratamiento de datos personales."]
[25,{"$f":"IF(A15=\"\",\"\",(COUNTIF($A$12:A15,A15))/100)","v":0.02},25.02,4,"\nO5. Socialización con colegios de la región acerca de la oferta académica de Universidad de Cundinamarca; Participación en ferias y actividades de oferta académica.\nF2. Promoción y estrategia de divulgación de la oferta académica en la Universidad de Cundinamarca.","Participar en ferias universitarias para promoción y divulgación de los programas y servicios de la UCundinamarca ","Oportunidad de Imagen: Está relacionada con la percepción y la confianza por parte de la ciudadanía hacia la institución.",5,5,25,"ALTO","Atender al llamado de invitación por parte de las Entidades que requieran la información de la Universidad como opción de grado (carreras profesionales).\nParticipar  en charlas a Colegios y lograr realizar nuestra oferta académica. \nParticipar en eventos de carácter académicos.\nParticipación en La Feria del Libro para impulsar la promoción de la Oferta académica de la Institucion en eventos nacionales. ","Bases de Datos de participantes y asistencia a los diferentes eventos a participar.","PROBABILIDAD",15,15,0,15,0,45,"2020-11-10","Por la contingencia Covid 19, aún no ha sido posible asistir a ferias universitarias presenciales. ","16/04/2021\n\n\n\n\n13/10/2021\n\n\n\n\n05/04/2022","A causa de la emergencia sanitaria (Covid-19) ha dificultado la participación en ferias universitarias. \n\nSe han llevado acabo algunas feria virtuales. Por tema de pandemia se ha dificultado la materialización de esta oportunidad. \n\nAnualmente se aprovecha esta oportunidad para ofertar los programas académicos de la universidad. ","2023-07-27","Se evidencia registro fotografico, informes y datos de las asitencias a las diferentes ferias universitarias, de colegios y la feria del libro, donde se socializa la oferta académica de programas de pregrado y posgrado, de la sede, seccionales y extensiones. ","2024-06-12","Se evidencia registro fotografico, informes y datos de las asitencias a las diferentes ferias universitarias, de colegios y la feria del libro, donde se socializa la oferta académica de programas de pregrado y posgrado, de la sede, seccionales y extensiones. ",{"$f":"IF(J15=\"\",0,IF(OR(N15=\"\",N15=\"IMPACTO\"),H15,IF(T15<=50,H15,IF(AND(T15<=75,H15<5),H15+1,IF(AND(T15<=75,H15=5),H15,IF(AND(T15<=100,H15<4),H15+2,IF(AND(T15<=100,H15=4),H15+1,IF(AND(T15<=100,H15=5),H15,\"\"))))))))","v":5},{"$f":"IF(J15=\"\",0,IF(OR(N15=\"\",N15=\"PROBABILIDAD\"),I15,IF(T15<=50,I15,IF(AND(T15<=75,I15<5),I15+1,IF(AND(T15<=75,I15=5),I15,IF(AND(T15<=100,I15<4),I15+2,IF(AND(T15<=100,I15=4),I15+1,IF(AND(T15<=100,I15=5),I15,\"\"))))))))","v":5},25,"ALTO","2020-09-10","El proceso de promoción y divulgación de los Programas, se encuentra en cabeza, compromiso y gestión, desde cada Facultad con sus respectivas Direcciones y Coordinaciones de Programa.\nDesde la Oficina de Admisiones y Registro, se realiza el debido acompañamiento, cuando así se refiere, en cuanto a invitaciones como el de la feria del libro, entre otros a invitación, apoyo y colaboración.","2022-08-23","Frente a la presente oportunidad, se informe que  se ha tenido presencia de la Universidad de Cundinamarca mediante la Oficina de Admisiones y Registro en las siguientes Ferias Educativas:\n1. Localidad de Kennedy Ciudad Bogotá, D.C.\n2. Salto del Tequendama.\n3. Gobernación de Cundinamarca (Bogotá, D.C.)\n4. Zipaquirá\n5. Alcaldía de Fusagasugá (CAD)\n//YHC","2023-07-31","Se evidencia oficio donde se evidencia registro fotografico y listas de asistencia de los eventos en los que se divulgo la oferta académica de la Universidad de Cundinamarca , se describe FERIA UNIVERSITARIA ARBELAÉZ- CUNDINAMARCA, FERIA UNIVERSITARIA EN PACHO- CUNDINAMARCA , EXTENSION CHIA -ZIPAQUIRA , EXTENSION FACATATIVA – FERIA UNIVERSITARIA, FERIA DEL LIBRO FILBO 2023, Corferias Bogotá, VISITAS A COLEGIO SANTO DOMINGO SABIO,COLEGIO LA PRESENTACION , COLEGIO ACCION COMUNAL, COLEGIO NUESTRA SEÑORA DE BELEN.","2024-09-06","Se evidencia lista de asistencia con asunto apoyo de consejería trabajo en equipo de agosto de 2024, se evidencia registro fotográfico de ferias educativas con instituciones públicas y privadas realizadas en la auditorio Emilio Sierra Sede Fusagasugá, adicionalmente feria universitaria en el municipio de Arbeláez, y feria universitaria en el Colegio Ricaurte 24 Julio de 2024."]
["",{"$f":"IF(A16=\"\",\"\",(COUNTIF($A$12:A16,A16))/100)","v":""},"",null,null,null,null,null,null,"","",null,null,null,null,null,null,null,null,0,null,null,null,null,null,null,null,null,{"$f":"IF(J16=\"\",\"\",IF(OR(N16=\"\",N16=\"IMPACTO\"),H16,IF(T16<=50,H16,IF(AND(T16<=75,H16<5),H16+1,IF(AND(T16<=75,H16=5),H16,IF(AND(T16<=100,H16<4),H16+2,IF(AND(T16<=100,H16=4),H16+1,IF(AND(T16<=100,H16=5),H16,\"\"))))))))","v":""},"","",""]
["",{"$f":"IF(A17=\"\",\"\",(COUNTIF($A$12:A17,A17))/100)","v":""},"",null,null,null,null,null,null,"","",null,null,null,null,null,null,null,null,0,null,null,null,null,null,null,null,null,"","","",""]
[null,"Código Serie Documental (Ver Tabla de Retención Documental)",null,null,"Código Serie Documental (Ver Tabla de Retención Documental)"]
["Diagonal 18 No. 20-29 Fusagasugá – Cundinamarca \nTeléfono (601) 8281483 Línea Gratuita 018000180414\n www.ucundinamarca.edu.co   E-mail: info@ucundinamarca.edu.co\n NIT: 890.680.062-2"]
[]
[null,null,null,"Documento controlado por el Sistema de Gestión de la Calidad\nAsegúrese que corresponde a la última versión consultando el Portal Institucional"]
["",{"$f":"IF(A22=\"\",\"\",(COUNTIF($A$12:A22,A22))/100)","v":""},"",11,null,null,null,null,null,"","",null,null,null,null,null,null,null,null,0,null,null,null,null,null,null,null,null,"","",{"$f":"IF(OR(AC22=\"\",AD22=\"\"),\"\",AC22*AD22)","v":""},""]
["",{"$f":"IF(A23=\"\",\"\",(COUNTIF($A$12:A23,A23))/100)","v":""},"",12,null,null,null,null,null,"","",null,null,null,null,null,null,null,null,0,null,null,null,null,null,null,null,null,"","",{"$f":"IF(OR(AC23=\"\",AD23=\"\"),\"\",AC23*AD23)","v":""},""]
["",{"$f":"IF(A24=\"\",\"\",(COUNTIF($A$12:A24,A24))/100)","v":""},"",13,null,null,null,null,null,"","",null,null,null,null,null,null,null,null,0,null,null,null,null,null,null,null,null,"","",{"$f":"IF(OR(AC24=\"\",AD24=\"\"),\"\",AC24*AD24)","v":""},""]
["",{"$f":"IF(A25=\"\",\"\",(COUNTIF($A$12:A25,A25))/100)","v":""},"",14,null,null,null,null,null,"","",null,null,null,null,null,null,null,null,0,null,null,null,null,null,null,null,null,"","",{"$f":"IF(OR(AC25=\"\",AD25=\"\"),\"\",AC25*AD25)","v":""},""]
["",{"$f":"IF(A26=\"\",\"\",(COUNTIF($A$12:A26,A26))/100)","v":""},"",15,null,null,null,null,null,"","",null,null,null,null,null,null,null,null,0,null,null,null,null,null,null,null,null,"","",{"$f":"IF(OR(AC26=\"\",AD26=\"\"),\"\",AC26*AD26)","v":""},""]
["",{"$f":"IF(A27=\"\",\"\",(COUNTIF($A$12:A27,A27))/100)","v":""},"",16,null,null,null,null,null,"","",null,null,null,null,null,null,null,null,0,null,null,null,null,null,null,null,null,"","","",""]
["",{"$f":"IF(A28=\"\",\"\",(COUNTIF($A$12:A28,A28))/100)","v":""},"",17,null,null,null,null,null,"","",null,null,null,null,null,null,null,null,0,null,null,null,null,null,null,null,null,"","","",""]
["",{"$f":"IF(A29=\"\",\"\",(COUNTIF($A$12:A29,A29))/100)","v":""},{"$f":"IFERROR(A29+B29,\"\")","v":""},18,null,null,null,null,null,"","",null,null,null,null,null,null,null,null,0,null,null,null,null,null,null,null,null,"","","",""]
["",{"$f":"IF(A30=\"\",\"\",(COUNTIF($A$12:A30,A30))/100)","v":""},"",19,null,null,null,null,null,"","",null,null,null,null,null,null,null,null,0,null,null,null,null,null,null,null,null,"","","",""]
["",{"$f":"IF(A31=\"\",\"\",(COUNTIF($A$12:A31,A31))/100)","v":""},"",20,null,null,null,null,null,"","",null,null,null,null,null,null,null,null,0,null,null,null,null,null,null,null,null,"","","",""]
["",{"$f":"IF(A32=\"\",\"\",(COUNTIF($A$12:A32,A32))/100)","v":""},"",21,null,null,null,null,null,"","",null,null,null,null,null,null,null,null,0,null,null,null,null,null,null,null,null,"","","",""]
["",{"$f":"IF(A33=\"\",\"\",(COUNTIF($A$12:A33,A33))/100)","v":""},"",22,null,null,null,null,null,"","",null,null,null,null,null,null,null,null,0,null,null,null,null,null,null,null,null,"","","",""]
["",{"$f":"IF(A34=\"\",\"\",(COUNTIF($A$12:A34,A34))/100)","v":""},"",23,null,null,null,null,null,"","",null,null,null,null,null,null,null,null,0,null,null,null,null,null,null,null,null,"","","",""]
["",{"$f":"IF(A35=\"\",\"\",(COUNTIF($A$12:A35,A35))/100)","v":""},"",24,null,null,null,null,null,"","",null,null,null,null,null,null,null,null,0,null,null,null,null,null,null,null,null,"","","",""]
["",{"$f":"IF(A36=\"\",\"\",(COUNTIF($A$12:A36,A36))/100)","v":""},"",25,null,null,null,null,null,"","",null,null,null,null,null,null,null,null,0,null,null,null,null,null,null,null,null,"","","",""]
["",{"$f":"IF(A37=\"\",\"\",(COUNTIF($A$12:A37,A37))/100)","v":""},"",26,null,null,null,null,null,"","",null,null,null,null,null,null,null,null,0,null,null,null,null,null,null,null,null,"","","",""]
["",{"$f":"IF(A38=\"\",\"\",(COUNTIF($A$12:A38,A38))/100)","v":""},"",27,null,null,null,null,null,"","",null,null,null,null,null,null,null,null,0,null,null,null,null,null,null,null,null,"","","",""]
["",{"$f":"IF(A39=\"\",\"\",(COUNTIF($A$12:A39,A39))/100)","v":""},"",28,null,null,null,null,null,"","",null,null,null,null,null,null,null,null,0,null,null,null,null,null,null,null,null,"","","",""]
["",{"$f":"IF(A40=\"\",\"\",(COUNTIF($A$12:A40,A40))/100)","v":""},"",29,null,null,null,null,null,"","",null,null,null,null,null,null,null,null,0,null,null,null,null,null,null,null,null,"","","",""]
["",{"$f":"IF(A41=\"\",\"\",(COUNTIF($A$12:A41,A41))/100)","v":""},"",30,null,null,null,null,null,"","",null,null,null,null,null,null,null,null,0,null,null,null,null,null,null,null,null,"","","",""]
["",{"$f":"IF(A42=\"\",\"\",(COUNTIF($A$12:A42,A42))/100)","v":""},"",31,null,null,null,null,null,"","",null,null,null,null,null,null,null,null,0,null,null,null,null,null,null,null,null,"","","",""]
["",{"$f":"IF(A43=\"\",\"\",(COUNTIF($A$12:A43,A43))/100)","v":""},"",32,null,null,null,null,null,"","",null,null,null,null,null,null,null,null,0,null,null,null,null,null,null,null,null,"","","",""]
[{"$f":"IF(AND(AC44=1,AD44=1),1,IF(AND(AC44=1,AD44=2),2,IF(AND(AC44=1,AD44=3),3,IF(AND(AC44=1,AD44=4),4,IF(AND(AC44=1,AD44=5),5,IF(AND(AC44=2,AD44=1),6,IF(AND(AC44=2,AD44=2),7,IF(AND(AC44=2,AD44=3),8,IF(AND(AC44=2,AD44=4),9,IF(AND(AC44=2,AD44=5),10,IF(AND(AC44=3,AD44=1),11,IF(AND(AC44=3,AD44=2),12,IF(AND(AC44=3,AD44=3),13,IF(AND(AC44=3,AD44=4),14,IF(AND(AC44=3,AD44=5),15,IF(AND(AC44=4,AD44=1),16,IF(AND(AC44=4,AD44=2),17,IF(AND(AC44=4,AD44=3),18,IF(AND(AC44=4,AD44=4),19,IF(AND(AC44=4,AD44=5),20,IF(AND(AC44=5,AD44=1),21,IF(AND(AC44=5,AD44=2),22,IF(AND(AC44=5,AD44=3),23,IF(AND(AC44=5,AD44=4),24,IF(AND(AC44=5,AD44=5),25,\"\")))))))))))))))))))))))))","v":""},{"$f":"IF(A44=\"\",\"\",(COUNTIF($A$12:A44,A44))/100)","v":""},"",33,null,null,null,null,null,{"$f":"IF(OR(H44=\"\",I44=\"\"),\"\",H44*I44)","v":""},"",null,null,null,null,null,null,null,null,0,null,null,null,null,null,null,null,null,"","","",""]
["",{"$f":"IF(A45=\"\",\"\",(COUNTIF($A$12:A45,A45))/100)","v":""},"",34,null,null,null,null,null,"","",null,null,null,null,null,null,null,null,0,null,null,null,null,null,null,null,null,"","","",""]
["",{"$f":"IF(A46=\"\",\"\",(COUNTIF($A$12:A46,A46))/100)","v":""},"",35,null,null,null,null,null,"","",null,null,null,null,null,null,null,null,0,null,null,null,null,null,null,null,null,"","","",""]
["",{"$f":"IF(A47=\"\",\"\",(COUNTIF($A$12:A47,A47))/100)","v":""},"",36,null,null,null,null,null,"","",null,null,null,null,null,null,null,null,0,null,null,null,null,null,null,null,null,"","","",""]
["",{"$f":"IF(A48=\"\",\"\",(COUNTIF($A$12:A48,A48))/100)","v":""},"",37,null,null,null,null,null,"","",null,null,null,null,null,null,null,null,0,null,null,null,null,null,null,null,null,{"$f":"IF(J48=\"\",\"\",IF(OR(N48=\"\",N48=\"IMPACTO\"),H48,IF(T48<=50,H48,IF(AND(T48<=75,H48<5),H48+1,IF(AND(T48<=75,H48=5),H48,IF(AND(T48<=100,H48<4),H48+2,IF(AND(T48<=100,H48=4),H48+1,IF(AND(T48<=100,H48=5),H48,\"\"))))))))","v":""},"","",""]
["",{"$f":"IF(A49=\"\",\"\",(COUNTIF($A$12:A49,A49))/100)","v":""},"",38,null,null,null,null,null,"","",null,null,null,null,null,null,null,null,0,null,null,null,null,null,null,null,null,"","","",""]
["",{"$f":"IF(A50=\"\",\"\",(COUNTIF($A$12:A50,A50))/100)","v":""},"",39,null,null,null,null,null,"","",null,null,null,null,null,null,null,null,0,null,null,null,null,null,null,null,null,"","","",""]
["",{"$f":"IF(A51=\"\",\"\",(COUNTIF($A$12:A51,A51))/100)","v":""},"",40,null,null,null,null,null,"","",null,null,null,null,null,null,null,null,0,null,null,null,null,null,null,null,null,"","","",""]
["",{"$f":"IF(A52=\"\",\"\",(COUNTIF($A$12:A52,A52))/100)","v":""},"",41,null,null,null,null,null,"","",null,null,null,null,null,null,null,null,0,null,null,null,null,null,null,null,null,"","","",""]
["",{"$f":"IF(A53=\"\",\"\",(COUNTIF($A$12:A53,A53))/100)","v":""},"",42,null,null,null,null,null,"","",null,null,null,null,null,null,null,null,0,null,null,null,null,null,null,null,null,"","","",""]
["",{"$f":"IF(A54=\"\",\"\",(COUNTIF($A$12:A54,A54))/100)","v":""},"",43,null,null,null,null,null,"","",null,null,null,null,null,null,null,null,0,null,null,null,null,null,null,null,null,"","","",""]
["",{"$f":"IF(A55=\"\",\"\",(COUNTIF($A$12:A55,A55))/100)","v":""},"",44,null,null,null,null,null,"","",null,null,null,null,null,null,null,null,0,null,null,null,null,null,null,null,null,"","","",""]
["",{"$f":"IF(A56=\"\",\"\",(COUNTIF($A$12:A56,A56))/100)","v":""},"",45,null,null,null,null,null,"","",null,null,null,null,null,null,null,null,0,null,null,null,null,null,null,null,null,"","","",""]
["",{"$f":"IF(A57=\"\",\"\",(COUNTIF($A$12:A57,A57))/100)","v":""},"",46,null,null,null,null,null,"","",null,null,null,null,null,null,null,null,0,null,null,null,null,null,null,null,null,"","","",""]
["",{"$f":"IF(A58=\"\",\"\",(COUNTIF($A$12:A58,A58))/100)","v":""},"",47,null,null,null,null,null,"","",null,null,null,null,null,null,null,null,0,null,null,null,null,null,null,null,null,"","","",""]
["",{"$f":"IF(A59=\"\",\"\",(COUNTIF($A$12:A59,A59))/100)","v":""},"",48,null,null,null,null,null,"","",null,null,null,null,null,null,null,null,0,null,null,null,null,null,null,null,null,"","","",""]
["",{"$f":"IF(A60=\"\",\"\",(COUNTIF($A$12:A60,A60))/100)","v":""},"",49,null,null,null,null,null,"","",null,null,null,null,null,null,null,null,0,null,null,null,null,null,null,null,null,"","","",""]
["",{"$f":"IF(A61=\"\",\"\",(COUNTIF($A$12:A61,A61))/100)","v":""},"",50,null,null,null,null,null,"","",null,null,null,null,null,null,null,null,0,null,null,null,null,null,null,null,null,"","","",""]
["",{"$f":"IF(A62=\"\",\"\",(COUNTIF($A$12:A62,A62))/100)","v":""},"",51,null,null,null,null,null,"","",null,null,null,null,null,null,null,null,0,null,null,null,null,null,null,null,null,"","","",""]
["",{"$f":"IF(A63=\"\",\"\",(COUNTIF($A$12:A63,A63))/100)","v":""},"",52,null,null,null,null,null,"","",null,null,null,null,null,null,null,null,0,null,null,null,null,null,null,null,null,"","","",""]
["",{"$f":"IF(A64=\"\",\"\",(COUNTIF($A$12:A64,A64))/100)","v":""},"",53,null,null,null,null,null,"","",null,null,null,null,null,null,null,null,0,null,null,null,null,null,null,null,null,"","","",""]
["",{"$f":"IF(A65=\"\",\"\",(COUNTIF($A$12:A65,A65))/100)","v":""},"",54,null,null,null,null,null,"","",null,null,null,null,null,null,null,null,0,null,null,null,null,null,null,null,null,"","","",""]
["",{"$f":"IF(A66=\"\",\"\",(COUNTIF($A$12:A66,A66))/100)","v":""},"",55,null,null,null,null,null,"","",null,null,null,null,null,null,null,null,0,null,null,null,null,null,null,null,null,"","","",""]
["",{"$f":"IF(A67=\"\",\"\",(COUNTIF($A$12:A67,A67))/100)","v":""},"",56,null,null,null,null,null,"","",null,null,null,null,null,null,null,null,0,null,null,null,null,null,null,null,null,"","","",""]
["",{"$f":"IF(A68=\"\",\"\",(COUNTIF($A$12:A68,A68))/100)","v":""},"",57,null,null,null,null,null,"","",null,null,null,null,null,null,null,null,0,null,null,null,null,null,null,null,null,"","","",""]
["",{"$f":"IF(A69=\"\",\"\",(COUNTIF($A$12:A69,A69))/100)","v":""},"",58,null,null,null,null,null,"","",null,null,null,null,null,null,null,null,0,null,null,null,null,null,null,null,null,"","","",""]
["",{"$f":"IF(A70=\"\",\"\",(COUNTIF($A$12:A70,A70))/100)","v":""},"",59,null,null,null,null,null,"","",null,null,null,null,null,null,null,null,0,null,null,null,null,null,null,null,null,"","","",""]
["",{"$f":"IF(A71=\"\",\"\",(COUNTIF($A$12:A71,A71))/100)","v":""},"",60,null,null,null,null,null,"","",null,null,null,null,null,null,null,null,0,null,null,null,null,null,null,null,null,"","","",""]
["",{"$f":"IF(A72=\"\",\"\",(COUNTIF($A$12:A72,A72))/100)","v":""},"",61,null,null,null,null,null,"","",null,null,null,null,null,null,null,null,0,null,null,null,null,null,null,null,null,"","","",""]
["",{"$f":"IF(A73=\"\",\"\",(COUNTIF($A$12:A73,A73))/100)","v":""},"",62,null,null,null,null,null,"","",null,null,null,null,null,null,null,null,0,null,null,null,null,null,null,null,null,"","","",""]
["",{"$f":"IF(A74=\"\",\"\",(COUNTIF($A$12:A74,A74))/100)","v":""},"",63,null,null,null,null,null,"","",null,null,null,null,null,null,null,null,0,null,null,null,null,null,null,null,null,"","","",""]
["",{"$f":"IF(A75=\"\",\"\",(COUNTIF($A$12:A75,A75))/100)","v":""},"",64,null,null,null,null,null,"","",null,null,null,null,null,null,null,null,0,null,null,null,null,null,null,null,null,"","","",""]
[{"$f":"IF(AND(AC76=1,AD76=1),1,IF(AND(AC76=1,AD76=2),2,IF(AND(AC76=1,AD76=3),3,IF(AND(AC76=1,AD76=4),4,IF(AND(AC76=1,AD76=5),5,IF(AND(AC76=2,AD76=1),6,IF(AND(AC76=2,AD76=2),7,IF(AND(AC76=2,AD76=3),8,IF(AND(AC76=2,AD76=4),9,IF(AND(AC76=2,AD76=5),10,IF(AND(AC76=3,AD76=1),11,IF(AND(AC76=3,AD76=2),12,IF(AND(AC76=3,AD76=3),13,IF(AND(AC76=3,AD76=4),14,IF(AND(AC76=3,AD76=5),15,IF(AND(AC76=4,AD76=1),16,IF(AND(AC76=4,AD76=2),17,IF(AND(AC76=4,AD76=3),18,IF(AND(AC76=4,AD76=4),19,IF(AND(AC76=4,AD76=5),20,IF(AND(AC76=5,AD76=1),21,IF(AND(AC76=5,AD76=2),22,IF(AND(AC76=5,AD76=3),23,IF(AND(AC76=5,AD76=4),24,IF(AND(AC76=5,AD76=5),25,\"\")))))))))))))))))))))))))","v":""},{"$f":"IF(A76=\"\",\"\",(COUNTIF($A$12:A76,A76))/100)","v":""},"",65,null,null,null,null,null,{"$f":"IF(OR(H76=\"\",I76=\"\"),\"\",H76*I76)","v":""},"",null,null,null,null,null,null,null,null,0,null,null,null,null,null,null,null,null,"","","",""]
["",{"$f":"IF(A77=\"\",\"\",(COUNTIF($A$12:A77,A77))/100)","v":""},"",66,null,null,null,null,null,"",{"$f":"IF(J77=\"\",\"\",IF(AND(H77=1,I77=1),\"BAJO\",IF(AND(H77=1,I77=2),\"BAJO\",IF(AND(H77=1,I77=3),\"MODERADO\",IF(AND(H77=1,I77=4),\"FAVORABLE\",IF(AND(H77=1,I77=5),\"FAVORABLE\",IF(AND(H77=2,I77=1),\"BAJO\",IF(AND(H77=2,I77=2),\"BAJO\",IF(AND(H77=2,I77=3),\"MODERADO\",IF(AND(H77=2,I77=4),\"FAVORABLE\",IF(AND(H77=2,I77=5),\"ALTO\",IF(AND(H77=3,I77=1),\"BAJO\",IF(AND(H77=3,I77=2),\"MODERADO\",IF(AND(H77=3,I77=3),\"FAVORABLE\",IF(AND(H77=3,I77=4),\"ALTO\",IF(AND(H77=3,I77=5),\"ALTO\",IF(AND(H77=4,I77=1),\"MODERADO\",IF(AND(H77=4,I77=2),\"FAVORABLE\",IF(AND(H77=4,I77=3),\"FAVORABLE\",IF(AND(H77=4,I77=4),\"ALTO\",IF(AND(H77=4,I77=5),\"ALTO\",IF(AND(H77=5,I77=1),\"FAVORABLE\",IF(AND(H77=5,I77=2),\"FAVORABLE\",IF(AND(H77=5,I77=3),\"ALTO\",IF(AND(H77=5,I77=4),\"ALTO\",IF(AND(H77=5,I77=5),\"ALTO\",\"\"))))))))))))))))))))))))))","v":""},null,null,null,null,null,null,null,null,{"$f":"IFERROR(SUM(O77:S77),\"\")","v":0},null,null,null,null,null,null,null,null,{"$f":"IF(J77=\"\",\"\",IF(OR(N77=\"\",N77=\"IMPACTO\"),H77,IF(T77<=50,H77,IF(AND(T77<=75,H77<5),H77+1,IF(AND(T77<=75,H77=5),H77,IF(AND(T77<=100,H77<4),H77+2,IF(AND(T77<=100,H77=4),H77+1,IF(AND(T77<=100,H77=5),H77,\"\"))))))))","v":""},{"$f":"IF(J77=\"\",\"\",IF(OR(N77=\"\",N77=\"PROBABILIDAD\"),I77,IF(T77<=50,I77,IF(AND(T77<=75,I77<5),I77+1,IF(AND(T77<=75,I77=5),I77,IF(AND(T77<=100,I77<4),I77+2,IF(AND(T77<=100,I77=4),I77+1,IF(AND(T77<=100,I77=5),I77,\"\"))))))))","v":""},{"$f":"IF(OR(AC77=\"\",AD77=\"\"),\"\",AC77*AD77)","v":""},{"$f":"IF(AE77=\"\",\"\",IF(AND(AC77=1,AD77=1),\"BAJO\",IF(AND(AC77=1,AD77=2),\"MODERADO\",IF(AND(AC77=1,AD77=3),\"MODERADO\",IF(AND(AC77=1,AD77=4),\"MODERADO\",IF(AND(AC77=1,AD77=5),\"MODERADO\",IF(AND(AC77=2,AD77=1),\"BAJO\",IF(AND(AC77=2,AD77=2),\"MODERADO\",IF(AND(AC77=2,AD77=3),\"MODERADO\",IF(AND(AC77=2,AD77=4),\"FAVORABLE\",IF(AND(AC77=2,AD77=5),\"FAVORABLE\",IF(AND(AC77=3,AD77=1),\"BAJO\",IF(AND(AC77=3,AD77=2),\"MODERADO\",IF(AND(AC77=3,AD77=3),\"FAVORABLE\",IF(AND(AC77=3,AD77=4),\"FAVORABLE\",IF(AND(AC77=3,AD77=5),\"FAVORABLE\",IF(AND(AC77=4,AD77=1),\"BAJO\",IF(AND(AC77=4,AD77=2),\"MODERADO\",IF(AND(AC77=4,AD77=3),\"FAVORABLE\",IF(AND(AC77=4,AD77=4),\"FAVORABLE\",IF(AND(AC77=4,AD77=5),\"ALTO\",IF(AND(AC77=5,AD77=1),\"BAJO\",IF(AND(AC77=5,AD77=2),\"MODERADO\",IF(AND(AC77=5,AD77=3),\"FAVORABLE\",IF(AND(AC77=5,AD77=4),\"ALTO\",IF(AND(AC77=5,AD77=5),\"ALTO\",\"\"))))))))))))))))))))))))))","v":""}]
["",{"$f":"IF(A78=\"\",\"\",(COUNTIF($A$12:A78,A78))/100)","v":""},"",67,null,null,null,null,null,"","",null,null,null,null,null,null,null,null,0,null,null,null,null,null,null,null,null,"","","",""]
["",{"$f":"IF(A79=\"\",\"\",(COUNTIF($A$12:A79,A79))/100)","v":""},"",68,null,null,null,null,null,"","",null,null,null,null,null,null,null,null,0,null,null,null,null,null,null,null,null,"","","",""]
["",{"$f":"IF(A80=\"\",\"\",(COUNTIF($A$12:A80,A80))/100)","v":""},"",69,null,null,null,null,null,"","",null,null,null,null,null,null,null,null,0,null,null,null,null,null,null,null,null,"","","",""]
["",{"$f":"IF(A81=\"\",\"\",(COUNTIF($A$12:A81,A81))/100)","v":""},"",70,null,null,null,null,null,"","",null,null,null,null,null,null,null,null,0,null,null,null,null,null,null,null,null,"","","",""]
["",{"$f":"IF(A82=\"\",\"\",(COUNTIF($A$12:A82,A82))/100)","v":""},"",71,null,null,null,null,null,"","",null,null,null,null,null,null,null,null,0,null,null,null,null,null,null,null,null,"","","",""]
["",{"$f":"IF(A83=\"\",\"\",(COUNTIF($A$12:A83,A83))/100)","v":""},"",72,null,null,null,null,null,"","",null,null,null,null,null,null,null,null,0,null,null,null,null,null,null,null,null,"","","",""]
["",{"$f":"IF(A84=\"\",\"\",(COUNTIF($A$12:A84,A84))/100)","v":""},"",73,null,null,null,null,null,"","",null,null,null,null,null,null,null,null,0,null,null,null,null,null,null,null,null,"","","",""]
["",{"$f":"IF(A85=\"\",\"\",(COUNTIF($A$12:A85,A85))/100)","v":""},"",74,null,null,null,null,null,"","",null,null,null,null,null,null,null,null,0,null,null,null,null,null,null,null,null,"","","",""]
["",{"$f":"IF(A86=\"\",\"\",(COUNTIF($A$12:A86,A86))/100)","v":""},"",75,null,null,null,null,null,"","",null,null,null,null,null,null,null,null,0,null,null,null,null,null,null,null,null,"","","",""]
["",{"$f":"IF(A87=\"\",\"\",(COUNTIF($A$12:A87,A87))/100)","v":""},"",76,null,null,null,null,null,"","",null,null,null,null,null,null,null,null,0,null,null,null,null,null,null,null,null,"","","",""]
["",{"$f":"IF(A88=\"\",\"\",(COUNTIF($A$12:A88,A88))/100)","v":""},"",77,null,null,null,null,null,"","",null,null,null,null,null,null,null,null,0,null,null,null,null,null,null,null,null,"","","",""]
["",{"$f":"IF(A89=\"\",\"\",(COUNTIF($A$12:A89,A89))/100)","v":""},"",78,null,null,null,null,null,"","",null,null,null,null,null,null,null,null,0,null,null,null,null,null,null,null,null,"","","",""]
["",{"$f":"IF(A90=\"\",\"\",(COUNTIF($A$12:A90,A90))/100)","v":""},"",79,null,null,null,null,null,"","",null,null,null,null,null,null,null,null,0,null,null,null,null,null,null,null,null,"","","",""]
["",{"$f":"IF(A91=\"\",\"\",(COUNTIF($A$12:A91,A91))/100)","v":""},"",80,null,null,null,null,null,"","",null,null,null,null,null,null,null,null,0,null,null,null,null,null,null,null,null,"","","",""]
["",{"$f":"IF(A92=\"\",\"\",(COUNTIF($A$12:A92,A92))/100)","v":""},"",81,null,null,null,null,null,"","",null,null,null,null,null,null,null,null,0,null,null,null,null,null,null,null,null,"","","",""]
["",{"$f":"IF(A93=\"\",\"\",(COUNTIF($A$12:A93,A93))/100)","v":""},{"$f":"IFERROR(A93+B93,\"\")","v":""},82,null,null,null,null,null,"","",null,null,null,null,null,null,null,null,0,null,null,null,null,null,null,null,null,"","","",""]
["",{"$f":"IF(A94=\"\",\"\",(COUNTIF($A$12:A94,A94))/100)","v":""},"",83,null,null,null,null,null,"","",null,null,null,null,null,null,null,null,0,null,null,null,null,null,null,null,null,"","","",""]
["",{"$f":"IF(A95=\"\",\"\",(COUNTIF($A$12:A95,A95))/100)","v":""},"",84,null,null,null,null,null,"","",null,null,null,null,null,null,null,null,0,null,null,null,null,null,null,null,null,"","","",""]
["",{"$f":"IF(A96=\"\",\"\",(COUNTIF($A$12:A96,A96))/100)","v":""},"",85,null,null,null,null,null,"","",null,null,null,null,null,null,null,null,0,null,null,null,null,null,null,null,null,"","","",""]
["",{"$f":"IF(A97=\"\",\"\",(COUNTIF($A$12:A97,A97))/100)","v":""},"",86,null,null,null,null,null,"","",null,null,null,null,null,null,null,null,0,null,null,null,null,null,null,null,null,"","","",""]
["",{"$f":"IF(A98=\"\",\"\",(COUNTIF($A$12:A98,A98))/100)","v":""},"",87,null,null,null,null,null,"","",null,null,null,null,null,null,null,null,0,null,null,null,null,null,null,null,null,"","","",""]
["",{"$f":"IF(A99=\"\",\"\",(COUNTIF($A$12:A99,A99))/100)","v":""},"",88,null,null,null,null,null,"","",null,null,null,null,null,null,null,null,0,null,null,null,null,null,null,null,null,"","","",""]
["",{"$f":"IF(A100=\"\",\"\",(COUNTIF($A$12:A100,A100))/100)","v":""},"",89,null,null,null,null,null,"","",null,null,null,null,null,null,null,null,0,null,null,null,null,null,null,null,null,"","","",""]
["",{"$f":"IF(A101=\"\",\"\",(COUNTIF($A$12:A101,A101))/100)","v":""},"",90,null,null,null,null,null,"","",null,null,null,null,null,null,null,null,0,null,null,null,null,null,null,null,null,"","","",""]
["",{"$f":"IF(A102=\"\",\"\",(COUNTIF($A$12:A102,A102))/100)","v":""},"",91,null,null,null,null,null,"","",null,null,null,null,null,null,null,null,0,null,null,null,null,null,null,null,null,"","","",""]
["",{"$f":"IF(A103=\"\",\"\",(COUNTIF($A$12:A103,A103))/100)","v":""},"",92,null,null,null,null,null,"","",null,null,null,null,null,null,null,null,0,null,null,null,null,null,null,null,null,"","","",""]
["",{"$f":"IF(A104=\"\",\"\",(COUNTIF($A$12:A104,A104))/100)","v":""},"",93,null,null,null,null,null,"","",null,null,null,null,null,null,null,null,0,null,null,null,null,null,null,null,null,"","","",""]
["",{"$f":"IF(A105=\"\",\"\",(COUNTIF($A$12:A105,A105))/100)","v":""},"",94,null,null,null,null,null,"","",null,null,null,null,null,null,null,null,0,null,null,null,null,null,null,null,null,"","","",""]
["",{"$f":"IF(A106=\"\",\"\",(COUNTIF($A$12:A106,A106))/100)","v":""},"",95,null,null,null,null,null,"","",null,null,null,null,null,null,null,null,0,null,null,null,null,null,null,null,null,"","","",""]
["",{"$f":"IF(A107=\"\",\"\",(COUNTIF($A$12:A107,A107))/100)","v":""},"",96,null,null,null,null,null,"","",null,null,null,null,null,null,null,null,0,null,null,null,null,null,null,null,null,"","","",""]
["",{"$f":"IF(A108=\"\",\"\",(COUNTIF($A$12:A108,A108))/100)","v":""},"",97,null,null,null,null,null,{"$f":"IF(OR(H108=\"\",I108=\"\"),\"\",H108*I108)","v":""},"",null,null,null,null,null,null,null,null,0,null,null,null,null,null,null,null,null,"","","",""]
["",{"$f":"IF(A109=\"\",\"\",(COUNTIF($A$12:A109,A109))/100)","v":""},"",98,null,null,null,null,null,{"$f":"IF(OR(H109=\"\",I109=\"\"),\"\",H109*I109)","v":""},"",null,null,null,null,null,null,null,null,0,null,null,null,null,null,null,null,null,"","","",""]
["",{"$f":"IF(A110=\"\",\"\",(COUNTIF($A$12:A110,A110))/100)","v":""},"",99,null,null,null,null,null,{"$f":"IF(OR(H110=\"\",I110=\"\"),\"\",H110*I110)","v":""},"",null,null,null,null,null,null,null,null,0,null,null,null,null,null,null,null,null,"","","",""]
["",{"$f":"IF(A111=\"\",\"\",(COUNTIF($A$12:A111,A111))/100)","v":""},"",100,null,null,null,null,null,{"$f":"IF(OR(H111=\"\",I111=\"\"),\"\",H111*I111)","v":""},"",null,null,null,null,null,null,null,null,0,null,null,null,null,null,null,null,null,"","","",""]

{"sheet":"MAPA OPORTUNIDADES","index":12,"n_rows":206,"n_cols":62,"rows_kept":206,"cut":false,"hidden":false,"merged":[[23,1,23,11],[24,1,24,11],[25,1,25,9],[1,1,4,1],[1,8,1,9],[2,8,2,9],[3,8,3,9],[4,8,4,9],[1,2,1,7],[2,2,2,7],[3,2,4,7],[10,1,10,2],[11,1,11,2],[6,1,7,9],[8,1,8,2],[8,3,9,3],[8,4,9,4],[8,5,9,5],[9,1,9,2],[8,6,9,7],[8,8,9,9],[17,6,19,6],[17,7,19,7],[10,6,10,7],[10,8,10,9],[11,6,11,7],[11,8,11,9],[16,8,16,9],[17,8,19,9],[12,8,12,9],[13,6,13,7],[13,8,13,9],[14,6,14,7],[14,8,14,9],[15,6,15,9],[12,6,12,7],[12,1,12,2],[13,1,13,2],[14,1,14,2],[18,2,18,4],[19,2,19,4],[15,2,15,4],[16,2,16,4],[17,2,17,4]]}
[]
[null,null,"MACROPROCESO ESTRATÉGICO",null,null,null,null,null,"CÓDIGO: ESGr028"]
[null,null,"PROCESO GESTIÓN SISTEMAS INTEGRADOS",null,null,null,null,null,"VERSIÓN: 17"]
[null,null,"GESTIÓN DEL RIESGO Y LAS OPORTUNIDADES",null,null,null,null,null,"VIGENCIA: 2023-10-12"]
[null,null,null,null,null,null,null,null,"PÁGINA: 10 de 11"]
[]
["REGRESAR","MAPA DE OPORTUNIDADES DE LA UNIVERSIDAD DE CUNDINAMARCA"]
[]
[null,"IMPACTO",null,"Insignificante 20% (1)","Menor 40% (2)","Moderado 60% (3)","Mayor 80% (4)",null,"Excelente 100% (5)",null,null,null,null,{"$f":"IF(N10<>\"\",\" -O\",\"\")","v":""},null,{"$f":"IF(P10<>\"\",\" -O\",\"\")","v":""},null,{"$f":"IF(R10<>\"\",\" -O\",\"\")","v":""},null,{"$f":"IF(T10<>\"\",\" -O\",\"\")","v":""},null,{"$f":"IF(V10<>\"\",\" -O\",\"\")","v":""},null,{"$f":"IF(X10<>\"\",\" -O\",\"\")","v":""},null,{"$f":"IF(Z10<>\"\",\" -O\",\"\")","v":""},null,{"$f":"IF(AB10<>\"\",\" -O\",\"\")","v":""},null,{"$f":"IF(AD10<>\"\",\" -O\",\"\")","v":""},null,{"$f":"IF(AF10<>\"\",\" -O\",\"\")","v":""},null,{"$f":"IF(AH10<>\"\",\" -O\",\"\")","v":""},null,{"$f":"IF(AJ10<>\"\",\" -O\",\"\")","v":""},null,{"$f":"IF(AL10<>\"\",\" -O\",\"\")","v":""},null,{"$f":"IF(AN10<>\"\",\" -O\",\"\")","v":""},null,{"$f":"IF(AP10<>\"\",\" -O\",\"\")","v":""},null,{"$f":"IF(AR10<>\"\",\" -O\",\"\")","v":""},null,{"$f":"IF(AT10<>\"\",\" -O\",\"\")","v":""},null,{"$f":"IF(AV10<>\"\",\" -O\",\"\")","v":""},null,{"$f":"IF(AX10<>\"\",\" -O\",\"\")","v":""},null,{"$f":"IF(AZ10<>\"\",\" -O\",\"\")","v":" -O"},null,{"$f":"IF(BB10<>\"\",\" -O\",\"\")","v":""},null,{"$f":"IF(BD10<>\"\",\" -O\",\"\")","v":""},null,{"$f":"IF(BF10<>\"\",\" -O\",\"\")","v":""},null,{"$f":"IF(BH10<>\"\",\" -O\",\"\")","v":""},null,{"$f":"IF(BJ10<>\"\",\" -O\",\"\")","v":" -O"}]
[null,"PROBABILIDAD",null,null,null,null,null,null,null,null,null,null,1.01,{"$f":"IFERROR(VLOOKUP(M10,'CRUCE OPORTUNIDADES'!$C$12:$D$111,2,FALSE),\"\")","v":""},2.0099999999999998,{"$f":"IFERROR(VLOOKUP(O10,'CRUCE OPORTUNIDADES'!$C$12:$D$111,2,FALSE),\"\")","v":""},3.01,{"$f":"IFERROR(VLOOKUP(Q10,'CRUCE OPORTUNIDADES'!$C$12:$D$111,2,FALSE),\"\")","v":""},4.01,{"$f":"IFERROR(VLOOKUP(S10,'CRUCE OPORTUNIDADES'!$C$12:$D$111,2,FALSE),\"\")","v":""},5.01,{"$f":"IFERROR(VLOOKUP(U10,'CRUCE OPORTUNIDADES'!$C$12:$D$111,2,FALSE),\"\")","v":""},6.01,{"$f":"IFERROR(VLOOKUP(W10,'CRUCE OPORTUNIDADES'!$C$12:$D$111,2,FALSE),\"\")","v":""},7.01,{"$f":"IFERROR(VLOOKUP(Y10,'CRUCE OPORTUNIDADES'!$C$12:$D$111,2,FALSE),\"\")","v":""},8.01,{"$f":"IFERROR(VLOOKUP(AA10,'CRUCE OPORTUNIDADES'!$C$12:$D$111,2,FALSE),\"\")","v":""},9.01,{"$f":"IFERROR(VLOOKUP(AC10,'CRUCE OPORTUNIDADES'!$C$12:$D$111,2,FALSE),\"\")","v":""},10.01,{"$f":"IFERROR(VLOOKUP(AE10,'CRUCE OPORTUNIDADES'!$C$12:$D$111,2,FALSE),\"\")","v":""},11.01,{"$f":"IFERROR(VLOOKUP(AG10,'CRUCE OPORTUNIDADES'!$C$12:$D$111,2,FALSE),\"\")","v":""},12.01,{"$f":"IFERROR(VLOOKUP(AI10,'CRUCE OPORTUNIDADES'!$C$12:$D$111,2,FALSE),\"\")","v":""},13.01,{"$f":"IFERROR(VLOOKUP(AK10,'CRUCE OPORTUNIDADES'!$C$12:$D$111,2,FALSE),\"\")","v":""},14.01,{"$f":"IFERROR(VLOOKUP(AM10,'CRUCE OPORTUNIDADES'!$C$12:$D$111,2,FALSE),\"\")","v":""},15.01,{"$f":"IFERROR(VLOOKUP(AO10,'CRUCE OPORTUNIDADES'!$C$12:$D$111,2,FALSE),\"\")","v":""},16.010000000000002,{"$f":"IFERROR(VLOOKUP(AQ10,'CRUCE OPORTUNIDADES'!$C$12:$D$111,2,FALSE),\"\")","v":""},17.010000000000002,{"$f":"IFERROR(VLOOKUP(AS10,'CRUCE OPORTUNIDADES'!$C$12:$D$111,2,FALSE),\"\")","v":""},18.010000000000002,{"$f":"IFERROR(VLOOKUP(AU10,'CRUCE OPORTUNIDADES'!$C$12:$D$111,2,FALSE),\"\")","v":""},19.010000000000002,{"$f":"IFERROR(VLOOKUP(AW10,'CRUCE OPORTUNIDADES'!$C$12:$D$111,2,FALSE),\"\")","v":""},20.010000000000002,{"$f":"IFERROR(VLOOKUP(AY10,'CRUCE OPORTUNIDADES'!$C$12:$D$111,2,FALSE),\"\")","v":1},21.01,{"$f":"IFERROR(VLOOKUP(BA10,'CRUCE OPORTUNIDADES'!$C$12:$D$111,2,FALSE),\"\")","v":""},22.01,{"$f":"IFERROR(VLOOKUP(BC10,'CRUCE OPORTUNIDADES'!$C$12:$D$111,2,FALSE),\"\")","v":""},23.01,{"$f":"IFERROR(VLOOKUP(BE10,'CRUCE OPORTUNIDADES'!$C$12:$D$111,2,FALSE),\"\")","v":""},24.01,{"$f":"IFERROR(VLOOKUP(BG10,'CRUCE OPORTUNIDADES'!$C$12:$D$111,2,FALSE),\"\")","v":""},25.01,{"$f":"IFERROR(VLOOKUP(BI10,'CRUCE OPORTUNIDADES'!$C$12:$D$111,2,FALSE),\"\")","v":3}]
[null,"Raro 20% (1)",null,{"$f":"CONCATENATE(N9,N10,N11,N12,N13,N14,N15,N17,N18,N20,N21,N22,N23,N24,N25,N26,N27,N28,N29,N30,N31,N32,N33,N34,N35,N36,N37,N38,N39,N40,N41,N42,N43,N44,N45,N46,N47,N48,N49,N50,N51,N52,N53,N54,N55,N56,N57,N58,N59,N60,N61,N62,N63,N64,N65,N66,N67,N68,N69,N70,N71,N72,N73,N74,N75,N76,N77,N78,N79,N80,N81,N82,N83,N84,N85,N86,N87,N88,N89,N90,N91,N92,N93,N94,N95,N96,N97,N98,N99,N100,N101,N102,N103,N104,N105,N106,N107,N108,N109,N110,N111,N112,N113,N114,N115,N116,N117,N118,N119,N120,N121,N122,N123,N124,N125,N126,N127,N128,N129,N130,N131,N132,N133,N134,N135,N136,N137,N138,N139,N140,N141,N142,N143,N144,N145,N146,N147,N148,N149,N150,N151,N152,N153,N154,N155,N156,N157,N158,N159,N160,N161,N162,N163,N164,N165,N166,N167,N168,N169,N170,N171,N172,N173,N174,N175,N176,N177,N178,N179,N180,N181,N182,N183,N184,N185,N186,N187,N188,N189,N190,N191,N192,N193,N194,N195,N196,N197,N198,N199,N200,N201,N202,N203,N204,N205,N206,N207,N208)","v":""},{"$f":"CONCATENATE(P9,P10,P11,P12,P13,P14,P15,P17,P18,P20,P21,P22,P23,P24,P25,P26,P27,P28,P29,P30,P31,P32,P33,P34,P35,P36,P37,P38,P39,P40,P41,P42,P43,P44,P45,P46,P47,P48,P49,P50,P51,P52,P53,P54,P55,P56,P57,P58,P59,P60,P61,P62,P63,P64,P65,P66,P67,P68,P69,P70,P71,P72,P73,P74,P75,P76,P77,P78,P79,P80,P81,P82,P83,P84,P85,P86,P87,P88,P89,P90,P91,P92,P93,P94,P95,P96,P97,P98,P99,P100,P101,P102,P103,P104,P105,P106,P107,P108,P109,P110,P111,P112,P113,P114,P115,P116,P117,P118,P119,P120,P121,P122,P123,P124,P125,P126,P127,P128,P129,P130,P131,P132,P133,P134,P135,P136,P137,P138,P139,P140,P141,P142,P143,P144,P145,P146,P147,P148,P149,P150,P151,P152,P153,P154,P155,P156,P157,P158,P159,P160,P161,P162,P163,P164,P165,P166,P167,P168,P169,P170,P171,P172,P173,P174,P175,P176,P177,P178,P179,P180,P181,P182,P183,P184,P185,P186,P187,P188,P189,P190,P191,P192,P193,P194,P195,P196,P197,P198,P199,P200,P201,P202,P203,P204,P205,P206,P207,P208)","v":""},{"$f":"CONCATENATE(R9,R10,R11,R12,R13,R14,R15,R17,R18,R20,R21,R22,R23,R24,R25,R26,R27,R28,R29,R30,R31,R32,R33,R34,R35,R36,R37,R38,R39,R40,R41,R42,R43,R44,R45,R46,R47,R48,R49,R50,R51,R52,R53,R54,R55,R56,R57,R58,R59,R60,R61,R62,R63,R64,R65,R66,R67,R68,R69,R70,R71,R72,R73,R74,R75,R76,R77,R78,R79,R80,R81,R82,R83,R84,R85,R86,R87,R88,R89,R90,R91,R92,R93,R94,R95,R96,R97,R98,R99,R100,R101,R102,R103,R104,R105,R106,R107,R108,R109,R110,R111,R112,R113,R114,R115,R116,R117,R118,R119,R120,R121,R122,R123,R124,R125,R126,R127,R128,R129,R130,R131,R132,R133,R134,R135,R136,R137,R138,R139,R140,R141,R142,R143,R144,R145,R146,R147,R148,R149,R150,R151,R152,R153,R154,R155,R156,R157,R158,R159,R160,R161,R162,R163,R164,R165,R166,R167,R168,R169,R170,R171,R172,R173,R174,R175,R176,R177,R178,R179,R180,R181,R182,R183,R184,R185,R186,R187,R188,R189,R190,R191,R192,R193,R194,R195,R196,R197,R198,R199,R200,R201,R202,R203,R204,R205,R206,R207,R208)","v":""},{"$f":"CONCATENATE(T9,T10,T11,T12,T13,T14,T15,T17,T18,T20,T21,T22,T23,T24,T25,T26,T27,T28,T29,T30,T31,T32,T33,T34,T35,T36,T37,T38,T39,T40,T41,T42,T43,T44,T45,T46,T47,T48,T49,T50,T51,T52,T53,T54,T55,T56,T57,T58,T59,T60,T61,T62,T63,T64,T65,T66,T67,T68,T69,T70,T71,T72,T73,T74,T75,T76,T77,T78,T79,T80,T81,T82,T83,T84,T85,T86,T87,T88,T89,T90,T91,T92,T93,T94,T95,T96,T97,T98,T99,T100,T101,T102,T103,T104,T105,T106,T107,T108,T109,T110,T111,T112,T113,T114,T115,T116,T117,T118,T119,T120,T121,T122,T123,T124,T125,T126,T127,T128,T129,T130,T131,T132,T133,T134,T135,T136,T137,T138,T139,T140,T141,T142,T143,T144,T145,T146,T147,T148,T149,T150,T151,T152,T153,T154,T155,T156,T157,T158,T159,T160,T161,T162,T163,T164,T165,T166,T167,T168,T169,T170,T171,T172,T173,T174,T175,T176,T177,T178,T179,T180,T181,T182,T183,T184,T185,T186,T187,T188,T189,T190,T191,T192,T193,T194,T195,T196,T197,T198,T199,T200,T201,T202,T203,T204,T205,T206,T207,T208)","v":""},null,{"$f":"CONCATENATE(V9,V10,V11,V12,V13,V14,V15,V17,V18,V20,V21,V22,V23,V24,V25,V26,V27,V28,V29,V30,V31,V32,V33,V34,V35,V36,V37,V38,V39,V40,V41,V42,V43,V44,V45,V46,V47,V48,V49,V50,V51,V52,V53,V54,V55,V56,V57,V58,V59,V60,V61,V62,V63,V64,V65,V66,V67,V68,V69,V70,V71,V72,V73,V74,V75,V76,V77,V78,V79,V80,V81,V82,V83,V84,V85,V86,V87,V88,V89,V90,V91,V92,V93,V94,V95,V96,V97,V98,V99,V100,V101,V102,V103,V104,V105,V106,V107,V108,V109,V110,V111,V112,V113,V114,V115,V116,V117,V118,V119,V120,V121,V122,V123,V124,V125,V126,V127,V128,V129,V130,V131,V132,V133,V134,V135,V136,V137,V138,V139,V140,V141,V142,V143,V144,V145,V146,V147,V148,V149,V150,V151,V152,V153,V154,V155,V156,V157,V158,V159,V160,V161,V162,V163,V164,V165,V166,V167,V168,V169,V170,V171,V172,V173,V174,V175,V176,V177,V178,V179,V180,V181,V182,V183,V184,V185,V186,V187,V188,V189,V190,V191,V192,V193,V194,V195,V196,V197,V198,V199,V200,V201,V202,V203,V204,V205,V206,V207,V208)","v":""},null,null,null,null,{"$f":"IF(N12<>\"\",\" -O\",\"\")","v":""},null,{"$f":"IF(P12<>\"\",\" -O\",\"\")","v":""},null,{"$f":"IF(R12<>\"\",\" -O\",\"\")","v":""},null,{"$f":"IF(T12<>\"\",\" -O\",\"\")","v":""},null,{"$f":"IF(V12<>\"\",\" -O\",\"\")","v":""},null,{"$f":"IF(X12<>\"\",\" -O\",\"\")","v":""},null,{"$f":"IF(Z12<>\"\",\" -O\",\"\")","v":""},null,{"$f":"IF(AB12<>\"\",\" -O\",\"\")","v":""},null,{"$f":"IF(AD12<>\"\",\" -O\",\"\")","v":""},null,{"$f":"IF(AF12<>\"\",\" -O\",\"\")","v":""},null,{"$f":"IF(AH12<>\"\",\" -O\",\"\")","v":""},null,{"$f":"IF(AJ12<>\"\",\" -O\",\"\")","v":""},null,{"$f":"IF(AL12<>\"\",\" -O\",\"\")","v":""},null,{"$f":"IF(AN12<>\"\",\" -O\",\"\")","v":""},null,{"$f":"IF(AP12<>\"\",\" -O\",\"\")","v":""},null,{"$f":"IF(AR12<>\"\",\" -O\",\"\")","v":""},null,{"$f":"IF(AT12<>\"\",\" -O\",\"\")","v":""},null,{"$f":"IF(AV12<>\"\",\" -O\",\"\")","v":""},null,{"$f":"IF(AX12<>\"\",\" -O\",\"\")","v":""},null,{"$f":"IF(AZ12<>\"\",\" -O\",\"\")","v":" -O"},null,{"$f":"IF(BB12<>\"\",\" -O\",\"\")","v":""},null,{"$f":"IF(BD12<>\"\",\" -O\",\"\")","v":""},null,{"$f":"IF(BF12<>\"\",\" -O\",\"\")","v":""},null,{"$f":"IF(BH12<>\"\",\" -O\",\"\")","v":""},null,{"$f":"IF(BJ12<>\"\",\" -O\",\"\")","v":" -O"}]
[null,"Improbable 40% (2)",null,{"$f":"CONCATENATE(X9,X10,X11,X12,X13,X14,X15,X17,X18,X20,X21,X22,X23,X24,X25,X26,X27,X28,X29,X30,X31,X32,X33,X34,X35,X36,X37,X38,X39,X40,X41,X42,X43,X44,X45,X46,X47,X48,X49,X50,X51,X52,X53,X54,X55,X56,X57,X58,X59,X60,X61,X62,X63,X64,X65,X66,X67,X68,X69,X70,X71,X72,X73,X74,X75,X76,X77,X78,X79,X80,X81,X82,X83,X84,X85,X86,X87,X88,X89,X90,X91,X92,X93,X94,X95,X96,X97,X98,X99,X100,X101,X102,X103,X104,X105,X106,X107,X108,X109,X110,X111,X112,X113,X114,X115,X116,X117,X118,X119,X120,X121,X122,X123,X124,X125,X126,X127,X128,X129,X130,X131,X132,X133,X134,X135,X136,X137,X138,X139,X140,X141,X142,X143,X144,X145,X146,X147,X148,X149,X150,X151,X152,X153,X154,X155,X156,X157,X158,X159,X160,X161,X162,X163,X164,X165,X166,X167,X168,X169,X170,X171,X172,X173,X174,X175,X176,X177,X178,X179,X180,X181,X182,X183,X184,X185,X186,X187,X188,X189,X190,X191,X192,X193,X194,X195,X196,X197,X198,X199,X200,X201,X202,X203,X204,X205,X206,X207,X208)","v":""},{"$f":"CONCATENATE(Z9,Z10,Z11,Z12,Z13,Z14,Z15,Z17,Z18,Z20,Z21,Z22,Z23,Z24,Z25,Z26,Z27,Z28,Z29,Z30,Z31,Z32,Z33,Z34,Z35,Z36,Z37,Z38,Z39,Z40,Z41,Z42,Z43,Z44,Z45,Z46,Z47,Z48,Z49,Z50,Z51,Z52,Z53,Z54,Z55,Z56,Z57,Z58,Z59,Z60,Z61,Z62,Z63,Z64,Z65,Z66,Z67,Z68,Z69,Z70,Z71,Z72,Z73,Z74,Z75,Z76,Z77,Z78,Z79,Z80,Z81,Z82,Z83,Z84,Z85,Z86,Z87,Z88,Z89,Z90,Z91,Z92,Z93,Z94,Z95,Z96,Z97,Z98,Z99,Z100,Z101,Z102,Z103,Z104,Z105,Z106,Z107,Z108,Z109,Z110,Z111,Z112,Z113,Z114,Z115,Z116,Z117,Z118,Z119,Z120,Z121,Z122,Z123,Z124,Z125,Z126,Z127,Z128,Z129,Z130,Z131,Z132,Z133,Z134,Z135,Z136,Z137,Z138,Z139,Z140,Z141,Z142,Z143,Z144,Z145,Z146,Z147,Z148,Z149,Z150,Z151,Z152,Z153,Z154,Z155,Z156,Z157,Z158,Z159,Z160,Z161,Z162,Z163,Z164,Z165,Z166,Z167,Z168,Z169,Z170,Z171,Z172,Z173,Z174,Z175,Z176,Z177,Z178,Z179,Z180,Z181,Z182,Z183,Z184,Z185,Z186,Z187,Z188,Z189,Z190,Z191,Z192,Z193,Z194,Z195,Z196,Z197,Z198,Z199,Z200,Z201,Z202,Z203,Z204,Z205,Z206,Z207,Z208)","v":""},{"$f":"CONCATENATE(AB9,AB10,AB11,AB12,AB13,AB14,AB15,AB17,AB18,AB20,AB21,AB22,AB23,AB24,AB25,AB26,AB27,AB28,AB29,AB30,AB31,AB32,AB33,AB34,AB35,AB36,AB37,AB38,AB39,AB40,AB41,AB42,AB43,AB44,AB45,AB46,AB47,AB48,AB49,AB50,AB51,AB52,AB53,AB54,AB55,AB56,AB57,AB58,AB59,AB60,AB61,AB62,AB63,AB64,AB65,AB66,AB67,AB68,AB69,AB70,AB71,AB72,AB73,AB74,AB75,AB76,AB77,AB78,AB79,AB80,AB81,AB82,AB83,AB84,AB85,AB86,AB87,AB88,AB89,AB90,AB91,AB92,AB93,AB94,AB95,AB96,AB97,AB98,AB99,AB100,AB101,AB102,AB103,AB104,AB105,AB106,AB107,AB108,AB109,AB110,AB111,AB112,AB113,AB114,AB115,AB116,AB117,AB118,AB119,AB120,AB121,AB122,AB123,AB124,AB125,AB126,AB127,AB128,AB129,AB130,AB131,AB132,AB133,AB134,AB135,AB136,AB137,AB138,AB139,AB140,AB141,AB142,AB143,AB144,AB145,AB146,AB147,AB148,AB149,AB150,AB151,AB152,AB153,AB154,AB155,AB156,AB157,AB158,AB159,AB160,AB161,AB162,AB163,AB164,AB165,AB166,AB167,AB168,AB169,AB170,AB171,AB172,AB173,AB174,AB175,AB176,AB177,AB178,AB179,AB180,AB181,AB182,AB183,AB184,AB185,AB186,AB187,AB188,AB189,AB190,AB191,AB192,AB193,AB194,AB195,AB196,AB197,AB198,AB199,AB200,AB201,AB202,AB203,AB204,AB205,AB206,AB207,AB208)","v":""},{"$f":"CONCATENATE(AD9,AD10,AD11,AD12,AD13,AD14,AD15,AD17,AD18,AD20,AD21,AD22,AD23,AD24,AD25,AD26,AD27,AD28,AD29,AD30,AD31,AD32,AD33,AD34,AD35,AD36,AD37,AD38,AD39,AD40,AD41,AD42,AD43,AD44,AD45,AD46,AD47,AD48,AD49,AD50,AD51,AD52,AD53,AD54,AD55,AD56,AD57,AD58,AD59,AD60,AD61,AD62,AD63,AD64,AD65,AD66,AD67,AD68,AD69,AD70,AD71,AD72,AD73,AD74,AD75,AD76,AD77,AD78,AD79,AD80,AD81,AD82,AD83,AD84,AD85,AD86,AD87,AD88,AD89,AD90,AD91,AD92,AD93,AD94,AD95,AD96,AD97,AD98,AD99,AD100,AD101,AD102,AD103,AD104,AD105,AD106,AD107,AD108,AD109,AD110,AD111,AD112,AD113,AD114,AD115,AD116,AD117,AD118,AD119,AD120,AD121,AD122,AD123,AD124,AD125,AD126,AD127,AD128,AD129,AD130,AD131,AD132,AD133,AD134,AD135,AD136,AD137,AD138,AD139,AD140,AD141,AD142,AD143,AD144,AD145,AD146,AD147,AD148,AD149,AD150,AD151,AD152,AD153,AD154,AD155,AD156,AD157,AD158,AD159,AD160,AD161,AD162,AD163,AD164,AD165,AD166,AD167,AD168,AD169,AD170,AD171,AD172,AD173,AD174,AD175,AD176,AD177,AD178,AD179,AD180,AD181,AD182,AD183,AD184,AD185,AD186,AD187,AD188,AD189,AD190,AD191,AD192,AD193,AD194,AD195,AD196,AD197,AD198,AD199,AD200,AD201,AD202,AD203,AD204,AD205,AD206,AD207,AD208)","v":""},null,{"$f":"CONCATENATE(AF9,AF10,AF11,AF12,AF13,AF14,AF15,AF17,AF18,AF20,AF21,AF22,AF23,AF24,AF25,AF26,AF27,AF28,AF29,AF30,AF31,AF32,AF33,AF34,AF35,AF36,AF37,AF38,AF39,AF40,AF41,AF42,AF43,AF44,AF45,AF46,AF47,AF48,AF49,AF50,AF51,AF52,AF53,AF54,AF55,AF56,AF57,AF58,AF59,AF60,AF61,AF62,AF63,AF64,AF65,AF66,AF67,AF68,AF69,AF70,AF71,AF72,AF73,AF74,AF75,AF76,AF77,AF78,AF79,AF80,AF81,AF82,AF83,AF84,AF85,AF86,AF87,AF88,AF89,AF90,AF91,AF92,AF93,AF94,AF95,AF96,AF97,AF98,AF99,AF100,AF101,AF102,AF103,AF104,AF105,AF106,AF107,AF108,AF109,AF110,AF111,AF112,AF113,AF114,AF115,AF116,AF117,AF118,AF119,AF120,AF121,AF122,AF123,AF124,AF125,AF126,AF127,AF128,AF129,AF130,AF131,AF132,AF133,AF134,AF135,AF136,AF137,AF138,AF139,AF140,AF141,AF142,AF143,AF144,AF145,AF146,AF147,AF148,AF149,AF150,AF151,AF152,AF153,AF154,AF155,AF156,AF157,AF158,AF159,AF160,AF161,AF162,AF163,AF164,AF165,AF166,AF167,AF168,AF169,AF170,AF171,AF172,AF173,AF174,AF175,AF176,AF177,AF178,AF179,AF180,AF181,AF182,AF183,AF184,AF185,AF186,AF187,AF188,AF189,AF190,AF191,AF192,AF193,AF194,AF195,AF196,AF197,AF198,AF199,AF200,AF201,AF202,AF203,AF204,AF205,AF206,AF207,AF208)","v":""},null,null,null,1.02,{"$f":"IFERROR(VLOOKUP(M12,'CRUCE OPORTUNIDADES'!$C$12:$D$111,2,FALSE),\"\")","v":""},2.02,{"$f":"IFERROR(VLOOKUP(O12,'CRUCE OPORTUNIDADES'!$C$12:$D$111,2,FALSE),\"\")","v":""},3.02,{"$f":"IFERROR(VLOOKUP(Q12,'CRUCE OPORTUNIDADES'!$C$12:$D$111,2,FALSE),\"\")","v":""},4.0199999999999996,{"$f":"IFERROR(VLOOKUP(S12,'CRUCE OPORTUNIDADES'!$C$12:$D$111,2,FALSE),\"\")","v":""},5.0199999999999996,{"$f":"IFERROR(VLOOKUP(U12,'CRUCE OPORTUNIDADES'!$C$12:$D$111,2,FALSE),\"\")","v":""},6.02,{"$f":"IFERROR(VLOOKUP(W12,'CRUCE OPORTUNIDADES'!$C$12:$D$111,2,FALSE),\"\")","v":""},7.02,{"$f":"IFERROR(VLOOKUP(Y12,'CRUCE OPORTUNIDADES'!$C$12:$D$111,2,FALSE),\"\")","v":""},8.02,{"$f":"IFERROR(VLOOKUP(AA12,'CRUCE OPORTUNIDADES'!$C$12:$D$111,2,FALSE),\"\")","v":""},9.02,{"$f":"IFERROR(VLOOKUP(AC12,'CRUCE OPORTUNIDADES'!$C$12:$D$111,2,FALSE),\"\")","v":""},10.02,{"$f":"IFERROR(VLOOKUP(AE12,'CRUCE OPORTUNIDADES'!$C$12:$D$111,2,FALSE),\"\")","v":""},11.02,{"$f":"IFERROR(VLOOKUP(AG12,'CRUCE OPORTUNIDADES'!$C$12:$D$111,2,FALSE),\"\")","v":""},12.02,{"$f":"IFERROR(VLOOKUP(AI12,'CRUCE OPORTUNIDADES'!$C$12:$D$111,2,FALSE),\"\")","v":""},13.02,{"$f":"IFERROR(VLOOKUP(AK12,'CRUCE OPORTUNIDADES'!$C$12:$D$111,2,FALSE),\"\")","v":""},14.02,{"$f":"IFERROR(VLOOKUP(AM12,'CRUCE OPORTUNIDADES'!$C$12:$D$111,2,FALSE),\"\")","v":""},15.02,{"$f":"IFERROR(VLOOKUP(AO12,'CRUCE OPORTUNIDADES'!$C$12:$D$111,2,FALSE),\"\")","v":""},16.02,{"$f":"IFERROR(VLOOKUP(AQ12,'CRUCE OPORTUNIDADES'!$C$12:$D$111,2,FALSE),\"\")","v":""},17.02,{"$f":"IFERROR(VLOOKUP(AS12,'CRUCE OPORTUNIDADES'!$C$12:$D$111,2,FALSE),\"\")","v":""},18.02,{"$f":"IFERROR(VLOOKUP(AU12,'CRUCE OPORTUNIDADES'!$C$12:$D$111,2,FALSE),\"\")","v":""},19.02,{"$f":"IFERROR(VLOOKUP(AW12,'CRUCE OPORTUNIDADES'!$C$12:$D$111,2,FALSE),\"\")","v":""},20.02,{"$f":"IFERROR(VLOOKUP(AY12,'CRUCE OPORTUNIDADES'!$C$12:$D$111,2,FALSE),\"\")","v":2},21.02,{"$f":"IFERROR(VLOOKUP(BA12,'CRUCE OPORTUNIDADES'!$C$12:$D$111,2,FALSE),\"\")","v":""},22.02,{"$f":"IFERROR(VLOOKUP(BC12,'CRUCE OPORTUNIDADES'!$C$12:$D$111,2,FALSE),\"\")","v":""},23.02,{"$f":"IFERROR(VLOOKUP(BE12,'CRUCE OPORTUNIDADES'!$C$12:$D$111,2,FALSE),\"\")","v":""},24.02,{"$f":"IFERROR(VLOOKUP(BG12,'CRUCE OPORTUNIDADES'!$C$12:$D$111,2,FALSE),\"\")","v":""},25.02,{"$f":"IFERROR(VLOOKUP(BI12,'CRUCE OPORTUNIDADES'!$C$12:$D$111,2,FALSE),\"\")","v":4}]
[null,"Posible 60% (3)",null,{"$f":"CONCATENATE(AH9,AH10,AH11,AH12,AH13,AH14,AH15,AH17,AH18,AH20,AH21,AH22,AH23,AH24,AH25,AH26,AH27,AH28,AH29,AH30,AH31,AH32,AH33,AH34,AH35,AH36,AH37,AH38,AH39,AH40,AH41,AH42,AH43,AH44,AH45,AH46,AH47,AH48,AH49,AH50,AH51,AH52,AH53,AH54,AH55,AH56,AH57,AH58,AH59,AH60,AH61,AH62,AH63,AH64,AH65,AH66,AH67,AH68,AH69,AH70,AH71,AH72,AH73,AH74,AH75,AH76,AH77,AH78,AH79,AH80,AH81,AH82,AH83,AH84,AH85,AH86,AH87,AH88,AH89,AH90,AH91,AH92,AH93,AH94,AH95,AH96,AH97,AH98,AH99,AH100,AH101,AH102,AH103,AH104,AH105,AH106,AH107,AH108,AH109,AH110,AH111,AH112,AH113,AH114,AH115,AH116,AH117,AH118,AH119,AH120,AH121,AH122,AH123,AH124,AH125,AH126,AH127,AH128,AH129,AH130,AH131,AH132,AH133,AH134,AH135,AH136,AH137,AH138,AH139,AH140,AH141,AH142,AH143,AH144,AH145,AH146,AH147,AH148,AH149,AH150,AH151,AH152,AH153,AH154,AH155,AH156,AH157,AH158,AH159,AH160,AH161,AH162,AH163,AH164,AH165,AH166,AH167,AH168,AH169,AH170,AH171,AH172,AH173,AH174,AH175,AH176,AH177,AH178,AH179,AH180,AH181,AH182,AH183,AH184,AH185,AH186,AH187,AH188,AH189,AH190,AH191,AH192,AH193,AH194,AH195,AH196,AH197,AH198,AH199,AH200,AH201,AH202,AH203,AH204,AH205,AH206,AH207,AH208)","v":""},{"$f":"CONCATENATE(AJ9,AJ10,AJ11,AJ12,AJ13,AJ14,AJ15,AJ17,AJ18,AJ20,AJ21,AJ22,AJ23,AJ24,AJ25,AJ26,AJ27,AJ28,AJ29,AJ30,AJ31,AJ32,AJ33,AJ34,AJ35,AJ36,AJ37,AJ38,AJ39,AJ40,AJ41,AJ42,AJ43,AJ44,AJ45,AJ46,AJ47,AJ48,AJ49,AJ50,AJ51,AJ52,AJ53,AJ54,AJ55,AJ56,AJ57,AJ58,AJ59,AJ60,AJ61,AJ62,AJ63,AJ64,AJ65,AJ66,AJ67,AJ68,AJ69,AJ70,AJ71,AJ72,AJ73,AJ74,AJ75,AJ76,AJ77,AJ78,AJ79,AJ80,AJ81,AJ82,AJ83,AJ84,AJ85,AJ86,AJ87,AJ88,AJ89,AJ90,AJ91,AJ92,AJ93,AJ94,AJ95,AJ96,AJ97,AJ98,AJ99,AJ100,AJ101,AJ102,AJ103,AJ104,AJ105,AJ106,AJ107,AJ108,AJ109,AJ110,AJ111,AJ112,AJ113,AJ114,AJ115,AJ116,AJ117,AJ118,AJ119,AJ120,AJ121,AJ122,AJ123,AJ124,AJ125,AJ126,AJ127,AJ128,AJ129,AJ130,AJ131,AJ132,AJ133,AJ134,AJ135,AJ136,AJ137,AJ138,AJ139,AJ140,AJ141,AJ142,AJ143,AJ144,AJ145,AJ146,AJ147,AJ148,AJ149,AJ150,AJ151,AJ152,AJ153,AJ154,AJ155,AJ156,AJ157,AJ158,AJ159,AJ160,AJ161,AJ162,AJ163,AJ164,AJ165,AJ166,AJ167,AJ168,AJ169,AJ170,AJ171,AJ172,AJ173,AJ174,AJ175,AJ176,AJ177,AJ178,AJ179,AJ180,AJ181,AJ182,AJ183,AJ184,AJ185,AJ186,AJ187,AJ188,AJ189,AJ190,AJ191,AJ192,AJ193,AJ194,AJ195,AJ196,AJ197,AJ198,AJ199,AJ200,AJ201,AJ202,AJ203,AJ204,AJ205,AJ206,AJ207,AJ208)","v":""},{"$f":"CONCATENATE(AL9,AL10,AL11,AL12,AL13,AL14,AL15,AL17,AL18,AL20,AL21,AL22,AL23,AL24,AL25,AL26,AL27,AL28,AL29,AL30,AL31,AL32,AL33,AL34,AL35,AL36,AL37,AL38,AL39,AL40,AL41,AL42,AL43,AL44,AL45,AL46,AL47,AL48,AL49,AL50,AL51,AL52,AL53,AL54,AL55,AL56,AL57,AL58,AL59,AL60,AL61,AL62,AL63,AL64,AL65,AL66,AL67,AL68,AL69,AL70,AL71,AL72,AL73,AL74,AL75,AL76,AL77,AL78,AL79,AL80,AL81,AL82,AL83,AL84,AL85,AL86,AL87,AL88,AL89,AL90,AL91,AL92,AL93,AL94,AL95,AL96,AL97,AL98,AL99,AL100,AL101,AL102,AL103,AL104,AL105,AL106,AL107,AL108,AL109,AL110,AL111,AL112,AL113,AL114,AL115,AL116,AL117,AL118,AL119,AL120,AL121,AL122,AL123,AL124,AL125,AL126,AL127,AL128,AL129,AL130,AL131,AL132,AL133,AL134,AL135,AL136,AL137,AL138,AL139,AL140,AL141,AL142,AL143,AL144,AL145,AL146,AL147,AL148,AL149,AL150,AL151,AL152,AL153,AL154,AL155,AL156,AL157,AL158,AL159,AL160,AL161,AL162,AL163,AL164,AL165,AL166,AL167,AL168,AL169,AL170,AL171,AL172,AL173,AL174,AL175,AL176,AL177,AL178,AL179,AL180,AL181,AL182,AL183,AL184,AL185,AL186,AL187,AL188,AL189,AL190,AL191,AL192,AL193,AL194,AL195,AL196,AL197,AL198,AL199,AL200,AL201,AL202,AL203,AL204,AL205,AL206,AL207,AL208)","v":""},{"$f":"CONCATENATE(AN9,AN10,AN11,AN12,AN13,AN14,AN15,AN17,AN18,AN20,AN21,AN22,AN23,AN24,AN25,AN26,AN27,AN28,AN29,AN30,AN31,AN32,AN33,AN34,AN35,AN36,AN37,AN38,AN39,AN40,AN41,AN42,AN43,AN44,AN45,AN46,AN47,AN48,AN49,AN50,AN51,AN52,AN53,AN54,AN55,AN56,AN57,AN58,AN59,AN60,AN61,AN62,AN63,AN64,AN65,AN66,AN67,AN68,AN69,AN70,AN71,AN72,AN73,AN74,AN75,AN76,AN77,AN78,AN79,AN80,AN81,AN82,AN83,AN84,AN85,AN86,AN87,AN88,AN89,AN90,AN91,AN92,AN93,AN94,AN95,AN96,AN97,AN98,AN99,AN100,AN101,AN102,AN103,AN104,AN105,AN106,AN107,AN108,AN109,AN110,AN111,AN112,AN113,AN114,AN115,AN116,AN117,AN118,AN119,AN120,AN121,AN122,AN123,AN124,AN125,AN126,AN127,AN128,AN129,AN130,AN131,AN132,AN133,AN134,AN135,AN136,AN137,AN138,AN139,AN140,AN141,AN142,AN143,AN144,AN145,AN146,AN147,AN148,AN149,AN150,AN151,AN152,AN153,AN154,AN155,AN156,AN157,AN158,AN159,AN160,AN161,AN162,AN163,AN164,AN165,AN166,AN167,AN168,AN169,AN170,AN171,AN172,AN173,AN174,AN175,AN176,AN177,AN178,AN179,AN180,AN181,AN182,AN183,AN184,AN185,AN186,AN187,AN188,AN189,AN190,AN191,AN192,AN193,AN194,AN195,AN196,AN197,AN198,AN199,AN200,AN201,AN202,AN203,AN204,AN205,AN206,AN207,AN208)","v":""},null,{"$f":"CONCATENATE(AP9,AP10,AP11,AP12,AP13,AP14,AP15,AP17,AP18,AP20,AP21,AP22,AP23,AP24,AP25,AP26,AP27,AP28,AP29,AP30,AP31,AP32,AP33,AP34,AP35,AP36,AP37,AP38,AP39,AP40,AP41,AP42,AP43,AP44,AP45,AP46,AP47,AP48,AP49,AP50,AP51,AP52,AP53,AP54,AP55,AP56,AP57,AP58,AP59,AP60,AP61,AP62,AP63,AP64,AP65,AP66,AP67,AP68,AP69,AP70,AP71,AP72,AP73,AP74,AP75,AP76,AP77,AP78,AP79,AP80,AP81,AP82,AP83,AP84,AP85,AP86,AP87,AP88,AP89,AP90,AP91,AP92,AP93,AP94,AP95,AP96,AP97,AP98,AP99,AP100,AP101,AP102,AP103,AP104,AP105,AP106,AP107,AP108,AP109,AP110,AP111,AP112,AP113,AP114,AP115,AP116,AP117,AP118,AP119,AP120,AP121,AP122,AP123,AP124,AP125,AP126,AP127,AP128,AP129,AP130,AP131,AP132,AP133,AP134,AP135,AP136,AP137,AP138,AP139,AP140,AP141,AP142,AP143,AP144,AP145,AP146,AP147,AP148,AP149,AP150,AP151,AP152,AP153,AP154,AP155,AP156,AP157,AP158,AP159,AP160,AP161,AP162,AP163,AP164,AP165,AP166,AP167,AP168,AP169,AP170,AP171,AP172,AP173,AP174,AP175,AP176,AP177,AP178,AP179,AP180,AP181,AP182,AP183,AP184,AP185,AP186,AP187,AP188,AP189,AP190,AP191,AP192,AP193,AP194,AP195,AP196,AP197,AP198,AP199,AP200,AP201,AP202,AP203,AP204,AP205,AP206,AP207,AP208)","v":""},null,null,null,null,{"$f":"IF(N14<>\"\",\" -O\",\"\")","v":""},null,{"$f":"IF(P14<>\"\",\" -O\",\"\")","v":""},null,{"$f":"IF(R14<>\"\",\" -O\",\"\")","v":""},null,{"$f":"IF(T14<>\"\",\" -O\",\"\")","v":""},null,{"$f":"IF(V14<>\"\",\" -O\",\"\")","v":""},null,{"$f":"IF(X14<>\"\",\" -O\",\"\")","v":""},null,{"$f":"IF(Z14<>\"\",\" -O\",\"\")","v":""},null,{"$f":"IF(AB14<>\"\",\" -O\",\"\")","v":""},null,{"$f":"IF(AD14<>\"\",\" -O\",\"\")","v":""},null,{"$f":"IF(AF14<>\"\",\" -O\",\"\")","v":""},null,{"$f":"IF(AH14<>\"\",\" -O\",\"\")","v":""},null,{"$f":"IF(AJ14<>\"\",\" -O\",\"\")","v":""},null,{"$f":"IF(AL14<>\"\",\" -O\",\"\")","v":""},null,{"$f":"IF(AN14<>\"\",\" -O\",\"\")","v":""},null,{"$f":"IF(AP14<>\"\",\" -O\",\"\")","v":""},null,{"$f":"IF(AR14<>\"\",\" -O\",\"\")","v":""},null,{"$f":"IF(AT14<>\"\",\" -O\",\"\")","v":""},null,{"$f":"IF(AV14<>\"\",\" -O\",\"\")","v":""},null,{"$f":"IF(AX14<>\"\",\" -O\",\"\")","v":""},null,{"$f":"IF(AZ14<>\"\",\" -O\",\"\")","v":""},null,{"$f":"IF(BB14<>\"\",\" -O\",\"\")","v":""},null,{"$f":"IF(BD14<>\"\",\" -O\",\"\")","v":""},null,{"$f":"IF(BF14<>\"\",\" -O\",\"\")","v":""},null,{"$f":"IF(BH14<>\"\",\" -O\",\"\")","v":""},null,{"$f":"IF(BJ14<>\"\",\" -O\",\"\")","v":""}]
[null,"Probable 80% (4)",null,{"$f":"CONCATENATE(AR9,AR10,AR11,AR12,AR13,AR14,AR15,AR17,AR18,AR20,AR21,AR22,AR23,AR24,AR25,AR26,AR27,AR28,AR29,AR30,AR31,AR32,AR33,AR34,AR35,AR36,AR37,AR38,AR39,AR40,AR41,AR42,AR43,AR44,AR45,AR46,AR47,AR48,AR49,AR50,AR51,AR52,AR53,AR54,AR55,AR56,AR57,AR58,AR59,AR60,AR61,AR62,AR63,AR64,AR65,AR66,AR67,AR68,AR69,AR70,AR71,AR72,AR73,AR74,AR75,AR76,AR77,AR78,AR79,AR80,AR81,AR82,AR83,AR84,AR85,AR86,AR87,AR88,AR89,AR90,AR91,AR92,AR93,AR94,AR95,AR96,AR97,AR98,AR99,AR100,AR101,AR102,AR103,AR104,AR105,AR106,AR107,AR108,AR109,AR110,AR111,AR112,AR113,AR114,AR115,AR116,AR117,AR118,AR119,AR120,AR121,AR122,AR123,AR124,AR125,AR126,AR127,AR128,AR129,AR130,AR131,AR132,AR133,AR134,AR135,AR136,AR137,AR138,AR139,AR140,AR141,AR142,AR143,AR144,AR145,AR146,AR147,AR148,AR149,AR150,AR151,AR152,AR153,AR154,AR155,AR156,AR157,AR158,AR159,AR160,AR161,AR162,AR163,AR164,AR165,AR166,AR167,AR168,AR169,AR170,AR171,AR172,AR173,AR174,AR175,AR176,AR177,AR178,AR179,AR180,AR181,AR182,AR183,AR184,AR185,AR186,AR187,AR188,AR189,AR190,AR191,AR192,AR193,AR194,AR195,AR196,AR197,AR198,AR199,AR200,AR201,AR202,AR203,AR204,AR205,AR206,AR207,AR208)","v":""},{"$f":"CONCATENATE(AT9,AT10,AT11,AT12,AT13,AT14,AT15,AT17,AT18,AT20,AT21,AT22,AT23,AT24,AT25,AT26,AT27,AT28,AT29,AT30,AT31,AT32,AT33,AT34,AT35,AT36,AT37,AT38,AT39,AT40,AT41,AT42,AT43,AT44,AT45,AT46,AT47,AT48,AT49,AT50,AT51,AT52,AT53,AT54,AT55,AT56,AT57,AT58,AT59,AT60,AT61,AT62,AT63,AT64,AT65,AT66,AT67,AT68,AT69,AT70,AT71,AT72,AT73,AT74,AT75,AT76,AT77,AT78,AT79,AT80,AT81,AT82,AT83,AT84,AT85,AT86,AT87,AT88,AT89,AT90,AT91,AT92,AT93,AT94,AT95,AT96,AT97,AT98,AT99,AT100,AT101,AT102,AT103,AT104,AT105,AT106,AT107,AT108,AT109,AT110,AT111,AT112,AT113,AT114,AT115,AT116,AT117,AT118,AT119,AT120,AT121,AT122,AT123,AT124,AT125,AT126,AT127,AT128,AT129,AT130,AT131,AT132,AT133,AT134,AT135,AT136,AT137,AT138,AT139,AT140,AT141,AT142,AT143,AT144,AT145,AT146,AT147,AT148,AT149,AT150,AT151,AT152,AT153,AT154,AT155,AT156,AT157,AT158,AT159,AT160,AT161,AT162,AT163,AT164,AT165,AT166,AT167,AT168,AT169,AT170,AT171,AT172,AT173,AT174,AT175,AT176,AT177,AT178,AT179,AT180,AT181,AT182,AT183,AT184,AT185,AT186,AT187,AT188,AT189,AT190,AT191,AT192,AT193,AT194,AT195,AT196,AT197,AT198,AT199,AT200,AT201,AT202,AT203,AT204,AT205,AT206,AT207,AT208)","v":""},{"$f":"CONCATENATE(AV9,AV10,AV11,AV12,AV13,AV14,AV15,AV17,AV18,AV20,AV21,AV22,AV23,AV24,AV25,AV26,AV27,AV28,AV29,AV30,AV31,AV32,AV33,AV34,AV35,AV36,AV37,AV38,AV39,AV40,AV41,AV42,AV43,AV44,AV45,AV46,AV47,AV48,AV49,AV50,AV51,AV52,AV53,AV54,AV55,AV56,AV57,AV58,AV59,AV60,AV61,AV62,AV63,AV64,AV65,AV66,AV67,AV68,AV69,AV70,AV71,AV72,AV73,AV74,AV75,AV76,AV77,AV78,AV79,AV80,AV81,AV82,AV83,AV84,AV85,AV86,AV87,AV88,AV89,AV90,AV91,AV92,AV93,AV94,AV95,AV96,AV97,AV98,AV99,AV100,AV101,AV102,AV103,AV104,AV105,AV106,AV107,AV108,AV109,AV110,AV111,AV112,AV113,AV114,AV115,AV116,AV117,AV118,AV119,AV120,AV121,AV122,AV123,AV124,AV125,AV126,AV127,AV128,AV129,AV130,AV131,AV132,AV133,AV134,AV135,AV136,AV137,AV138,AV139,AV140,AV141,AV142,AV143,AV144,AV145,AV146,AV147,AV148,AV149,AV150,AV151,AV152,AV153,AV154,AV155,AV156,AV157,AV158,AV159,AV160,AV161,AV162,AV163,AV164,AV165,AV166,AV167,AV168,AV169,AV170,AV171,AV172,AV173,AV174,AV175,AV176,AV177,AV178,AV179,AV180,AV181,AV182,AV183,AV184,AV185,AV186,AV187,AV188,AV189,AV190,AV191,AV192,AV193,AV194,AV195,AV196,AV197,AV198,AV199,AV200,AV201,AV202,AV203,AV204,AV205,AV206,AV207,AV208)","v":""},{"$f":"CONCATENATE(AX9,AX10,AX11,AX12,AX13,AX14,AX15,AX17,AX18,AX20,AX21,AX22,AX23,AX24,AX25,AX26,AX27,AX28,AX29,AX30,AX31,AX32,AX33,AX34,AX35,AX36,AX37,AX38,AX39,AX40,AX41,AX42,AX43,AX44,AX45,AX46,AX47,AX48,AX49,AX50,AX51,AX52,AX53,AX54,AX55,AX56,AX57,AX58,AX59,AX60,AX61,AX62,AX63,AX64,AX65,AX66,AX67,AX68,AX69,AX70,AX71,AX72,AX73,AX74,AX75,AX76,AX77,AX78,AX79,AX80,AX81,AX82,AX83,AX84,AX85,AX86,AX87,AX88,AX89,AX90,AX91,AX92,AX93,AX94,AX95,AX96,AX97,AX98,AX99,AX100,AX101,AX102,AX103,AX104,AX105,AX106,AX107,AX108,AX109,AX110,AX111,AX112,AX113,AX114,AX115,AX116,AX117,AX118,AX119,AX120,AX121,AX122,AX123,AX124,AX125,AX126,AX127,AX128,AX129,AX130,AX131,AX132,AX133,AX134,AX135,AX136,AX137,AX138,AX139,AX140,AX141,AX142,AX143,AX144,AX145,AX146,AX147,AX148,AX149,AX150,AX151,AX152,AX153,AX154,AX155,AX156,AX157,AX158,AX159,AX160,AX161,AX162,AX163,AX164,AX165,AX166,AX167,AX168,AX169,AX170,AX171,AX172,AX173,AX174,AX175,AX176,AX177,AX178,AX179,AX180,AX181,AX182,AX183,AX184,AX185,AX186,AX187,AX188,AX189,AX190,AX191,AX192,AX193,AX194,AX195,AX196,AX197,AX198,AX199,AX200,AX201,AX202,AX203,AX204,AX205,AX206,AX207,AX208)","v":""},null,{"$f":"CONCATENATE(AZ9,AZ10,AZ11,AZ12,AZ13,AZ14,AZ15,AZ17,AZ18,AZ20,AZ21,AZ22,AZ23,AZ24,AZ25,AZ26,AZ27,AZ28,AZ29,AZ30,AZ31,AZ32,AZ33,AZ34,AZ35,AZ36,AZ37,AZ38,AZ39,AZ40,AZ41,AZ42,AZ43,AZ44,AZ45,AZ46,AZ47,AZ48,AZ49,AZ50,AZ51,AZ52,AZ53,AZ54,AZ55,AZ56,AZ57,AZ58,AZ59,AZ60,AZ61,AZ62,AZ63,AZ64,AZ65,AZ66,AZ67,AZ68,AZ69,AZ70,AZ71,AZ72,AZ73,AZ74,AZ75,AZ76,AZ77,AZ78,AZ79,AZ80,AZ81,AZ82,AZ83,AZ84,AZ85,AZ86,AZ87,AZ88,AZ89,AZ90,AZ91,AZ92,AZ93,AZ94,AZ95,AZ96,AZ97,AZ98,AZ99,AZ100,AZ101,AZ102,AZ103,AZ104,AZ105,AZ106,AZ107,AZ108,AZ109,AZ110,AZ111,AZ112,AZ113,AZ114,AZ115,AZ116,AZ117,AZ118,AZ119,AZ120,AZ121,AZ122,AZ123,AZ124,AZ125,AZ126,AZ127,AZ128,AZ129,AZ130,AZ131,AZ132,AZ133,AZ134,AZ135,AZ136,AZ137,AZ138,AZ139,AZ140,AZ141,AZ142,AZ143,AZ144,AZ145,AZ146,AZ147,AZ148,AZ149,AZ150,AZ151,AZ152,AZ153,AZ154,AZ155,AZ156,AZ157,AZ158,AZ159,AZ160,AZ161,AZ162,AZ163,AZ164,AZ165,AZ166,AZ167,AZ168,AZ169,AZ170,AZ171,AZ172,AZ173,AZ174,AZ175,AZ176,AZ177,AZ178,AZ179,AZ180,AZ181,AZ182,AZ183,AZ184,AZ185,AZ186,AZ187,AZ188,AZ189,AZ190,AZ191,AZ192,AZ193,AZ194,AZ195,AZ196,AZ197,AZ198,AZ199,AZ200,AZ201,AZ202,AZ203,AZ204,AZ205,AZ206,AZ207,AZ208)","v":" -O1 -O2"},null,null,null,1.03,{"$f":"IFERROR(VLOOKUP(M14,'CRUCE OPORTUNIDADES'!$C$12:$D$111,2,FALSE),\"\")","v":""},2.0299999999999998,{"$f":"IFERROR(VLOOKUP(O14,'CRUCE OPORTUNIDADES'!$C$12:$D$111,2,FALSE),\"\")","v":""},3.03,{"$f":"IFERROR(VLOOKUP(Q14,'CRUCE OPORTUNIDADES'!$C$12:$D$111,2,FALSE),\"\")","v":""},4.03,{"$f":"IFERROR(VLOOKUP(S14,'CRUCE OPORTUNIDADES'!$C$12:$D$111,2,FALSE),\"\")","v":""},5.03,{"$f":"IFERROR(VLOOKUP(U14,'CRUCE OPORTUNIDADES'!$C$12:$D$111,2,FALSE),\"\")","v":""},6.03,{"$f":"IFERROR(VLOOKUP(W14,'CRUCE OPORTUNIDADES'!$C$12:$D$111,2,FALSE),\"\")","v":""},7.03,{"$f":"IFERROR(VLOOKUP(Y14,'CRUCE OPORTUNIDADES'!$C$12:$D$111,2,FALSE),\"\")","v":""},8.0299999999999994,{"$f":"IFERROR(VLOOKUP(AA14,'CRUCE OPORTUNIDADES'!$C$12:$D$111,2,FALSE),\"\")","v":""},9.0299999999999994,{"$f":"IFERROR(VLOOKUP(AC14,'CRUCE OPORTUNIDADES'!$C$12:$D$111,2,FALSE),\"\")","v":""},10.029999999999999,{"$f":"IFERROR(VLOOKUP(AE14,'CRUCE OPORTUNIDADES'!$C$12:$D$111,2,FALSE),\"\")","v":""},11.03,{"$f":"IFERROR(VLOOKUP(AG14,'CRUCE OPORTUNIDADES'!$C$12:$D$111,2,FALSE),\"\")","v":""},12.03,{"$f":"IFERROR(VLOOKUP(AI14,'CRUCE OPORTUNIDADES'!$C$12:$D$111,2,FALSE),\"\")","v":""},13.03,{"$f":"IFERROR(VLOOKUP(AK14,'CRUCE OPORTUNIDADES'!$C$12:$D$111,2,FALSE),\"\")","v":""},14.03,{"$f":"IFERROR(VLOOKUP(AM14,'CRUCE OPORTUNIDADES'!$C$12:$D$111,2,FALSE),\"\")","v":""},15.03,{"$f":"IFERROR(VLOOKUP(AO14,'CRUCE OPORTUNIDADES'!$C$12:$D$111,2,FALSE),\"\")","v":""},16.03,{"$f":"IFERROR(VLOOKUP(AQ14,'CRUCE OPORTUNIDADES'!$C$12:$D$111,2,FALSE),\"\")","v":""},17.03,{"$f":"IFERROR(VLOOKUP(AS14,'CRUCE OPORTUNIDADES'!$C$12:$D$111,2,FALSE),\"\")","v":""},18.03,{"$f":"IFERROR(VLOOKUP(AU14,'CRUCE OPORTUNIDADES'!$C$12:$D$111,2,FALSE),\"\")","v":""},19.03,{"$f":"IFERROR(VLOOKUP(AW14,'CRUCE OPORTUNIDADES'!$C$12:$D$111,2,FALSE),\"\")","v":""},20.03,{"$f":"IFERROR(VLOOKUP(AY14,'CRUCE OPORTUNIDADES'!$C$12:$D$111,2,FALSE),\"\")","v":""},21.03,{"$f":"IFERROR(VLOOKUP(BA14,'CRUCE OPORTUNIDADES'!$C$12:$D$111,2,FALSE),\"\")","v":""},22.03,{"$f":"IFERROR(VLOOKUP(BC14,'CRUCE OPORTUNIDADES'!$C$12:$D$111,2,FALSE),\"\")","v":""},23.03,{"$f":"IFERROR(VLOOKUP(BE14,'CRUCE OPORTUNIDADES'!$C$12:$D$111,2,FALSE),\"\")","v":""},24.03,{"$f":"IFERROR(VLOOKUP(BG14,'CRUCE OPORTUNIDADES'!$C$12:$D$111,2,FALSE),\"\")","v":""},25.03,{"$f":"IFERROR(VLOOKUP(BI14,'CRUCE OPORTUNIDADES'!$C$12:$D$111,2,FALSE),\"\")","v":""}]
[null,"Casi seguro 100% (5)",null,{"$f":"CONCATENATE(BB9,BB10,BB11,BB12,BB13,BB14,BB15,BB17,BB18,BB20,BB21,BB22,BB23,BB24,BB25,BB26,BB27,BB28,BB29,BB30,BB31,BB32,BB33,BB34,BB35,BB36,BB37,BB38,BB39,BB40,BB41,BB42,BB43,BB44,BB45,BB46,BB47,BB48,BB49,BB50,BB51,BB52,BB53,BB54,BB55,BB56,BB57,BB58,BB59,BB60,BB61,BB62,BB63,BB64,BB65,BB66,BB67,BB68,BB69,BB70,BB71,BB72,BB73,BB74,BB75,BB76,BB77,BB78,BB79,BB80,BB81,BB82,BB83,BB84,BB85,BB86,BB87,BB88,BB89,BB90,BB91,BB92,BB93,BB94,BB95,BB96,BB97,BB98,BB99,BB100,BB101,BB102,BB103,BB104,BB105,BB106,BB107,BB108,BB109,BB110,BB111,BB112,BB113,BB114,BB115,BB116,BB117,BB118,BB119,BB120,BB121,BB122,BB123,BB124,BB125,BB126,BB127,BB128,BB129,BB130,BB131,BB132,BB133,BB134,BB135,BB136,BB137,BB138,BB139,BB140,BB141,BB142,BB143,BB144,BB145,BB146,BB147,BB148,BB149,BB150,BB151,BB152,BB153,BB154,BB155,BB156,BB157,BB158,BB159,BB160,BB161,BB162,BB163,BB164,BB165,BB166,BB167,BB168,BB169,BB170,BB171,BB172,BB173,BB174,BB175,BB176,BB177,BB178,BB179,BB180,BB181,BB182,BB183,BB184,BB185,BB186,BB187,BB188,BB189,BB190,BB191,BB192,BB193,BB194,BB195,BB196,BB197,BB198,BB199,BB200,BB201,BB202,BB203,BB204,BB205,BB206,BB207,BB208)","v":""},{"$f":"CONCATENATE(BD9,BD10,BD11,BD12,BD13,BD14,BD15,BD17,BD18,BD20,BD21,BD22,BD23,BD24,BD25,BD26,BD27,BD28,BD29,BD30,BD31,BD32,BD33,BD34,BD35,BD36,BD37,BD38,BD39,BD40,BD41,BD42,BD43,BD44,BD45,BD46,BD47,BD48,BD49,BD50,BD51,BD52,BD53,BD54,BD55,BD56,BD57,BD58,BD59,BD60,BD61,BD62,BD63,BD64,BD65,BD66,BD67,BD68,BD69,BD70,BD71,BD72,BD73,BD74,BD75,BD76,BD77,BD78,BD79,BD80,BD81,BD82,BD83,BD84,BD85,BD86,BD87,BD88,BD89,BD90,BD91,BD92,BD93,BD94,BD95,BD96,BD97,BD98,BD99,BD100,BD101,BD102,BD103,BD104,BD105,BD106,BD107,BD108,BD109,BD110,BD111,BD112,BD113,BD114,BD115,BD116,BD117,BD118,BD119,BD120,BD121,BD122,BD123,BD124,BD125,BD126,BD127,BD128,BD129,BD130,BD131,BD132,BD133,BD134,BD135,BD136,BD137,BD138,BD139,BD140,BD141,BD142,BD143,BD144,BD145,BD146,BD147,BD148,BD149,BD150,BD151,BD152,BD153,BD154,BD155,BD156,BD157,BD158,BD159,BD160,BD161,BD162,BD163,BD164,BD165,BD166,BD167,BD168,BD169,BD170,BD171,BD172,BD173,BD174,BD175,BD176,BD177,BD178,BD179,BD180,BD181,BD182,BD183,BD184,BD185,BD186,BD187,BD188,BD189,BD190,BD191,BD192,BD193,BD194,BD195,BD196,BD197,BD198,BD199,BD200,BD201,BD202,BD203,BD204,BD205,BD206,BD207,BD208)","v":""},{"$f":"CONCATENATE(BF9,BF10,BF11,BF12,BF13,BF14,BF15,BF17,BF18,BF20,BF21,BF22,BF23,BF24,BF25,BF26,BF27,BF28,BF29,BF30,BF31,BF32,BF33,BF34,BF35,BF36,BF37,BF38,BF39,BF40,BF41,BF42,BF43,BF44,BF45,BF46,BF47,BF48,BF49,BF50,BF51,BF52,BF53,BF54,BF55,BF56,BF57,BF58,BF59,BF60,BF61,BF62,BF63,BF64,BF65,BF66,BF67,BF68,BF69,BF70,BF71,BF72,BF73,BF74,BF75,BF76,BF77,BF78,BF79,BF80,BF81,BF82,BF83,BF84,BF85,BF86,BF87,BF88,BF89,BF90,BF91,BF92,BF93,BF94,BF95,BF96,BF97,BF98,BF99,BF100,BF101,BF102,BF103,BF104,BF105,BF106,BF107,BF108,BF109,BF110,BF111,BF112,BF113,BF114,BF115,BF116,BF117,BF118,BF119,BF120,BF121,BF122,BF123,BF124,BF125,BF126,BF127,BF128,BF129,BF130,BF131,BF132,BF133,BF134,BF135,BF136,BF137,BF138,BF139,BF140,BF141,BF142,BF143,BF144,BF145,BF146,BF147,BF148,BF149,BF150,BF151,BF152,BF153,BF154,BF155,BF156,BF157,BF158,BF159,BF160,BF161,BF162,BF163,BF164,BF165,BF166,BF167,BF168,BF169,BF170,BF171,BF172,BF173,BF174,BF175,BF176,BF177,BF178,BF179,BF180,BF181,BF182,BF183,BF184,BF185,BF186,BF187,BF188,BF189,BF190,BF191,BF192,BF193,BF194,BF195,BF196,BF197,BF198,BF199,BF200,BF201,BF202,BF203,BF204,BF205,BF206,BF207,BF208)","v":""},{"$f":"CONCATENATE(BH9,BH10,BH11,BH12,BH13,BH14,BH15,BH17,BH18,BH20,BH21,BH22,BH23,BH24,BH25,BH26,BH27,BH28,BH29,BH30,BH31,BH32,BH33,BH34,BH35,BH36,BH37,BH38,BH39,BH40,BH41,BH42,BH43,BH44,BH45,BH46,BH47,BH48,BH49,BH50,BH51,BH52,BH53,BH54,BH55,BH56,BH57,BH58,BH59,BH60,BH61,BH62,BH63,BH64,BH65,BH66,BH67,BH68,BH69,BH70,BH71,BH72,BH73,BH74,BH75,BH76,BH77,BH78,BH79,BH80,BH81,BH82,BH83,BH84,BH85,BH86,BH87,BH88,BH89,BH90,BH91,BH92,BH93,BH94,BH95,BH96,BH97,BH98,BH99,BH100,BH101,BH102,BH103,BH104,BH105,BH106,BH107,BH108,BH109,BH110,BH111,BH112,BH113,BH114,BH115,BH116,BH117,BH118,BH119,BH120,BH121,BH122,BH123,BH124,BH125,BH126,BH127,BH128,BH129,BH130,BH131,BH132,BH133,BH134,BH135,BH136,BH137,BH138,BH139,BH140,BH141,BH142,BH143,BH144,BH145,BH146,BH147,BH148,BH149,BH150,BH151,BH152,BH153,BH154,BH155,BH156,BH157,BH158,BH159,BH160,BH161,BH162,BH163,BH164,BH165,BH166,BH167,BH168,BH169,BH170,BH171,BH172,BH173,BH174,BH175,BH176,BH177,BH178,BH179,BH180,BH181,BH182,BH183,BH184,BH185,BH186,BH187,BH188,BH189,BH190,BH191,BH192,BH193,BH194,BH195,BH196,BH197,BH198,BH199,BH200,BH201,BH202,BH203,BH204,BH205,BH206,BH207,BH208)","v":""},null,{"$f":"CONCATENATE(BJ9,BJ10,BJ11,BJ12,BJ13,BJ14,BJ15,BJ17,BJ18,BJ20,BJ21,BJ22,BJ23,BJ24,BJ25,BJ26,BJ27,BJ28,BJ29,BJ30,BJ31,BJ32,BJ33,BJ34,BJ35,BJ36,BJ37,BJ38,BJ39,BJ40,BJ41,BJ42,BJ43,BJ44,BJ45,BJ46,BJ47,BJ48,BJ49,BJ50,BJ51,BJ52,BJ53,BJ54,BJ55,BJ56,BJ57,BJ58,BJ59,BJ60,BJ61,BJ62,BJ63,BJ64,BJ65,BJ66,BJ67,BJ68,BJ69,BJ70,BJ71,BJ72,BJ73,BJ74,BJ75,BJ76,BJ77,BJ78,BJ79,BJ80,BJ81,BJ82,BJ83,BJ84,BJ85,BJ86,BJ87,BJ88,BJ89,BJ90,BJ91,BJ92,BJ93,BJ94,BJ95,BJ96,BJ97,BJ98,BJ99,BJ100,BJ101,BJ102,BJ103,BJ104,BJ105,BJ106,BJ107,BJ108,BJ109,BJ110,BJ111,BJ112,BJ113,BJ114,BJ115,BJ116,BJ117,BJ118,BJ119,BJ120,BJ121,BJ122,BJ123,BJ124,BJ125,BJ126,BJ127,BJ128,BJ129,BJ130,BJ131,BJ132,BJ133,BJ134,BJ135,BJ136,BJ137,BJ138,BJ139,BJ140,BJ141,BJ142,BJ143,BJ144,BJ145,BJ146,BJ147,BJ148,BJ149,BJ150,BJ151,BJ152,BJ153,BJ154,BJ155,BJ156,BJ157,BJ158,BJ159,BJ160,BJ161,BJ162,BJ163,BJ164,BJ165,BJ166,BJ167,BJ168,BJ169,BJ170,BJ171,BJ172,BJ173,BJ174,BJ175,BJ176,BJ177,BJ178,BJ179,BJ180,BJ181,BJ182,BJ183,BJ184,BJ185,BJ186,BJ187,BJ188,BJ189,BJ190,BJ191,BJ192,BJ193,BJ194,BJ195,BJ196,BJ197,BJ198,BJ199,BJ200,BJ201,BJ202,BJ203,BJ204,BJ205,BJ206,BJ207,BJ208)","v":" -O3 -O4"},null,null,null,null,{"$f":"IF(N16<>\"\",\" -O\",\"\")","v":""},null,{"$f":"IF(P16<>\"\",\" -O\",\"\")","v":""},null,{"$f":"IF(R16<>\"\",\" -O\",\"\")","v":""},null,{"$f":"IF(T16<>\"\",\" -O\",\"\")","v":""},null,{"$f":"IF(V16<>\"\",\" -O\",\"\")","v":""},null,{"$f":"IF(X16<>\"\",\" -O\",\"\")","v":""},null,{"$f":"IF(Z16<>\"\",\" -O\",\"\")","v":""},null,{"$f":"IF(AB16<>\"\",\" -O\",\"\")","v":""},null,{"$f":"IF(AD16<>\"\",\" -O\",\"\")","v":""},null,{"$f":"IF(AF16<>\"\",\" -O\",\"\")","v":""},null,{"$f":"IF(AH16<>\"\",\" -O\",\"\")","v":""},null,{"$f":"IF(AJ16<>\"\",\" -O\",\"\")","v":""},null,{"$f":"IF(AL16<>\"\",\" -O\",\"\")","v":""},null,{"$f":"IF(AN16<>\"\",\" -O\",\"\")","v":""},null,{"$f":"IF(AP16<>\"\",\" -O\",\"\")","v":""},null,{"$f":"IF(AR16<>\"\",\" -O\",\"\")","v":""},null,{"$f":"IF(AT16<>\"\",\" -O\",\"\")","v":""},null,{"$f":"IF(AV16<>\"\",\" -O\",\"\")","v":""},null,{"$f":"IF(AX16<>\"\",\" -O\",\"\")","v":""},null,{"$f":"IF(AZ16<>\"\",\" -O\",\"\")","v":""},null,{"$f":"IF(BB16<>\"\",\" -O\",\"\")","v":""},null,{"$f":"IF(BD16<>\"\",\" -O\",\"\")","v":""},null,{"$f":"IF(BF16<>\"\",\" -O\",\"\")","v":""},null,{"$f":"IF(BH16<>\"\",\" -O\",\"\")","v":""},null,{"$f":"IF(BJ16<>\"\",\" -O\",\"\")","v":""}]
[null,"COLOR","INTERPRETACIÓN DE LA ZONA",null,null,"CANTIDAD DE OPORTUNIDADES POR ZONA","PROMEDIO DE OPORTUNIDADES DEL PROCESO",null,null,null,null,null,1.04,{"$f":"IFERROR(VLOOKUP(M16,'CRUCE OPORTUNIDADES'!$C$12:$D$111,2,FALSE),\"\")","v":""},2.04,{"$f":"IFERROR(VLOOKUP(O16,'CRUCE OPORTUNIDADES'!$C$12:$D$111,2,FALSE),\"\")","v":""},3.04,{"$f":"IFERROR(VLOOKUP(Q16,'CRUCE OPORTUNIDADES'!$C$12:$D$111,2,FALSE),\"\")","v":""},4.04,{"$f":"IFERROR(VLOOKUP(S16,'CRUCE OPORTUNIDADES'!$C$12:$D$111,2,FALSE),\"\")","v":""},5.04,{"$f":"IFERROR(VLOOKUP(U16,'CRUCE OPORTUNIDADES'!$C$12:$D$111,2,FALSE),\"\")","v":""},6.04,{"$f":"IFERROR(VLOOKUP(W16,'CRUCE OPORTUNIDADES'!$C$12:$D$111,2,FALSE),\"\")","v":""},7.04,{"$f":"IFERROR(VLOOKUP(Y16,'CRUCE OPORTUNIDADES'!$C$12:$D$111,2,FALSE),\"\")","v":""},8.0399999999999991,{"$f":"IFERROR(VLOOKUP(AA16,'CRUCE OPORTUNIDADES'!$C$12:$D$111,2,FALSE),\"\")","v":""},9.0399999999999991,{"$f":"IFERROR(VLOOKUP(AC16,'CRUCE OPORTUNIDADES'!$C$12:$D$111,2,FALSE),\"\")","v":""},10.039999999999999,{"$f":"IFERROR(VLOOKUP(AE16,'CRUCE OPORTUNIDADES'!$C$12:$D$111,2,FALSE),\"\")","v":""},11.04,{"$f":"IFERROR(VLOOKUP(AG16,'CRUCE OPORTUNIDADES'!$C$12:$D$111,2,FALSE),\"\")","v":""},12.04,{"$f":"IFERROR(VLOOKUP(AI16,'CRUCE OPORTUNIDADES'!$C$12:$D$111,2,FALSE),\"\")","v":""},13.04,{"$f":"IFERROR(VLOOKUP(AK16,'CRUCE OPORTUNIDADES'!$C$12:$D$111,2,FALSE),\"\")","v":""},14.04,{"$f":"IFERROR(VLOOKUP(AM16,'CRUCE OPORTUNIDADES'!$C$12:$D$111,2,FALSE),\"\")","v":""},15.04,{"$f":"IFERROR(VLOOKUP(AO16,'CRUCE OPORTUNIDADES'!$C$12:$D$111,2,FALSE),\"\")","v":""},16.04,{"$f":"IFERROR(VLOOKUP(AQ16,'CRUCE OPORTUNIDADES'!$C$12:$D$111,2,FALSE),\"\")","v":""},17.04,{"$f":"IFERROR(VLOOKUP(AS16,'CRUCE OPORTUNIDADES'!$C$12:$D$111,2,FALSE),\"\")","v":""},18.04,{"$f":"IFERROR(VLOOKUP(AU16,'CRUCE OPORTUNIDADES'!$C$12:$D$111,2,FALSE),\"\")","v":""},19.04,{"$f":"IFERROR(VLOOKUP(AW16,'CRUCE OPORTUNIDADES'!$C$12:$D$111,2,FALSE),\"\")","v":""},20.04,{"$f":"IFERROR(VLOOKUP(AY16,'CRUCE OPORTUNIDADES'!$C$12:$D$111,2,FALSE),\"\")","v":""},21.04,{"$f":"IFERROR(VLOOKUP(BA16,'CRUCE OPORTUNIDADES'!$C$12:$D$111,2,FALSE),\"\")","v":""},22.04,{"$f":"IFERROR(VLOOKUP(BC16,'CRUCE OPORTUNIDADES'!$C$12:$D$111,2,FALSE),\"\")","v":""},23.04,{"$f":"IFERROR(VLOOKUP(BE16,'CRUCE OPORTUNIDADES'!$C$12:$D$111,2,FALSE),\"\")","v":""},24.04,{"$f":"IFERROR(VLOOKUP(BG16,'CRUCE OPORTUNIDADES'!$C$12:$D$111,2,FALSE),\"\")","v":""},25.04,{"$f":"IFERROR(VLOOKUP(BI16,'CRUCE OPORTUNIDADES'!$C$12:$D$111,2,FALSE),\"\")","v":""}]
[null,null," Zona de oportunidad baja: Monitorear los eventos.",null,null,{"$f":"COUNTIF('CRUCE OPORTUNIDADES'!$AF$12:$AF$111,\"BAJO\")","v":0},"PROBABILIDAD","IMPACTO","VALORACIÓN",null,null,null,null,{"$f":"IF(N18<>\"\",\" -O\",\"\")","v":""},null,{"$f":"IF(P18<>\"\",\" -O\",\"\")","v":""},null,{"$f":"IF(R18<>\"\",\" -O\",\"\")","v":""},null,{"$f":"IF(T18<>\"\",\" -O\",\"\")","v":""},null,{"$f":"IF(V18<>\"\",\" -O\",\"\")","v":""},null,{"$f":"IF(X18<>\"\",\" -O\",\"\")","v":""},null,{"$f":"IF(Z18<>\"\",\" -O\",\"\")","v":""},null,{"$f":"IF(AB18<>\"\",\" -O\",\"\")","v":""},null,{"$f":"IF(AD18<>\"\",\" -O\",\"\")","v":""},null,{"$f":"IF(AF18<>\"\",\" -O\",\"\")","v":""},null,{"$f":"IF(AH18<>\"\",\" -O\",\"\")","v":""},null,{"$f":"IF(AJ18<>\"\",\" -O\",\"\")","v":""},null,{"$f":"IF(AL18<>\"\",\" -O\",\"\")","v":""},null,{"$f":"IF(AN18<>\"\",\" -O\",\"\")","v":""},null,{"$f":"IF(AP18<>\"\",\" -O\",\"\")","v":""},null,{"$f":"IF(AR18<>\"\",\" -O\",\"\")","v":""},null,{"$f":"IF(AT18<>\"\",\" -O\",\"\")","v":""},null,{"$f":"IF(AV18<>\"\",\" -O\",\"\")","v":""},null,{"$f":"IF(AX18<>\"\",\" -O\",\"\")","v":""},null,{"$f":"IF(AZ18<>\"\",\" -O\",\"\")","v":""},null,{"$f":"IF(BB18<>\"\",\" -O\",\"\")","v":""},null,{"$f":"IF(BD18<>\"\",\" -O\",\"\")","v":""},null,{"$f":"IF(BF18<>\"\",\" -O\",\"\")","v":""},null,{"$f":"IF(BH18<>\"\",\" -O\",\"\")","v":""},null,{"$f":"IF(BJ18<>\"\",\" -O\",\"\")","v":""}]
[null,null," Zona de oportunidad moderada: Monitorear los eventos.",null,null,{"$f":"COUNTIF('CRUCE OPORTUNIDADES'!$AF$12:$AF$111,\"MODERADO\")","v":0},{"$f":"AVERAGE('CRUCE OPORTUNIDADES'!AC12:AC111)","v":4.5},{"$f":"AVERAGE('CRUCE OPORTUNIDADES'!AD12:AD111)","v":5},{"$f":"ROUND(G18,0)*ROUND(H18,0)","v":25},null,null,null,1.05,{"$f":"IFERROR(VLOOKUP(M18,'CRUCE OPORTUNIDADES'!$C$12:$D$111,2,FALSE),\"\")","v":""},2.0499999999999998,{"$f":"IFERROR(VLOOKUP(O18,'CRUCE OPORTUNIDADES'!$C$12:$D$111,2,FALSE),\"\")","v":""},3.05,{"$f":"IFERROR(VLOOKUP(Q18,'CRUCE OPORTUNIDADES'!$C$12:$D$111,2,FALSE),\"\")","v":""},4.05,{"$f":"IFERROR(VLOOKUP(S18,'CRUCE OPORTUNIDADES'!$C$12:$D$111,2,FALSE),\"\")","v":""},5.05,{"$f":"IFERROR(VLOOKUP(U18,'CRUCE OPORTUNIDADES'!$C$12:$D$111,2,FALSE),\"\")","v":""},6.05,{"$f":"IFERROR(VLOOKUP(W18,'CRUCE OPORTUNIDADES'!$C$12:$D$111,2,FALSE),\"\")","v":""},7.05,{"$f":"IFERROR(VLOOKUP(Y18,'CRUCE OPORTUNIDADES'!$C$12:$D$111,2,FALSE),\"\")","v":""},8.0500000000000007,{"$f":"IFERROR(VLOOKUP(AA18,'CRUCE OPORTUNIDADES'!$C$12:$D$111,2,FALSE),\"\")","v":""},9.0500000000000007,{"$f":"IFERROR(VLOOKUP(AC18,'CRUCE OPORTUNIDADES'!$C$12:$D$111,2,FALSE),\"\")","v":""},10.050000000000001,{"$f":"IFERROR(VLOOKUP(AE18,'CRUCE OPORTUNIDADES'!$C$12:$D$111,2,FALSE),\"\")","v":""},11.05,{"$f":"IFERROR(VLOOKUP(AG18,'CRUCE OPORTUNIDADES'!$C$12:$D$111,2,FALSE),\"\")","v":""},12.05,{"$f":"IFERROR(VLOOKUP(AI18,'CRUCE OPORTUNIDADES'!$C$12:$D$111,2,FALSE),\"\")","v":""},13.05,{"$f":"IFERROR(VLOOKUP(AK18,'CRUCE OPORTUNIDADES'!$C$12:$D$111,2,FALSE),\"\")","v":""},14.05,{"$f":"IFERROR(VLOOKUP(AM18,'CRUCE OPORTUNIDADES'!$C$12:$D$111,2,FALSE),\"\")","v":""},15.05,{"$f":"IFERROR(VLOOKUP(AO18,'CRUCE OPORTUNIDADES'!$C$12:$D$111,2,FALSE),\"\")","v":""},16.05,{"$f":"IFERROR(VLOOKUP(AQ18,'CRUCE OPORTUNIDADES'!$C$12:$D$111,2,FALSE),\"\")","v":""},17.05,{"$f":"IFERROR(VLOOKUP(AS18,'CRUCE OPORTUNIDADES'!$C$12:$D$111,2,FALSE),\"\")","v":""},18.05,{"$f":"IFERROR(VLOOKUP(AU18,'CRUCE OPORTUNIDADES'!$C$12:$D$111,2,FALSE),\"\")","v":""},19.05,{"$f":"IFERROR(VLOOKUP(AW18,'CRUCE OPORTUNIDADES'!$C$12:$D$111,2,FALSE),\"\")","v":""},20.05,{"$f":"IFERROR(VLOOKUP(AY18,'CRUCE OPORTUNIDADES'!$C$12:$D$111,2,FALSE),\"\")","v":""},21.05,{"$f":"IFERROR(VLOOKUP(BA18,'CRUCE OPORTUNIDADES'!$C$12:$D$111,2,FALSE),\"\")","v":""},22.05,{"$f":"IFERROR(VLOOKUP(BC18,'CRUCE OPORTUNIDADES'!$C$12:$D$111,2,FALSE),\"\")","v":""},23.05,{"$f":"IFERROR(VLOOKUP(BE18,'CRUCE OPORTUNIDADES'!$C$12:$D$111,2,FALSE),\"\")","v":""},24.05,{"$f":"IFERROR(VLOOKUP(BG18,'CRUCE OPORTUNIDADES'!$C$12:$D$111,2,FALSE),\"\")","v":""},25.05,{"$f":"IFERROR(VLOOKUP(BI18,'CRUCE OPORTUNIDADES'!$C$12:$D$111,2,FALSE),\"\")","v":""}]
[null,null," Zona de oportunidad favorable: Potencializar la oportunidad.",null,null,{"$f":"COUNTIF('CRUCE OPORTUNIDADES'!$AF$12:$AF$111,\"FAVORABLE\")","v":0},null,null,null,null,null,null,null,{"$f":"IF(N20<>\"\",\" -O\",\"\")","v":""},null,{"$f":"IF(P20<>\"\",\" -O\",\"\")","v":""},null,{"$f":"IF(R20<>\"\",\" -O\",\"\")","v":""},null,{"$f":"IF(T20<>\"\",\" -O\",\"\")","v":""},null,{"$f":"IF(V20<>\"\",\" -O\",\"\")","v":""},null,{"$f":"IF(X20<>\"\",\" -O\",\"\")","v":""},null,{"$f":"IF(Z20<>\"\",\" -O\",\"\")","v":""},null,{"$f":"IF(AB20<>\"\",\" -O\",\"\")","v":""},null,{"$f":"IF(AD20<>\"\",\" -O\",\"\")","v":""},null,{"$f":"IF(AF20<>\"\",\" -O\",\"\")","v":""},null,{"$f":"IF(AH20<>\"\",\" -O\",\"\")","v":""},null,{"$f":"IF(AJ20<>\"\",\" -O\",\"\")","v":""},null,{"$f":"IF(AL20<>\"\",\" -O\",\"\")","v":""},null,{"$f":"IF(AN20<>\"\",\" -O\",\"\")","v":""},null,{"$f":"IF(AP20<>\"\",\" -O\",\"\")","v":""},null,{"$f":"IF(AR20<>\"\",\" -O\",\"\")","v":""},null,{"$f":"IF(AT20<>\"\",\" -O\",\"\")","v":""},null,{"$f":"IF(AV20<>\"\",\" -O\",\"\")","v":""},null,{"$f":"IF(AX20<>\"\",\" -O\",\"\")","v":""},null,{"$f":"IF(AZ20<>\"\",\" -O\",\"\")","v":""},null,{"$f":"IF(BB20<>\"\",\" -O\",\"\")","v":""},null,{"$f":"IF(BD20<>\"\",\" -O\",\"\")","v":""},null,{"$f":"IF(BF20<>\"\",\" -O\",\"\")","v":""},null,{"$f":"IF(BH20<>\"\",\" -O\",\"\")","v":""},null,{"$f":"IF(BJ20<>\"\",\" -O\",\"\")","v":""}]
[null,null," Zona de oportunidad alta: Potencializar la oportunidad.",null,null,{"$f":"COUNTIF('CRUCE OPORTUNIDADES'!$AF$12:$AF$111,\"ALTO\")","v":4},null,null,null,null,null,null,1.06,{"$f":"IFERROR(VLOOKUP(M20,'CRUCE OPORTUNIDADES'!$C$12:$D$111,2,FALSE),\"\")","v":""},2.06,{"$f":"IFERROR(VLOOKUP(O20,'CRUCE OPORTUNIDADES'!$C$12:$D$111,2,FALSE),\"\")","v":""},3.06,{"$f":"IFERROR(VLOOKUP(Q20,'CRUCE OPORTUNIDADES'!$C$12:$D$111,2,FALSE),\"\")","v":""},4.0599999999999996,{"$f":"IFERROR(VLOOKUP(S20,'CRUCE OPORTUNIDADES'!$C$12:$D$111,2,FALSE),\"\")","v":""},5.0599999999999996,{"$f":"IFERROR(VLOOKUP(U20,'CRUCE OPORTUNIDADES'!$C$12:$D$111,2,FALSE),\"\")","v":""},6.06,{"$f":"IFERROR(VLOOKUP(W20,'CRUCE OPORTUNIDADES'!$C$12:$D$111,2,FALSE),\"\")","v":""},7.06,{"$f":"IFERROR(VLOOKUP(Y20,'CRUCE OPORTUNIDADES'!$C$12:$D$111,2,FALSE),\"\")","v":""},8.06,{"$f":"IFERROR(VLOOKUP(AA20,'CRUCE OPORTUNIDADES'!$C$12:$D$111,2,FALSE),\"\")","v":""},9.06,{"$f":"IFERROR(VLOOKUP(AC20,'CRUCE OPORTUNIDADES'!$C$12:$D$111,2,FALSE),\"\")","v":""},10.06,{"$f":"IFERROR(VLOOKUP(AE20,'CRUCE OPORTUNIDADES'!$C$12:$D$111,2,FALSE),\"\")","v":""},11.06,{"$f":"IFERROR(VLOOKUP(AG20,'CRUCE OPORTUNIDADES'!$C$12:$D$111,2,FALSE),\"\")","v":""},12.06,{"$f":"IFERROR(VLOOKUP(AI20,'CRUCE OPORTUNIDADES'!$C$12:$D$111,2,FALSE),\"\")","v":""},13.06,{"$f":"IFERROR(VLOOKUP(AK20,'CRUCE OPORTUNIDADES'!$C$12:$D$111,2,FALSE),\"\")","v":""},14.06,{"$f":"IFERROR(VLOOKUP(AM20,'CRUCE OPORTUNIDADES'!$C$12:$D$111,2,FALSE),\"\")","v":""},15.06,{"$f":"IFERROR(VLOOKUP(AO20,'CRUCE OPORTUNIDADES'!$C$12:$D$111,2,FALSE),\"\")","v":""},16.059999999999999,{"$f":"IFERROR(VLOOKUP(AQ20,'CRUCE OPORTUNIDADES'!$C$12:$D$111,2,FALSE),\"\")","v":""},17.059999999999999,{"$f":"IFERROR(VLOOKUP(AS20,'CRUCE OPORTUNIDADES'!$C$12:$D$111,2,FALSE),\"\")","v":""},18.059999999999999,{"$f":"IFERROR(VLOOKUP(AU20,'CRUCE OPORTUNIDADES'!$C$12:$D$111,2,FALSE),\"\")","v":""},19.059999999999999,{"$f":"IFERROR(VLOOKUP(AW20,'CRUCE OPORTUNIDADES'!$C$12:$D$111,2,FALSE),\"\")","v":""},20.059999999999999,{"$f":"IFERROR(VLOOKUP(AY20,'CRUCE OPORTUNIDADES'!$C$12:$D$111,2,FALSE),\"\")","v":""},21.06,{"$f":"IFERROR(VLOOKUP(BA20,'CRUCE OPORTUNIDADES'!$C$12:$D$111,2,FALSE),\"\")","v":""},22.06,{"$f":"IFERROR(VLOOKUP(BC20,'CRUCE OPORTUNIDADES'!$C$12:$D$111,2,FALSE),\"\")","v":""},23.06,{"$f":"IFERROR(VLOOKUP(BE20,'CRUCE OPORTUNIDADES'!$C$12:$D$111,2,FALSE),\"\")","v":""},24.06,{"$f":"IFERROR(VLOOKUP(BG20,'CRUCE OPORTUNIDADES'!$C$12:$D$111,2,FALSE),\"\")","v":""},25.06,{"$f":"IFERROR(VLOOKUP(BI20,'CRUCE OPORTUNIDADES'!$C$12:$D$111,2,FALSE),\"\")","v":""}]
[null,null,null,null,null,null,null,null,null,null,null,null,null,{"$f":"IF(N22<>\"\",\" -O\",\"\")","v":""},null,{"$f":"IF(P22<>\"\",\" -O\",\"\")","v":""},null,{"$f":"IF(R22<>\"\",\" -O\",\"\")","v":""},null,{"$f":"IF(T22<>\"\",\" -O\",\"\")","v":""},null,{"$f":"IF(V22<>\"\",\" -O\",\"\")","v":""},null,{"$f":"IF(X22<>\"\",\" -O\",\"\")","v":""},null,{"$f":"IF(Z22<>\"\",\" -O\",\"\")","v":""},null,{"$f":"IF(AB22<>\"\",\" -O\",\"\")","v":""},null,{"$f":"IF(AD22<>\"\",\" -O\",\"\")","v":""},null,{"$f":"IF(AF22<>\"\",\" -O\",\"\")","v":""},null,{"$f":"IF(AH22<>\"\",\" -O\",\"\")","v":""},null,{"$f":"IF(AJ22<>\"\",\" -O\",\"\")","v":""},null,{"$f":"IF(AL22<>\"\",\" -O\",\"\")","v":""},null,{"$f":"IF(AN22<>\"\",\" -O\",\"\")","v":""},null,{"$f":"IF(AP22<>\"\",\" -O\",\"\")","v":""},null,{"$f":"IF(AR22<>\"\",\" -O\",\"\")","v":""},null,{"$f":"IF(AT22<>\"\",\" -O\",\"\")","v":""},null,{"$f":"IF(AV22<>\"\",\" -O\",\"\")","v":""},null,{"$f":"IF(AX22<>\"\",\" -O\",\"\")","v":""},null,{"$f":"IF(AZ22<>\"\",\" -O\",\"\")","v":""},null,{"$f":"IF(BB22<>\"\",\" -O\",\"\")","v":""},null,{"$f":"IF(BD22<>\"\",\" -O\",\"\")","v":""},null,{"$f":"IF(BF22<>\"\",\" -O\",\"\")","v":""},null,{"$f":"IF(BH22<>\"\",\" -O\",\"\")","v":""},null,{"$f":"IF(BJ22<>\"\",\" -O\",\"\")","v":""}]
[null,null,null,{"$f":"CONCATENATE(N20,N21,N22,N23,N24,N25,N26,N28,N29,N31,N32,N33,N34,N35,N36,N37,N38,N39,N40,N41,N42,N43,N44,N45,N46,N47,N48,N49,N50,N51,N52,N53,N54,N55,N56,N57,N58,N59,N60,N61,N62,N63,N64,N65,N66,N67,N68,N69,N70,N71,N72,N73,N74,N75,N76,N77,N78,N79,N80,N81,N82,N83,N84,N85,N86,N87,N88,N89,N90,N91,N92,N93,N94,N95,N96,N97,N98,N99,N100,N101,N102,N103,N104,N105,N106,N107,N108,N109,N110,N111,N112,N113,N114,N115,N116,N117,N118,N119,N120,N121,N122,N123,N124,N125,N126,N127,N128,N129,N130,N131,N132,N133,N134,N135,N136,N137,N138,N139,N140,N141,N142,N143,N144,N145,N146,N147,N148,N149,N150,N151,N152,N153,N154,N155,N156,N157,N158,N159,N160,N161,N162,N163,N164,N165,N166,N167,N168,N169,N170,N171,N172,N173,N174,N175,N176,N177,N178,N179,N180,N181,N182,N183,N184,N185,N186,N187,N188,N189,N190,N191,N192,N193,N194,N195,N196,N197,N198,N199,N200,N201,N202,N203,N204,N205,N206,N207,N208,N209,N210,N211,N212,N213,N214,N215,N216,N217,N218,N219)","v":""},{"$f":"CONCATENATE(P20,P21,P22,P23,P24,P25,P26,P28,P29,P31,P32,P33,P34,P35,P36,P37,P38,P39,P40,P41,P42,P43,P44,P45,P46,P47,P48,P49,P50,P51,P52,P53,P54,P55,P56,P57,P58,P59,P60,P61,P62,P63,P64,P65,P66,P67,P68,P69,P70,P71,P72,P73,P74,P75,P76,P77,P78,P79,P80,P81,P82,P83,P84,P85,P86,P87,P88,P89,P90,P91,P92,P93,P94,P95,P96,P97,P98,P99,P100,P101,P102,P103,P104,P105,P106,P107,P108,P109,P110,P111,P112,P113,P114,P115,P116,P117,P118,P119,P120,P121,P122,P123,P124,P125,P126,P127,P128,P129,P130,P131,P132,P133,P134,P135,P136,P137,P138,P139,P140,P141,P142,P143,P144,P145,P146,P147,P148,P149,P150,P151,P152,P153,P154,P155,P156,P157,P158,P159,P160,P161,P162,P163,P164,P165,P166,P167,P168,P169,P170,P171,P172,P173,P174,P175,P176,P177,P178,P179,P180,P181,P182,P183,P184,P185,P186,P187,P188,P189,P190,P191,P192,P193,P194,P195,P196,P197,P198,P199,P200,P201,P202,P203,P204,P205,P206,P207,P208,P209,P210,P211,P212,P213,P214,P215,P216,P217,P218,P219)","v":""},{"$f":"CONCATENATE(R20,R21,R22,R23,R24,R25,R26,R28,R29,R31,R32,R33,R34,R35,R36,R37,R38,R39,R40,R41,R42,R43,R44,R45,R46,R47,R48,R49,R50,R51,R52,R53,R54,R55,R56,R57,R58,R59,R60,R61,R62,R63,R64,R65,R66,R67,R68,R69,R70,R71,R72,R73,R74,R75,R76,R77,R78,R79,R80,R81,R82,R83,R84,R85,R86,R87,R88,R89,R90,R91,R92,R93,R94,R95,R96,R97,R98,R99,R100,R101,R102,R103,R104,R105,R106,R107,R108,R109,R110,R111,R112,R113,R114,R115,R116,R117,R118,R119,R120,R121,R122,R123,R124,R125,R126,R127,R128,R129,R130,R131,R132,R133,R134,R135,R136,R137,R138,R139,R140,R141,R142,R143,R144,R145,R146,R147,R148,R149,R150,R151,R152,R153,R154,R155,R156,R157,R158,R159,R160,R161,R162,R163,R164,R165,R166,R167,R168,R169,R170,R171,R172,R173,R174,R175,R176,R177,R178,R179,R180,R181,R182,R183,R184,R185,R186,R187,R188,R189,R190,R191,R192,R193,R194,R195,R196,R197,R198,R199,R200,R201,R202,R203,R204,R205,R206,R207,R208,R209,R210,R211,R212,R213,R214,R215,R216,R217,R218,R219)","v":""},{"$f":"CONCATENATE(T20,T21,T22,T23,T24,T25,T26,T28,T29,T31,T32,T33,T34,T35,T36,T37,T38,T39,T40,T41,T42,T43,T44,T45,T46,T47,T48,T49,T50,T51,T52,T53,T54,T55,T56,T57,T58,T59,T60,T61,T62,T63,T64,T65,T66,T67,T68,T69,T70,T71,T72,T73,T74,T75,T76,T77,T78,T79,T80,T81,T82,T83,T84,T85,T86,T87,T88,T89,T90,T91,T92,T93,T94,T95,T96,T97,T98,T99,T100,T101,T102,T103,T104,T105,T106,T107,T108,T109,T110,T111,T112,T113,T114,T115,T116,T117,T118,T119,T120,T121,T122,T123,T124,T125,T126,T127,T128,T129,T130,T131,T132,T133,T134,T135,T136,T137,T138,T139,T140,T141,T142,T143,T144,T145,T146,T147,T148,T149,T150,T151,T152,T153,T154,T155,T156,T157,T158,T159,T160,T161,T162,T163,T164,T165,T166,T167,T168,T169,T170,T171,T172,T173,T174,T175,T176,T177,T178,T179,T180,T181,T182,T183,T184,T185,T186,T187,T188,T189,T190,T191,T192,T193,T194,T195,T196,T197,T198,T199,T200,T201,T202,T203,T204,T205,T206,T207,T208,T209,T210,T211,T212,T213,T214,T215,T216,T217,T218,T219)","v":""},null,{"$f":"CONCATENATE(V20,V21,V22,V23,V24,V25,V26,V28,V29,V31,V32,V33,V34,V35,V36,V37,V38,V39,V40,V41,V42,V43,V44,V45,V46,V47,V48,V49,V50,V51,V52,V53,V54,V55,V56,V57,V58,V59,V60,V61,V62,V63,V64,V65,V66,V67,V68,V69,V70,V71,V72,V73,V74,V75,V76,V77,V78,V79,V80,V81,V82,V83,V84,V85,V86,V87,V88,V89,V90,V91,V92,V93,V94,V95,V96,V97,V98,V99,V100,V101,V102,V103,V104,V105,V106,V107,V108,V109,V110,V111,V112,V113,V114,V115,V116,V117,V118,V119,V120,V121,V122,V123,V124,V125,V126,V127,V128,V129,V130,V131,V132,V133,V134,V135,V136,V137,V138,V139,V140,V141,V142,V143,V144,V145,V146,V147,V148,V149,V150,V151,V152,V153,V154,V155,V156,V157,V158,V159,V160,V161,V162,V163,V164,V165,V166,V167,V168,V169,V170,V171,V172,V173,V174,V175,V176,V177,V178,V179,V180,V181,V182,V183,V184,V185,V186,V187,V188,V189,V190,V191,V192,V193,V194,V195,V196,V197,V198,V199,V200,V201,V202,V203,V204,V205,V206,V207,V208,V209,V210,V211,V212,V213,V214,V215,V216,V217,V218,V219)","v":""},null,null,null,1.07,{"$f":"IFERROR(VLOOKUP(M22,'CRUCE OPORTUNIDADES'!$C$12:$D$111,2,FALSE),\"\")","v":""},2.0699999999999998,{"$f":"IFERROR(VLOOKUP(O22,'CRUCE OPORTUNIDADES'!$C$12:$D$111,2,FALSE),\"\")","v":""},3.07,{"$f":"IFERROR(VLOOKUP(Q22,'CRUCE OPORTUNIDADES'!$C$12:$D$111,2,FALSE),\"\")","v":""},4.07,{"$f":"IFERROR(VLOOKUP(S22,'CRUCE OPORTUNIDADES'!$C$12:$D$111,2,FALSE),\"\")","v":""},5.07,{"$f":"IFERROR(VLOOKUP(U22,'CRUCE OPORTUNIDADES'!$C$12:$D$111,2,FALSE),\"\")","v":""},6.07,{"$f":"IFERROR(VLOOKUP(W22,'CRUCE OPORTUNIDADES'!$C$12:$D$111,2,FALSE),\"\")","v":""},7.07,{"$f":"IFERROR(VLOOKUP(Y22,'CRUCE OPORTUNIDADES'!$C$12:$D$111,2,FALSE),\"\")","v":""},8.07,{"$f":"IFERROR(VLOOKUP(AA22,'CRUCE OPORTUNIDADES'!$C$12:$D$111,2,FALSE),\"\")","v":""},9.07,{"$f":"IFERROR(VLOOKUP(AC22,'CRUCE OPORTUNIDADES'!$C$12:$D$111,2,FALSE),\"\")","v":""},10.07,{"$f":"IFERROR(VLOOKUP(AE22,'CRUCE OPORTUNIDADES'!$C$12:$D$111,2,FALSE),\"\")","v":""},11.07,{"$f":"IFERROR(VLOOKUP(AG22,'CRUCE OPORTUNIDADES'!$C$12:$D$111,2,FALSE),\"\")","v":""},12.07,{"$f":"IFERROR(VLOOKUP(AI22,'CRUCE OPORTUNIDADES'!$C$12:$D$111,2,FALSE),\"\")","v":""},13.07,{"$f":"IFERROR(VLOOKUP(AK22,'CRUCE OPORTUNIDADES'!$C$12:$D$111,2,FALSE),\"\")","v":""},14.07,{"$f":"IFERROR(VLOOKUP(AM22,'CRUCE OPORTUNIDADES'!$C$12:$D$111,2,FALSE),\"\")","v":""},15.07,{"$f":"IFERROR(VLOOKUP(AO22,'CRUCE OPORTUNIDADES'!$C$12:$D$111,2,FALSE),\"\")","v":""},16.07,{"$f":"IFERROR(VLOOKUP(AQ22,'CRUCE OPORTUNIDADES'!$C$12:$D$111,2,FALSE),\"\")","v":""},17.07,{"$f":"IFERROR(VLOOKUP(AS22,'CRUCE OPORTUNIDADES'!$C$12:$D$111,2,FALSE),\"\")","v":""},18.07,{"$f":"IFERROR(VLOOKUP(AU22,'CRUCE OPORTUNIDADES'!$C$12:$D$111,2,FALSE),\"\")","v":""},19.07,{"$f":"IFERROR(VLOOKUP(AW22,'CRUCE OPORTUNIDADES'!$C$12:$D$111,2,FALSE),\"\")","v":""},20.07,{"$f":"IFERROR(VLOOKUP(AY22,'CRUCE OPORTUNIDADES'!$C$12:$D$111,2,FALSE),\"\")","v":""},21.07,{"$f":"IFERROR(VLOOKUP(BA22,'CRUCE OPORTUNIDADES'!$C$12:$D$111,2,FALSE),\"\")","v":""},22.07,{"$f":"IFERROR(VLOOKUP(BC22,'CRUCE OPORTUNIDADES'!$C$12:$D$111,2,FALSE),\"\")","v":""},23.07,{"$f":"IFERROR(VLOOKUP(BE22,'CRUCE OPORTUNIDADES'!$C$12:$D$111,2,FALSE),\"\")","v":""},24.07,{"$f":"IFERROR(VLOOKUP(BG22,'CRUCE OPORTUNIDADES'!$C$12:$D$111,2,FALSE),\"\")","v":""},25.07,{"$f":"IFERROR(VLOOKUP(BI22,'CRUCE OPORTUNIDADES'!$C$12:$D$111,2,FALSE),\"\")","v":""}]
[null,"Código Serie Documental (Ver Tabla de Retención Documental)"]
[null,"Diagonal 18 No. 20-29 Fusagasugá – Cundinamarca \nTeléfono (601) 8281483 Línea Gratuita 018000180414\n www.ucundinamarca.edu.co   E-mail: info@ucundinamarca.edu.co\n NIT: 890.680.062-2"]
[]
[null,"Documento controlado por el Sistema de Gestión de la Calidad\nAsegúrese que corresponde a la última versión consultando el Portal Institucional"]
[null,null,null,null,null,null,null,null,null,null,null,null,null,{"$f":"IF(N28<>\"\",\" -O\",\"\")","v":""},null,{"$f":"IF(P28<>\"\",\" -O\",\"\")","v":""},null,{"$f":"IF(R28<>\"\",\" -O\",\"\")","v":""},null,{"$f":"IF(T28<>\"\",\" -O\",\"\")","v":""},null,{"$f":"IF(V28<>\"\",\" -O\",\"\")","v":""},null,{"$f":"IF(X28<>\"\",\" -O\",\"\")","v":""},null,{"$f":"IF(Z28<>\"\",\" -O\",\"\")","v":""},null,{"$f":"IF(AB28<>\"\",\" -O\",\"\")","v":""},null,{"$f":"IF(AD28<>\"\",\" -O\",\"\")","v":""},null,{"$f":"IF(AF28<>\"\",\" -O\",\"\")","v":""},null,{"$f":"IF(AH28<>\"\",\" -O\",\"\")","v":""},null,{"$f":"IF(AJ28<>\"\",\" -O\",\"\")","v":""},null,{"$f":"IF(AL28<>\"\",\" -O\",\"\")","v":""},null,{"$f":"IF(AN28<>\"\",\" -O\",\"\")","v":""},null,{"$f":"IF(AP28<>\"\",\" -O\",\"\")","v":""},null,{"$f":"IF(AR28<>\"\",\" -O\",\"\")","v":""},null,{"$f":"IF(AT28<>\"\",\" -O\",\"\")","v":""},null,{"$f":"IF(AV28<>\"\",\" -O\",\"\")","v":""},null,{"$f":"IF(AX28<>\"\",\" -O\",\"\")","v":""},null,{"$f":"IF(AZ28<>\"\",\" -O\",\"\")","v":""},null,{"$f":"IF(BB28<>\"\",\" -O\",\"\")","v":""},null,{"$f":"IF(BD28<>\"\",\" -O\",\"\")","v":""},null,{"$f":"IF(BF28<>\"\",\" -O\",\"\")","v":""},null,{"$f":"IF(BH28<>\"\",\" -O\",\"\")","v":""},null,{"$f":"IF(BJ28<>\"\",\" -O\",\"\")","v":""}]
[null,null,null,null,null,null,null,null,null,null,null,null,1.1000000000000001,{"$f":"IFERROR(VLOOKUP(M28,'CRUCE OPORTUNIDADES'!$C$12:$D$111,2,FALSE),\"\")","v":""},2.1,{"$f":"IFERROR(VLOOKUP(O28,'CRUCE OPORTUNIDADES'!$C$12:$D$111,2,FALSE),\"\")","v":""},3.1,{"$f":"IFERROR(VLOOKUP(Q28,'CRUCE OPORTUNIDADES'!$C$12:$D$111,2,FALSE),\"\")","v":""},4.0999999999999996,{"$f":"IFERROR(VLOOKUP(S28,'CRUCE OPORTUNIDADES'!$C$12:$D$111,2,FALSE),\"\")","v":""},5.0999999999999996,{"$f":"IFERROR(VLOOKUP(U28,'CRUCE OPORTUNIDADES'!$C$12:$D$111,2,FALSE),\"\")","v":""},6.1,{"$f":"IFERROR(VLOOKUP(W28,'CRUCE OPORTUNIDADES'!$C$12:$D$111,2,FALSE),\"\")","v":""},7.1,{"$f":"IFERROR(VLOOKUP(Y28,'CRUCE OPORTUNIDADES'!$C$12:$D$111,2,FALSE),\"\")","v":""},8.1,{"$f":"IFERROR(VLOOKUP(AA28,'CRUCE OPORTUNIDADES'!$C$12:$D$111,2,FALSE),\"\")","v":""},9.1,{"$f":"IFERROR(VLOOKUP(AC28,'CRUCE OPORTUNIDADES'!$C$12:$D$111,2,FALSE),\"\")","v":""},10.1,{"$f":"IFERROR(VLOOKUP(AE28,'CRUCE OPORTUNIDADES'!$C$12:$D$111,2,FALSE),\"\")","v":""},11.1,{"$f":"IFERROR(VLOOKUP(AG28,'CRUCE OPORTUNIDADES'!$C$12:$D$111,2,FALSE),\"\")","v":""},12.1,{"$f":"IFERROR(VLOOKUP(AI28,'CRUCE OPORTUNIDADES'!$C$12:$D$111,2,FALSE),\"\")","v":""},13.1,{"$f":"IFERROR(VLOOKUP(AK28,'CRUCE OPORTUNIDADES'!$C$12:$D$111,2,FALSE),\"\")","v":""},14.1,{"$f":"IFERROR(VLOOKUP(AM28,'CRUCE OPORTUNIDADES'!$C$12:$D$111,2,FALSE),\"\")","v":""},15.1,{"$f":"IFERROR(VLOOKUP(AO28,'CRUCE OPORTUNIDADES'!$C$12:$D$111,2,FALSE),\"\")","v":""},16.100000000000001,{"$f":"IFERROR(VLOOKUP(AQ28,'CRUCE OPORTUNIDADES'!$C$12:$D$111,2,FALSE),\"\")","v":""},17.100000000000001,{"$f":"IFERROR(VLOOKUP(AS28,'CRUCE OPORTUNIDADES'!$C$12:$D$111,2,FALSE),\"\")","v":""},18.100000000000001,{"$f":"IFERROR(VLOOKUP(AU28,'CRUCE OPORTUNIDADES'!$C$12:$D$111,2,FALSE),\"\")","v":""},19.100000000000001,{"$f":"IFERROR(VLOOKUP(AW28,'CRUCE OPORTUNIDADES'!$C$12:$D$111,2,FALSE),\"\")","v":""},20.100000000000001,{"$f":"IFERROR(VLOOKUP(AY28,'CRUCE OPORTUNIDADES'!$C$12:$D$111,2,FALSE),\"\")","v":""},21.1,{"$f":"IFERROR(VLOOKUP(BA28,'CRUCE OPORTUNIDADES'!$C$12:$D$111,2,FALSE),\"\")","v":""},22.1,{"$f":"IFERROR(VLOOKUP(BC28,'CRUCE OPORTUNIDADES'!$C$12:$D$111,2,FALSE),\"\")","v":""},23.1,{"$f":"IFERROR(VLOOKUP(BE28,'CRUCE OPORTUNIDADES'!$C$12:$D$111,2,FALSE),\"\")","v":""},24.1,{"$f":"IFERROR(VLOOKUP(BG28,'CRUCE OPORTUNIDADES'!$C$12:$D$111,2,FALSE),\"\")","v":""},25.1,{"$f":"IFERROR(VLOOKUP(BI28,'CRUCE OPORTUNIDADES'!$C$12:$D$111,2,FALSE),\"\")","v":""}]
[null,null,null,null,null,null,null,null,null,null,null,null,null,{"$f":"IF(N30<>\"\",\" -O\",\"\")","v":""},null,{"$f":"IF(P30<>\"\",\" -O\",\"\")","v":""},null,{"$f":"IF(R30<>\"\",\" -O\",\"\")","v":""},null,{"$f":"IF(T30<>\"\",\" -O\",\"\")","v":""},null,{"$f":"IF(V30<>\"\",\" -O\",\"\")","v":""},null,{"$f":"IF(X30<>\"\",\" -O\",\"\")","v":""},null,{"$f":"IF(Z30<>\"\",\" -O\",\"\")","v":""},null,{"$f":"IF(AB30<>\"\",\" -O\",\"\")","v":""},null,{"$f":"IF(AD30<>\"\",\" -O\",\"\")","v":""},null,{"$f":"IF(AF30<>\"\",\" -O\",\"\")","v":""},null,{"$f":"IF(AH30<>\"\",\" -O\",\"\")","v":""},null,{"$f":"IF(AJ30<>\"\",\" -O\",\"\")","v":""},null,{"$f":"IF(AL30<>\"\",\" -O\",\"\")","v":""},null,{"$f":"IF(AN30<>\"\",\" -O\",\"\")","v":""},null,{"$f":"IF(AP30<>\"\",\" -O\",\"\")","v":""},null,{"$f":"IF(AR30<>\"\",\" -O\",\"\")","v":""},null,{"$f":"IF(AT30<>\"\",\" -O\",\"\")","v":""},null,{"$f":"IF(AV30<>\"\",\" -O\",\"\")","v":""},null,{"$f":"IF(AX30<>\"\",\" -O\",\"\")","v":""},null,{"$f":"IF(AZ30<>\"\",\" -O\",\"\")","v":""},null,{"$f":"IF(BB30<>\"\",\" -O\",\"\")","v":""},null,{"$f":"IF(BD30<>\"\",\" -O\",\"\")","v":""},null,{"$f":"IF(BF30<>\"\",\" -O\",\"\")","v":""},null,{"$f":"IF(BH30<>\"\",\" -O\",\"\")","v":""},null,{"$f":"IF(BJ30<>\"\",\" -O\",\"\")","v":""}]
[null,null,null,null,null,null,null,null,null,null,null,null,1.1100000000000001,{"$f":"IFERROR(VLOOKUP(M30,'CRUCE OPORTUNIDADES'!$C$12:$D$111,2,FALSE),\"\")","v":""},2.11,{"$f":"IFERROR(VLOOKUP(O30,'CRUCE OPORTUNIDADES'!$C$12:$D$111,2,FALSE),\"\")","v":""},3.11,{"$f":"IFERROR(VLOOKUP(Q30,'CRUCE OPORTUNIDADES'!$C$12:$D$111,2,FALSE),\"\")","v":""},4.1100000000000003,{"$f":"IFERROR(VLOOKUP(S30,'CRUCE OPORTUNIDADES'!$C$12:$D$111,2,FALSE),\"\")","v":""},5.1100000000000003,{"$f":"IFERROR(VLOOKUP(U30,'CRUCE OPORTUNIDADES'!$C$12:$D$111,2,FALSE),\"\")","v":""},6.11,{"$f":"IFERROR(VLOOKUP(W30,'CRUCE OPORTUNIDADES'!$C$12:$D$111,2,FALSE),\"\")","v":""},7.11,{"$f":"IFERROR(VLOOKUP(Y30,'CRUCE OPORTUNIDADES'!$C$12:$D$111,2,FALSE),\"\")","v":""},8.11,{"$f":"IFERROR(VLOOKUP(AA30,'CRUCE OPORTUNIDADES'!$C$12:$D$111,2,FALSE),\"\")","v":""},9.11,{"$f":"IFERROR(VLOOKUP(AC30,'CRUCE OPORTUNIDADES'!$C$12:$D$111,2,FALSE),\"\")","v":""},10.11,{"$f":"IFERROR(VLOOKUP(AE30,'CRUCE OPORTUNIDADES'!$C$12:$D$111,2,FALSE),\"\")","v":""},11.11,{"$f":"IFERROR(VLOOKUP(AG30,'CRUCE OPORTUNIDADES'!$C$12:$D$111,2,FALSE),\"\")","v":""},12.11,{"$f":"IFERROR(VLOOKUP(AI30,'CRUCE OPORTUNIDADES'!$C$12:$D$111,2,FALSE),\"\")","v":""},13.11,{"$f":"IFERROR(VLOOKUP(AK30,'CRUCE OPORTUNIDADES'!$C$12:$D$111,2,FALSE),\"\")","v":""},14.11,{"$f":"IFERROR(VLOOKUP(AM30,'CRUCE OPORTUNIDADES'!$C$12:$D$111,2,FALSE),\"\")","v":""},15.11,{"$f":"IFERROR(VLOOKUP(AO30,'CRUCE OPORTUNIDADES'!$C$12:$D$111,2,FALSE),\"\")","v":""},16.11,{"$f":"IFERROR(VLOOKUP(AQ30,'CRUCE OPORTUNIDADES'!$C$12:$D$111,2,FALSE),\"\")","v":""},17.11,{"$f":"IFERROR(VLOOKUP(AS30,'CRUCE OPORTUNIDADES'!$C$12:$D$111,2,FALSE),\"\")","v":""},18.11,{"$f":"IFERROR(VLOOKUP(AU30,'CRUCE OPORTUNIDADES'!$C$12:$D$111,2,FALSE),\"\")","v":""},19.11,{"$f":"IFERROR(VLOOKUP(AW30,'CRUCE OPORTUNIDADES'!$C$12:$D$111,2,FALSE),\"\")","v":""},20.11,{"$f":"IFERROR(VLOOKUP(AY30,'CRUCE OPORTUNIDADES'!$C$12:$D$111,2,FALSE),\"\")","v":""},21.11,{"$f":"IFERROR(VLOOKUP(BA30,'CRUCE OPORTUNIDADES'!$C$12:$D$111,2,FALSE),\"\")","v":""},22.11,{"$f":"IFERROR(VLOOKUP(BC30,'CRUCE OPORTUNIDADES'!$C$12:$D$111,2,FALSE),\"\")","v":""},23.11,{"$f":"IFERROR(VLOOKUP(BE30,'CRUCE OPORTUNIDADES'!$C$12:$D$111,2,FALSE),\"\")","v":""},24.11,{"$f":"IFERROR(VLOOKUP(BG30,'CRUCE OPORTUNIDADES'!$C$12:$D$111,2,FALSE),\"\")","v":""},25.11,{"$f":"IFERROR(VLOOKUP(BI30,'CRUCE OPORTUNIDADES'!$C$12:$D$111,2,FALSE),\"\")","v":""}]
[null,null,null,null,null,null,null,null,null,null,null,null,null,{"$f":"IF(N32<>\"\",\" -O\",\"\")","v":""},null,{"$f":"IF(P32<>\"\",\" -O\",\"\")","v":""},null,{"$f":"IF(R32<>\"\",\" -O\",\"\")","v":""},null,{"$f":"IF(T32<>\"\",\" -O\",\"\")","v":""},null,{"$f":"IF(V32<>\"\",\" -O\",\"\")","v":""},null,{"$f":"IF(X32<>\"\",\" -O\",\"\")","v":""},null,{"$f":"IF(Z32<>\"\",\" -O\",\"\")","v":""},null,{"$f":"IF(AB32<>\"\",\" -O\",\"\")","v":""},null,{"$f":"IF(AD32<>\"\",\" -O\",\"\")","v":""},null,{"$f":"IF(AF32<>\"\",\" -O\",\"\")","v":""},null,{"$f":"IF(AH32<>\"\",\" -O\",\"\")","v":""},null,{"$f":"IF(AJ32<>\"\",\" -O\",\"\")","v":""},null,{"$f":"IF(AL32<>\"\",\" -O\",\"\")","v":""},null,{"$f":"IF(AN32<>\"\",\" -O\",\"\")","v":""},null,{"$f":"IF(AP32<>\"\",\" -O\",\"\")","v":""},null,{"$f":"IF(AR32<>\"\",\" -O\",\"\")","v":""},null,{"$f":"IF(AT32<>\"\",\" -O\",\"\")","v":""},null,{"$f":"IF(AV32<>\"\",\" -O\",\"\")","v":""},null,{"$f":"IF(AX32<>\"\",\" -O\",\"\")","v":""},null,{"$f":"IF(AZ32<>\"\",\" -O\",\"\")","v":""},null,{"$f":"IF(BB32<>\"\",\" -O\",\"\")","v":""},null,{"$f":"IF(BD32<>\"\",\" -O\",\"\")","v":""},null,{"$f":"IF(BF32<>\"\",\" -O\",\"\")","v":""},null,{"$f":"IF(BH32<>\"\",\" -O\",\"\")","v":""},null,{"$f":"IF(BJ32<>\"\",\" -O\",\"\")","v":""}]
[null,null,null,null,null,null,null,null,null,null,null,null,1.1200000000000001,{"$f":"IFERROR(VLOOKUP(M32,'CRUCE OPORTUNIDADES'!$C$12:$D$111,2,FALSE),\"\")","v":""},2.12,{"$f":"IFERROR(VLOOKUP(O32,'CRUCE OPORTUNIDADES'!$C$12:$D$111,2,FALSE),\"\")","v":""},3.12,{"$f":"IFERROR(VLOOKUP(Q32,'CRUCE OPORTUNIDADES'!$C$12:$D$111,2,FALSE),\"\")","v":""},4.12,{"$f":"IFERROR(VLOOKUP(S32,'CRUCE OPORTUNIDADES'!$C$12:$D$111,2,FALSE),\"\")","v":""},5.12,{"$f":"IFERROR(VLOOKUP(U32,'CRUCE OPORTUNIDADES'!$C$12:$D$111,2,FALSE),\"\")","v":""},6.12,{"$f":"IFERROR(VLOOKUP(W32,'CRUCE OPORTUNIDADES'!$C$12:$D$111,2,FALSE),\"\")","v":""},7.12,{"$f":"IFERROR(VLOOKUP(Y32,'CRUCE OPORTUNIDADES'!$C$12:$D$111,2,FALSE),\"\")","v":""},8.1199999999999992,{"$f":"IFERROR(VLOOKUP(AA32,'CRUCE OPORTUNIDADES'!$C$12:$D$111,2,FALSE),\"\")","v":""},9.1199999999999992,{"$f":"IFERROR(VLOOKUP(AC32,'CRUCE OPORTUNIDADES'!$C$12:$D$111,2,FALSE),\"\")","v":""},10.119999999999999,{"$f":"IFERROR(VLOOKUP(AE32,'CRUCE OPORTUNIDADES'!$C$12:$D$111,2,FALSE),\"\")","v":""},11.12,{"$f":"IFERROR(VLOOKUP(AG32,'CRUCE OPORTUNIDADES'!$C$12:$D$111,2,FALSE),\"\")","v":""},12.12,{"$f":"IFERROR(VLOOKUP(AI32,'CRUCE OPORTUNIDADES'!$C$12:$D$111,2,FALSE),\"\")","v":""},13.12,{"$f":"IFERROR(VLOOKUP(AK32,'CRUCE OPORTUNIDADES'!$C$12:$D$111,2,FALSE),\"\")","v":""},14.12,{"$f":"IFERROR(VLOOKUP(AM32,'CRUCE OPORTUNIDADES'!$C$12:$D$111,2,FALSE),\"\")","v":""},15.12,{"$f":"IFERROR(VLOOKUP(AO32,'CRUCE OPORTUNIDADES'!$C$12:$D$111,2,FALSE),\"\")","v":""},16.12,{"$f":"IFERROR(VLOOKUP(AQ32,'CRUCE OPORTUNIDADES'!$C$12:$D$111,2,FALSE),\"\")","v":""},17.12,{"$f":"IFERROR(VLOOKUP(AS32,'CRUCE OPORTUNIDADES'!$C$12:$D$111,2,FALSE),\"\")","v":""},18.12,{"$f":"IFERROR(VLOOKUP(AU32,'CRUCE OPORTUNIDADES'!$C$12:$D$111,2,FALSE),\"\")","v":""},19.12,{"$f":"IFERROR(VLOOKUP(AW32,'CRUCE OPORTUNIDADES'!$C$12:$D$111,2,FALSE),\"\")","v":""},20.12,{"$f":"IFERROR(VLOOKUP(AY32,'CRUCE OPORTUNIDADES'!$C$12:$D$111,2,FALSE),\"\")","v":""},21.12,{"$f":"IFERROR(VLOOKUP(BA32,'CRUCE OPORTUNIDADES'!$C$12:$D$111,2,FALSE),\"\")","v":""},22.12,{"$f":"IFERROR(VLOOKUP(BC32,'CRUCE OPORTUNIDADES'!$C$12:$D$111,2,FALSE),\"\")","v":""},23.12,{"$f":"IFERROR(VLOOKUP(BE32,'CRUCE OPORTUNIDADES'!$C$12:$D$111,2,FALSE),\"\")","v":""},24.12,{"$f":"IFERROR(VLOOKUP(BG32,'CRUCE OPORTUNIDADES'!$C$12:$D$111,2,FALSE),\"\")","v":""},25.12,{"$f":"IFERROR(VLOOKUP(BI32,'CRUCE OPORTUNIDADES'!$C$12:$D$111,2,FALSE),\"\")","v":""}]
[null,null,null,null,null,null,null,null,null,null,null,null,null,{"$f":"IF(N34<>\"\",\" -O\",\"\")","v":""},null,{"$f":"IF(P34<>\"\",\" -O\",\"\")","v":""},null,{"$f":"IF(R34<>\"\",\" -O\",\"\")","v":""},null,{"$f":"IF(T34<>\"\",\" -O\",\"\")","v":""},null,{"$f":"IF(V34<>\"\",\" -O\",\"\")","v":""},null,{"$f":"IF(X34<>\"\",\" -O\",\"\")","v":""},null,{"$f":"IF(Z34<>\"\",\" -O\",\"\")","v":""},null,{"$f":"IF(AB34<>\"\",\" -O\",\"\")","v":""},null,{"$f":"IF(AD34<>\"\",\" -O\",\"\")","v":""},null,{"$f":"IF(AF34<>\"\",\" -O\",\"\")","v":""},null,{"$f":"IF(AH34<>\"\",\" -O\",\"\")","v":""},null,{"$f":"IF(AJ34<>\"\",\" -O\",\"\")","v":""},null,{"$f":"IF(AL34<>\"\",\" -O\",\"\")","v":""},null,{"$f":"IF(AN34<>\"\",\" -O\",\"\")","v":""},null,{"$f":"IF(AP34<>\"\",\" -O\",\"\")","v":""},null,{"$f":"IF(AR34<>\"\",\" -O\",\"\")","v":""},null,{"$f":"IF(AT34<>\"\",\" -O\",\"\")","v":""},null,{"$f":"IF(AV34<>\"\",\" -O\",\"\")","v":""},null,{"$f":"IF(AX34<>\"\",\" -O\",\"\")","v":""},null,{"$f":"IF(AZ34<>\"\",\" -O\",\"\")","v":""},null,{"$f":"IF(BB34<>\"\",\" -O\",\"\")","v":""},null,{"$f":"IF(BD34<>\"\",\" -O\",\"\")","v":""},null,{"$f":"IF(BF34<>\"\",\" -O\",\"\")","v":""},null,{"$f":"IF(BH34<>\"\",\" -O\",\"\")","v":""},null,{"$f":"IF(BJ34<>\"\",\" -O\",\"\")","v":""}]
[null,null,null,null,null,null,null,null,null,null,null,null,1.1299999999999999,{"$f":"IFERROR(VLOOKUP(M34,'CRUCE OPORTUNIDADES'!$C$12:$D$111,2,FALSE),\"\")","v":""},2.13,{"$f":"IFERROR(VLOOKUP(O34,'CRUCE OPORTUNIDADES'!$C$12:$D$111,2,FALSE),\"\")","v":""},3.13,{"$f":"IFERROR(VLOOKUP(Q34,'CRUCE OPORTUNIDADES'!$C$12:$D$111,2,FALSE),\"\")","v":""},4.13,{"$f":"IFERROR(VLOOKUP(S34,'CRUCE OPORTUNIDADES'!$C$12:$D$111,2,FALSE),\"\")","v":""},5.13,{"$f":"IFERROR(VLOOKUP(U34,'CRUCE OPORTUNIDADES'!$C$12:$D$111,2,FALSE),\"\")","v":""},6.13,{"$f":"IFERROR(VLOOKUP(W34,'CRUCE OPORTUNIDADES'!$C$12:$D$111,2,FALSE),\"\")","v":""},7.13,{"$f":"IFERROR(VLOOKUP(Y34,'CRUCE OPORTUNIDADES'!$C$12:$D$111,2,FALSE),\"\")","v":""},8.1300000000000008,{"$f":"IFERROR(VLOOKUP(AA34,'CRUCE OPORTUNIDADES'!$C$12:$D$111,2,FALSE),\"\")","v":""},9.1300000000000008,{"$f":"IFERROR(VLOOKUP(AC34,'CRUCE OPORTUNIDADES'!$C$12:$D$111,2,FALSE),\"\")","v":""},10.130000000000001,{"$f":"IFERROR(VLOOKUP(AE34,'CRUCE OPORTUNIDADES'!$C$12:$D$111,2,FALSE),\"\")","v":""},11.13,{"$f":"IFERROR(VLOOKUP(AG34,'CRUCE OPORTUNIDADES'!$C$12:$D$111,2,FALSE),\"\")","v":""},12.13,{"$f":"IFERROR(VLOOKUP(AI34,'CRUCE OPORTUNIDADES'!$C$12:$D$111,2,FALSE),\"\")","v":""},13.13,{"$f":"IFERROR(VLOOKUP(AK34,'CRUCE OPORTUNIDADES'!$C$12:$D$111,2,FALSE),\"\")","v":""},14.13,{"$f":"IFERROR(VLOOKUP(AM34,'CRUCE OPORTUNIDADES'!$C$12:$D$111,2,FALSE),\"\")","v":""},15.13,{"$f":"IFERROR(VLOOKUP(AO34,'CRUCE OPORTUNIDADES'!$C$12:$D$111,2,FALSE),\"\")","v":""},16.13,{"$f":"IFERROR(VLOOKUP(AQ34,'CRUCE OPORTUNIDADES'!$C$12:$D$111,2,FALSE),\"\")","v":""},17.13,{"$f":"IFERROR(VLOOKUP(AS34,'CRUCE OPORTUNIDADES'!$C$12:$D$111,2,FALSE),\"\")","v":""},18.13,{"$f":"IFERROR(VLOOKUP(AU34,'CRUCE OPORTUNIDADES'!$C$12:$D$111,2,FALSE),\"\")","v":""},19.13,{"$f":"IFERROR(VLOOKUP(AW34,'CRUCE OPORTUNIDADES'!$C$12:$D$111,2,FALSE),\"\")","v":""},20.13,{"$f":"IFERROR(VLOOKUP(AY34,'CRUCE OPORTUNIDADES'!$C$12:$D$111,2,FALSE),\"\")","v":""},21.13,{"$f":"IFERROR(VLOOKUP(BA34,'CRUCE OPORTUNIDADES'!$C$12:$D$111,2,FALSE),\"\")","v":""},22.13,{"$f":"IFERROR(VLOOKUP(BC34,'CRUCE OPORTUNIDADES'!$C$12:$D$111,2,FALSE),\"\")","v":""},23.13,{"$f":"IFERROR(VLOOKUP(BE34,'CRUCE OPORTUNIDADES'!$C$12:$D$111,2,FALSE),\"\")","v":""},24.13,{"$f":"IFERROR(VLOOKUP(BG34,'CRUCE OPORTUNIDADES'!$C$12:$D$111,2,FALSE),\"\")","v":""},25.13,{"$f":"IFERROR(VLOOKUP(BI34,'CRUCE OPORTUNIDADES'!$C$12:$D$111,2,FALSE),\"\")","v":""}]
[null,null,null,null,null,null,null,null,null,null,null,null,null,{"$f":"IF(N36<>\"\",\" -O\",\"\")","v":""},null,{"$f":"IF(P36<>\"\",\" -O\",\"\")","v":""},null,{"$f":"IF(R36<>\"\",\" -O\",\"\")","v":""},null,{"$f":"IF(T36<>\"\",\" -O\",\"\")","v":""},null,{"$f":"IF(V36<>\"\",\" -O\",\"\")","v":""},null,{"$f":"IF(X36<>\"\",\" -O\",\"\")","v":""},null,{"$f":"IF(Z36<>\"\",\" -O\",\"\")","v":""},null,{"$f":"IF(AB36<>\"\",\" -O\",\"\")","v":""},null,{"$f":"IF(AD36<>\"\",\" -O\",\"\")","v":""},null,{"$f":"IF(AF36<>\"\",\" -O\",\"\")","v":""},null,{"$f":"IF(AH36<>\"\",\" -O\",\"\")","v":""},null,{"$f":"IF(AJ36<>\"\",\" -O\",\"\")","v":""},null,{"$f":"IF(AL36<>\"\",\" -O\",\"\")","v":""},null,{"$f":"IF(AN36<>\"\",\" -O\",\"\")","v":""},null,{"$f":"IF(AP36<>\"\",\" -O\",\"\")","v":""},null,{"$f":"IF(AR36<>\"\",\" -O\",\"\")","v":""},null,{"$f":"IF(AT36<>\"\",\" -O\",\"\")","v":""},null,{"$f":"IF(AV36<>\"\",\" -O\",\"\")","v":""},null,{"$f":"IF(AX36<>\"\",\" -O\",\"\")","v":""},null,{"$f":"IF(AZ36<>\"\",\" -O\",\"\")","v":""},null,{"$f":"IF(BB36<>\"\",\" -O\",\"\")","v":""},null,{"$f":"IF(BD36<>\"\",\" -O\",\"\")","v":""},null,{"$f":"IF(BF36<>\"\",\" -O\",\"\")","v":""},null,{"$f":"IF(BH36<>\"\",\" -O\",\"\")","v":""},null,{"$f":"IF(BJ36<>\"\",\" -O\",\"\")","v":""}]
[null,null,null,null,null,null,null,null,null,null,null,null,1.1399999999999999,{"$f":"IFERROR(VLOOKUP(M36,'CRUCE OPORTUNIDADES'!$C$12:$D$111,2,FALSE),\"\")","v":""},2.14,{"$f":"IFERROR(VLOOKUP(O36,'CRUCE OPORTUNIDADES'!$C$12:$D$111,2,FALSE),\"\")","v":""},3.14,{"$f":"IFERROR(VLOOKUP(Q36,'CRUCE OPORTUNIDADES'!$C$12:$D$111,2,FALSE),\"\")","v":""},4.1399999999999997,{"$f":"IFERROR(VLOOKUP(S36,'CRUCE OPORTUNIDADES'!$C$12:$D$111,2,FALSE),\"\")","v":""},5.14,{"$f":"IFERROR(VLOOKUP(U36,'CRUCE OPORTUNIDADES'!$C$12:$D$111,2,FALSE),\"\")","v":""},6.14,{"$f":"IFERROR(VLOOKUP(W36,'CRUCE OPORTUNIDADES'!$C$12:$D$111,2,FALSE),\"\")","v":""},7.14,{"$f":"IFERROR(VLOOKUP(Y36,'CRUCE OPORTUNIDADES'!$C$12:$D$111,2,FALSE),\"\")","v":""},8.14,{"$f":"IFERROR(VLOOKUP(AA36,'CRUCE OPORTUNIDADES'!$C$12:$D$111,2,FALSE),\"\")","v":""},9.14,{"$f":"IFERROR(VLOOKUP(AC36,'CRUCE OPORTUNIDADES'!$C$12:$D$111,2,FALSE),\"\")","v":""},10.14,{"$f":"IFERROR(VLOOKUP(AE36,'CRUCE OPORTUNIDADES'!$C$12:$D$111,2,FALSE),\"\")","v":""},11.14,{"$f":"IFERROR(VLOOKUP(AG36,'CRUCE OPORTUNIDADES'!$C$12:$D$111,2,FALSE),\"\")","v":""},12.14,{"$f":"IFERROR(VLOOKUP(AI36,'CRUCE OPORTUNIDADES'!$C$12:$D$111,2,FALSE),\"\")","v":""},13.14,{"$f":"IFERROR(VLOOKUP(AK36,'CRUCE OPORTUNIDADES'!$C$12:$D$111,2,FALSE),\"\")","v":""},14.14,{"$f":"IFERROR(VLOOKUP(AM36,'CRUCE OPORTUNIDADES'!$C$12:$D$111,2,FALSE),\"\")","v":""},15.14,{"$f":"IFERROR(VLOOKUP(AO36,'CRUCE OPORTUNIDADES'!$C$12:$D$111,2,FALSE),\"\")","v":""},16.14,{"$f":"IFERROR(VLOOKUP(AQ36,'CRUCE OPORTUNIDADES'!$C$12:$D$111,2,FALSE),\"\")","v":""},17.14,{"$f":"IFERROR(VLOOKUP(AS36,'CRUCE OPORTUNIDADES'!$C$12:$D$111,2,FALSE),\"\")","v":""},18.14,{"$f":"IFERROR(VLOOKUP(AU36,'CRUCE OPORTUNIDADES'!$C$12:$D$111,2,FALSE),\"\")","v":""},19.14,{"$f":"IFERROR(VLOOKUP(AW36,'CRUCE OPORTUNIDADES'!$C$12:$D$111,2,FALSE),\"\")","v":""},20.14,{"$f":"IFERROR(VLOOKUP(AY36,'CRUCE OPORTUNIDADES'!$C$12:$D$111,2,FALSE),\"\")","v":""},21.14,{"$f":"IFERROR(VLOOKUP(BA36,'CRUCE OPORTUNIDADES'!$C$12:$D$111,2,FALSE),\"\")","v":""},22.14,{"$f":"IFERROR(VLOOKUP(BC36,'CRUCE OPORTUNIDADES'!$C$12:$D$111,2,FALSE),\"\")","v":""},23.14,{"$f":"IFERROR(VLOOKUP(BE36,'CRUCE OPORTUNIDADES'!$C$12:$D$111,2,FALSE),\"\")","v":""},24.14,{"$f":"IFERROR(VLOOKUP(BG36,'CRUCE OPORTUNIDADES'!$C$12:$D$111,2,FALSE),\"\")","v":""},25.14,{"$f":"IFERROR(VLOOKUP(BI36,'CRUCE OPORTUNIDADES'!$C$12:$D$111,2,FALSE),\"\")","v":""}]
[null,null,null,null,null,null,null,null,null,null,null,null,null,{"$f":"IF(N38<>\"\",\" -O\",\"\")","v":""},null,{"$f":"IF(P38<>\"\",\" -O\",\"\")","v":""},null,{"$f":"IF(R38<>\"\",\" -O\",\"\")","v":""},null,{"$f":"IF(T38<>\"\",\" -O\",\"\")","v":""},null,{"$f":"IF(V38<>\"\",\" -O\",\"\")","v":""},null,{"$f":"IF(X38<>\"\",\" -O\",\"\")","v":""},null,{"$f":"IF(Z38<>\"\",\" -O\",\"\")","v":""},null,{"$f":"IF(AB38<>\"\",\" -O\",\"\")","v":""},null,{"$f":"IF(AD38<>\"\",\" -O\",\"\")","v":""},null,{"$f":"IF(AF38<>\"\",\" -O\",\"\")","v":""},null,{"$f":"IF(AH38<>\"\",\" -O\",\"\")","v":""},null,{"$f":"IF(AJ38<>\"\",\" -O\",\"\")","v":""},null,{"$f":"IF(AL38<>\"\",\" -O\",\"\")","v":""},null,{"$f":"IF(AN38<>\"\",\" -O\",\"\")","v":""},null,{"$f":"IF(AP38<>\"\",\" -O\",\"\")","v":""},null,{"$f":"IF(AR38<>\"\",\" -O\",\"\")","v":""},null,{"$f":"IF(AT38<>\"\",\" -O\",\"\")","v":""},null,{"$f":"IF(AV38<>\"\",\" -O\",\"\")","v":""},null,{"$f":"IF(AX38<>\"\",\" -O\",\"\")","v":""},null,{"$f":"IF(AZ38<>\"\",\" -O\",\"\")","v":""},null,{"$f":"IF(BB38<>\"\",\" -O\",\"\")","v":""},null,{"$f":"IF(BD38<>\"\",\" -O\",\"\")","v":""},null,{"$f":"IF(BF38<>\"\",\" -O\",\"\")","v":""},null,{"$f":"IF(BH38<>\"\",\" -O\",\"\")","v":""},null,{"$f":"IF(BJ38<>\"\",\" -O\",\"\")","v":""}]
[null,null,null,null,null,null,null,null,null,null,null,null,1.1499999999999999,{"$f":"IFERROR(VLOOKUP(M38,'CRUCE OPORTUNIDADES'!$C$12:$D$111,2,FALSE),\"\")","v":""},2.15,{"$f":"IFERROR(VLOOKUP(O38,'CRUCE OPORTUNIDADES'!$C$12:$D$111,2,FALSE),\"\")","v":""},3.15,{"$f":"IFERROR(VLOOKUP(Q38,'CRUCE OPORTUNIDADES'!$C$12:$D$111,2,FALSE),\"\")","v":""},4.1500000000000004,{"$f":"IFERROR(VLOOKUP(S38,'CRUCE OPORTUNIDADES'!$C$12:$D$111,2,FALSE),\"\")","v":""},5.15,{"$f":"IFERROR(VLOOKUP(U38,'CRUCE OPORTUNIDADES'!$C$12:$D$111,2,FALSE),\"\")","v":""},6.15,{"$f":"IFERROR(VLOOKUP(W38,'CRUCE OPORTUNIDADES'!$C$12:$D$111,2,FALSE),\"\")","v":""},7.15,{"$f":"IFERROR(VLOOKUP(Y38,'CRUCE OPORTUNIDADES'!$C$12:$D$111,2,FALSE),\"\")","v":""},8.15,{"$f":"IFERROR(VLOOKUP(AA38,'CRUCE OPORTUNIDADES'!$C$12:$D$111,2,FALSE),\"\")","v":""},9.15,{"$f":"IFERROR(VLOOKUP(AC38,'CRUCE OPORTUNIDADES'!$C$12:$D$111,2,FALSE),\"\")","v":""},10.15,{"$f":"IFERROR(VLOOKUP(AE38,'CRUCE OPORTUNIDADES'!$C$12:$D$111,2,FALSE),\"\")","v":""},11.15,{"$f":"IFERROR(VLOOKUP(AG38,'CRUCE OPORTUNIDADES'!$C$12:$D$111,2,FALSE),\"\")","v":""},12.15,{"$f":"IFERROR(VLOOKUP(AI38,'CRUCE OPORTUNIDADES'!$C$12:$D$111,2,FALSE),\"\")","v":""},13.15,{"$f":"IFERROR(VLOOKUP(AK38,'CRUCE OPORTUNIDADES'!$C$12:$D$111,2,FALSE),\"\")","v":""},14.15,{"$f":"IFERROR(VLOOKUP(AM38,'CRUCE OPORTUNIDADES'!$C$12:$D$111,2,FALSE),\"\")","v":""},15.15,{"$f":"IFERROR(VLOOKUP(AO38,'CRUCE OPORTUNIDADES'!$C$12:$D$111,2,FALSE),\"\")","v":""},16.149999999999999,{"$f":"IFERROR(VLOOKUP(AQ38,'CRUCE OPORTUNIDADES'!$C$12:$D$111,2,FALSE),\"\")","v":""},17.149999999999999,{"$f":"IFERROR(VLOOKUP(AS38,'CRUCE OPORTUNIDADES'!$C$12:$D$111,2,FALSE),\"\")","v":""},18.149999999999999,{"$f":"IFERROR(VLOOKUP(AU38,'CRUCE OPORTUNIDADES'!$C$12:$D$111,2,FALSE),\"\")","v":""},19.149999999999999,{"$f":"IFERROR(VLOOKUP(AW38,'CRUCE OPORTUNIDADES'!$C$12:$D$111,2,FALSE),\"\")","v":""},20.149999999999999,{"$f":"IFERROR(VLOOKUP(AY38,'CRUCE OPORTUNIDADES'!$C$12:$D$111,2,FALSE),\"\")","v":""},21.15,{"$f":"IFERROR(VLOOKUP(BA38,'CRUCE OPORTUNIDADES'!$C$12:$D$111,2,FALSE),\"\")","v":""},22.15,{"$f":"IFERROR(VLOOKUP(BC38,'CRUCE OPORTUNIDADES'!$C$12:$D$111,2,FALSE),\"\")","v":""},23.15,{"$f":"IFERROR(VLOOKUP(BE38,'CRUCE OPORTUNIDADES'!$C$12:$D$111,2,FALSE),\"\")","v":""},24.15,{"$f":"IFERROR(VLOOKUP(BG38,'CRUCE OPORTUNIDADES'!$C$12:$D$111,2,FALSE),\"\")","v":""},25.15,{"$f":"IFERROR(VLOOKUP(BI38,'CRUCE OPORTUNIDADES'!$C$12:$D$111,2,FALSE),\"\")","v":""}]
[null,null,null,null,null,null,null,null,null,null,null,null,null,{"$f":"IF(N40<>\"\",\" -O\",\"\")","v":""},null,{"$f":"IF(P40<>\"\",\" -O\",\"\")","v":""},null,{"$f":"IF(R40<>\"\",\" -O\",\"\")","v":""},null,{"$f":"IF(T40<>\"\",\" -O\",\"\")","v":""},null,{"$f":"IF(V40<>\"\",\" -O\",\"\")","v":""},null,{"$f":"IF(X40<>\"\",\" -O\",\"\")","v":""},null,{"$f":"IF(Z40<>\"\",\" -O\",\"\")","v":""},null,{"$f":"IF(AB40<>\"\",\" -O\",\"\")","v":""},null,{"$f":"IF(AD40<>\"\",\" -O\",\"\")","v":""},null,{"$f":"IF(AF40<>\"\",\" -O\",\"\")","v":""},null,{"$f":"IF(AH40<>\"\",\" -O\",\"\")","v":""},null,{"$f":"IF(AJ40<>\"\",\" -O\",\"\")","v":""},null,{"$f":"IF(AL40<>\"\",\" -O\",\"\")","v":""},null,{"$f":"IF(AN40<>\"\",\" -O\",\"\")","v":""},null,{"$f":"IF(AP40<>\"\",\" -O\",\"\")","v":""},null,{"$f":"IF(AR40<>\"\",\" -O\",\"\")","v":""},null,{"$f":"IF(AT40<>\"\",\" -O\",\"\")","v":""},null,{"$f":"IF(AV40<>\"\",\" -O\",\"\")","v":""},null,{"$f":"IF(AX40<>\"\",\" -O\",\"\")","v":""},null,{"$f":"IF(AZ40<>\"\",\" -O\",\"\")","v":""},null,{"$f":"IF(BB40<>\"\",\" -O\",\"\")","v":""},null,{"$f":"IF(BD40<>\"\",\" -O\",\"\")","v":""},null,{"$f":"IF(BF40<>\"\",\" -O\",\"\")","v":""},null,{"$f":"IF(BH40<>\"\",\" -O\",\"\")","v":""},null,{"$f":"IF(BJ40<>\"\",\" -O\",\"\")","v":""}]
[null,null,null,null,null,null,null,null,null,null,null,null,1.1599999999999999,{"$f":"IFERROR(VLOOKUP(M40,'CRUCE OPORTUNIDADES'!$C$12:$D$111,2,FALSE),\"\")","v":""},2.16,{"$f":"IFERROR(VLOOKUP(O40,'CRUCE OPORTUNIDADES'!$C$12:$D$111,2,FALSE),\"\")","v":""},3.16,{"$f":"IFERROR(VLOOKUP(Q40,'CRUCE OPORTUNIDADES'!$C$12:$D$111,2,FALSE),\"\")","v":""},4.16,{"$f":"IFERROR(VLOOKUP(S40,'CRUCE OPORTUNIDADES'!$C$12:$D$111,2,FALSE),\"\")","v":""},5.16,{"$f":"IFERROR(VLOOKUP(U40,'CRUCE OPORTUNIDADES'!$C$12:$D$111,2,FALSE),\"\")","v":""},6.16,{"$f":"IFERROR(VLOOKUP(W40,'CRUCE OPORTUNIDADES'!$C$12:$D$111,2,FALSE),\"\")","v":""},7.16,{"$f":"IFERROR(VLOOKUP(Y40,'CRUCE OPORTUNIDADES'!$C$12:$D$111,2,FALSE),\"\")","v":""},8.16,{"$f":"IFERROR(VLOOKUP(AA40,'CRUCE OPORTUNIDADES'!$C$12:$D$111,2,FALSE),\"\")","v":""},9.16,{"$f":"IFERROR(VLOOKUP(AC40,'CRUCE OPORTUNIDADES'!$C$12:$D$111,2,FALSE),\"\")","v":""},10.16,{"$f":"IFERROR(VLOOKUP(AE40,'CRUCE OPORTUNIDADES'!$C$12:$D$111,2,FALSE),\"\")","v":""},11.16,{"$f":"IFERROR(VLOOKUP(AG40,'CRUCE OPORTUNIDADES'!$C$12:$D$111,2,FALSE),\"\")","v":""},12.16,{"$f":"IFERROR(VLOOKUP(AI40,'CRUCE OPORTUNIDADES'!$C$12:$D$111,2,FALSE),\"\")","v":""},13.16,{"$f":"IFERROR(VLOOKUP(AK40,'CRUCE OPORTUNIDADES'!$C$12:$D$111,2,FALSE),\"\")","v":""},14.16,{"$f":"IFERROR(VLOOKUP(AM40,'CRUCE OPORTUNIDADES'!$C$12:$D$111,2,FALSE),\"\")","v":""},15.16,{"$f":"IFERROR(VLOOKUP(AO40,'CRUCE OPORTUNIDADES'!$C$12:$D$111,2,FALSE),\"\")","v":""},16.16,{"$f":"IFERROR(VLOOKUP(AQ40,'CRUCE OPORTUNIDADES'!$C$12:$D$111,2,FALSE),\"\")","v":""},17.16,{"$f":"IFERROR(VLOOKUP(AS40,'CRUCE OPORTUNIDADES'!$C$12:$D$111,2,FALSE),\"\")","v":""},18.16,{"$f":"IFERROR(VLOOKUP(AU40,'CRUCE OPORTUNIDADES'!$C$12:$D$111,2,FALSE),\"\")","v":""},19.16,{"$f":"IFERROR(VLOOKUP(AW40,'CRUCE OPORTUNIDADES'!$C$12:$D$111,2,FALSE),\"\")","v":""},20.16,{"$f":"IFERROR(VLOOKUP(AY40,'CRUCE OPORTUNIDADES'!$C$12:$D$111,2,FALSE),\"\")","v":""},21.16,{"$f":"IFERROR(VLOOKUP(BA40,'CRUCE OPORTUNIDADES'!$C$12:$D$111,2,FALSE),\"\")","v":""},22.16,{"$f":"IFERROR(VLOOKUP(BC40,'CRUCE OPORTUNIDADES'!$C$12:$D$111,2,FALSE),\"\")","v":""},23.16,{"$f":"IFERROR(VLOOKUP(BE40,'CRUCE OPORTUNIDADES'!$C$12:$D$111,2,FALSE),\"\")","v":""},24.16,{"$f":"IFERROR(VLOOKUP(BG40,'CRUCE OPORTUNIDADES'!$C$12:$D$111,2,FALSE),\"\")","v":""},25.16,{"$f":"IFERROR(VLOOKUP(BI40,'CRUCE OPORTUNIDADES'!$C$12:$D$111,2,FALSE),\"\")","v":""}]
[null,null,null,null,null,null,null,null,null,null,null,null,null,{"$f":"IF(N42<>\"\",\" -O\",\"\")","v":""},null,{"$f":"IF(P42<>\"\",\" -O\",\"\")","v":""},null,{"$f":"IF(R42<>\"\",\" -O\",\"\")","v":""},null,{"$f":"IF(T42<>\"\",\" -O\",\"\")","v":""},null,{"$f":"IF(V42<>\"\",\" -O\",\"\")","v":""},null,{"$f":"IF(X42<>\"\",\" -O\",\"\")","v":""},null,{"$f":"IF(Z42<>\"\",\" -O\",\"\")","v":""},null,{"$f":"IF(AB42<>\"\",\" -O\",\"\")","v":""},null,{"$f":"IF(AD42<>\"\",\" -O\",\"\")","v":""},null,{"$f":"IF(AF42<>\"\",\" -O\",\"\")","v":""},null,{"$f":"IF(AH42<>\"\",\" -O\",\"\")","v":""},null,{"$f":"IF(AJ42<>\"\",\" -O\",\"\")","v":""},null,{"$f":"IF(AL42<>\"\",\" -O\",\"\")","v":""},null,{"$f":"IF(AN42<>\"\",\" -O\",\"\")","v":""},null,{"$f":"IF(AP42<>\"\",\" -O\",\"\")","v":""},null,{"$f":"IF(AR42<>\"\",\" -O\",\"\")","v":""},null,{"$f":"IF(AT42<>\"\",\" -O\",\"\")","v":""},null,{"$f":"IF(AV42<>\"\",\" -O\",\"\")","v":""},null,{"$f":"IF(AX42<>\"\",\" -O\",\"\")","v":""},null,{"$f":"IF(AZ42<>\"\",\" -O\",\"\")","v":""},null,{"$f":"IF(BB42<>\"\",\" -O\",\"\")","v":""},null,{"$f":"IF(BD42<>\"\",\" -O\",\"\")","v":""},null,{"$f":"IF(BF42<>\"\",\" -O\",\"\")","v":""},null,{"$f":"IF(BH42<>\"\",\" -O\",\"\")","v":""},null,{"$f":"IF(BJ42<>\"\",\" -O\",\"\")","v":""}]
[null,null,null,null,null,null,null,null,null,null,null,null,1.17,{"$f":"IFERROR(VLOOKUP(M42,'CRUCE OPORTUNIDADES'!$C$12:$D$111,2,FALSE),\"\")","v":""},2.17,{"$f":"IFERROR(VLOOKUP(O42,'CRUCE OPORTUNIDADES'!$C$12:$D$111,2,FALSE),\"\")","v":""},3.17,{"$f":"IFERROR(VLOOKUP(Q42,'CRUCE OPORTUNIDADES'!$C$12:$D$111,2,FALSE),\"\")","v":""},4.17,{"$f":"IFERROR(VLOOKUP(S42,'CRUCE OPORTUNIDADES'!$C$12:$D$111,2,FALSE),\"\")","v":""},5.17,{"$f":"IFERROR(VLOOKUP(U42,'CRUCE OPORTUNIDADES'!$C$12:$D$111,2,FALSE),\"\")","v":""},6.17,{"$f":"IFERROR(VLOOKUP(W42,'CRUCE OPORTUNIDADES'!$C$12:$D$111,2,FALSE),\"\")","v":""},7.17,{"$f":"IFERROR(VLOOKUP(Y42,'CRUCE OPORTUNIDADES'!$C$12:$D$111,2,FALSE),\"\")","v":""},8.17,{"$f":"IFERROR(VLOOKUP(AA42,'CRUCE OPORTUNIDADES'!$C$12:$D$111,2,FALSE),\"\")","v":""},9.17,{"$f":"IFERROR(VLOOKUP(AC42,'CRUCE OPORTUNIDADES'!$C$12:$D$111,2,FALSE),\"\")","v":""},10.17,{"$f":"IFERROR(VLOOKUP(AE42,'CRUCE OPORTUNIDADES'!$C$12:$D$111,2,FALSE),\"\")","v":""},11.17,{"$f":"IFERROR(VLOOKUP(AG42,'CRUCE OPORTUNIDADES'!$C$12:$D$111,2,FALSE),\"\")","v":""},12.17,{"$f":"IFERROR(VLOOKUP(AI42,'CRUCE OPORTUNIDADES'!$C$12:$D$111,2,FALSE),\"\")","v":""},13.17,{"$f":"IFERROR(VLOOKUP(AK42,'CRUCE OPORTUNIDADES'!$C$12:$D$111,2,FALSE),\"\")","v":""},14.17,{"$f":"IFERROR(VLOOKUP(AM42,'CRUCE OPORTUNIDADES'!$C$12:$D$111,2,FALSE),\"\")","v":""},15.17,{"$f":"IFERROR(VLOOKUP(AO42,'CRUCE OPORTUNIDADES'!$C$12:$D$111,2,FALSE),\"\")","v":""},16.170000000000002,{"$f":"IFERROR(VLOOKUP(AQ42,'CRUCE OPORTUNIDADES'!$C$12:$D$111,2,FALSE),\"\")","v":""},17.170000000000002,{"$f":"IFERROR(VLOOKUP(AS42,'CRUCE OPORTUNIDADES'!$C$12:$D$111,2,FALSE),\"\")","v":""},18.170000000000002,{"$f":"IFERROR(VLOOKUP(AU42,'CRUCE OPORTUNIDADES'!$C$12:$D$111,2,FALSE),\"\")","v":""},19.170000000000002,{"$f":"IFERROR(VLOOKUP(AW42,'CRUCE OPORTUNIDADES'!$C$12:$D$111,2,FALSE),\"\")","v":""},20.170000000000002,{"$f":"IFERROR(VLOOKUP(AY42,'CRUCE OPORTUNIDADES'!$C$12:$D$111,2,FALSE),\"\")","v":""},21.17,{"$f":"IFERROR(VLOOKUP(BA42,'CRUCE OPORTUNIDADES'!$C$12:$D$111,2,FALSE),\"\")","v":""},22.17,{"$f":"IFERROR(VLOOKUP(BC42,'CRUCE OPORTUNIDADES'!$C$12:$D$111,2,FALSE),\"\")","v":""},23.17,{"$f":"IFERROR(VLOOKUP(BE42,'CRUCE OPORTUNIDADES'!$C$12:$D$111,2,FALSE),\"\")","v":""},24.17,{"$f":"IFERROR(VLOOKUP(BG42,'CRUCE OPORTUNIDADES'!$C$12:$D$111,2,FALSE),\"\")","v":""},25.17,{"$f":"IFERROR(VLOOKUP(BI42,'CRUCE OPORTUNIDADES'!$C$12:$D$111,2,FALSE),\"\")","v":""}]
[null,null,null,null,null,null,null,null,null,null,null,null,null,{"$f":"IF(N44<>\"\",\" -O\",\"\")","v":""},null,{"$f":"IF(P44<>\"\",\" -O\",\"\")","v":""},null,{"$f":"IF(R44<>\"\",\" -O\",\"\")","v":""},null,{"$f":"IF(T44<>\"\",\" -O\",\"\")","v":""},null,{"$f":"IF(V44<>\"\",\" -O\",\"\")","v":""},null,{"$f":"IF(X44<>\"\",\" -O\",\"\")","v":""},null,{"$f":"IF(Z44<>\"\",\" -O\",\"\")","v":""},null,{"$f":"IF(AB44<>\"\",\" -O\",\"\")","v":""},null,{"$f":"IF(AD44<>\"\",\" -O\",\"\")","v":""},null,{"$f":"IF(AF44<>\"\",\" -O\",\"\")","v":""},null,{"$f":"IF(AH44<>\"\",\" -O\",\"\")","v":""},null,{"$f":"IF(AJ44<>\"\",\" -O\",\"\")","v":""},null,{"$f":"IF(AL44<>\"\",\" -O\",\"\")","v":""},null,{"$f":"IF(AN44<>\"\",\" -O\",\"\")","v":""},null,{"$f":"IF(AP44<>\"\",\" -O\",\"\")","v":""},null,{"$f":"IF(AR44<>\"\",\" -O\",\"\")","v":""},null,{"$f":"IF(AT44<>\"\",\" -O\",\"\")","v":""},null,{"$f":"IF(AV44<>\"\",\" -O\",\"\")","v":""},null,{"$f":"IF(AX44<>\"\",\" -O\",\"\")","v":""},null,{"$f":"IF(AZ44<>\"\",\" -O\",\"\")","v":""},null,{"$f":"IF(BB44<>\"\",\" -O\",\"\")","v":""},null,{"$f":"IF(BD44<>\"\",\" -O\",\"\")","v":""},null,{"$f":"IF(BF44<>\"\",\" -O\",\"\")","v":""},null,{"$f":"IF(BH44<>\"\",\" -O\",\"\")","v":""},null,{"$f":"IF(BJ44<>\"\",\" -O\",\"\")","v":""}]
[null,null,null,null,null,null,null,null,null,null,null,null,1.18,{"$f":"IFERROR(VLOOKUP(M44,'CRUCE OPORTUNIDADES'!$C$12:$D$111,2,FALSE),\"\")","v":""},2.1800000000000002,{"$f":"IFERROR(VLOOKUP(O44,'CRUCE OPORTUNIDADES'!$C$12:$D$111,2,FALSE),\"\")","v":""},3.18,{"$f":"IFERROR(VLOOKUP(Q44,'CRUCE OPORTUNIDADES'!$C$12:$D$111,2,FALSE),\"\")","v":""},4.18,{"$f":"IFERROR(VLOOKUP(S44,'CRUCE OPORTUNIDADES'!$C$12:$D$111,2,FALSE),\"\")","v":""},5.18,{"$f":"IFERROR(VLOOKUP(U44,'CRUCE OPORTUNIDADES'!$C$12:$D$111,2,FALSE),\"\")","v":""},6.18,{"$f":"IFERROR(VLOOKUP(W44,'CRUCE OPORTUNIDADES'!$C$12:$D$111,2,FALSE),\"\")","v":""},7.18,{"$f":"IFERROR(VLOOKUP(Y44,'CRUCE OPORTUNIDADES'!$C$12:$D$111,2,FALSE),\"\")","v":""},8.18,{"$f":"IFERROR(VLOOKUP(AA44,'CRUCE OPORTUNIDADES'!$C$12:$D$111,2,FALSE),\"\")","v":""},9.18,{"$f":"IFERROR(VLOOKUP(AC44,'CRUCE OPORTUNIDADES'!$C$12:$D$111,2,FALSE),\"\")","v":""},10.18,{"$f":"IFERROR(VLOOKUP(AE44,'CRUCE OPORTUNIDADES'!$C$12:$D$111,2,FALSE),\"\")","v":""},11.18,{"$f":"IFERROR(VLOOKUP(AG44,'CRUCE OPORTUNIDADES'!$C$12:$D$111,2,FALSE),\"\")","v":""},12.18,{"$f":"IFERROR(VLOOKUP(AI44,'CRUCE OPORTUNIDADES'!$C$12:$D$111,2,FALSE),\"\")","v":""},13.18,{"$f":"IFERROR(VLOOKUP(AK44,'CRUCE OPORTUNIDADES'!$C$12:$D$111,2,FALSE),\"\")","v":""},14.18,{"$f":"IFERROR(VLOOKUP(AM44,'CRUCE OPORTUNIDADES'!$C$12:$D$111,2,FALSE),\"\")","v":""},15.18,{"$f":"IFERROR(VLOOKUP(AO44,'CRUCE OPORTUNIDADES'!$C$12:$D$111,2,FALSE),\"\")","v":""},16.18,{"$f":"IFERROR(VLOOKUP(AQ44,'CRUCE OPORTUNIDADES'!$C$12:$D$111,2,FALSE),\"\")","v":""},17.18,{"$f":"IFERROR(VLOOKUP(AS44,'CRUCE OPORTUNIDADES'!$C$12:$D$111,2,FALSE),\"\")","v":""},18.18,{"$f":"IFERROR(VLOOKUP(AU44,'CRUCE OPORTUNIDADES'!$C$12:$D$111,2,FALSE),\"\")","v":""},19.18,{"$f":"IFERROR(VLOOKUP(AW44,'CRUCE OPORTUNIDADES'!$C$12:$D$111,2,FALSE),\"\")","v":""},20.18,{"$f":"IFERROR(VLOOKUP(AY44,'CRUCE OPORTUNIDADES'!$C$12:$D$111,2,FALSE),\"\")","v":""},21.18,{"$f":"IFERROR(VLOOKUP(BA44,'CRUCE OPORTUNIDADES'!$C$12:$D$111,2,FALSE),\"\")","v":""},22.18,{"$f":"IFERROR(VLOOKUP(BC44,'CRUCE OPORTUNIDADES'!$C$12:$D$111,2,FALSE),\"\")","v":""},23.18,{"$f":"IFERROR(VLOOKUP(BE44,'CRUCE OPORTUNIDADES'!$C$12:$D$111,2,FALSE),\"\")","v":""},24.18,{"$f":"IFERROR(VLOOKUP(BG44,'CRUCE OPORTUNIDADES'!$C$12:$D$111,2,FALSE),\"\")","v":""},25.18,{"$f":"IFERROR(VLOOKUP(BI44,'CRUCE OPORTUNIDADES'!$C$12:$D$111,2,FALSE),\"\")","v":""}]
[null,null,null,null,null,null,null,null,null,null,null,null,null,{"$f":"IF(N46<>\"\",\" -O\",\"\")","v":""},null,{"$f":"IF(P46<>\"\",\" -O\",\"\")","v":""},null,{"$f":"IF(R46<>\"\",\" -O\",\"\")","v":""},null,{"$f":"IF(T46<>\"\",\" -O\",\"\")","v":""},null,{"$f":"IF(V46<>\"\",\" -O\",\"\")","v":""},null,{"$f":"IF(X46<>\"\",\" -O\",\"\")","v":""},null,{"$f":"IF(Z46<>\"\",\" -O\",\"\")","v":""},null,{"$f":"IF(AB46<>\"\",\" -O\",\"\")","v":""},null,{"$f":"IF(AD46<>\"\",\" -O\",\"\")","v":""},null,{"$f":"IF(AF46<>\"\",\" -O\",\"\")","v":""},null,{"$f":"IF(AH46<>\"\",\" -O\",\"\")","v":""},null,{"$f":"IF(AJ46<>\"\",\" -O\",\"\")","v":""},null,{"$f":"IF(AL46<>\"\",\" -O\",\"\")","v":""},null,{"$f":"IF(AN46<>\"\",\" -O\",\"\")","v":""},null,{"$f":"IF(AP46<>\"\",\" -O\",\"\")","v":""},null,{"$f":"IF(AR46<>\"\",\" -O\",\"\")","v":""},null,{"$f":"IF(AT46<>\"\",\" -O\",\"\")","v":""},null,{"$f":"IF(AV46<>\"\",\" -O\",\"\")","v":""},null,{"$f":"IF(AX46<>\"\",\" -O\",\"\")","v":""},null,{"$f":"IF(AZ46<>\"\",\" -O\",\"\")","v":""},null,{"$f":"IF(BB46<>\"\",\" -O\",\"\")","v":""},null,{"$f":"IF(BD46<>\"\",\" -O\",\"\")","v":""},null,{"$f":"IF(BF46<>\"\",\" -O\",\"\")","v":""},null,{"$f":"IF(BH46<>\"\",\" -O\",\"\")","v":""},null,{"$f":"IF(BJ46<>\"\",\" -O\",\"\")","v":""}]
[null,null,null,null,null,null,null,null,null,null,null,null,1.19,{"$f":"IFERROR(VLOOKUP(M46,'CRUCE OPORTUNIDADES'!$C$12:$D$111,2,FALSE),\"\")","v":""},2.19,{"$f":"IFERROR(VLOOKUP(O46,'CRUCE OPORTUNIDADES'!$C$12:$D$111,2,FALSE),\"\")","v":""},3.19,{"$f":"IFERROR(VLOOKUP(Q46,'CRUCE OPORTUNIDADES'!$C$12:$D$111,2,FALSE),\"\")","v":""},4.1900000000000004,{"$f":"IFERROR(VLOOKUP(S46,'CRUCE OPORTUNIDADES'!$C$12:$D$111,2,FALSE),\"\")","v":""},5.19,{"$f":"IFERROR(VLOOKUP(U46,'CRUCE OPORTUNIDADES'!$C$12:$D$111,2,FALSE),\"\")","v":""},6.19,{"$f":"IFERROR(VLOOKUP(W46,'CRUCE OPORTUNIDADES'!$C$12:$D$111,2,FALSE),\"\")","v":""},7.19,{"$f":"IFERROR(VLOOKUP(Y46,'CRUCE OPORTUNIDADES'!$C$12:$D$111,2,FALSE),\"\")","v":""},8.19,{"$f":"IFERROR(VLOOKUP(AA46,'CRUCE OPORTUNIDADES'!$C$12:$D$111,2,FALSE),\"\")","v":""},9.19,{"$f":"IFERROR(VLOOKUP(AC46,'CRUCE OPORTUNIDADES'!$C$12:$D$111,2,FALSE),\"\")","v":""},10.19,{"$f":"IFERROR(VLOOKUP(AE46,'CRUCE OPORTUNIDADES'!$C$12:$D$111,2,FALSE),\"\")","v":""},11.19,{"$f":"IFERROR(VLOOKUP(AG46,'CRUCE OPORTUNIDADES'!$C$12:$D$111,2,FALSE),\"\")","v":""},12.19,{"$f":"IFERROR(VLOOKUP(AI46,'CRUCE OPORTUNIDADES'!$C$12:$D$111,2,FALSE),\"\")","v":""},13.19,{"$f":"IFERROR(VLOOKUP(AK46,'CRUCE OPORTUNIDADES'!$C$12:$D$111,2,FALSE),\"\")","v":""},14.19,{"$f":"IFERROR(VLOOKUP(AM46,'CRUCE OPORTUNIDADES'!$C$12:$D$111,2,FALSE),\"\")","v":""},15.19,{"$f":"IFERROR(VLOOKUP(AO46,'CRUCE OPORTUNIDADES'!$C$12:$D$111,2,FALSE),\"\")","v":""},16.190000000000001,{"$f":"IFERROR(VLOOKUP(AQ46,'CRUCE OPORTUNIDADES'!$C$12:$D$111,2,FALSE),\"\")","v":""},17.190000000000001,{"$f":"IFERROR(VLOOKUP(AS46,'CRUCE OPORTUNIDADES'!$C$12:$D$111,2,FALSE),\"\")","v":""},18.190000000000001,{"$f":"IFERROR(VLOOKUP(AU46,'CRUCE OPORTUNIDADES'!$C$12:$D$111,2,FALSE),\"\")","v":""},19.190000000000001,{"$f":"IFERROR(VLOOKUP(AW46,'CRUCE OPORTUNIDADES'!$C$12:$D$111,2,FALSE),\"\")","v":""},20.190000000000001,{"$f":"IFERROR(VLOOKUP(AY46,'CRUCE OPORTUNIDADES'!$C$12:$D$111,2,FALSE),\"\")","v":""},21.19,{"$f":"IFERROR(VLOOKUP(BA46,'CRUCE OPORTUNIDADES'!$C$12:$D$111,2,FALSE),\"\")","v":""},22.19,{"$f":"IFERROR(VLOOKUP(BC46,'CRUCE OPORTUNIDADES'!$C$12:$D$111,2,FALSE),\"\")","v":""},23.19,{"$f":"IFERROR(VLOOKUP(BE46,'CRUCE OPORTUNIDADES'!$C$12:$D$111,2,FALSE),\"\")","v":""},24.19,{"$f":"IFERROR(VLOOKUP(BG46,'CRUCE OPORTUNIDADES'!$C$12:$D$111,2,FALSE),\"\")","v":""},25.19,{"$f":"IFERROR(VLOOKUP(BI46,'CRUCE OPORTUNIDADES'!$C$12:$D$111,2,FALSE),\"\")","v":""}]
[null,null,null,null,null,null,null,null,null,null,null,null,null,{"$f":"IF(N48<>\"\",\" -O\",\"\")","v":""},null,{"$f":"IF(P48<>\"\",\" -O\",\"\")","v":""},null,{"$f":"IF(R48<>\"\",\" -O\",\"\")","v":""},null,{"$f":"IF(T48<>\"\",\" -O\",\"\")","v":""},null,{"$f":"IF(V48<>\"\",\" -O\",\"\")","v":""},null,{"$f":"IF(X48<>\"\",\" -O\",\"\")","v":""},null,{"$f":"IF(Z48<>\"\",\" -O\",\"\")","v":""},null,{"$f":"IF(AB48<>\"\",\" -O\",\"\")","v":""},null,{"$f":"IF(AD48<>\"\",\" -O\",\"\")","v":""},null,{"$f":"IF(AF48<>\"\",\" -O\",\"\")","v":""},null,{"$f":"IF(AH48<>\"\",\" -O\",\"\")","v":""},null,{"$f":"IF(AJ48<>\"\",\" -O\",\"\")","v":""},null,{"$f":"IF(AL48<>\"\",\" -O\",\"\")","v":""},null,{"$f":"IF(AN48<>\"\",\" -O\",\"\")","v":""},null,{"$f":"IF(AP48<>\"\",\" -O\",\"\")","v":""},null,{"$f":"IF(AR48<>\"\",\" -O\",\"\")","v":""},null,{"$f":"IF(AT48<>\"\",\" -O\",\"\")","v":""},null,{"$f":"IF(AV48<>\"\",\" -O\",\"\")","v":""},null,{"$f":"IF(AX48<>\"\",\" -O\",\"\")","v":""},null,{"$f":"IF(AZ48<>\"\",\" -O\",\"\")","v":""},null,{"$f":"IF(BB48<>\"\",\" -O\",\"\")","v":""},null,{"$f":"IF(BD48<>\"\",\" -O\",\"\")","v":""},null,{"$f":"IF(BF48<>\"\",\" -O\",\"\")","v":""},null,{"$f":"IF(BH48<>\"\",\" -O\",\"\")","v":""},null,{"$f":"IF(BJ48<>\"\",\" -O\",\"\")","v":""}]
[null,null,null,null,null,null,null,null,null,null,null,null,1.2,{"$f":"IFERROR(VLOOKUP(M48,'CRUCE OPORTUNIDADES'!$C$12:$D$111,2,FALSE),\"\")","v":""},2.2000000000000002,{"$f":"IFERROR(VLOOKUP(O48,'CRUCE OPORTUNIDADES'!$C$12:$D$111,2,FALSE),\"\")","v":""},3.2,{"$f":"IFERROR(VLOOKUP(Q48,'CRUCE OPORTUNIDADES'!$C$12:$D$111,2,FALSE),\"\")","v":""},4.2,{"$f":"IFERROR(VLOOKUP(S48,'CRUCE OPORTUNIDADES'!$C$12:$D$111,2,FALSE),\"\")","v":""},5.2,{"$f":"IFERROR(VLOOKUP(U48,'CRUCE OPORTUNIDADES'!$C$12:$D$111,2,FALSE),\"\")","v":""},6.2,{"$f":"IFERROR(VLOOKUP(W48,'CRUCE OPORTUNIDADES'!$C$12:$D$111,2,FALSE),\"\")","v":""},7.2,{"$f":"IFERROR(VLOOKUP(Y48,'CRUCE OPORTUNIDADES'!$C$12:$D$111,2,FALSE),\"\")","v":""},8.1999999999999993,{"$f":"IFERROR(VLOOKUP(AA48,'CRUCE OPORTUNIDADES'!$C$12:$D$111,2,FALSE),\"\")","v":""},9.1999999999999993,{"$f":"IFERROR(VLOOKUP(AC48,'CRUCE OPORTUNIDADES'!$C$12:$D$111,2,FALSE),\"\")","v":""},10.199999999999999,{"$f":"IFERROR(VLOOKUP(AE48,'CRUCE OPORTUNIDADES'!$C$12:$D$111,2,FALSE),\"\")","v":""},11.2,{"$f":"IFERROR(VLOOKUP(AG48,'CRUCE OPORTUNIDADES'!$C$12:$D$111,2,FALSE),\"\")","v":""},12.2,{"$f":"IFERROR(VLOOKUP(AI48,'CRUCE OPORTUNIDADES'!$C$12:$D$111,2,FALSE),\"\")","v":""},13.2,{"$f":"IFERROR(VLOOKUP(AK48,'CRUCE OPORTUNIDADES'!$C$12:$D$111,2,FALSE),\"\")","v":""},14.2,{"$f":"IFERROR(VLOOKUP(AM48,'CRUCE OPORTUNIDADES'!$C$12:$D$111,2,FALSE),\"\")","v":""},15.2,{"$f":"IFERROR(VLOOKUP(AO48,'CRUCE OPORTUNIDADES'!$C$12:$D$111,2,FALSE),\"\")","v":""},16.2,{"$f":"IFERROR(VLOOKUP(AQ48,'CRUCE OPORTUNIDADES'!$C$12:$D$111,2,FALSE),\"\")","v":""},17.2,{"$f":"IFERROR(VLOOKUP(AS48,'CRUCE OPORTUNIDADES'!$C$12:$D$111,2,FALSE),\"\")","v":""},18.2,{"$f":"IFERROR(VLOOKUP(AU48,'CRUCE OPORTUNIDADES'!$C$12:$D$111,2,FALSE),\"\")","v":""},19.2,{"$f":"IFERROR(VLOOKUP(AW48,'CRUCE OPORTUNIDADES'!$C$12:$D$111,2,FALSE),\"\")","v":""},20.2,{"$f":"IFERROR(VLOOKUP(AY48,'CRUCE OPORTUNIDADES'!$C$12:$D$111,2,FALSE),\"\")","v":""},21.2,{"$f":"IFERROR(VLOOKUP(BA48,'CRUCE OPORTUNIDADES'!$C$12:$D$111,2,FALSE),\"\")","v":""},22.2,{"$f":"IFERROR(VLOOKUP(BC48,'CRUCE OPORTUNIDADES'!$C$12:$D$111,2,FALSE),\"\")","v":""},23.2,{"$f":"IFERROR(VLOOKUP(BE48,'CRUCE OPORTUNIDADES'!$C$12:$D$111,2,FALSE),\"\")","v":""},24.2,{"$f":"IFERROR(VLOOKUP(BG48,'CRUCE OPORTUNIDADES'!$C$12:$D$111,2,FALSE),\"\")","v":""},25.2,{"$f":"IFERROR(VLOOKUP(BI48,'CRUCE OPORTUNIDADES'!$C$12:$D$111,2,FALSE),\"\")","v":""}]
[null,null,null,null,null,null,null,null,null,null,null,null,null,{"$f":"IF(N50<>\"\",\" -O\",\"\")","v":""},null,{"$f":"IF(P50<>\"\",\" -O\",\"\")","v":""},null,{"$f":"IF(R50<>\"\",\" -O\",\"\")","v":""},null,{"$f":"IF(T50<>\"\",\" -O\",\"\")","v":""},null,{"$f":"IF(V50<>\"\",\" -O\",\"\")","v":""},null,{"$f":"IF(X50<>\"\",\" -O\",\"\")","v":""},null,{"$f":"IF(Z50<>\"\",\" -O\",\"\")","v":""},null,{"$f":"IF(AB50<>\"\",\" -O\",\"\")","v":""},null,{"$f":"IF(AD50<>\"\",\" -O\",\"\")","v":""},null,{"$f":"IF(AF50<>\"\",\" -O\",\"\")","v":""},null,{"$f":"IF(AH50<>\"\",\" -O\",\"\")","v":""},null,{"$f":"IF(AJ50<>\"\",\" -O\",\"\")","v":""},null,{"$f":"IF(AL50<>\"\",\" -O\",\"\")","v":""},null,{"$f":"IF(AN50<>\"\",\" -O\",\"\")","v":""},null,{"$f":"IF(AP50<>\"\",\" -O\",\"\")","v":""},null,{"$f":"IF(AR50<>\"\",\" -O\",\"\")","v":""},null,{"$f":"IF(AT50<>\"\",\" -O\",\"\")","v":""},null,{"$f":"IF(AV50<>\"\",\" -O\",\"\")","v":""},null,{"$f":"IF(AX50<>\"\",\" -O\",\"\")","v":""},null,{"$f":"IF(AZ50<>\"\",\" -O\",\"\")","v":""},null,{"$f":"IF(BB50<>\"\",\" -O\",\"\")","v":""},null,{"$f":"IF(BD50<>\"\",\" -O\",\"\")","v":""},null,{"$f":"IF(BF50<>\"\",\" -O\",\"\")","v":""},null,{"$f":"IF(BH50<>\"\",\" -O\",\"\")","v":""},null,{"$f":"IF(BJ50<>\"\",\" -O\",\"\")","v":""}]
[null,null,null,null,null,null,null,null,null,null,null,null,1.21,{"$f":"IFERROR(VLOOKUP(M50,'CRUCE OPORTUNIDADES'!$C$12:$D$111,2,FALSE),\"\")","v":""},2.21,{"$f":"IFERROR(VLOOKUP(O50,'CRUCE OPORTUNIDADES'!$C$12:$D$111,2,FALSE),\"\")","v":""},3.21,{"$f":"IFERROR(VLOOKUP(Q50,'CRUCE OPORTUNIDADES'!$C$12:$D$111,2,FALSE),\"\")","v":""},4.21,{"$f":"IFERROR(VLOOKUP(S50,'CRUCE OPORTUNIDADES'!$C$12:$D$111,2,FALSE),\"\")","v":""},5.21,{"$f":"IFERROR(VLOOKUP(U50,'CRUCE OPORTUNIDADES'!$C$12:$D$111,2,FALSE),\"\")","v":""},6.21,{"$f":"IFERROR(VLOOKUP(W50,'CRUCE OPORTUNIDADES'!$C$12:$D$111,2,FALSE),\"\")","v":""},7.21,{"$f":"IFERROR(VLOOKUP(Y50,'CRUCE OPORTUNIDADES'!$C$12:$D$111,2,FALSE),\"\")","v":""},8.2100000000000009,{"$f":"IFERROR(VLOOKUP(AA50,'CRUCE OPORTUNIDADES'!$C$12:$D$111,2,FALSE),\"\")","v":""},9.2100000000000009,{"$f":"IFERROR(VLOOKUP(AC50,'CRUCE OPORTUNIDADES'!$C$12:$D$111,2,FALSE),\"\")","v":""},10.210000000000001,{"$f":"IFERROR(VLOOKUP(AE50,'CRUCE OPORTUNIDADES'!$C$12:$D$111,2,FALSE),\"\")","v":""},11.21,{"$f":"IFERROR(VLOOKUP(AG50,'CRUCE OPORTUNIDADES'!$C$12:$D$111,2,FALSE),\"\")","v":""},12.21,{"$f":"IFERROR(VLOOKUP(AI50,'CRUCE OPORTUNIDADES'!$C$12:$D$111,2,FALSE),\"\")","v":""},13.21,{"$f":"IFERROR(VLOOKUP(AK50,'CRUCE OPORTUNIDADES'!$C$12:$D$111,2,FALSE),\"\")","v":""},14.21,{"$f":"IFERROR(VLOOKUP(AM50,'CRUCE OPORTUNIDADES'!$C$12:$D$111,2,FALSE),\"\")","v":""},15.21,{"$f":"IFERROR(VLOOKUP(AO50,'CRUCE OPORTUNIDADES'!$C$12:$D$111,2,FALSE),\"\")","v":""},16.21,{"$f":"IFERROR(VLOOKUP(AQ50,'CRUCE OPORTUNIDADES'!$C$12:$D$111,2,FALSE),\"\")","v":""},17.21,{"$f":"IFERROR(VLOOKUP(AS50,'CRUCE OPORTUNIDADES'!$C$12:$D$111,2,FALSE),\"\")","v":""},18.21,{"$f":"IFERROR(VLOOKUP(AU50,'CRUCE OPORTUNIDADES'!$C$12:$D$111,2,FALSE),\"\")","v":""},19.21,{"$f":"IFERROR(VLOOKUP(AW50,'CRUCE OPORTUNIDADES'!$C$12:$D$111,2,FALSE),\"\")","v":""},20.21,{"$f":"IFERROR(VLOOKUP(AY50,'CRUCE OPORTUNIDADES'!$C$12:$D$111,2,FALSE),\"\")","v":""},21.21,{"$f":"IFERROR(VLOOKUP(BA50,'CRUCE OPORTUNIDADES'!$C$12:$D$111,2,FALSE),\"\")","v":""},22.21,{"$f":"IFERROR(VLOOKUP(BC50,'CRUCE OPORTUNIDADES'!$C$12:$D$111,2,FALSE),\"\")","v":""},23.21,{"$f":"IFERROR(VLOOKUP(BE50,'CRUCE OPORTUNIDADES'!$C$12:$D$111,2,FALSE),\"\")","v":""},24.21,{"$f":"IFERROR(VLOOKUP(BG50,'CRUCE OPORTUNIDADES'!$C$12:$D$111,2,FALSE),\"\")","v":""},25.21,{"$f":"IFERROR(VLOOKUP(BI50,'CRUCE OPORTUNIDADES'!$C$12:$D$111,2,FALSE),\"\")","v":""}]
[null,null,null,null,null,null,null,null,null,null,null,null,null,{"$f":"IF(N52<>\"\",\" -O\",\"\")","v":""},null,{"$f":"IF(P52<>\"\",\" -O\",\"\")","v":""},null,{"$f":"IF(R52<>\"\",\" -O\",\"\")","v":""},null,{"$f":"IF(T52<>\"\",\" -O\",\"\")","v":""},null,{"$f":"IF(V52<>\"\",\" -O\",\"\")","v":""},null,{"$f":"IF(X52<>\"\",\" -O\",\"\")","v":""},null,{"$f":"IF(Z52<>\"\",\" -O\",\"\")","v":""},null,{"$f":"IF(AB52<>\"\",\" -O\",\"\")","v":""},null,{"$f":"IF(AD52<>\"\",\" -O\",\"\")","v":""},null,{"$f":"IF(AF52<>\"\",\" -O\",\"\")","v":""},null,{"$f":"IF(AH52<>\"\",\" -O\",\"\")","v":""},null,{"$f":"IF(AJ52<>\"\",\" -O\",\"\")","v":""},null,{"$f":"IF(AL52<>\"\",\" -O\",\"\")","v":""},null,{"$f":"IF(AN52<>\"\",\" -O\",\"\")","v":""},null,{"$f":"IF(AP52<>\"\",\" -O\",\"\")","v":""},null,{"$f":"IF(AR52<>\"\",\" -O\",\"\")","v":""},null,{"$f":"IF(AT52<>\"\",\" -O\",\"\")","v":""},null,{"$f":"IF(AV52<>\"\",\" -O\",\"\")","v":""},null,{"$f":"IF(AX52<>\"\",\" -O\",\"\")","v":""},null,{"$f":"IF(AZ52<>\"\",\" -O\",\"\")","v":""},null,{"$f":"IF(BB52<>\"\",\" -O\",\"\")","v":""},null,{"$f":"IF(BD52<>\"\",\" -O\",\"\")","v":""},null,{"$f":"IF(BF52<>\"\",\" -O\",\"\")","v":""},null,{"$f":"IF(BH52<>\"\",\" -O\",\"\")","v":""},null,{"$f":"IF(BJ52<>\"\",\" -O\",\"\")","v":""}]
[null,null,null,null,null,null,null,null,null,null,null,null,1.22,{"$f":"IFERROR(VLOOKUP(M52,'CRUCE OPORTUNIDADES'!$C$12:$D$111,2,FALSE),\"\")","v":""},2.2200000000000002,{"$f":"IFERROR(VLOOKUP(O52,'CRUCE OPORTUNIDADES'!$C$12:$D$111,2,FALSE),\"\")","v":""},3.22,{"$f":"IFERROR(VLOOKUP(Q52,'CRUCE OPORTUNIDADES'!$C$12:$D$111,2,FALSE),\"\")","v":""},4.22,{"$f":"IFERROR(VLOOKUP(S52,'CRUCE OPORTUNIDADES'!$C$12:$D$111,2,FALSE),\"\")","v":""},5.22,{"$f":"IFERROR(VLOOKUP(U52,'CRUCE OPORTUNIDADES'!$C$12:$D$111,2,FALSE),\"\")","v":""},6.22,{"$f":"IFERROR(VLOOKUP(W52,'CRUCE OPORTUNIDADES'!$C$12:$D$111,2,FALSE),\"\")","v":""},7.22,{"$f":"IFERROR(VLOOKUP(Y52,'CRUCE OPORTUNIDADES'!$C$12:$D$111,2,FALSE),\"\")","v":""},8.2200000000000006,{"$f":"IFERROR(VLOOKUP(AA52,'CRUCE OPORTUNIDADES'!$C$12:$D$111,2,FALSE),\"\")","v":""},9.2200000000000006,{"$f":"IFERROR(VLOOKUP(AC52,'CRUCE OPORTUNIDADES'!$C$12:$D$111,2,FALSE),\"\")","v":""},10.220000000000001,{"$f":"IFERROR(VLOOKUP(AE52,'CRUCE OPORTUNIDADES'!$C$12:$D$111,2,FALSE),\"\")","v":""},11.22,{"$f":"IFERROR(VLOOKUP(AG52,'CRUCE OPORTUNIDADES'!$C$12:$D$111,2,FALSE),\"\")","v":""},12.22,{"$f":"IFERROR(VLOOKUP(AI52,'CRUCE OPORTUNIDADES'!$C$12:$D$111,2,FALSE),\"\")","v":""},13.22,{"$f":"IFERROR(VLOOKUP(AK52,'CRUCE OPORTUNIDADES'!$C$12:$D$111,2,FALSE),\"\")","v":""},14.22,{"$f":"IFERROR(VLOOKUP(AM52,'CRUCE OPORTUNIDADES'!$C$12:$D$111,2,FALSE),\"\")","v":""},15.22,{"$f":"IFERROR(VLOOKUP(AO52,'CRUCE OPORTUNIDADES'!$C$12:$D$111,2,FALSE),\"\")","v":""},16.22,{"$f":"IFERROR(VLOOKUP(AQ52,'CRUCE OPORTUNIDADES'!$C$12:$D$111,2,FALSE),\"\")","v":""},17.22,{"$f":"IFERROR(VLOOKUP(AS52,'CRUCE OPORTUNIDADES'!$C$12:$D$111,2,FALSE),\"\")","v":""},18.22,{"$f":"IFERROR(VLOOKUP(AU52,'CRUCE OPORTUNIDADES'!$C$12:$D$111,2,FALSE),\"\")","v":""},19.22,{"$f":"IFERROR(VLOOKUP(AW52,'CRUCE OPORTUNIDADES'!$C$12:$D$111,2,FALSE),\"\")","v":""},20.22,{"$f":"IFERROR(VLOOKUP(AY52,'CRUCE OPORTUNIDADES'!$C$12:$D$111,2,FALSE),\"\")","v":""},21.22,{"$f":"IFERROR(VLOOKUP(BA52,'CRUCE OPORTUNIDADES'!$C$12:$D$111,2,FALSE),\"\")","v":""},22.22,{"$f":"IFERROR(VLOOKUP(BC52,'CRUCE OPORTUNIDADES'!$C$12:$D$111,2,FALSE),\"\")","v":""},23.22,{"$f":"IFERROR(VLOOKUP(BE52,'CRUCE OPORTUNIDADES'!$C$12:$D$111,2,FALSE),\"\")","v":""},24.22,{"$f":"IFERROR(VLOOKUP(BG52,'CRUCE OPORTUNIDADES'!$C$12:$D$111,2,FALSE),\"\")","v":""},25.22,{"$f":"IFERROR(VLOOKUP(BI52,'CRUCE OPORTUNIDADES'!$C$12:$D$111,2,FALSE),\"\")","v":""}]
[null,null,null,null,null,null,null,null,null,null,null,null,null,{"$f":"IF(N54<>\"\",\" -O\",\"\")","v":""},null,{"$f":"IF(P54<>\"\",\" -O\",\"\")","v":""},null,{"$f":"IF(R54<>\"\",\" -O\",\"\")","v":""},null,{"$f":"IF(T54<>\"\",\" -O\",\"\")","v":""},null,{"$f":"IF(V54<>\"\",\" -O\",\"\")","v":""},null,{"$f":"IF(X54<>\"\",\" -O\",\"\")","v":""},null,{"$f":"IF(Z54<>\"\",\" -O\",\"\")","v":""},null,{"$f":"IF(AB54<>\"\",\" -O\",\"\")","v":""},null,{"$f":"IF(AD54<>\"\",\" -O\",\"\")","v":""},null,{"$f":"IF(AF54<>\"\",\" -O\",\"\")","v":""},null,{"$f":"IF(AH54<>\"\",\" -O\",\"\")","v":""},null,{"$f":"IF(AJ54<>\"\",\" -O\",\"\")","v":""},null,{"$f":"IF(AL54<>\"\",\" -O\",\"\")","v":""},null,{"$f":"IF(AN54<>\"\",\" -O\",\"\")","v":""},null,{"$f":"IF(AP54<>\"\",\" -O\",\"\")","v":""},null,{"$f":"IF(AR54<>\"\",\" -O\",\"\")","v":""},null,{"$f":"IF(AT54<>\"\",\" -O\",\"\")","v":""},null,{"$f":"IF(AV54<>\"\",\" -O\",\"\")","v":""},null,{"$f":"IF(AX54<>\"\",\" -O\",\"\")","v":""},null,{"$f":"IF(AZ54<>\"\",\" -O\",\"\")","v":""},null,{"$f":"IF(BB54<>\"\",\" -O\",\"\")","v":""},null,{"$f":"IF(BD54<>\"\",\" -O\",\"\")","v":""},null,{"$f":"IF(BF54<>\"\",\" -O\",\"\")","v":""},null,{"$f":"IF(BH54<>\"\",\" -O\",\"\")","v":""},null,{"$f":"IF(BJ54<>\"\",\" -O\",\"\")","v":""}]
[null,null,null,null,null,null,null,null,null,null,null,null,1.23,{"$f":"IFERROR(VLOOKUP(M54,'CRUCE OPORTUNIDADES'!$C$12:$D$111,2,FALSE),\"\")","v":""},2.23,{"$f":"IFERROR(VLOOKUP(O54,'CRUCE OPORTUNIDADES'!$C$12:$D$111,2,FALSE),\"\")","v":""},3.23,{"$f":"IFERROR(VLOOKUP(Q54,'CRUCE OPORTUNIDADES'!$C$12:$D$111,2,FALSE),\"\")","v":""},4.2300000000000004,{"$f":"IFERROR(VLOOKUP(S54,'CRUCE OPORTUNIDADES'!$C$12:$D$111,2,FALSE),\"\")","v":""},5.23,{"$f":"IFERROR(VLOOKUP(U54,'CRUCE OPORTUNIDADES'!$C$12:$D$111,2,FALSE),\"\")","v":""},6.23,{"$f":"IFERROR(VLOOKUP(W54,'CRUCE OPORTUNIDADES'!$C$12:$D$111,2,FALSE),\"\")","v":""},7.23,{"$f":"IFERROR(VLOOKUP(Y54,'CRUCE OPORTUNIDADES'!$C$12:$D$111,2,FALSE),\"\")","v":""},8.23,{"$f":"IFERROR(VLOOKUP(AA54,'CRUCE OPORTUNIDADES'!$C$12:$D$111,2,FALSE),\"\")","v":""},9.23,{"$f":"IFERROR(VLOOKUP(AC54,'CRUCE OPORTUNIDADES'!$C$12:$D$111,2,FALSE),\"\")","v":""},10.23,{"$f":"IFERROR(VLOOKUP(AE54,'CRUCE OPORTUNIDADES'!$C$12:$D$111,2,FALSE),\"\")","v":""},11.23,{"$f":"IFERROR(VLOOKUP(AG54,'CRUCE OPORTUNIDADES'!$C$12:$D$111,2,FALSE),\"\")","v":""},12.23,{"$f":"IFERROR(VLOOKUP(AI54,'CRUCE OPORTUNIDADES'!$C$12:$D$111,2,FALSE),\"\")","v":""},13.23,{"$f":"IFERROR(VLOOKUP(AK54,'CRUCE OPORTUNIDADES'!$C$12:$D$111,2,FALSE),\"\")","v":""},14.23,{"$f":"IFERROR(VLOOKUP(AM54,'CRUCE OPORTUNIDADES'!$C$12:$D$111,2,FALSE),\"\")","v":""},15.23,{"$f":"IFERROR(VLOOKUP(AO54,'CRUCE OPORTUNIDADES'!$C$12:$D$111,2,FALSE),\"\")","v":""},16.23,{"$f":"IFERROR(VLOOKUP(AQ54,'CRUCE OPORTUNIDADES'!$C$12:$D$111,2,FALSE),\"\")","v":""},17.23,{"$f":"IFERROR(VLOOKUP(AS54,'CRUCE OPORTUNIDADES'!$C$12:$D$111,2,FALSE),\"\")","v":""},18.23,{"$f":"IFERROR(VLOOKUP(AU54,'CRUCE OPORTUNIDADES'!$C$12:$D$111,2,FALSE),\"\")","v":""},19.23,{"$f":"IFERROR(VLOOKUP(AW54,'CRUCE OPORTUNIDADES'!$C$12:$D$111,2,FALSE),\"\")","v":""},20.23,{"$f":"IFERROR(VLOOKUP(AY54,'CRUCE OPORTUNIDADES'!$C$12:$D$111,2,FALSE),\"\")","v":""},21.23,{"$f":"IFERROR(VLOOKUP(BA54,'CRUCE OPORTUNIDADES'!$C$12:$D$111,2,FALSE),\"\")","v":""},22.23,{"$f":"IFERROR(VLOOKUP(BC54,'CRUCE OPORTUNIDADES'!$C$12:$D$111,2,FALSE),\"\")","v":""},23.23,{"$f":"IFERROR(VLOOKUP(BE54,'CRUCE OPORTUNIDADES'!$C$12:$D$111,2,FALSE),\"\")","v":""},24.23,{"$f":"IFERROR(VLOOKUP(BG54,'CRUCE OPORTUNIDADES'!$C$12:$D$111,2,FALSE),\"\")","v":""},25.23,{"$f":"IFERROR(VLOOKUP(BI54,'CRUCE OPORTUNIDADES'!$C$12:$D$111,2,FALSE),\"\")","v":""}]
[null,null,null,null,null,null,null,null,null,null,null,null,null,{"$f":"IF(N56<>\"\",\" -O\",\"\")","v":""},null,{"$f":"IF(P56<>\"\",\" -O\",\"\")","v":""},null,{"$f":"IF(R56<>\"\",\" -O\",\"\")","v":""},null,{"$f":"IF(T56<>\"\",\" -O\",\"\")","v":""},null,{"$f":"IF(V56<>\"\",\" -O\",\"\")","v":""},null,{"$f":"IF(X56<>\"\",\" -O\",\"\")","v":""},null,{"$f":"IF(Z56<>\"\",\" -O\",\"\")","v":""},null,{"$f":"IF(AB56<>\"\",\" -O\",\"\")","v":""},null,{"$f":"IF(AD56<>\"\",\" -O\",\"\")","v":""},null,{"$f":"IF(AF56<>\"\",\" -O\",\"\")","v":""},null,{"$f":"IF(AH56<>\"\",\" -O\",\"\")","v":""},null,{"$f":"IF(AJ56<>\"\",\" -O\",\"\")","v":""},null,{"$f":"IF(AL56<>\"\",\" -O\",\"\")","v":""},null,{"$f":"IF(AN56<>\"\",\" -O\",\"\")","v":""},null,{"$f":"IF(AP56<>\"\",\" -O\",\"\")","v":""},null,{"$f":"IF(AR56<>\"\",\" -O\",\"\")","v":""},null,{"$f":"IF(AT56<>\"\",\" -O\",\"\")","v":""},null,{"$f":"IF(AV56<>\"\",\" -O\",\"\")","v":""},null,{"$f":"IF(AX56<>\"\",\" -O\",\"\")","v":""},null,{"$f":"IF(AZ56<>\"\",\" -O\",\"\")","v":""},null,{"$f":"IF(BB56<>\"\",\" -O\",\"\")","v":""},null,{"$f":"IF(BD56<>\"\",\" -O\",\"\")","v":""},null,{"$f":"IF(BF56<>\"\",\" -O\",\"\")","v":""},null,{"$f":"IF(BH56<>\"\",\" -O\",\"\")","v":""},null,{"$f":"IF(BJ56<>\"\",\" -O\",\"\")","v":""}]
[null,null,null,null,null,null,null,null,null,null,null,null,1.24,{"$f":"IFERROR(VLOOKUP(M56,'CRUCE OPORTUNIDADES'!$C$12:$D$111,2,FALSE),\"\")","v":""},2.2400000000000002,{"$f":"IFERROR(VLOOKUP(O56,'CRUCE OPORTUNIDADES'!$C$12:$D$111,2,FALSE),\"\")","v":""},3.24,{"$f":"IFERROR(VLOOKUP(Q56,'CRUCE OPORTUNIDADES'!$C$12:$D$111,2,FALSE),\"\")","v":""},4.24,{"$f":"IFERROR(VLOOKUP(S56,'CRUCE OPORTUNIDADES'!$C$12:$D$111,2,FALSE),\"\")","v":""},5.24,{"$f":"IFERROR(VLOOKUP(U56,'CRUCE OPORTUNIDADES'!$C$12:$D$111,2,FALSE),\"\")","v":""},6.24,{"$f":"IFERROR(VLOOKUP(W56,'CRUCE OPORTUNIDADES'!$C$12:$D$111,2,FALSE),\"\")","v":""},7.24,{"$f":"IFERROR(VLOOKUP(Y56,'CRUCE OPORTUNIDADES'!$C$12:$D$111,2,FALSE),\"\")","v":""},8.24,{"$f":"IFERROR(VLOOKUP(AA56,'CRUCE OPORTUNIDADES'!$C$12:$D$111,2,FALSE),\"\")","v":""},9.24,{"$f":"IFERROR(VLOOKUP(AC56,'CRUCE OPORTUNIDADES'!$C$12:$D$111,2,FALSE),\"\")","v":""},10.24,{"$f":"IFERROR(VLOOKUP(AE56,'CRUCE OPORTUNIDADES'!$C$12:$D$111,2,FALSE),\"\")","v":""},11.24,{"$f":"IFERROR(VLOOKUP(AG56,'CRUCE OPORTUNIDADES'!$C$12:$D$111,2,FALSE),\"\")","v":""},12.24,{"$f":"IFERROR(VLOOKUP(AI56,'CRUCE OPORTUNIDADES'!$C$12:$D$111,2,FALSE),\"\")","v":""},13.24,{"$f":"IFERROR(VLOOKUP(AK56,'CRUCE OPORTUNIDADES'!$C$12:$D$111,2,FALSE),\"\")","v":""},14.24,{"$f":"IFERROR(VLOOKUP(AM56,'CRUCE OPORTUNIDADES'!$C$12:$D$111,2,FALSE),\"\")","v":""},15.24,{"$f":"IFERROR(VLOOKUP(AO56,'CRUCE OPORTUNIDADES'!$C$12:$D$111,2,FALSE),\"\")","v":""},16.239999999999998,{"$f":"IFERROR(VLOOKUP(AQ56,'CRUCE OPORTUNIDADES'!$C$12:$D$111,2,FALSE),\"\")","v":""},17.239999999999998,{"$f":"IFERROR(VLOOKUP(AS56,'CRUCE OPORTUNIDADES'!$C$12:$D$111,2,FALSE),\"\")","v":""},18.239999999999998,{"$f":"IFERROR(VLOOKUP(AU56,'CRUCE OPORTUNIDADES'!$C$12:$D$111,2,FALSE),\"\")","v":""},19.239999999999998,{"$f":"IFERROR(VLOOKUP(AW56,'CRUCE OPORTUNIDADES'!$C$12:$D$111,2,FALSE),\"\")","v":""},20.239999999999998,{"$f":"IFERROR(VLOOKUP(AY56,'CRUCE OPORTUNIDADES'!$C$12:$D$111,2,FALSE),\"\")","v":""},21.24,{"$f":"IFERROR(VLOOKUP(BA56,'CRUCE OPORTUNIDADES'!$C$12:$D$111,2,FALSE),\"\")","v":""},22.24,{"$f":"IFERROR(VLOOKUP(BC56,'CRUCE OPORTUNIDADES'!$C$12:$D$111,2,FALSE),\"\")","v":""},23.24,{"$f":"IFERROR(VLOOKUP(BE56,'CRUCE OPORTUNIDADES'!$C$12:$D$111,2,FALSE),\"\")","v":""},24.24,{"$f":"IFERROR(VLOOKUP(BG56,'CRUCE OPORTUNIDADES'!$C$12:$D$111,2,FALSE),\"\")","v":""},25.24,{"$f":"IFERROR(VLOOKUP(BI56,'CRUCE OPORTUNIDADES'!$C$12:$D$111,2,FALSE),\"\")","v":""}]
[null,null,null,null,null,null,null,null,null,null,null,null,null,{"$f":"IF(N58<>\"\",\" -O\",\"\")","v":""},null,{"$f":"IF(P58<>\"\",\" -O\",\"\")","v":""},null,{"$f":"IF(R58<>\"\",\" -O\",\"\")","v":""},null,{"$f":"IF(T58<>\"\",\" -O\",\"\")","v":""},null,{"$f":"IF(V58<>\"\",\" -O\",\"\")","v":""},null,{"$f":"IF(X58<>\"\",\" -O\",\"\")","v":""},null,{"$f":"IF(Z58<>\"\",\" -O\",\"\")","v":""},null,{"$f":"IF(AB58<>\"\",\" -O\",\"\")","v":""},null,{"$f":"IF(AD58<>\"\",\" -O\",\"\")","v":""},null,{"$f":"IF(AF58<>\"\",\" -O\",\"\")","v":""},null,{"$f":"IF(AH58<>\"\",\" -O\",\"\")","v":""},null,{"$f":"IF(AJ58<>\"\",\" -O\",\"\")","v":""},null,{"$f":"IF(AL58<>\"\",\" -O\",\"\")","v":""},null,{"$f":"IF(AN58<>\"\",\" -O\",\"\")","v":""},null,{"$f":"IF(AP58<>\"\",\" -O\",\"\")","v":""},null,{"$f":"IF(AR58<>\"\",\" -O\",\"\")","v":""},null,{"$f":"IF(AT58<>\"\",\" -O\",\"\")","v":""},null,{"$f":"IF(AV58<>\"\",\" -O\",\"\")","v":""},null,{"$f":"IF(AX58<>\"\",\" -O\",\"\")","v":""},null,{"$f":"IF(AZ58<>\"\",\" -O\",\"\")","v":""},null,{"$f":"IF(BB58<>\"\",\" -O\",\"\")","v":""},null,{"$f":"IF(BD58<>\"\",\" -O\",\"\")","v":""},null,{"$f":"IF(BF58<>\"\",\" -O\",\"\")","v":""},null,{"$f":"IF(BH58<>\"\",\" -O\",\"\")","v":""},null,{"$f":"IF(BJ58<>\"\",\" -O\",\"\")","v":""}]
[null,null,null,null,null,null,null,null,null,null,null,null,1.25,{"$f":"IFERROR(VLOOKUP(M58,'CRUCE OPORTUNIDADES'!$C$12:$D$111,2,FALSE),\"\")","v":""},2.25,{"$f":"IFERROR(VLOOKUP(O58,'CRUCE OPORTUNIDADES'!$C$12:$D$111,2,FALSE),\"\")","v":""},3.25,{"$f":"IFERROR(VLOOKUP(Q58,'CRUCE OPORTUNIDADES'!$C$12:$D$111,2,FALSE),\"\")","v":""},4.25,{"$f":"IFERROR(VLOOKUP(S58,'CRUCE OPORTUNIDADES'!$C$12:$D$111,2,FALSE),\"\")","v":""},5.25,{"$f":"IFERROR(VLOOKUP(U58,'CRUCE OPORTUNIDADES'!$C$12:$D$111,2,FALSE),\"\")","v":""},6.25,{"$f":"IFERROR(VLOOKUP(W58,'CRUCE OPORTUNIDADES'!$C$12:$D$111,2,FALSE),\"\")","v":""},7.25,{"$f":"IFERROR(VLOOKUP(Y58,'CRUCE OPORTUNIDADES'!$C$12:$D$111,2,FALSE),\"\")","v":""},8.25,{"$f":"IFERROR(VLOOKUP(AA58,'CRUCE OPORTUNIDADES'!$C$12:$D$111,2,FALSE),\"\")","v":""},9.25,{"$f":"IFERROR(VLOOKUP(AC58,'CRUCE OPORTUNIDADES'!$C$12:$D$111,2,FALSE),\"\")","v":""},10.25,{"$f":"IFERROR(VLOOKUP(AE58,'CRUCE OPORTUNIDADES'!$C$12:$D$111,2,FALSE),\"\")","v":""},11.25,{"$f":"IFERROR(VLOOKUP(AG58,'CRUCE OPORTUNIDADES'!$C$12:$D$111,2,FALSE),\"\")","v":""},12.25,{"$f":"IFERROR(VLOOKUP(AI58,'CRUCE OPORTUNIDADES'!$C$12:$D$111,2,FALSE),\"\")","v":""},13.25,{"$f":"IFERROR(VLOOKUP(AK58,'CRUCE OPORTUNIDADES'!$C$12:$D$111,2,FALSE),\"\")","v":""},14.25,{"$f":"IFERROR(VLOOKUP(AM58,'CRUCE OPORTUNIDADES'!$C$12:$D$111,2,FALSE),\"\")","v":""},15.25,{"$f":"IFERROR(VLOOKUP(AO58,'CRUCE OPORTUNIDADES'!$C$12:$D$111,2,FALSE),\"\")","v":""},16.25,{"$f":"IFERROR(VLOOKUP(AQ58,'CRUCE OPORTUNIDADES'!$C$12:$D$111,2,FALSE),\"\")","v":""},17.25,{"$f":"IFERROR(VLOOKUP(AS58,'CRUCE OPORTUNIDADES'!$C$12:$D$111,2,FALSE),\"\")","v":""},18.25,{"$f":"IFERROR(VLOOKUP(AU58,'CRUCE OPORTUNIDADES'!$C$12:$D$111,2,FALSE),\"\")","v":""},19.25,{"$f":"IFERROR(VLOOKUP(AW58,'CRUCE OPORTUNIDADES'!$C$12:$D$111,2,FALSE),\"\")","v":""},20.25,{"$f":"IFERROR(VLOOKUP(AY58,'CRUCE OPORTUNIDADES'!$C$12:$D$111,2,FALSE),\"\")","v":""},21.25,{"$f":"IFERROR(VLOOKUP(BA58,'CRUCE OPORTUNIDADES'!$C$12:$D$111,2,FALSE),\"\")","v":""},22.25,{"$f":"IFERROR(VLOOKUP(BC58,'CRUCE OPORTUNIDADES'!$C$12:$D$111,2,FALSE),\"\")","v":""},23.25,{"$f":"IFERROR(VLOOKUP(BE58,'CRUCE OPORTUNIDADES'!$C$12:$D$111,2,FALSE),\"\")","v":""},24.25,{"$f":"IFERROR(VLOOKUP(BG58,'CRUCE OPORTUNIDADES'!$C$12:$D$111,2,FALSE),\"\")","v":""},25.25,{"$f":"IFERROR(VLOOKUP(BI58,'CRUCE OPORTUNIDADES'!$C$12:$D$111,2,FALSE),\"\")","v":""}]
[null,null,null,null,null,null,null,null,null,null,null,null,null,{"$f":"IF(N60<>\"\",\" -O\",\"\")","v":""},null,{"$f":"IF(P60<>\"\",\" -O\",\"\")","v":""},null,{"$f":"IF(R60<>\"\",\" -O\",\"\")","v":""},null,{"$f":"IF(T60<>\"\",\" -O\",\"\")","v":""},null,{"$f":"IF(V60<>\"\",\" -O\",\"\")","v":""},null,{"$f":"IF(X60<>\"\",\" -O\",\"\")","v":""},null,{"$f":"IF(Z60<>\"\",\" -O\",\"\")","v":""},null,{"$f":"IF(AB60<>\"\",\" -O\",\"\")","v":""},null,{"$f":"IF(AD60<>\"\",\" -O\",\"\")","v":""},null,{"$f":"IF(AF60<>\"\",\" -O\",\"\")","v":""},null,{"$f":"IF(AH60<>\"\",\" -O\",\"\")","v":""},null,{"$f":"IF(AJ60<>\"\",\" -O\",\"\")","v":""},null,{"$f":"IF(AL60<>\"\",\" -O\",\"\")","v":""},null,{"$f":"IF(AN60<>\"\",\" -O\",\"\")","v":""},null,{"$f":"IF(AP60<>\"\",\" -O\",\"\")","v":""},null,{"$f":"IF(AR60<>\"\",\" -O\",\"\")","v":""},null,{"$f":"IF(AT60<>\"\",\" -O\",\"\")","v":""},null,{"$f":"IF(AV60<>\"\",\" -O\",\"\")","v":""},null,{"$f":"IF(AX60<>\"\",\" -O\",\"\")","v":""},null,{"$f":"IF(AZ60<>\"\",\" -O\",\"\")","v":""},null,{"$f":"IF(BB60<>\"\",\" -O\",\"\")","v":""},null,{"$f":"IF(BD60<>\"\",\" -O\",\"\")","v":""},null,{"$f":"IF(BF60<>\"\",\" -O\",\"\")","v":""},null,{"$f":"IF(BH60<>\"\",\" -O\",\"\")","v":""},null,{"$f":"IF(BJ60<>\"\",\" -O\",\"\")","v":""}]
[null,null,null,null,null,null,null,null,null,null,null,null,1.26,{"$f":"IFERROR(VLOOKUP(M60,'CRUCE OPORTUNIDADES'!$C$12:$D$111,2,FALSE),\"\")","v":""},2.2599999999999998,{"$f":"IFERROR(VLOOKUP(O60,'CRUCE OPORTUNIDADES'!$C$12:$D$111,2,FALSE),\"\")","v":""},3.26,{"$f":"IFERROR(VLOOKUP(Q60,'CRUCE OPORTUNIDADES'!$C$12:$D$111,2,FALSE),\"\")","v":""},4.26,{"$f":"IFERROR(VLOOKUP(S60,'CRUCE OPORTUNIDADES'!$C$12:$D$111,2,FALSE),\"\")","v":""},5.26,{"$f":"IFERROR(VLOOKUP(U60,'CRUCE OPORTUNIDADES'!$C$12:$D$111,2,FALSE),\"\")","v":""},6.26,{"$f":"IFERROR(VLOOKUP(W60,'CRUCE OPORTUNIDADES'!$C$12:$D$111,2,FALSE),\"\")","v":""},7.26,{"$f":"IFERROR(VLOOKUP(Y60,'CRUCE OPORTUNIDADES'!$C$12:$D$111,2,FALSE),\"\")","v":""},8.26,{"$f":"IFERROR(VLOOKUP(AA60,'CRUCE OPORTUNIDADES'!$C$12:$D$111,2,FALSE),\"\")","v":""},9.26,{"$f":"IFERROR(VLOOKUP(AC60,'CRUCE OPORTUNIDADES'!$C$12:$D$111,2,FALSE),\"\")","v":""},10.26,{"$f":"IFERROR(VLOOKUP(AE60,'CRUCE OPORTUNIDADES'!$C$12:$D$111,2,FALSE),\"\")","v":""},11.26,{"$f":"IFERROR(VLOOKUP(AG60,'CRUCE OPORTUNIDADES'!$C$12:$D$111,2,FALSE),\"\")","v":""},12.26,{"$f":"IFERROR(VLOOKUP(AI60,'CRUCE OPORTUNIDADES'!$C$12:$D$111,2,FALSE),\"\")","v":""},13.26,{"$f":"IFERROR(VLOOKUP(AK60,'CRUCE OPORTUNIDADES'!$C$12:$D$111,2,FALSE),\"\")","v":""},14.26,{"$f":"IFERROR(VLOOKUP(AM60,'CRUCE OPORTUNIDADES'!$C$12:$D$111,2,FALSE),\"\")","v":""},15.26,{"$f":"IFERROR(VLOOKUP(AO60,'CRUCE OPORTUNIDADES'!$C$12:$D$111,2,FALSE),\"\")","v":""},16.260000000000002,{"$f":"IFERROR(VLOOKUP(AQ60,'CRUCE OPORTUNIDADES'!$C$12:$D$111,2,FALSE),\"\")","v":""},17.260000000000002,{"$f":"IFERROR(VLOOKUP(AS60,'CRUCE OPORTUNIDADES'!$C$12:$D$111,2,FALSE),\"\")","v":""},18.260000000000002,{"$f":"IFERROR(VLOOKUP(AU60,'CRUCE OPORTUNIDADES'!$C$12:$D$111,2,FALSE),\"\")","v":""},19.260000000000002,{"$f":"IFERROR(VLOOKUP(AW60,'CRUCE OPORTUNIDADES'!$C$12:$D$111,2,FALSE),\"\")","v":""},20.260000000000002,{"$f":"IFERROR(VLOOKUP(AY60,'CRUCE OPORTUNIDADES'!$C$12:$D$111,2,FALSE),\"\")","v":""},21.26,{"$f":"IFERROR(VLOOKUP(BA60,'CRUCE OPORTUNIDADES'!$C$12:$D$111,2,FALSE),\"\")","v":""},22.26,{"$f":"IFERROR(VLOOKUP(BC60,'CRUCE OPORTUNIDADES'!$C$12:$D$111,2,FALSE),\"\")","v":""},23.26,{"$f":"IFERROR(VLOOKUP(BE60,'CRUCE OPORTUNIDADES'!$C$12:$D$111,2,FALSE),\"\")","v":""},24.26,{"$f":"IFERROR(VLOOKUP(BG60,'CRUCE OPORTUNIDADES'!$C$12:$D$111,2,FALSE),\"\")","v":""},25.26,{"$f":"IFERROR(VLOOKUP(BI60,'CRUCE OPORTUNIDADES'!$C$12:$D$111,2,FALSE),\"\")","v":""}]
[null,null,null,null,null,null,null,null,null,null,null,null,null,{"$f":"IF(N62<>\"\",\" -O\",\"\")","v":""},null,{"$f":"IF(P62<>\"\",\" -O\",\"\")","v":""},null,{"$f":"IF(R62<>\"\",\" -O\",\"\")","v":""},null,{"$f":"IF(T62<>\"\",\" -O\",\"\")","v":""},null,{"$f":"IF(V62<>\"\",\" -O\",\"\")","v":""},null,{"$f":"IF(X62<>\"\",\" -O\",\"\")","v":""},null,{"$f":"IF(Z62<>\"\",\" -O\",\"\")","v":""},null,{"$f":"IF(AB62<>\"\",\" -O\",\"\")","v":""},null,{"$f":"IF(AD62<>\"\",\" -O\",\"\")","v":""},null,{"$f":"IF(AF62<>\"\",\" -O\",\"\")","v":""},null,{"$f":"IF(AH62<>\"\",\" -O\",\"\")","v":""},null,{"$f":"IF(AJ62<>\"\",\" -O\",\"\")","v":""},null,{"$f":"IF(AL62<>\"\",\" -O\",\"\")","v":""},null,{"$f":"IF(AN62<>\"\",\" -O\",\"\")","v":""},null,{"$f":"IF(AP62<>\"\",\" -O\",\"\")","v":""},null,{"$f":"IF(AR62<>\"\",\" -O\",\"\")","v":""},null,{"$f":"IF(AT62<>\"\",\" -O\",\"\")","v":""},null,{"$f":"IF(AV62<>\"\",\" -O\",\"\")","v":""},null,{"$f":"IF(AX62<>\"\",\" -O\",\"\")","v":""},null,{"$f":"IF(AZ62<>\"\",\" -O\",\"\")","v":""},null,{"$f":"IF(BB62<>\"\",\" -O\",\"\")","v":""},null,{"$f":"IF(BD62<>\"\",\" -O\",\"\")","v":""},null,{"$f":"IF(BF62<>\"\",\" -O\",\"\")","v":""},null,{"$f":"IF(BH62<>\"\",\" -O\",\"\")","v":""},null,{"$f":"IF(BJ62<>\"\",\" -O\",\"\")","v":""}]
[null,null,null,null,null,null,null,null,null,null,null,null,1.27,{"$f":"IFERROR(VLOOKUP(M62,'CRUCE OPORTUNIDADES'!$C$12:$D$111,2,FALSE),\"\")","v":""},2.2700000000000098,{"$f":"IFERROR(VLOOKUP(O62,'CRUCE OPORTUNIDADES'!$C$12:$D$111,2,FALSE),\"\")","v":""},3.27000000000002,{"$f":"IFERROR(VLOOKUP(Q62,'CRUCE OPORTUNIDADES'!$C$12:$D$111,2,FALSE),\"\")","v":""},4.2700000000000298,{"$f":"IFERROR(VLOOKUP(S62,'CRUCE OPORTUNIDADES'!$C$12:$D$111,2,FALSE),\"\")","v":""},5.2700000000000404,{"$f":"IFERROR(VLOOKUP(U62,'CRUCE OPORTUNIDADES'!$C$12:$D$111,2,FALSE),\"\")","v":""},6.2700000000000502,{"$f":"IFERROR(VLOOKUP(W62,'CRUCE OPORTUNIDADES'!$C$12:$D$111,2,FALSE),\"\")","v":""},7.27000000000006,{"$f":"IFERROR(VLOOKUP(Y62,'CRUCE OPORTUNIDADES'!$C$12:$D$111,2,FALSE),\"\")","v":""},8.2700000000000706,{"$f":"IFERROR(VLOOKUP(AA62,'CRUCE OPORTUNIDADES'!$C$12:$D$111,2,FALSE),\"\")","v":""},9.2700000000000795,{"$f":"IFERROR(VLOOKUP(AC62,'CRUCE OPORTUNIDADES'!$C$12:$D$111,2,FALSE),\"\")","v":""},10.270000000000101,{"$f":"IFERROR(VLOOKUP(AE62,'CRUCE OPORTUNIDADES'!$C$12:$D$111,2,FALSE),\"\")","v":""},11.270000000000101,{"$f":"IFERROR(VLOOKUP(AG62,'CRUCE OPORTUNIDADES'!$C$12:$D$111,2,FALSE),\"\")","v":""},12.270000000000101,{"$f":"IFERROR(VLOOKUP(AI62,'CRUCE OPORTUNIDADES'!$C$12:$D$111,2,FALSE),\"\")","v":""},13.270000000000101,{"$f":"IFERROR(VLOOKUP(AK62,'CRUCE OPORTUNIDADES'!$C$12:$D$111,2,FALSE),\"\")","v":""},14.270000000000101,{"$f":"IFERROR(VLOOKUP(AM62,'CRUCE OPORTUNIDADES'!$C$12:$D$111,2,FALSE),\"\")","v":""},15.270000000000101,{"$f":"IFERROR(VLOOKUP(AO62,'CRUCE OPORTUNIDADES'!$C$12:$D$111,2,FALSE),\"\")","v":""},16.270000000000099,{"$f":"IFERROR(VLOOKUP(AQ62,'CRUCE OPORTUNIDADES'!$C$12:$D$111,2,FALSE),\"\")","v":""},17.270000000000199,{"$f":"IFERROR(VLOOKUP(AS62,'CRUCE OPORTUNIDADES'!$C$12:$D$111,2,FALSE),\"\")","v":""},18.270000000000199,{"$f":"IFERROR(VLOOKUP(AU62,'CRUCE OPORTUNIDADES'!$C$12:$D$111,2,FALSE),\"\")","v":""},19.270000000000199,{"$f":"IFERROR(VLOOKUP(AW62,'CRUCE OPORTUNIDADES'!$C$12:$D$111,2,FALSE),\"\")","v":""},20.270000000000199,{"$f":"IFERROR(VLOOKUP(AY62,'CRUCE OPORTUNIDADES'!$C$12:$D$111,2,FALSE),\"\")","v":""},21.270000000000199,{"$f":"IFERROR(VLOOKUP(BA62,'CRUCE OPORTUNIDADES'!$C$12:$D$111,2,FALSE),\"\")","v":""},22.270000000000199,{"$f":"IFERROR(VLOOKUP(BC62,'CRUCE OPORTUNIDADES'!$C$12:$D$111,2,FALSE),\"\")","v":""},23.270000000000199,{"$f":"IFERROR(VLOOKUP(BE62,'CRUCE OPORTUNIDADES'!$C$12:$D$111,2,FALSE),\"\")","v":""},24.270000000000199,{"$f":"IFERROR(VLOOKUP(BG62,'CRUCE OPORTUNIDADES'!$C$12:$D$111,2,FALSE),\"\")","v":""},25.270000000000199,{"$f":"IFERROR(VLOOKUP(BI62,'CRUCE OPORTUNIDADES'!$C$12:$D$111,2,FALSE),\"\")","v":""}]
[null,null,null,null,null,null,null,null,null,null,null,null,null,{"$f":"IF(N64<>\"\",\" -O\",\"\")","v":""},null,{"$f":"IF(P64<>\"\",\" -O\",\"\")","v":""},null,{"$f":"IF(R64<>\"\",\" -O\",\"\")","v":""},null,{"$f":"IF(T64<>\"\",\" -O\",\"\")","v":""},null,{"$f":"IF(V64<>\"\",\" -O\",\"\")","v":""},null,{"$f":"IF(X64<>\"\",\" -O\",\"\")","v":""},null,{"$f":"IF(Z64<>\"\",\" -O\",\"\")","v":""},null,{"$f":"IF(AB64<>\"\",\" -O\",\"\")","v":""},null,{"$f":"IF(AD64<>\"\",\" -O\",\"\")","v":""},null,{"$f":"IF(AF64<>\"\",\" -O\",\"\")","v":""},null,{"$f":"IF(AH64<>\"\",\" -O\",\"\")","v":""},null,{"$f":"IF(AJ64<>\"\",\" -O\",\"\")","v":""},null,{"$f":"IF(AL64<>\"\",\" -O\",\"\")","v":""},null,{"$f":"IF(AN64<>\"\",\" -O\",\"\")","v":""},null,{"$f":"IF(AP64<>\"\",\" -O\",\"\")","v":""},null,{"$f":"IF(AR64<>\"\",\" -O\",\"\")","v":""},null,{"$f":"IF(AT64<>\"\",\" -O\",\"\")","v":""},null,{"$f":"IF(AV64<>\"\",\" -O\",\"\")","v":""},null,{"$f":"IF(AX64<>\"\",\" -O\",\"\")","v":""},null,{"$f":"IF(AZ64<>\"\",\" -O\",\"\")","v":""},null,{"$f":"IF(BB64<>\"\",\" -O\",\"\")","v":""},null,{"$f":"IF(BD64<>\"\",\" -O\",\"\")","v":""},null,{"$f":"IF(BF64<>\"\",\" -O\",\"\")","v":""},null,{"$f":"IF(BH64<>\"\",\" -O\",\"\")","v":""},null,{"$f":"IF(BJ64<>\"\",\" -O\",\"\")","v":""}]
[null,null,null,null,null,null,null,null,null,null,null,null,1.28,{"$f":"IFERROR(VLOOKUP(M64,'CRUCE OPORTUNIDADES'!$C$12:$D$111,2,FALSE),\"\")","v":""},2.28000000000001,{"$f":"IFERROR(VLOOKUP(O64,'CRUCE OPORTUNIDADES'!$C$12:$D$111,2,FALSE),\"\")","v":""},3.2800000000000198,{"$f":"IFERROR(VLOOKUP(Q64,'CRUCE OPORTUNIDADES'!$C$12:$D$111,2,FALSE),\"\")","v":""},4.2800000000000296,{"$f":"IFERROR(VLOOKUP(S64,'CRUCE OPORTUNIDADES'!$C$12:$D$111,2,FALSE),\"\")","v":""},5.2800000000000402,{"$f":"IFERROR(VLOOKUP(U64,'CRUCE OPORTUNIDADES'!$C$12:$D$111,2,FALSE),\"\")","v":""},6.28000000000005,{"$f":"IFERROR(VLOOKUP(W64,'CRUCE OPORTUNIDADES'!$C$12:$D$111,2,FALSE),\"\")","v":""},7.2800000000000598,{"$f":"IFERROR(VLOOKUP(Y64,'CRUCE OPORTUNIDADES'!$C$12:$D$111,2,FALSE),\"\")","v":""},8.2800000000000704,{"$f":"IFERROR(VLOOKUP(AA64,'CRUCE OPORTUNIDADES'!$C$12:$D$111,2,FALSE),\"\")","v":""},9.2800000000000793,{"$f":"IFERROR(VLOOKUP(AC64,'CRUCE OPORTUNIDADES'!$C$12:$D$111,2,FALSE),\"\")","v":""},10.280000000000101,{"$f":"IFERROR(VLOOKUP(AE64,'CRUCE OPORTUNIDADES'!$C$12:$D$111,2,FALSE),\"\")","v":""},11.280000000000101,{"$f":"IFERROR(VLOOKUP(AG64,'CRUCE OPORTUNIDADES'!$C$12:$D$111,2,FALSE),\"\")","v":""},12.280000000000101,{"$f":"IFERROR(VLOOKUP(AI64,'CRUCE OPORTUNIDADES'!$C$12:$D$111,2,FALSE),\"\")","v":""},13.280000000000101,{"$f":"IFERROR(VLOOKUP(AK64,'CRUCE OPORTUNIDADES'!$C$12:$D$111,2,FALSE),\"\")","v":""},14.280000000000101,{"$f":"IFERROR(VLOOKUP(AM64,'CRUCE OPORTUNIDADES'!$C$12:$D$111,2,FALSE),\"\")","v":""},15.280000000000101,{"$f":"IFERROR(VLOOKUP(AO64,'CRUCE OPORTUNIDADES'!$C$12:$D$111,2,FALSE),\"\")","v":""},16.280000000000101,{"$f":"IFERROR(VLOOKUP(AQ64,'CRUCE OPORTUNIDADES'!$C$12:$D$111,2,FALSE),\"\")","v":""},17.2800000000002,{"$f":"IFERROR(VLOOKUP(AS64,'CRUCE OPORTUNIDADES'!$C$12:$D$111,2,FALSE),\"\")","v":""},18.2800000000002,{"$f":"IFERROR(VLOOKUP(AU64,'CRUCE OPORTUNIDADES'!$C$12:$D$111,2,FALSE),\"\")","v":""},19.2800000000002,{"$f":"IFERROR(VLOOKUP(AW64,'CRUCE OPORTUNIDADES'!$C$12:$D$111,2,FALSE),\"\")","v":""},20.2800000000002,{"$f":"IFERROR(VLOOKUP(AY64,'CRUCE OPORTUNIDADES'!$C$12:$D$111,2,FALSE),\"\")","v":""},21.2800000000002,{"$f":"IFERROR(VLOOKUP(BA64,'CRUCE OPORTUNIDADES'!$C$12:$D$111,2,FALSE),\"\")","v":""},22.2800000000002,{"$f":"IFERROR(VLOOKUP(BC64,'CRUCE OPORTUNIDADES'!$C$12:$D$111,2,FALSE),\"\")","v":""},23.2800000000002,{"$f":"IFERROR(VLOOKUP(BE64,'CRUCE OPORTUNIDADES'!$C$12:$D$111,2,FALSE),\"\")","v":""},24.2800000000002,{"$f":"IFERROR(VLOOKUP(BG64,'CRUCE OPORTUNIDADES'!$C$12:$D$111,2,FALSE),\"\")","v":""},25.2800000000002,{"$f":"IFERROR(VLOOKUP(BI64,'CRUCE OPORTUNIDADES'!$C$12:$D$111,2,FALSE),\"\")","v":""}]
[null,null,null,null,null,null,null,null,null,null,null,null,null,{"$f":"IF(N66<>\"\",\" -O\",\"\")","v":""},null,{"$f":"IF(P66<>\"\",\" -O\",\"\")","v":""},null,{"$f":"IF(R66<>\"\",\" -O\",\"\")","v":""},null,{"$f":"IF(T66<>\"\",\" -O\",\"\")","v":""},null,{"$f":"IF(V66<>\"\",\" -O\",\"\")","v":""},null,{"$f":"IF(X66<>\"\",\" -O\",\"\")","v":""},null,{"$f":"IF(Z66<>\"\",\" -O\",\"\")","v":""},null,{"$f":"IF(AB66<>\"\",\" -O\",\"\")","v":""},null,{"$f":"IF(AD66<>\"\",\" -O\",\"\")","v":""},null,{"$f":"IF(AF66<>\"\",\" -O\",\"\")","v":""},null,{"$f":"IF(AH66<>\"\",\" -O\",\"\")","v":""},null,{"$f":"IF(AJ66<>\"\",\" -O\",\"\")","v":""},null,{"$f":"IF(AL66<>\"\",\" -O\",\"\")","v":""},null,{"$f":"IF(AN66<>\"\",\" -O\",\"\")","v":""},null,{"$f":"IF(AP66<>\"\",\" -O\",\"\")","v":""},null,{"$f":"IF(AR66<>\"\",\" -O\",\"\")","v":""},null,{"$f":"IF(AT66<>\"\",\" -O\",\"\")","v":""},null,{"$f":"IF(AV66<>\"\",\" -O\",\"\")","v":""},null,{"$f":"IF(AX66<>\"\",\" -O\",\"\")","v":""},null,{"$f":"IF(AZ66<>\"\",\" -O\",\"\")","v":""},null,{"$f":"IF(BB66<>\"\",\" -O\",\"\")","v":""},null,{"$f":"IF(BD66<>\"\",\" -O\",\"\")","v":""},null,{"$f":"IF(BF66<>\"\",\" -O\",\"\")","v":""},null,{"$f":"IF(BH66<>\"\",\" -O\",\"\")","v":""},null,{"$f":"IF(BJ66<>\"\",\" -O\",\"\")","v":""}]
[null,null,null,null,null,null,null,null,null,null,null,null,1.29,{"$f":"IFERROR(VLOOKUP(M66,'CRUCE OPORTUNIDADES'!$C$12:$D$111,2,FALSE),\"\")","v":""},2.2900000000000098,{"$f":"IFERROR(VLOOKUP(O66,'CRUCE OPORTUNIDADES'!$C$12:$D$111,2,FALSE),\"\")","v":""},3.29000000000002,{"$f":"IFERROR(VLOOKUP(Q66,'CRUCE OPORTUNIDADES'!$C$12:$D$111,2,FALSE),\"\")","v":""},4.2900000000000302,{"$f":"IFERROR(VLOOKUP(S66,'CRUCE OPORTUNIDADES'!$C$12:$D$111,2,FALSE),\"\")","v":""},5.29000000000004,{"$f":"IFERROR(VLOOKUP(U66,'CRUCE OPORTUNIDADES'!$C$12:$D$111,2,FALSE),\"\")","v":""},6.2900000000000498,{"$f":"IFERROR(VLOOKUP(W66,'CRUCE OPORTUNIDADES'!$C$12:$D$111,2,FALSE),\"\")","v":""},7.2900000000000604,{"$f":"IFERROR(VLOOKUP(Y66,'CRUCE OPORTUNIDADES'!$C$12:$D$111,2,FALSE),\"\")","v":""},8.2900000000000702,{"$f":"IFERROR(VLOOKUP(AA66,'CRUCE OPORTUNIDADES'!$C$12:$D$111,2,FALSE),\"\")","v":""},9.2900000000000809,{"$f":"IFERROR(VLOOKUP(AC66,'CRUCE OPORTUNIDADES'!$C$12:$D$111,2,FALSE),\"\")","v":""},10.2900000000001,{"$f":"IFERROR(VLOOKUP(AE66,'CRUCE OPORTUNIDADES'!$C$12:$D$111,2,FALSE),\"\")","v":""},11.2900000000001,{"$f":"IFERROR(VLOOKUP(AG66,'CRUCE OPORTUNIDADES'!$C$12:$D$111,2,FALSE),\"\")","v":""},12.2900000000001,{"$f":"IFERROR(VLOOKUP(AI66,'CRUCE OPORTUNIDADES'!$C$12:$D$111,2,FALSE),\"\")","v":""},13.2900000000001,{"$f":"IFERROR(VLOOKUP(AK66,'CRUCE OPORTUNIDADES'!$C$12:$D$111,2,FALSE),\"\")","v":""},14.2900000000001,{"$f":"IFERROR(VLOOKUP(AM66,'CRUCE OPORTUNIDADES'!$C$12:$D$111,2,FALSE),\"\")","v":""},15.2900000000001,{"$f":"IFERROR(VLOOKUP(AO66,'CRUCE OPORTUNIDADES'!$C$12:$D$111,2,FALSE),\"\")","v":""},16.290000000000099,{"$f":"IFERROR(VLOOKUP(AQ66,'CRUCE OPORTUNIDADES'!$C$12:$D$111,2,FALSE),\"\")","v":""},17.290000000000202,{"$f":"IFERROR(VLOOKUP(AS66,'CRUCE OPORTUNIDADES'!$C$12:$D$111,2,FALSE),\"\")","v":""},18.290000000000202,{"$f":"IFERROR(VLOOKUP(AU66,'CRUCE OPORTUNIDADES'!$C$12:$D$111,2,FALSE),\"\")","v":""},19.290000000000202,{"$f":"IFERROR(VLOOKUP(AW66,'CRUCE OPORTUNIDADES'!$C$12:$D$111,2,FALSE),\"\")","v":""},20.290000000000202,{"$f":"IFERROR(VLOOKUP(AY66,'CRUCE OPORTUNIDADES'!$C$12:$D$111,2,FALSE),\"\")","v":""},21.290000000000202,{"$f":"IFERROR(VLOOKUP(BA66,'CRUCE OPORTUNIDADES'!$C$12:$D$111,2,FALSE),\"\")","v":""},22.290000000000202,{"$f":"IFERROR(VLOOKUP(BC66,'CRUCE OPORTUNIDADES'!$C$12:$D$111,2,FALSE),\"\")","v":""},23.290000000000202,{"$f":"IFERROR(VLOOKUP(BE66,'CRUCE OPORTUNIDADES'!$C$12:$D$111,2,FALSE),\"\")","v":""},24.290000000000202,{"$f":"IFERROR(VLOOKUP(BG66,'CRUCE OPORTUNIDADES'!$C$12:$D$111,2,FALSE),\"\")","v":""},25.290000000000202,{"$f":"IFERROR(VLOOKUP(BI66,'CRUCE OPORTUNIDADES'!$C$12:$D$111,2,FALSE),\"\")","v":""}]
[null,null,null,null,null,null,null,null,null,null,null,null,null,{"$f":"IF(N68<>\"\",\" -O\",\"\")","v":""},null,{"$f":"IF(P68<>\"\",\" -O\",\"\")","v":""},null,{"$f":"IF(R68<>\"\",\" -O\",\"\")","v":""},null,{"$f":"IF(T68<>\"\",\" -O\",\"\")","v":""},null,{"$f":"IF(V68<>\"\",\" -O\",\"\")","v":""},null,{"$f":"IF(X68<>\"\",\" -O\",\"\")","v":""},null,{"$f":"IF(Z68<>\"\",\" -O\",\"\")","v":""},null,{"$f":"IF(AB68<>\"\",\" -O\",\"\")","v":""},null,{"$f":"IF(AD68<>\"\",\" -O\",\"\")","v":""},null,{"$f":"IF(AF68<>\"\",\" -O\",\"\")","v":""},null,{"$f":"IF(AH68<>\"\",\" -O\",\"\")","v":""},null,{"$f":"IF(AJ68<>\"\",\" -O\",\"\")","v":""},null,{"$f":"IF(AL68<>\"\",\" -O\",\"\")","v":""},null,{"$f":"IF(AN68<>\"\",\" -O\",\"\")","v":""},null,{"$f":"IF(AP68<>\"\",\" -O\",\"\")","v":""},null,{"$f":"IF(AR68<>\"\",\" -O\",\"\")","v":""},null,{"$f":"IF(AT68<>\"\",\" -O\",\"\")","v":""},null,{"$f":"IF(AV68<>\"\",\" -O\",\"\")","v":""},null,{"$f":"IF(AX68<>\"\",\" -O\",\"\")","v":""},null,{"$f":"IF(AZ68<>\"\",\" -O\",\"\")","v":""},null,{"$f":"IF(BB68<>\"\",\" -O\",\"\")","v":""},null,{"$f":"IF(BD68<>\"\",\" -O\",\"\")","v":""},null,{"$f":"IF(BF68<>\"\",\" -O\",\"\")","v":""},null,{"$f":"IF(BH68<>\"\",\" -O\",\"\")","v":""},null,{"$f":"IF(BJ68<>\"\",\" -O\",\"\")","v":""}]
[null,null,null,null,null,null,null,null,null,null,null,null,1.3,{"$f":"IFERROR(VLOOKUP(M68,'CRUCE OPORTUNIDADES'!$C$12:$D$111,2,FALSE),\"\")","v":""},2.30000000000001,{"$f":"IFERROR(VLOOKUP(O68,'CRUCE OPORTUNIDADES'!$C$12:$D$111,2,FALSE),\"\")","v":""},3.3000000000000198,{"$f":"IFERROR(VLOOKUP(Q68,'CRUCE OPORTUNIDADES'!$C$12:$D$111,2,FALSE),\"\")","v":""},4.30000000000003,{"$f":"IFERROR(VLOOKUP(S68,'CRUCE OPORTUNIDADES'!$C$12:$D$111,2,FALSE),\"\")","v":""},5.3000000000000398,{"$f":"IFERROR(VLOOKUP(U68,'CRUCE OPORTUNIDADES'!$C$12:$D$111,2,FALSE),\"\")","v":""},6.3000000000000496,{"$f":"IFERROR(VLOOKUP(W68,'CRUCE OPORTUNIDADES'!$C$12:$D$111,2,FALSE),\"\")","v":""},7.3000000000000602,{"$f":"IFERROR(VLOOKUP(Y68,'CRUCE OPORTUNIDADES'!$C$12:$D$111,2,FALSE),\"\")","v":""},8.30000000000007,{"$f":"IFERROR(VLOOKUP(AA68,'CRUCE OPORTUNIDADES'!$C$12:$D$111,2,FALSE),\"\")","v":""},9.3000000000000806,{"$f":"IFERROR(VLOOKUP(AC68,'CRUCE OPORTUNIDADES'!$C$12:$D$111,2,FALSE),\"\")","v":""},10.3000000000001,{"$f":"IFERROR(VLOOKUP(AE68,'CRUCE OPORTUNIDADES'!$C$12:$D$111,2,FALSE),\"\")","v":""},11.3000000000001,{"$f":"IFERROR(VLOOKUP(AG68,'CRUCE OPORTUNIDADES'!$C$12:$D$111,2,FALSE),\"\")","v":""},12.3000000000001,{"$f":"IFERROR(VLOOKUP(AI68,'CRUCE OPORTUNIDADES'!$C$12:$D$111,2,FALSE),\"\")","v":""},13.3000000000001,{"$f":"IFERROR(VLOOKUP(AK68,'CRUCE OPORTUNIDADES'!$C$12:$D$111,2,FALSE),\"\")","v":""},14.3000000000001,{"$f":"IFERROR(VLOOKUP(AM68,'CRUCE OPORTUNIDADES'!$C$12:$D$111,2,FALSE),\"\")","v":""},15.3000000000001,{"$f":"IFERROR(VLOOKUP(AO68,'CRUCE OPORTUNIDADES'!$C$12:$D$111,2,FALSE),\"\")","v":""},16.3000000000001,{"$f":"IFERROR(VLOOKUP(AQ68,'CRUCE OPORTUNIDADES'!$C$12:$D$111,2,FALSE),\"\")","v":""},17.3000000000002,{"$f":"IFERROR(VLOOKUP(AS68,'CRUCE OPORTUNIDADES'!$C$12:$D$111,2,FALSE),\"\")","v":""},18.3000000000002,{"$f":"IFERROR(VLOOKUP(AU68,'CRUCE OPORTUNIDADES'!$C$12:$D$111,2,FALSE),\"\")","v":""},19.3000000000002,{"$f":"IFERROR(VLOOKUP(AW68,'CRUCE OPORTUNIDADES'!$C$12:$D$111,2,FALSE),\"\")","v":""},20.3000000000002,{"$f":"IFERROR(VLOOKUP(AY68,'CRUCE OPORTUNIDADES'!$C$12:$D$111,2,FALSE),\"\")","v":""},21.3000000000002,{"$f":"IFERROR(VLOOKUP(BA68,'CRUCE OPORTUNIDADES'!$C$12:$D$111,2,FALSE),\"\")","v":""},22.3000000000002,{"$f":"IFERROR(VLOOKUP(BC68,'CRUCE OPORTUNIDADES'!$C$12:$D$111,2,FALSE),\"\")","v":""},23.3000000000002,{"$f":"IFERROR(VLOOKUP(BE68,'CRUCE OPORTUNIDADES'!$C$12:$D$111,2,FALSE),\"\")","v":""},24.3000000000002,{"$f":"IFERROR(VLOOKUP(BG68,'CRUCE OPORTUNIDADES'!$C$12:$D$111,2,FALSE),\"\")","v":""},25.3000000000002,{"$f":"IFERROR(VLOOKUP(BI68,'CRUCE OPORTUNIDADES'!$C$12:$D$111,2,FALSE),\"\")","v":""}]
[null,null,null,null,null,null,null,null,null,null,null,null,null,{"$f":"IF(N70<>\"\",\" -O\",\"\")","v":""},null,{"$f":"IF(P70<>\"\",\" -O\",\"\")","v":""},null,{"$f":"IF(R70<>\"\",\" -O\",\"\")","v":""},null,{"$f":"IF(T70<>\"\",\" -O\",\"\")","v":""},null,{"$f":"IF(V70<>\"\",\" -O\",\"\")","v":""},null,{"$f":"IF(X70<>\"\",\" -O\",\"\")","v":""},null,{"$f":"IF(Z70<>\"\",\" -O\",\"\")","v":""},null,{"$f":"IF(AB70<>\"\",\" -O\",\"\")","v":""},null,{"$f":"IF(AD70<>\"\",\" -O\",\"\")","v":""},null,{"$f":"IF(AF70<>\"\",\" -O\",\"\")","v":""},null,{"$f":"IF(AH70<>\"\",\" -O\",\"\")","v":""},null,{"$f":"IF(AJ70<>\"\",\" -O\",\"\")","v":""},null,{"$f":"IF(AL70<>\"\",\" -O\",\"\")","v":""},null,{"$f":"IF(AN70<>\"\",\" -O\",\"\")","v":""},null,{"$f":"IF(AP70<>\"\",\" -O\",\"\")","v":""},null,{"$f":"IF(AR70<>\"\",\" -O\",\"\")","v":""},null,{"$f":"IF(AT70<>\"\",\" -O\",\"\")","v":""},null,{"$f":"IF(AV70<>\"\",\" -O\",\"\")","v":""},null,{"$f":"IF(AX70<>\"\",\" -O\",\"\")","v":""},null,{"$f":"IF(AZ70<>\"\",\" -O\",\"\")","v":""},null,{"$f":"IF(BB70<>\"\",\" -O\",\"\")","v":""},null,{"$f":"IF(BD70<>\"\",\" -O\",\"\")","v":""},null,{"$f":"IF(BF70<>\"\",\" -O\",\"\")","v":""},null,{"$f":"IF(BH70<>\"\",\" -O\",\"\")","v":""},null,{"$f":"IF(BJ70<>\"\",\" -O\",\"\")","v":""}]
[null,null,null,null,null,null,null,null,null,null,null,null,1.31,{"$f":"IFERROR(VLOOKUP(M70,'CRUCE OPORTUNIDADES'!$C$12:$D$111,2,FALSE),\"\")","v":""},2.3100000000000098,{"$f":"IFERROR(VLOOKUP(O70,'CRUCE OPORTUNIDADES'!$C$12:$D$111,2,FALSE),\"\")","v":""},3.31000000000002,{"$f":"IFERROR(VLOOKUP(Q70,'CRUCE OPORTUNIDADES'!$C$12:$D$111,2,FALSE),\"\")","v":""},4.3100000000000298,{"$f":"IFERROR(VLOOKUP(S70,'CRUCE OPORTUNIDADES'!$C$12:$D$111,2,FALSE),\"\")","v":""},5.3100000000000396,{"$f":"IFERROR(VLOOKUP(U70,'CRUCE OPORTUNIDADES'!$C$12:$D$111,2,FALSE),\"\")","v":""},6.3100000000000502,{"$f":"IFERROR(VLOOKUP(W70,'CRUCE OPORTUNIDADES'!$C$12:$D$111,2,FALSE),\"\")","v":""},7.31000000000006,{"$f":"IFERROR(VLOOKUP(Y70,'CRUCE OPORTUNIDADES'!$C$12:$D$111,2,FALSE),\"\")","v":""},8.3100000000000698,{"$f":"IFERROR(VLOOKUP(AA70,'CRUCE OPORTUNIDADES'!$C$12:$D$111,2,FALSE),\"\")","v":""},9.3100000000000804,{"$f":"IFERROR(VLOOKUP(AC70,'CRUCE OPORTUNIDADES'!$C$12:$D$111,2,FALSE),\"\")","v":""},10.3100000000001,{"$f":"IFERROR(VLOOKUP(AE70,'CRUCE OPORTUNIDADES'!$C$12:$D$111,2,FALSE),\"\")","v":""},11.3100000000001,{"$f":"IFERROR(VLOOKUP(AG70,'CRUCE OPORTUNIDADES'!$C$12:$D$111,2,FALSE),\"\")","v":""},12.3100000000001,{"$f":"IFERROR(VLOOKUP(AI70,'CRUCE OPORTUNIDADES'!$C$12:$D$111,2,FALSE),\"\")","v":""},13.3100000000001,{"$f":"IFERROR(VLOOKUP(AK70,'CRUCE OPORTUNIDADES'!$C$12:$D$111,2,FALSE),\"\")","v":""},14.3100000000001,{"$f":"IFERROR(VLOOKUP(AM70,'CRUCE OPORTUNIDADES'!$C$12:$D$111,2,FALSE),\"\")","v":""},15.3100000000001,{"$f":"IFERROR(VLOOKUP(AO70,'CRUCE OPORTUNIDADES'!$C$12:$D$111,2,FALSE),\"\")","v":""},16.310000000000102,{"$f":"IFERROR(VLOOKUP(AQ70,'CRUCE OPORTUNIDADES'!$C$12:$D$111,2,FALSE),\"\")","v":""},17.310000000000201,{"$f":"IFERROR(VLOOKUP(AS70,'CRUCE OPORTUNIDADES'!$C$12:$D$111,2,FALSE),\"\")","v":""},18.310000000000201,{"$f":"IFERROR(VLOOKUP(AU70,'CRUCE OPORTUNIDADES'!$C$12:$D$111,2,FALSE),\"\")","v":""},19.310000000000201,{"$f":"IFERROR(VLOOKUP(AW70,'CRUCE OPORTUNIDADES'!$C$12:$D$111,2,FALSE),\"\")","v":""},20.310000000000201,{"$f":"IFERROR(VLOOKUP(AY70,'CRUCE OPORTUNIDADES'!$C$12:$D$111,2,FALSE),\"\")","v":""},21.310000000000201,{"$f":"IFERROR(VLOOKUP(BA70,'CRUCE OPORTUNIDADES'!$C$12:$D$111,2,FALSE),\"\")","v":""},22.310000000000201,{"$f":"IFERROR(VLOOKUP(BC70,'CRUCE OPORTUNIDADES'!$C$12:$D$111,2,FALSE),\"\")","v":""},23.310000000000201,{"$f":"IFERROR(VLOOKUP(BE70,'CRUCE OPORTUNIDADES'!$C$12:$D$111,2,FALSE),\"\")","v":""},24.310000000000201,{"$f":"IFERROR(VLOOKUP(BG70,'CRUCE OPORTUNIDADES'!$C$12:$D$111,2,FALSE),\"\")","v":""},25.310000000000201,{"$f":"IFERROR(VLOOKUP(BI70,'CRUCE OPORTUNIDADES'!$C$12:$D$111,2,FALSE),\"\")","v":""}]
[null,null,null,null,null,null,null,null,null,null,null,null,null,{"$f":"IF(N72<>\"\",\" -O\",\"\")","v":""},null,{"$f":"IF(P72<>\"\",\" -O\",\"\")","v":""},null,{"$f":"IF(R72<>\"\",\" -O\",\"\")","v":""},null,{"$f":"IF(T72<>\"\",\" -O\",\"\")","v":""},null,{"$f":"IF(V72<>\"\",\" -O\",\"\")","v":""},null,{"$f":"IF(X72<>\"\",\" -O\",\"\")","v":""},null,{"$f":"IF(Z72<>\"\",\" -O\",\"\")","v":""},null,{"$f":"IF(AB72<>\"\",\" -O\",\"\")","v":""},null,{"$f":"IF(AD72<>\"\",\" -O\",\"\")","v":""},null,{"$f":"IF(AF72<>\"\",\" -O\",\"\")","v":""},null,{"$f":"IF(AH72<>\"\",\" -O\",\"\")","v":""},null,{"$f":"IF(AJ72<>\"\",\" -O\",\"\")","v":""},null,{"$f":"IF(AL72<>\"\",\" -O\",\"\")","v":""},null,{"$f":"IF(AN72<>\"\",\" -O\",\"\")","v":""},null,{"$f":"IF(AP72<>\"\",\" -O\",\"\")","v":""},null,{"$f":"IF(AR72<>\"\",\" -O\",\"\")","v":""},null,{"$f":"IF(AT72<>\"\",\" -O\",\"\")","v":""},null,{"$f":"IF(AV72<>\"\",\" -O\",\"\")","v":""},null,{"$f":"IF(AX72<>\"\",\" -O\",\"\")","v":""},null,{"$f":"IF(AZ72<>\"\",\" -O\",\"\")","v":""},null,{"$f":"IF(BB72<>\"\",\" -O\",\"\")","v":""},null,{"$f":"IF(BD72<>\"\",\" -O\",\"\")","v":""},null,{"$f":"IF(BF72<>\"\",\" -O\",\"\")","v":""},null,{"$f":"IF(BH72<>\"\",\" -O\",\"\")","v":""},null,{"$f":"IF(BJ72<>\"\",\" -O\",\"\")","v":""}]
[null,null,null,null,null,null,null,null,null,null,null,null,1.32,{"$f":"IFERROR(VLOOKUP(M72,'CRUCE OPORTUNIDADES'!$C$12:$D$111,2,FALSE),\"\")","v":""},2.3200000000000101,{"$f":"IFERROR(VLOOKUP(O72,'CRUCE OPORTUNIDADES'!$C$12:$D$111,2,FALSE),\"\")","v":""},3.3200000000000198,{"$f":"IFERROR(VLOOKUP(Q72,'CRUCE OPORTUNIDADES'!$C$12:$D$111,2,FALSE),\"\")","v":""},4.3200000000000296,{"$f":"IFERROR(VLOOKUP(S72,'CRUCE OPORTUNIDADES'!$C$12:$D$111,2,FALSE),\"\")","v":""},5.3200000000000403,{"$f":"IFERROR(VLOOKUP(U72,'CRUCE OPORTUNIDADES'!$C$12:$D$111,2,FALSE),\"\")","v":""},6.32000000000005,{"$f":"IFERROR(VLOOKUP(W72,'CRUCE OPORTUNIDADES'!$C$12:$D$111,2,FALSE),\"\")","v":""},7.3200000000000598,{"$f":"IFERROR(VLOOKUP(Y72,'CRUCE OPORTUNIDADES'!$C$12:$D$111,2,FALSE),\"\")","v":""},8.3200000000000696,{"$f":"IFERROR(VLOOKUP(AA72,'CRUCE OPORTUNIDADES'!$C$12:$D$111,2,FALSE),\"\")","v":""},9.3200000000000802,{"$f":"IFERROR(VLOOKUP(AC72,'CRUCE OPORTUNIDADES'!$C$12:$D$111,2,FALSE),\"\")","v":""},10.3200000000001,{"$f":"IFERROR(VLOOKUP(AE72,'CRUCE OPORTUNIDADES'!$C$12:$D$111,2,FALSE),\"\")","v":""},11.3200000000001,{"$f":"IFERROR(VLOOKUP(AG72,'CRUCE OPORTUNIDADES'!$C$12:$D$111,2,FALSE),\"\")","v":""},12.3200000000001,{"$f":"IFERROR(VLOOKUP(AI72,'CRUCE OPORTUNIDADES'!$C$12:$D$111,2,FALSE),\"\")","v":""},13.3200000000001,{"$f":"IFERROR(VLOOKUP(AK72,'CRUCE OPORTUNIDADES'!$C$12:$D$111,2,FALSE),\"\")","v":""},14.3200000000001,{"$f":"IFERROR(VLOOKUP(AM72,'CRUCE OPORTUNIDADES'!$C$12:$D$111,2,FALSE),\"\")","v":""},15.3200000000001,{"$f":"IFERROR(VLOOKUP(AO72,'CRUCE OPORTUNIDADES'!$C$12:$D$111,2,FALSE),\"\")","v":""},16.3200000000001,{"$f":"IFERROR(VLOOKUP(AQ72,'CRUCE OPORTUNIDADES'!$C$12:$D$111,2,FALSE),\"\")","v":""},17.320000000000199,{"$f":"IFERROR(VLOOKUP(AS72,'CRUCE OPORTUNIDADES'!$C$12:$D$111,2,FALSE),\"\")","v":""},18.320000000000199,{"$f":"IFERROR(VLOOKUP(AU72,'CRUCE OPORTUNIDADES'!$C$12:$D$111,2,FALSE),\"\")","v":""},19.320000000000199,{"$f":"IFERROR(VLOOKUP(AW72,'CRUCE OPORTUNIDADES'!$C$12:$D$111,2,FALSE),\"\")","v":""},20.320000000000199,{"$f":"IFERROR(VLOOKUP(AY72,'CRUCE OPORTUNIDADES'!$C$12:$D$111,2,FALSE),\"\")","v":""},21.320000000000199,{"$f":"IFERROR(VLOOKUP(BA72,'CRUCE OPORTUNIDADES'!$C$12:$D$111,2,FALSE),\"\")","v":""},22.320000000000199,{"$f":"IFERROR(VLOOKUP(BC72,'CRUCE OPORTUNIDADES'!$C$12:$D$111,2,FALSE),\"\")","v":""},23.320000000000199,{"$f":"IFERROR(VLOOKUP(BE72,'CRUCE OPORTUNIDADES'!$C$12:$D$111,2,FALSE),\"\")","v":""},24.320000000000199,{"$f":"IFERROR(VLOOKUP(BG72,'CRUCE OPORTUNIDADES'!$C$12:$D$111,2,FALSE),\"\")","v":""},25.320000000000199,{"$f":"IFERROR(VLOOKUP(BI72,'CRUCE OPORTUNIDADES'!$C$12:$D$111,2,FALSE),\"\")","v":""}]
[null,null,null,null,null,null,null,null,null,null,null,null,null,{"$f":"IF(N74<>\"\",\" -O\",\"\")","v":""},null,{"$f":"IF(P74<>\"\",\" -O\",\"\")","v":""},null,{"$f":"IF(R74<>\"\",\" -O\",\"\")","v":""},null,{"$f":"IF(T74<>\"\",\" -O\",\"\")","v":""},null,{"$f":"IF(V74<>\"\",\" -O\",\"\")","v":""},null,{"$f":"IF(X74<>\"\",\" -O\",\"\")","v":""},null,{"$f":"IF(Z74<>\"\",\" -O\",\"\")","v":""},null,{"$f":"IF(AB74<>\"\",\" -O\",\"\")","v":""},null,{"$f":"IF(AD74<>\"\",\" -O\",\"\")","v":""},null,{"$f":"IF(AF74<>\"\",\" -O\",\"\")","v":""},null,{"$f":"IF(AH74<>\"\",\" -O\",\"\")","v":""},null,{"$f":"IF(AJ74<>\"\",\" -O\",\"\")","v":""},null,{"$f":"IF(AL74<>\"\",\" -O\",\"\")","v":""},null,{"$f":"IF(AN74<>\"\",\" -O\",\"\")","v":""},null,{"$f":"IF(AP74<>\"\",\" -O\",\"\")","v":""},null,{"$f":"IF(AR74<>\"\",\" -O\",\"\")","v":""},null,{"$f":"IF(AT74<>\"\",\" -O\",\"\")","v":""},null,{"$f":"IF(AV74<>\"\",\" -O\",\"\")","v":""},null,{"$f":"IF(AX74<>\"\",\" -O\",\"\")","v":""},null,{"$f":"IF(AZ74<>\"\",\" -O\",\"\")","v":""},null,{"$f":"IF(BB74<>\"\",\" -O\",\"\")","v":""},null,{"$f":"IF(BD74<>\"\",\" -O\",\"\")","v":""},null,{"$f":"IF(BF74<>\"\",\" -O\",\"\")","v":""},null,{"$f":"IF(BH74<>\"\",\" -O\",\"\")","v":""},null,{"$f":"IF(BJ74<>\"\",\" -O\",\"\")","v":""}]
[null,null,null,null,null,null,null,null,null,null,null,null,1.33,{"$f":"IFERROR(VLOOKUP(M74,'CRUCE OPORTUNIDADES'!$C$12:$D$111,2,FALSE),\"\")","v":""},2.3300000000000098,{"$f":"IFERROR(VLOOKUP(O74,'CRUCE OPORTUNIDADES'!$C$12:$D$111,2,FALSE),\"\")","v":""},3.3300000000000201,{"$f":"IFERROR(VLOOKUP(Q74,'CRUCE OPORTUNIDADES'!$C$12:$D$111,2,FALSE),\"\")","v":""},4.3300000000000303,{"$f":"IFERROR(VLOOKUP(S74,'CRUCE OPORTUNIDADES'!$C$12:$D$111,2,FALSE),\"\")","v":""},5.33000000000004,{"$f":"IFERROR(VLOOKUP(U74,'CRUCE OPORTUNIDADES'!$C$12:$D$111,2,FALSE),\"\")","v":""},6.3300000000000498,{"$f":"IFERROR(VLOOKUP(W74,'CRUCE OPORTUNIDADES'!$C$12:$D$111,2,FALSE),\"\")","v":""},7.3300000000000596,{"$f":"IFERROR(VLOOKUP(Y74,'CRUCE OPORTUNIDADES'!$C$12:$D$111,2,FALSE),\"\")","v":""},8.3300000000000693,{"$f":"IFERROR(VLOOKUP(AA74,'CRUCE OPORTUNIDADES'!$C$12:$D$111,2,FALSE),\"\")","v":""},9.33000000000008,{"$f":"IFERROR(VLOOKUP(AC74,'CRUCE OPORTUNIDADES'!$C$12:$D$111,2,FALSE),\"\")","v":""},10.3300000000001,{"$f":"IFERROR(VLOOKUP(AE74,'CRUCE OPORTUNIDADES'!$C$12:$D$111,2,FALSE),\"\")","v":""},11.3300000000001,{"$f":"IFERROR(VLOOKUP(AG74,'CRUCE OPORTUNIDADES'!$C$12:$D$111,2,FALSE),\"\")","v":""},12.3300000000001,{"$f":"IFERROR(VLOOKUP(AI74,'CRUCE OPORTUNIDADES'!$C$12:$D$111,2,FALSE),\"\")","v":""},13.3300000000001,{"$f":"IFERROR(VLOOKUP(AK74,'CRUCE OPORTUNIDADES'!$C$12:$D$111,2,FALSE),\"\")","v":""},14.3300000000001,{"$f":"IFERROR(VLOOKUP(AM74,'CRUCE OPORTUNIDADES'!$C$12:$D$111,2,FALSE),\"\")","v":""},15.3300000000001,{"$f":"IFERROR(VLOOKUP(AO74,'CRUCE OPORTUNIDADES'!$C$12:$D$111,2,FALSE),\"\")","v":""},16.330000000000101,{"$f":"IFERROR(VLOOKUP(AQ74,'CRUCE OPORTUNIDADES'!$C$12:$D$111,2,FALSE),\"\")","v":""},17.330000000000201,{"$f":"IFERROR(VLOOKUP(AS74,'CRUCE OPORTUNIDADES'!$C$12:$D$111,2,FALSE),\"\")","v":""},18.330000000000201,{"$f":"IFERROR(VLOOKUP(AU74,'CRUCE OPORTUNIDADES'!$C$12:$D$111,2,FALSE),\"\")","v":""},19.330000000000201,{"$f":"IFERROR(VLOOKUP(AW74,'CRUCE OPORTUNIDADES'!$C$12:$D$111,2,FALSE),\"\")","v":""},20.330000000000201,{"$f":"IFERROR(VLOOKUP(AY74,'CRUCE OPORTUNIDADES'!$C$12:$D$111,2,FALSE),\"\")","v":""},21.330000000000201,{"$f":"IFERROR(VLOOKUP(BA74,'CRUCE OPORTUNIDADES'!$C$12:$D$111,2,FALSE),\"\")","v":""},22.330000000000201,{"$f":"IFERROR(VLOOKUP(BC74,'CRUCE OPORTUNIDADES'!$C$12:$D$111,2,FALSE),\"\")","v":""},23.330000000000201,{"$f":"IFERROR(VLOOKUP(BE74,'CRUCE OPORTUNIDADES'!$C$12:$D$111,2,FALSE),\"\")","v":""},24.330000000000201,{"$f":"IFERROR(VLOOKUP(BG74,'CRUCE OPORTUNIDADES'!$C$12:$D$111,2,FALSE),\"\")","v":""},25.330000000000201,{"$f":"IFERROR(VLOOKUP(BI74,'CRUCE OPORTUNIDADES'!$C$12:$D$111,2,FALSE),\"\")","v":""}]
[null,null,null,null,null,null,null,null,null,null,null,null,null,{"$f":"IF(N76<>\"\",\" -O\",\"\")","v":""},null,{"$f":"IF(P76<>\"\",\" -O\",\"\")","v":""},null,{"$f":"IF(R76<>\"\",\" -O\",\"\")","v":""},null,{"$f":"IF(T76<>\"\",\" -O\",\"\")","v":""},null,{"$f":"IF(V76<>\"\",\" -O\",\"\")","v":""},null,{"$f":"IF(X76<>\"\",\" -O\",\"\")","v":""},null,{"$f":"IF(Z76<>\"\",\" -O\",\"\")","v":""},null,{"$f":"IF(AB76<>\"\",\" -O\",\"\")","v":""},null,{"$f":"IF(AD76<>\"\",\" -O\",\"\")","v":""},null,{"$f":"IF(AF76<>\"\",\" -O\",\"\")","v":""},null,{"$f":"IF(AH76<>\"\",\" -O\",\"\")","v":""},null,{"$f":"IF(AJ76<>\"\",\" -O\",\"\")","v":""},null,{"$f":"IF(AL76<>\"\",\" -O\",\"\")","v":""},null,{"$f":"IF(AN76<>\"\",\" -O\",\"\")","v":""},null,{"$f":"IF(AP76<>\"\",\" -O\",\"\")","v":""},null,{"$f":"IF(AR76<>\"\",\" -O\",\"\")","v":""},null,{"$f":"IF(AT76<>\"\",\" -O\",\"\")","v":""},null,{"$f":"IF(AV76<>\"\",\" -O\",\"\")","v":""},null,{"$f":"IF(AX76<>\"\",\" -O\",\"\")","v":""},null,{"$f":"IF(AZ76<>\"\",\" -O\",\"\")","v":""},null,{"$f":"IF(BB76<>\"\",\" -O\",\"\")","v":""},null,{"$f":"IF(BD76<>\"\",\" -O\",\"\")","v":""},null,{"$f":"IF(BF76<>\"\",\" -O\",\"\")","v":""},null,{"$f":"IF(BH76<>\"\",\" -O\",\"\")","v":""},null,{"$f":"IF(BJ76<>\"\",\" -O\",\"\")","v":""}]
[null,null,null,null,null,null,null,null,null,null,null,null,1.34,{"$f":"IFERROR(VLOOKUP(M76,'CRUCE OPORTUNIDADES'!$C$12:$D$111,2,FALSE),\"\")","v":""},2.3400000000000101,{"$f":"IFERROR(VLOOKUP(O76,'CRUCE OPORTUNIDADES'!$C$12:$D$111,2,FALSE),\"\")","v":""},3.3400000000000198,{"$f":"IFERROR(VLOOKUP(Q76,'CRUCE OPORTUNIDADES'!$C$12:$D$111,2,FALSE),\"\")","v":""},4.3400000000000301,{"$f":"IFERROR(VLOOKUP(S76,'CRUCE OPORTUNIDADES'!$C$12:$D$111,2,FALSE),\"\")","v":""},5.3400000000000398,{"$f":"IFERROR(VLOOKUP(U76,'CRUCE OPORTUNIDADES'!$C$12:$D$111,2,FALSE),\"\")","v":""},6.3400000000000496,{"$f":"IFERROR(VLOOKUP(W76,'CRUCE OPORTUNIDADES'!$C$12:$D$111,2,FALSE),\"\")","v":""},7.3400000000000603,{"$f":"IFERROR(VLOOKUP(Y76,'CRUCE OPORTUNIDADES'!$C$12:$D$111,2,FALSE),\"\")","v":""},8.3400000000000691,{"$f":"IFERROR(VLOOKUP(AA76,'CRUCE OPORTUNIDADES'!$C$12:$D$111,2,FALSE),\"\")","v":""},9.3400000000000798,{"$f":"IFERROR(VLOOKUP(AC76,'CRUCE OPORTUNIDADES'!$C$12:$D$111,2,FALSE),\"\")","v":""},10.340000000000099,{"$f":"IFERROR(VLOOKUP(AE76,'CRUCE OPORTUNIDADES'!$C$12:$D$111,2,FALSE),\"\")","v":""},11.340000000000099,{"$f":"IFERROR(VLOOKUP(AG76,'CRUCE OPORTUNIDADES'!$C$12:$D$111,2,FALSE),\"\")","v":""},12.340000000000099,{"$f":"IFERROR(VLOOKUP(AI76,'CRUCE OPORTUNIDADES'!$C$12:$D$111,2,FALSE),\"\")","v":""},13.340000000000099,{"$f":"IFERROR(VLOOKUP(AK76,'CRUCE OPORTUNIDADES'!$C$12:$D$111,2,FALSE),\"\")","v":""},14.340000000000099,{"$f":"IFERROR(VLOOKUP(AM76,'CRUCE OPORTUNIDADES'!$C$12:$D$111,2,FALSE),\"\")","v":""},15.340000000000099,{"$f":"IFERROR(VLOOKUP(AO76,'CRUCE OPORTUNIDADES'!$C$12:$D$111,2,FALSE),\"\")","v":""},16.340000000000099,{"$f":"IFERROR(VLOOKUP(AQ76,'CRUCE OPORTUNIDADES'!$C$12:$D$111,2,FALSE),\"\")","v":""},17.340000000000199,{"$f":"IFERROR(VLOOKUP(AS76,'CRUCE OPORTUNIDADES'!$C$12:$D$111,2,FALSE),\"\")","v":""},18.340000000000199,{"$f":"IFERROR(VLOOKUP(AU76,'CRUCE OPORTUNIDADES'!$C$12:$D$111,2,FALSE),\"\")","v":""},19.340000000000199,{"$f":"IFERROR(VLOOKUP(AW76,'CRUCE OPORTUNIDADES'!$C$12:$D$111,2,FALSE),\"\")","v":""},20.340000000000199,{"$f":"IFERROR(VLOOKUP(AY76,'CRUCE OPORTUNIDADES'!$C$12:$D$111,2,FALSE),\"\")","v":""},21.340000000000199,{"$f":"IFERROR(VLOOKUP(BA76,'CRUCE OPORTUNIDADES'!$C$12:$D$111,2,FALSE),\"\")","v":""},22.340000000000199,{"$f":"IFERROR(VLOOKUP(BC76,'CRUCE OPORTUNIDADES'!$C$12:$D$111,2,FALSE),\"\")","v":""},23.340000000000199,{"$f":"IFERROR(VLOOKUP(BE76,'CRUCE OPORTUNIDADES'!$C$12:$D$111,2,FALSE),\"\")","v":""},24.340000000000199,{"$f":"IFERROR(VLOOKUP(BG76,'CRUCE OPORTUNIDADES'!$C$12:$D$111,2,FALSE),\"\")","v":""},25.340000000000199,{"$f":"IFERROR(VLOOKUP(BI76,'CRUCE OPORTUNIDADES'!$C$12:$D$111,2,FALSE),\"\")","v":""}]
[null,null,null,null,null,null,null,null,null,null,null,null,null,{"$f":"IF(N78<>\"\",\" -O\",\"\")","v":""},null,{"$f":"IF(P78<>\"\",\" -O\",\"\")","v":""},null,{"$f":"IF(R78<>\"\",\" -O\",\"\")","v":""},null,{"$f":"IF(T78<>\"\",\" -O\",\"\")","v":""},null,{"$f":"IF(V78<>\"\",\" -O\",\"\")","v":""},null,{"$f":"IF(X78<>\"\",\" -O\",\"\")","v":""},null,{"$f":"IF(Z78<>\"\",\" -O\",\"\")","v":""},null,{"$f":"IF(AB78<>\"\",\" -O\",\"\")","v":""},null,{"$f":"IF(AD78<>\"\",\" -O\",\"\")","v":""},null,{"$f":"IF(AF78<>\"\",\" -O\",\"\")","v":""},null,{"$f":"IF(AH78<>\"\",\" -O\",\"\")","v":""},null,{"$f":"IF(AJ78<>\"\",\" -O\",\"\")","v":""},null,{"$f":"IF(AL78<>\"\",\" -O\",\"\")","v":""},null,{"$f":"IF(AN78<>\"\",\" -O\",\"\")","v":""},null,{"$f":"IF(AP78<>\"\",\" -O\",\"\")","v":""},null,{"$f":"IF(AR78<>\"\",\" -O\",\"\")","v":""},null,{"$f":"IF(AT78<>\"\",\" -O\",\"\")","v":""},null,{"$f":"IF(AV78<>\"\",\" -O\",\"\")","v":""},null,{"$f":"IF(AX78<>\"\",\" -O\",\"\")","v":""},null,{"$f":"IF(AZ78<>\"\",\" -O\",\"\")","v":""},null,{"$f":"IF(BB78<>\"\",\" -O\",\"\")","v":""},null,{"$f":"IF(BD78<>\"\",\" -O\",\"\")","v":""},null,{"$f":"IF(BF78<>\"\",\" -O\",\"\")","v":""},null,{"$f":"IF(BH78<>\"\",\" -O\",\"\")","v":""},null,{"$f":"IF(BJ78<>\"\",\" -O\",\"\")","v":""}]
[null,null,null,null,null,null,null,null,null,null,null,null,1.35,{"$f":"IFERROR(VLOOKUP(M78,'CRUCE OPORTUNIDADES'!$C$12:$D$111,2,FALSE),\"\")","v":""},2.3500000000000099,{"$f":"IFERROR(VLOOKUP(O78,'CRUCE OPORTUNIDADES'!$C$12:$D$111,2,FALSE),\"\")","v":""},3.3500000000000201,{"$f":"IFERROR(VLOOKUP(Q78,'CRUCE OPORTUNIDADES'!$C$12:$D$111,2,FALSE),\"\")","v":""},4.3500000000000298,{"$f":"IFERROR(VLOOKUP(S78,'CRUCE OPORTUNIDADES'!$C$12:$D$111,2,FALSE),\"\")","v":""},5.3500000000000396,{"$f":"IFERROR(VLOOKUP(U78,'CRUCE OPORTUNIDADES'!$C$12:$D$111,2,FALSE),\"\")","v":""},6.3500000000000503,{"$f":"IFERROR(VLOOKUP(W78,'CRUCE OPORTUNIDADES'!$C$12:$D$111,2,FALSE),\"\")","v":""},7.35000000000006,{"$f":"IFERROR(VLOOKUP(Y78,'CRUCE OPORTUNIDADES'!$C$12:$D$111,2,FALSE),\"\")","v":""},8.3500000000000707,{"$f":"IFERROR(VLOOKUP(AA78,'CRUCE OPORTUNIDADES'!$C$12:$D$111,2,FALSE),\"\")","v":""},9.3500000000000796,{"$f":"IFERROR(VLOOKUP(AC78,'CRUCE OPORTUNIDADES'!$C$12:$D$111,2,FALSE),\"\")","v":""},10.350000000000099,{"$f":"IFERROR(VLOOKUP(AE78,'CRUCE OPORTUNIDADES'!$C$12:$D$111,2,FALSE),\"\")","v":""},11.350000000000099,{"$f":"IFERROR(VLOOKUP(AG78,'CRUCE OPORTUNIDADES'!$C$12:$D$111,2,FALSE),\"\")","v":""},12.350000000000099,{"$f":"IFERROR(VLOOKUP(AI78,'CRUCE OPORTUNIDADES'!$C$12:$D$111,2,FALSE),\"\")","v":""},13.350000000000099,{"$f":"IFERROR(VLOOKUP(AK78,'CRUCE OPORTUNIDADES'!$C$12:$D$111,2,FALSE),\"\")","v":""},14.350000000000099,{"$f":"IFERROR(VLOOKUP(AM78,'CRUCE OPORTUNIDADES'!$C$12:$D$111,2,FALSE),\"\")","v":""},15.350000000000099,{"$f":"IFERROR(VLOOKUP(AO78,'CRUCE OPORTUNIDADES'!$C$12:$D$111,2,FALSE),\"\")","v":""},16.350000000000101,{"$f":"IFERROR(VLOOKUP(AQ78,'CRUCE OPORTUNIDADES'!$C$12:$D$111,2,FALSE),\"\")","v":""},17.3500000000002,{"$f":"IFERROR(VLOOKUP(AS78,'CRUCE OPORTUNIDADES'!$C$12:$D$111,2,FALSE),\"\")","v":""},18.3500000000002,{"$f":"IFERROR(VLOOKUP(AU78,'CRUCE OPORTUNIDADES'!$C$12:$D$111,2,FALSE),\"\")","v":""},19.3500000000002,{"$f":"IFERROR(VLOOKUP(AW78,'CRUCE OPORTUNIDADES'!$C$12:$D$111,2,FALSE),\"\")","v":""},20.3500000000002,{"$f":"IFERROR(VLOOKUP(AY78,'CRUCE OPORTUNIDADES'!$C$12:$D$111,2,FALSE),\"\")","v":""},21.3500000000002,{"$f":"IFERROR(VLOOKUP(BA78,'CRUCE OPORTUNIDADES'!$C$12:$D$111,2,FALSE),\"\")","v":""},22.3500000000002,{"$f":"IFERROR(VLOOKUP(BC78,'CRUCE OPORTUNIDADES'!$C$12:$D$111,2,FALSE),\"\")","v":""},23.3500000000002,{"$f":"IFERROR(VLOOKUP(BE78,'CRUCE OPORTUNIDADES'!$C$12:$D$111,2,FALSE),\"\")","v":""},24.3500000000002,{"$f":"IFERROR(VLOOKUP(BG78,'CRUCE OPORTUNIDADES'!$C$12:$D$111,2,FALSE),\"\")","v":""},25.3500000000002,{"$f":"IFERROR(VLOOKUP(BI78,'CRUCE OPORTUNIDADES'!$C$12:$D$111,2,FALSE),\"\")","v":""}]
[null,null,null,null,null,null,null,null,null,null,null,null,null,{"$f":"IF(N80<>\"\",\" -O\",\"\")","v":""},null,{"$f":"IF(P80<>\"\",\" -O\",\"\")","v":""},null,{"$f":"IF(R80<>\"\",\" -O\",\"\")","v":""},null,{"$f":"IF(T80<>\"\",\" -O\",\"\")","v":""},null,{"$f":"IF(V80<>\"\",\" -O\",\"\")","v":""},null,{"$f":"IF(X80<>\"\",\" -O\",\"\")","v":""},null,{"$f":"IF(Z80<>\"\",\" -O\",\"\")","v":""},null,{"$f":"IF(AB80<>\"\",\" -O\",\"\")","v":""},null,{"$f":"IF(AD80<>\"\",\" -O\",\"\")","v":""},null,{"$f":"IF(AF80<>\"\",\" -O\",\"\")","v":""},null,{"$f":"IF(AH80<>\"\",\" -O\",\"\")","v":""},null,{"$f":"IF(AJ80<>\"\",\" -O\",\"\")","v":""},null,{"$f":"IF(AL80<>\"\",\" -O\",\"\")","v":""},null,{"$f":"IF(AN80<>\"\",\" -O\",\"\")","v":""},null,{"$f":"IF(AP80<>\"\",\" -O\",\"\")","v":""},null,{"$f":"IF(AR80<>\"\",\" -O\",\"\")","v":""},null,{"$f":"IF(AT80<>\"\",\" -O\",\"\")","v":""},null,{"$f":"IF(AV80<>\"\",\" -O\",\"\")","v":""},null,{"$f":"IF(AX80<>\"\",\" -O\",\"\")","v":""},null,{"$f":"IF(AZ80<>\"\",\" -O\",\"\")","v":""},null,{"$f":"IF(BB80<>\"\",\" -O\",\"\")","v":""},null,{"$f":"IF(BD80<>\"\",\" -O\",\"\")","v":""},null,{"$f":"IF(BF80<>\"\",\" -O\",\"\")","v":""},null,{"$f":"IF(BH80<>\"\",\" -O\",\"\")","v":""},null,{"$f":"IF(BJ80<>\"\",\" -O\",\"\")","v":""}]
[null,null,null,null,null,null,null,null,null,null,null,null,1.36,{"$f":"IFERROR(VLOOKUP(M80,'CRUCE OPORTUNIDADES'!$C$12:$D$111,2,FALSE),\"\")","v":""},2.3600000000000101,{"$f":"IFERROR(VLOOKUP(O80,'CRUCE OPORTUNIDADES'!$C$12:$D$111,2,FALSE),\"\")","v":""},3.3600000000000199,{"$f":"IFERROR(VLOOKUP(Q80,'CRUCE OPORTUNIDADES'!$C$12:$D$111,2,FALSE),\"\")","v":""},4.3600000000000296,{"$f":"IFERROR(VLOOKUP(S80,'CRUCE OPORTUNIDADES'!$C$12:$D$111,2,FALSE),\"\")","v":""},5.3600000000000403,{"$f":"IFERROR(VLOOKUP(U80,'CRUCE OPORTUNIDADES'!$C$12:$D$111,2,FALSE),\"\")","v":""},6.3600000000000501,{"$f":"IFERROR(VLOOKUP(W80,'CRUCE OPORTUNIDADES'!$C$12:$D$111,2,FALSE),\"\")","v":""},7.3600000000000598,{"$f":"IFERROR(VLOOKUP(Y80,'CRUCE OPORTUNIDADES'!$C$12:$D$111,2,FALSE),\"\")","v":""},8.3600000000000705,{"$f":"IFERROR(VLOOKUP(AA80,'CRUCE OPORTUNIDADES'!$C$12:$D$111,2,FALSE),\"\")","v":""},9.3600000000000794,{"$f":"IFERROR(VLOOKUP(AC80,'CRUCE OPORTUNIDADES'!$C$12:$D$111,2,FALSE),\"\")","v":""},10.360000000000101,{"$f":"IFERROR(VLOOKUP(AE80,'CRUCE OPORTUNIDADES'!$C$12:$D$111,2,FALSE),\"\")","v":""},11.360000000000101,{"$f":"IFERROR(VLOOKUP(AG80,'CRUCE OPORTUNIDADES'!$C$12:$D$111,2,FALSE),\"\")","v":""},12.360000000000101,{"$f":"IFERROR(VLOOKUP(AI80,'CRUCE OPORTUNIDADES'!$C$12:$D$111,2,FALSE),\"\")","v":""},13.360000000000101,{"$f":"IFERROR(VLOOKUP(AK80,'CRUCE OPORTUNIDADES'!$C$12:$D$111,2,FALSE),\"\")","v":""},14.360000000000101,{"$f":"IFERROR(VLOOKUP(AM80,'CRUCE OPORTUNIDADES'!$C$12:$D$111,2,FALSE),\"\")","v":""},15.360000000000101,{"$f":"IFERROR(VLOOKUP(AO80,'CRUCE OPORTUNIDADES'!$C$12:$D$111,2,FALSE),\"\")","v":""},16.360000000000099,{"$f":"IFERROR(VLOOKUP(AQ80,'CRUCE OPORTUNIDADES'!$C$12:$D$111,2,FALSE),\"\")","v":""},17.360000000000198,{"$f":"IFERROR(VLOOKUP(AS80,'CRUCE OPORTUNIDADES'!$C$12:$D$111,2,FALSE),\"\")","v":""},18.360000000000198,{"$f":"IFERROR(VLOOKUP(AU80,'CRUCE OPORTUNIDADES'!$C$12:$D$111,2,FALSE),\"\")","v":""},19.360000000000198,{"$f":"IFERROR(VLOOKUP(AW80,'CRUCE OPORTUNIDADES'!$C$12:$D$111,2,FALSE),\"\")","v":""},20.360000000000198,{"$f":"IFERROR(VLOOKUP(AY80,'CRUCE OPORTUNIDADES'!$C$12:$D$111,2,FALSE),\"\")","v":""},21.360000000000198,{"$f":"IFERROR(VLOOKUP(BA80,'CRUCE OPORTUNIDADES'!$C$12:$D$111,2,FALSE),\"\")","v":""},22.360000000000198,{"$f":"IFERROR(VLOOKUP(BC80,'CRUCE OPORTUNIDADES'!$C$12:$D$111,2,FALSE),\"\")","v":""},23.360000000000198,{"$f":"IFERROR(VLOOKUP(BE80,'CRUCE OPORTUNIDADES'!$C$12:$D$111,2,FALSE),\"\")","v":""},24.360000000000198,{"$f":"IFERROR(VLOOKUP(BG80,'CRUCE OPORTUNIDADES'!$C$12:$D$111,2,FALSE),\"\")","v":""},25.360000000000198,{"$f":"IFERROR(VLOOKUP(BI80,'CRUCE OPORTUNIDADES'!$C$12:$D$111,2,FALSE),\"\")","v":""}]
[null,null,null,null,null,null,null,null,null,null,null,null,null,{"$f":"IF(N82<>\"\",\" -O\",\"\")","v":""},null,{"$f":"IF(P82<>\"\",\" -O\",\"\")","v":""},null,{"$f":"IF(R82<>\"\",\" -O\",\"\")","v":""},null,{"$f":"IF(T82<>\"\",\" -O\",\"\")","v":""},null,{"$f":"IF(V82<>\"\",\" -O\",\"\")","v":""},null,{"$f":"IF(X82<>\"\",\" -O\",\"\")","v":""},null,{"$f":"IF(Z82<>\"\",\" -O\",\"\")","v":""},null,{"$f":"IF(AB82<>\"\",\" -O\",\"\")","v":""},null,{"$f":"IF(AD82<>\"\",\" -O\",\"\")","v":""},null,{"$f":"IF(AF82<>\"\",\" -O\",\"\")","v":""},null,{"$f":"IF(AH82<>\"\",\" -O\",\"\")","v":""},null,{"$f":"IF(AJ82<>\"\",\" -O\",\"\")","v":""},null,{"$f":"IF(AL82<>\"\",\" -O\",\"\")","v":""},null,{"$f":"IF(AN82<>\"\",\" -O\",\"\")","v":""},null,{"$f":"IF(AP82<>\"\",\" -O\",\"\")","v":""},null,{"$f":"IF(AR82<>\"\",\" -O\",\"\")","v":""},null,{"$f":"IF(AT82<>\"\",\" -O\",\"\")","v":""},null,{"$f":"IF(AV82<>\"\",\" -O\",\"\")","v":""},null,{"$f":"IF(AX82<>\"\",\" -O\",\"\")","v":""},null,{"$f":"IF(AZ82<>\"\",\" -O\",\"\")","v":""},null,{"$f":"IF(BB82<>\"\",\" -O\",\"\")","v":""},null,{"$f":"IF(BD82<>\"\",\" -O\",\"\")","v":""},null,{"$f":"IF(BF82<>\"\",\" -O\",\"\")","v":""},null,{"$f":"IF(BH82<>\"\",\" -O\",\"\")","v":""},null,{"$f":"IF(BJ82<>\"\",\" -O\",\"\")","v":""}]
[null,null,null,null,null,null,null,null,null,null,null,null,1.37,{"$f":"IFERROR(VLOOKUP(M82,'CRUCE OPORTUNIDADES'!$C$12:$D$111,2,FALSE),\"\")","v":""},2.3700000000000099,{"$f":"IFERROR(VLOOKUP(O82,'CRUCE OPORTUNIDADES'!$C$12:$D$111,2,FALSE),\"\")","v":""},3.3700000000000201,{"$f":"IFERROR(VLOOKUP(Q82,'CRUCE OPORTUNIDADES'!$C$12:$D$111,2,FALSE),\"\")","v":""},4.3700000000000303,{"$f":"IFERROR(VLOOKUP(S82,'CRUCE OPORTUNIDADES'!$C$12:$D$111,2,FALSE),\"\")","v":""},5.3700000000000401,{"$f":"IFERROR(VLOOKUP(U82,'CRUCE OPORTUNIDADES'!$C$12:$D$111,2,FALSE),\"\")","v":""},6.3700000000000498,{"$f":"IFERROR(VLOOKUP(W82,'CRUCE OPORTUNIDADES'!$C$12:$D$111,2,FALSE),\"\")","v":""},7.3700000000000596,{"$f":"IFERROR(VLOOKUP(Y82,'CRUCE OPORTUNIDADES'!$C$12:$D$111,2,FALSE),\"\")","v":""},8.3700000000000703,{"$f":"IFERROR(VLOOKUP(AA82,'CRUCE OPORTUNIDADES'!$C$12:$D$111,2,FALSE),\"\")","v":""},9.3700000000000792,{"$f":"IFERROR(VLOOKUP(AC82,'CRUCE OPORTUNIDADES'!$C$12:$D$111,2,FALSE),\"\")","v":""},10.3700000000001,{"$f":"IFERROR(VLOOKUP(AE82,'CRUCE OPORTUNIDADES'!$C$12:$D$111,2,FALSE),\"\")","v":""},11.3700000000001,{"$f":"IFERROR(VLOOKUP(AG82,'CRUCE OPORTUNIDADES'!$C$12:$D$111,2,FALSE),\"\")","v":""},12.3700000000001,{"$f":"IFERROR(VLOOKUP(AI82,'CRUCE OPORTUNIDADES'!$C$12:$D$111,2,FALSE),\"\")","v":""},13.3700000000001,{"$f":"IFERROR(VLOOKUP(AK82,'CRUCE OPORTUNIDADES'!$C$12:$D$111,2,FALSE),\"\")","v":""},14.3700000000001,{"$f":"IFERROR(VLOOKUP(AM82,'CRUCE OPORTUNIDADES'!$C$12:$D$111,2,FALSE),\"\")","v":""},15.3700000000001,{"$f":"IFERROR(VLOOKUP(AO82,'CRUCE OPORTUNIDADES'!$C$12:$D$111,2,FALSE),\"\")","v":""},16.3700000000001,{"$f":"IFERROR(VLOOKUP(AQ82,'CRUCE OPORTUNIDADES'!$C$12:$D$111,2,FALSE),\"\")","v":""},17.3700000000002,{"$f":"IFERROR(VLOOKUP(AS82,'CRUCE OPORTUNIDADES'!$C$12:$D$111,2,FALSE),\"\")","v":""},18.3700000000002,{"$f":"IFERROR(VLOOKUP(AU82,'CRUCE OPORTUNIDADES'!$C$12:$D$111,2,FALSE),\"\")","v":""},19.3700000000002,{"$f":"IFERROR(VLOOKUP(AW82,'CRUCE OPORTUNIDADES'!$C$12:$D$111,2,FALSE),\"\")","v":""},20.3700000000002,{"$f":"IFERROR(VLOOKUP(AY82,'CRUCE OPORTUNIDADES'!$C$12:$D$111,2,FALSE),\"\")","v":""},21.3700000000002,{"$f":"IFERROR(VLOOKUP(BA82,'CRUCE OPORTUNIDADES'!$C$12:$D$111,2,FALSE),\"\")","v":""},22.3700000000002,{"$f":"IFERROR(VLOOKUP(BC82,'CRUCE OPORTUNIDADES'!$C$12:$D$111,2,FALSE),\"\")","v":""},23.3700000000002,{"$f":"IFERROR(VLOOKUP(BE82,'CRUCE OPORTUNIDADES'!$C$12:$D$111,2,FALSE),\"\")","v":""},24.3700000000002,{"$f":"IFERROR(VLOOKUP(BG82,'CRUCE OPORTUNIDADES'!$C$12:$D$111,2,FALSE),\"\")","v":""},25.3700000000002,{"$f":"IFERROR(VLOOKUP(BI82,'CRUCE OPORTUNIDADES'!$C$12:$D$111,2,FALSE),\"\")","v":""}]
[null,null,null,null,null,null,null,null,null,null,null,null,null,{"$f":"IF(N84<>\"\",\" -O\",\"\")","v":""},null,{"$f":"IF(P84<>\"\",\" -O\",\"\")","v":""},null,{"$f":"IF(R84<>\"\",\" -O\",\"\")","v":""},null,{"$f":"IF(T84<>\"\",\" -O\",\"\")","v":""},null,{"$f":"IF(V84<>\"\",\" -O\",\"\")","v":""},null,{"$f":"IF(X84<>\"\",\" -O\",\"\")","v":""},null,{"$f":"IF(Z84<>\"\",\" -O\",\"\")","v":""},null,{"$f":"IF(AB84<>\"\",\" -O\",\"\")","v":""},null,{"$f":"IF(AD84<>\"\",\" -O\",\"\")","v":""},null,{"$f":"IF(AF84<>\"\",\" -O\",\"\")","v":""},null,{"$f":"IF(AH84<>\"\",\" -O\",\"\")","v":""},null,{"$f":"IF(AJ84<>\"\",\" -O\",\"\")","v":""},null,{"$f":"IF(AL84<>\"\",\" -O\",\"\")","v":""},null,{"$f":"IF(AN84<>\"\",\" -O\",\"\")","v":""},null,{"$f":"IF(AP84<>\"\",\" -O\",\"\")","v":""},null,{"$f":"IF(AR84<>\"\",\" -O\",\"\")","v":""},null,{"$f":"IF(AT84<>\"\",\" -O\",\"\")","v":""},null,{"$f":"IF(AV84<>\"\",\" -O\",\"\")","v":""},null,{"$f":"IF(AX84<>\"\",\" -O\",\"\")","v":""},null,{"$f":"IF(AZ84<>\"\",\" -O\",\"\")","v":""},null,{"$f":"IF(BB84<>\"\",\" -O\",\"\")","v":""},null,{"$f":"IF(BD84<>\"\",\" -O\",\"\")","v":""},null,{"$f":"IF(BF84<>\"\",\" -O\",\"\")","v":""},null,{"$f":"IF(BH84<>\"\",\" -O\",\"\")","v":""},null,{"$f":"IF(BJ84<>\"\",\" -O\",\"\")","v":""}]
[null,null,null,null,null,null,null,null,null,null,null,null,1.38,{"$f":"IFERROR(VLOOKUP(M84,'CRUCE OPORTUNIDADES'!$C$12:$D$111,2,FALSE),\"\")","v":""},2.3800000000000101,{"$f":"IFERROR(VLOOKUP(O84,'CRUCE OPORTUNIDADES'!$C$12:$D$111,2,FALSE),\"\")","v":""},3.3800000000000199,{"$f":"IFERROR(VLOOKUP(Q84,'CRUCE OPORTUNIDADES'!$C$12:$D$111,2,FALSE),\"\")","v":""},4.3800000000000301,{"$f":"IFERROR(VLOOKUP(S84,'CRUCE OPORTUNIDADES'!$C$12:$D$111,2,FALSE),\"\")","v":""},5.3800000000000399,{"$f":"IFERROR(VLOOKUP(U84,'CRUCE OPORTUNIDADES'!$C$12:$D$111,2,FALSE),\"\")","v":""},6.3800000000000496,{"$f":"IFERROR(VLOOKUP(W84,'CRUCE OPORTUNIDADES'!$C$12:$D$111,2,FALSE),\"\")","v":""},7.3800000000000603,{"$f":"IFERROR(VLOOKUP(Y84,'CRUCE OPORTUNIDADES'!$C$12:$D$111,2,FALSE),\"\")","v":""},8.3800000000000701,{"$f":"IFERROR(VLOOKUP(AA84,'CRUCE OPORTUNIDADES'!$C$12:$D$111,2,FALSE),\"\")","v":""},9.3800000000000807,{"$f":"IFERROR(VLOOKUP(AC84,'CRUCE OPORTUNIDADES'!$C$12:$D$111,2,FALSE),\"\")","v":""},10.3800000000001,{"$f":"IFERROR(VLOOKUP(AE84,'CRUCE OPORTUNIDADES'!$C$12:$D$111,2,FALSE),\"\")","v":""},11.3800000000001,{"$f":"IFERROR(VLOOKUP(AG84,'CRUCE OPORTUNIDADES'!$C$12:$D$111,2,FALSE),\"\")","v":""},12.3800000000001,{"$f":"IFERROR(VLOOKUP(AI84,'CRUCE OPORTUNIDADES'!$C$12:$D$111,2,FALSE),\"\")","v":""},13.3800000000001,{"$f":"IFERROR(VLOOKUP(AK84,'CRUCE OPORTUNIDADES'!$C$12:$D$111,2,FALSE),\"\")","v":""},14.3800000000001,{"$f":"IFERROR(VLOOKUP(AM84,'CRUCE OPORTUNIDADES'!$C$12:$D$111,2,FALSE),\"\")","v":""},15.3800000000001,{"$f":"IFERROR(VLOOKUP(AO84,'CRUCE OPORTUNIDADES'!$C$12:$D$111,2,FALSE),\"\")","v":""},16.380000000000202,{"$f":"IFERROR(VLOOKUP(AQ84,'CRUCE OPORTUNIDADES'!$C$12:$D$111,2,FALSE),\"\")","v":""},17.380000000000202,{"$f":"IFERROR(VLOOKUP(AS84,'CRUCE OPORTUNIDADES'!$C$12:$D$111,2,FALSE),\"\")","v":""},18.380000000000202,{"$f":"IFERROR(VLOOKUP(AU84,'CRUCE OPORTUNIDADES'!$C$12:$D$111,2,FALSE),\"\")","v":""},19.380000000000202,{"$f":"IFERROR(VLOOKUP(AW84,'CRUCE OPORTUNIDADES'!$C$12:$D$111,2,FALSE),\"\")","v":""},20.380000000000202,{"$f":"IFERROR(VLOOKUP(AY84,'CRUCE OPORTUNIDADES'!$C$12:$D$111,2,FALSE),\"\")","v":""},21.380000000000202,{"$f":"IFERROR(VLOOKUP(BA84,'CRUCE OPORTUNIDADES'!$C$12:$D$111,2,FALSE),\"\")","v":""},22.380000000000202,{"$f":"IFERROR(VLOOKUP(BC84,'CRUCE OPORTUNIDADES'!$C$12:$D$111,2,FALSE),\"\")","v":""},23.380000000000202,{"$f":"IFERROR(VLOOKUP(BE84,'CRUCE OPORTUNIDADES'!$C$12:$D$111,2,FALSE),\"\")","v":""},24.380000000000202,{"$f":"IFERROR(VLOOKUP(BG84,'CRUCE OPORTUNIDADES'!$C$12:$D$111,2,FALSE),\"\")","v":""},25.380000000000202,{"$f":"IFERROR(VLOOKUP(BI84,'CRUCE OPORTUNIDADES'!$C$12:$D$111,2,FALSE),\"\")","v":""}]
[null,null,null,null,null,null,null,null,null,null,null,null,null,{"$f":"IF(N86<>\"\",\" -O\",\"\")","v":""},null,{"$f":"IF(P86<>\"\",\" -O\",\"\")","v":""},null,{"$f":"IF(R86<>\"\",\" -O\",\"\")","v":""},null,{"$f":"IF(T86<>\"\",\" -O\",\"\")","v":""},null,{"$f":"IF(V86<>\"\",\" -O\",\"\")","v":""},null,{"$f":"IF(X86<>\"\",\" -O\",\"\")","v":""},null,{"$f":"IF(Z86<>\"\",\" -O\",\"\")","v":""},null,{"$f":"IF(AB86<>\"\",\" -O\",\"\")","v":""},null,{"$f":"IF(AD86<>\"\",\" -O\",\"\")","v":""},null,{"$f":"IF(AF86<>\"\",\" -O\",\"\")","v":""},null,{"$f":"IF(AH86<>\"\",\" -O\",\"\")","v":""},null,{"$f":"IF(AJ86<>\"\",\" -O\",\"\")","v":""},null,{"$f":"IF(AL86<>\"\",\" -O\",\"\")","v":""},null,{"$f":"IF(AN86<>\"\",\" -O\",\"\")","v":""},null,{"$f":"IF(AP86<>\"\",\" -O\",\"\")","v":""},null,{"$f":"IF(AR86<>\"\",\" -O\",\"\")","v":""},null,{"$f":"IF(AT86<>\"\",\" -O\",\"\")","v":""},null,{"$f":"IF(AV86<>\"\",\" -O\",\"\")","v":""},null,{"$f":"IF(AX86<>\"\",\" -O\",\"\")","v":""},null,{"$f":"IF(AZ86<>\"\",\" -O\",\"\")","v":""},null,{"$f":"IF(BB86<>\"\",\" -O\",\"\")","v":""},null,{"$f":"IF(BD86<>\"\",\" -O\",\"\")","v":""},null,{"$f":"IF(BF86<>\"\",\" -O\",\"\")","v":""},null,{"$f":"IF(BH86<>\"\",\" -O\",\"\")","v":""},null,{"$f":"IF(BJ86<>\"\",\" -O\",\"\")","v":""}]
[null,null,null,null,null,null,null,null,null,null,null,null,1.39,{"$f":"IFERROR(VLOOKUP(M86,'CRUCE OPORTUNIDADES'!$C$12:$D$111,2,FALSE),\"\")","v":""},2.3900000000000099,{"$f":"IFERROR(VLOOKUP(O86,'CRUCE OPORTUNIDADES'!$C$12:$D$111,2,FALSE),\"\")","v":""},3.3900000000000201,{"$f":"IFERROR(VLOOKUP(Q86,'CRUCE OPORTUNIDADES'!$C$12:$D$111,2,FALSE),\"\")","v":""},4.3900000000000299,{"$f":"IFERROR(VLOOKUP(S86,'CRUCE OPORTUNIDADES'!$C$12:$D$111,2,FALSE),\"\")","v":""},5.3900000000000396,{"$f":"IFERROR(VLOOKUP(U86,'CRUCE OPORTUNIDADES'!$C$12:$D$111,2,FALSE),\"\")","v":""},6.3900000000000503,{"$f":"IFERROR(VLOOKUP(W86,'CRUCE OPORTUNIDADES'!$C$12:$D$111,2,FALSE),\"\")","v":""},7.3900000000000601,{"$f":"IFERROR(VLOOKUP(Y86,'CRUCE OPORTUNIDADES'!$C$12:$D$111,2,FALSE),\"\")","v":""},8.3900000000000698,{"$f":"IFERROR(VLOOKUP(AA86,'CRUCE OPORTUNIDADES'!$C$12:$D$111,2,FALSE),\"\")","v":""},9.3900000000000805,{"$f":"IFERROR(VLOOKUP(AC86,'CRUCE OPORTUNIDADES'!$C$12:$D$111,2,FALSE),\"\")","v":""},10.3900000000001,{"$f":"IFERROR(VLOOKUP(AE86,'CRUCE OPORTUNIDADES'!$C$12:$D$111,2,FALSE),\"\")","v":""},11.3900000000001,{"$f":"IFERROR(VLOOKUP(AG86,'CRUCE OPORTUNIDADES'!$C$12:$D$111,2,FALSE),\"\")","v":""},12.3900000000001,{"$f":"IFERROR(VLOOKUP(AI86,'CRUCE OPORTUNIDADES'!$C$12:$D$111,2,FALSE),\"\")","v":""},13.3900000000001,{"$f":"IFERROR(VLOOKUP(AK86,'CRUCE OPORTUNIDADES'!$C$12:$D$111,2,FALSE),\"\")","v":""},14.3900000000001,{"$f":"IFERROR(VLOOKUP(AM86,'CRUCE OPORTUNIDADES'!$C$12:$D$111,2,FALSE),\"\")","v":""},15.3900000000001,{"$f":"IFERROR(VLOOKUP(AO86,'CRUCE OPORTUNIDADES'!$C$12:$D$111,2,FALSE),\"\")","v":""},16.3900000000001,{"$f":"IFERROR(VLOOKUP(AQ86,'CRUCE OPORTUNIDADES'!$C$12:$D$111,2,FALSE),\"\")","v":""},17.3900000000002,{"$f":"IFERROR(VLOOKUP(AS86,'CRUCE OPORTUNIDADES'!$C$12:$D$111,2,FALSE),\"\")","v":""},18.3900000000002,{"$f":"IFERROR(VLOOKUP(AU86,'CRUCE OPORTUNIDADES'!$C$12:$D$111,2,FALSE),\"\")","v":""},19.3900000000002,{"$f":"IFERROR(VLOOKUP(AW86,'CRUCE OPORTUNIDADES'!$C$12:$D$111,2,FALSE),\"\")","v":""},20.3900000000002,{"$f":"IFERROR(VLOOKUP(AY86,'CRUCE OPORTUNIDADES'!$C$12:$D$111,2,FALSE),\"\")","v":""},21.3900000000002,{"$f":"IFERROR(VLOOKUP(BA86,'CRUCE OPORTUNIDADES'!$C$12:$D$111,2,FALSE),\"\")","v":""},22.3900000000002,{"$f":"IFERROR(VLOOKUP(BC86,'CRUCE OPORTUNIDADES'!$C$12:$D$111,2,FALSE),\"\")","v":""},23.3900000000002,{"$f":"IFERROR(VLOOKUP(BE86,'CRUCE OPORTUNIDADES'!$C$12:$D$111,2,FALSE),\"\")","v":""},24.3900000000002,{"$f":"IFERROR(VLOOKUP(BG86,'CRUCE OPORTUNIDADES'!$C$12:$D$111,2,FALSE),\"\")","v":""},25.3900000000002,{"$f":"IFERROR(VLOOKUP(BI86,'CRUCE OPORTUNIDADES'!$C$12:$D$111,2,FALSE),\"\")","v":""}]
[null,null,null,null,null,null,null,null,null,null,null,null,null,{"$f":"IF(N88<>\"\",\" -O\",\"\")","v":""},null,{"$f":"IF(P88<>\"\",\" -O\",\"\")","v":""},null,{"$f":"IF(R88<>\"\",\" -O\",\"\")","v":""},null,{"$f":"IF(T88<>\"\",\" -O\",\"\")","v":""},null,{"$f":"IF(V88<>\"\",\" -O\",\"\")","v":""},null,{"$f":"IF(X88<>\"\",\" -O\",\"\")","v":""},null,{"$f":"IF(Z88<>\"\",\" -O\",\"\")","v":""},null,{"$f":"IF(AB88<>\"\",\" -O\",\"\")","v":""},null,{"$f":"IF(AD88<>\"\",\" -O\",\"\")","v":""},null,{"$f":"IF(AF88<>\"\",\" -O\",\"\")","v":""},null,{"$f":"IF(AH88<>\"\",\" -O\",\"\")","v":""},null,{"$f":"IF(AJ88<>\"\",\" -O\",\"\")","v":""},null,{"$f":"IF(AL88<>\"\",\" -O\",\"\")","v":""},null,{"$f":"IF(AN88<>\"\",\" -O\",\"\")","v":""},null,{"$f":"IF(AP88<>\"\",\" -O\",\"\")","v":""},null,{"$f":"IF(AR88<>\"\",\" -O\",\"\")","v":""},null,{"$f":"IF(AT88<>\"\",\" -O\",\"\")","v":""},null,{"$f":"IF(AV88<>\"\",\" -O\",\"\")","v":""},null,{"$f":"IF(AX88<>\"\",\" -O\",\"\")","v":""},null,{"$f":"IF(AZ88<>\"\",\" -O\",\"\")","v":""},null,{"$f":"IF(BB88<>\"\",\" -O\",\"\")","v":""},null,{"$f":"IF(BD88<>\"\",\" -O\",\"\")","v":""},null,{"$f":"IF(BF88<>\"\",\" -O\",\"\")","v":""},null,{"$f":"IF(BH88<>\"\",\" -O\",\"\")","v":""},null,{"$f":"IF(BJ88<>\"\",\" -O\",\"\")","v":""}]
[null,null,null,null,null,null,null,null,null,null,null,null,1.4,{"$f":"IFERROR(VLOOKUP(M88,'CRUCE OPORTUNIDADES'!$C$12:$D$111,2,FALSE),\"\")","v":""},2.4000000000000101,{"$f":"IFERROR(VLOOKUP(O88,'CRUCE OPORTUNIDADES'!$C$12:$D$111,2,FALSE),\"\")","v":""},3.4000000000000199,{"$f":"IFERROR(VLOOKUP(Q88,'CRUCE OPORTUNIDADES'!$C$12:$D$111,2,FALSE),\"\")","v":""},4.4000000000000297,{"$f":"IFERROR(VLOOKUP(S88,'CRUCE OPORTUNIDADES'!$C$12:$D$111,2,FALSE),\"\")","v":""},5.4000000000000403,{"$f":"IFERROR(VLOOKUP(U88,'CRUCE OPORTUNIDADES'!$C$12:$D$111,2,FALSE),\"\")","v":""},6.4000000000000501,{"$f":"IFERROR(VLOOKUP(W88,'CRUCE OPORTUNIDADES'!$C$12:$D$111,2,FALSE),\"\")","v":""},7.4000000000000599,{"$f":"IFERROR(VLOOKUP(Y88,'CRUCE OPORTUNIDADES'!$C$12:$D$111,2,FALSE),\"\")","v":""},8.4000000000000696,{"$f":"IFERROR(VLOOKUP(AA88,'CRUCE OPORTUNIDADES'!$C$12:$D$111,2,FALSE),\"\")","v":""},9.4000000000000803,{"$f":"IFERROR(VLOOKUP(AC88,'CRUCE OPORTUNIDADES'!$C$12:$D$111,2,FALSE),\"\")","v":""},10.4000000000001,{"$f":"IFERROR(VLOOKUP(AE88,'CRUCE OPORTUNIDADES'!$C$12:$D$111,2,FALSE),\"\")","v":""},11.4000000000001,{"$f":"IFERROR(VLOOKUP(AG88,'CRUCE OPORTUNIDADES'!$C$12:$D$111,2,FALSE),\"\")","v":""},12.4000000000001,{"$f":"IFERROR(VLOOKUP(AI88,'CRUCE OPORTUNIDADES'!$C$12:$D$111,2,FALSE),\"\")","v":""},13.4000000000001,{"$f":"IFERROR(VLOOKUP(AK88,'CRUCE OPORTUNIDADES'!$C$12:$D$111,2,FALSE),\"\")","v":""},14.4000000000001,{"$f":"IFERROR(VLOOKUP(AM88,'CRUCE OPORTUNIDADES'!$C$12:$D$111,2,FALSE),\"\")","v":""},15.4000000000001,{"$f":"IFERROR(VLOOKUP(AO88,'CRUCE OPORTUNIDADES'!$C$12:$D$111,2,FALSE),\"\")","v":""},16.400000000000201,{"$f":"IFERROR(VLOOKUP(AQ88,'CRUCE OPORTUNIDADES'!$C$12:$D$111,2,FALSE),\"\")","v":""},17.400000000000201,{"$f":"IFERROR(VLOOKUP(AS88,'CRUCE OPORTUNIDADES'!$C$12:$D$111,2,FALSE),\"\")","v":""},18.400000000000201,{"$f":"IFERROR(VLOOKUP(AU88,'CRUCE OPORTUNIDADES'!$C$12:$D$111,2,FALSE),\"\")","v":""},19.400000000000201,{"$f":"IFERROR(VLOOKUP(AW88,'CRUCE OPORTUNIDADES'!$C$12:$D$111,2,FALSE),\"\")","v":""},20.400000000000201,{"$f":"IFERROR(VLOOKUP(AY88,'CRUCE OPORTUNIDADES'!$C$12:$D$111,2,FALSE),\"\")","v":""},21.400000000000201,{"$f":"IFERROR(VLOOKUP(BA88,'CRUCE OPORTUNIDADES'!$C$12:$D$111,2,FALSE),\"\")","v":""},22.400000000000201,{"$f":"IFERROR(VLOOKUP(BC88,'CRUCE OPORTUNIDADES'!$C$12:$D$111,2,FALSE),\"\")","v":""},23.400000000000201,{"$f":"IFERROR(VLOOKUP(BE88,'CRUCE OPORTUNIDADES'!$C$12:$D$111,2,FALSE),\"\")","v":""},24.400000000000201,{"$f":"IFERROR(VLOOKUP(BG88,'CRUCE OPORTUNIDADES'!$C$12:$D$111,2,FALSE),\"\")","v":""},25.400000000000201,{"$f":"IFERROR(VLOOKUP(BI88,'CRUCE OPORTUNIDADES'!$C$12:$D$111,2,FALSE),\"\")","v":""}]
[null,null,null,null,null,null,null,null,null,null,null,null,null,{"$f":"IF(N90<>\"\",\" -O\",\"\")","v":""},null,{"$f":"IF(P90<>\"\",\" -O\",\"\")","v":""},null,{"$f":"IF(R90<>\"\",\" -O\",\"\")","v":""},null,{"$f":"IF(T90<>\"\",\" -O\",\"\")","v":""},null,{"$f":"IF(V90<>\"\",\" -O\",\"\")","v":""},null,{"$f":"IF(X90<>\"\",\" -O\",\"\")","v":""},null,{"$f":"IF(Z90<>\"\",\" -O\",\"\")","v":""},null,{"$f":"IF(AB90<>\"\",\" -O\",\"\")","v":""},null,{"$f":"IF(AD90<>\"\",\" -O\",\"\")","v":""},null,{"$f":"IF(AF90<>\"\",\" -O\",\"\")","v":""},null,{"$f":"IF(AH90<>\"\",\" -O\",\"\")","v":""},null,{"$f":"IF(AJ90<>\"\",\" -O\",\"\")","v":""},null,{"$f":"IF(AL90<>\"\",\" -O\",\"\")","v":""},null,{"$f":"IF(AN90<>\"\",\" -O\",\"\")","v":""},null,{"$f":"IF(AP90<>\"\",\" -O\",\"\")","v":""},null,{"$f":"IF(AR90<>\"\",\" -O\",\"\")","v":""},null,{"$f":"IF(AT90<>\"\",\" -O\",\"\")","v":""},null,{"$f":"IF(AV90<>\"\",\" -O\",\"\")","v":""},null,{"$f":"IF(AX90<>\"\",\" -O\",\"\")","v":""},null,{"$f":"IF(AZ90<>\"\",\" -O\",\"\")","v":""},null,{"$f":"IF(BB90<>\"\",\" -O\",\"\")","v":""},null,{"$f":"IF(BD90<>\"\",\" -O\",\"\")","v":""},null,{"$f":"IF(BF90<>\"\",\" -O\",\"\")","v":""},null,{"$f":"IF(BH90<>\"\",\" -O\",\"\")","v":""},null,{"$f":"IF(BJ90<>\"\",\" -O\",\"\")","v":""}]
[null,null,null,null,null,null,null,null,null,null,null,null,1.41,{"$f":"IFERROR(VLOOKUP(M90,'CRUCE OPORTUNIDADES'!$C$12:$D$111,2,FALSE),\"\")","v":""},2.4100000000000099,{"$f":"IFERROR(VLOOKUP(O90,'CRUCE OPORTUNIDADES'!$C$12:$D$111,2,FALSE),\"\")","v":""},3.4100000000000201,{"$f":"IFERROR(VLOOKUP(Q90,'CRUCE OPORTUNIDADES'!$C$12:$D$111,2,FALSE),\"\")","v":""},4.4100000000000303,{"$f":"IFERROR(VLOOKUP(S90,'CRUCE OPORTUNIDADES'!$C$12:$D$111,2,FALSE),\"\")","v":""},5.4100000000000401,{"$f":"IFERROR(VLOOKUP(U90,'CRUCE OPORTUNIDADES'!$C$12:$D$111,2,FALSE),\"\")","v":""},6.4100000000000499,{"$f":"IFERROR(VLOOKUP(W90,'CRUCE OPORTUNIDADES'!$C$12:$D$111,2,FALSE),\"\")","v":""},7.4100000000000597,{"$f":"IFERROR(VLOOKUP(Y90,'CRUCE OPORTUNIDADES'!$C$12:$D$111,2,FALSE),\"\")","v":""},8.4100000000000694,{"$f":"IFERROR(VLOOKUP(AA90,'CRUCE OPORTUNIDADES'!$C$12:$D$111,2,FALSE),\"\")","v":""},9.4100000000000801,{"$f":"IFERROR(VLOOKUP(AC90,'CRUCE OPORTUNIDADES'!$C$12:$D$111,2,FALSE),\"\")","v":""},10.4100000000001,{"$f":"IFERROR(VLOOKUP(AE90,'CRUCE OPORTUNIDADES'!$C$12:$D$111,2,FALSE),\"\")","v":""},11.4100000000001,{"$f":"IFERROR(VLOOKUP(AG90,'CRUCE OPORTUNIDADES'!$C$12:$D$111,2,FALSE),\"\")","v":""},12.4100000000001,{"$f":"IFERROR(VLOOKUP(AI90,'CRUCE OPORTUNIDADES'!$C$12:$D$111,2,FALSE),\"\")","v":""},13.4100000000001,{"$f":"IFERROR(VLOOKUP(AK90,'CRUCE OPORTUNIDADES'!$C$12:$D$111,2,FALSE),\"\")","v":""},14.4100000000001,{"$f":"IFERROR(VLOOKUP(AM90,'CRUCE OPORTUNIDADES'!$C$12:$D$111,2,FALSE),\"\")","v":""},15.4100000000001,{"$f":"IFERROR(VLOOKUP(AO90,'CRUCE OPORTUNIDADES'!$C$12:$D$111,2,FALSE),\"\")","v":""},16.4100000000001,{"$f":"IFERROR(VLOOKUP(AQ90,'CRUCE OPORTUNIDADES'!$C$12:$D$111,2,FALSE),\"\")","v":""},17.410000000000199,{"$f":"IFERROR(VLOOKUP(AS90,'CRUCE OPORTUNIDADES'!$C$12:$D$111,2,FALSE),\"\")","v":""},18.410000000000199,{"$f":"IFERROR(VLOOKUP(AU90,'CRUCE OPORTUNIDADES'!$C$12:$D$111,2,FALSE),\"\")","v":""},19.410000000000199,{"$f":"IFERROR(VLOOKUP(AW90,'CRUCE OPORTUNIDADES'!$C$12:$D$111,2,FALSE),\"\")","v":""},20.410000000000199,{"$f":"IFERROR(VLOOKUP(AY90,'CRUCE OPORTUNIDADES'!$C$12:$D$111,2,FALSE),\"\")","v":""},21.410000000000199,{"$f":"IFERROR(VLOOKUP(BA90,'CRUCE OPORTUNIDADES'!$C$12:$D$111,2,FALSE),\"\")","v":""},22.410000000000199,{"$f":"IFERROR(VLOOKUP(BC90,'CRUCE OPORTUNIDADES'!$C$12:$D$111,2,FALSE),\"\")","v":""},23.410000000000199,{"$f":"IFERROR(VLOOKUP(BE90,'CRUCE OPORTUNIDADES'!$C$12:$D$111,2,FALSE),\"\")","v":""},24.410000000000199,{"$f":"IFERROR(VLOOKUP(BG90,'CRUCE OPORTUNIDADES'!$C$12:$D$111,2,FALSE),\"\")","v":""},25.410000000000199,{"$f":"IFERROR(VLOOKUP(BI90,'CRUCE OPORTUNIDADES'!$C$12:$D$111,2,FALSE),\"\")","v":""}]
[null,null,null,null,null,null,null,null,null,null,null,null,null,{"$f":"IF(N92<>\"\",\" -O\",\"\")","v":""},null,{"$f":"IF(P92<>\"\",\" -O\",\"\")","v":""},null,{"$f":"IF(R92<>\"\",\" -O\",\"\")","v":""},null,{"$f":"IF(T92<>\"\",\" -O\",\"\")","v":""},null,{"$f":"IF(V92<>\"\",\" -O\",\"\")","v":""},null,{"$f":"IF(X92<>\"\",\" -O\",\"\")","v":""},null,{"$f":"IF(Z92<>\"\",\" -O\",\"\")","v":""},null,{"$f":"IF(AB92<>\"\",\" -O\",\"\")","v":""},null,{"$f":"IF(AD92<>\"\",\" -O\",\"\")","v":""},null,{"$f":"IF(AF92<>\"\",\" -O\",\"\")","v":""},null,{"$f":"IF(AH92<>\"\",\" -O\",\"\")","v":""},null,{"$f":"IF(AJ92<>\"\",\" -O\",\"\")","v":""},null,{"$f":"IF(AL92<>\"\",\" -O\",\"\")","v":""},null,{"$f":"IF(AN92<>\"\",\" -O\",\"\")","v":""},null,{"$f":"IF(AP92<>\"\",\" -O\",\"\")","v":""},null,{"$f":"IF(AR92<>\"\",\" -O\",\"\")","v":""},null,{"$f":"IF(AT92<>\"\",\" -O\",\"\")","v":""},null,{"$f":"IF(AV92<>\"\",\" -O\",\"\")","v":""},null,{"$f":"IF(AX92<>\"\",\" -O\",\"\")","v":""},null,{"$f":"IF(AZ92<>\"\",\" -O\",\"\")","v":""},null,{"$f":"IF(BB92<>\"\",\" -O\",\"\")","v":""},null,{"$f":"IF(BD92<>\"\",\" -O\",\"\")","v":""},null,{"$f":"IF(BF92<>\"\",\" -O\",\"\")","v":""},null,{"$f":"IF(BH92<>\"\",\" -O\",\"\")","v":""},null,{"$f":"IF(BJ92<>\"\",\" -O\",\"\")","v":""}]
[null,null,null,null,null,null,null,null,null,null,null,null,1.42,{"$f":"IFERROR(VLOOKUP(M92,'CRUCE OPORTUNIDADES'!$C$12:$D$111,2,FALSE),\"\")","v":""},2.4200000000000101,{"$f":"IFERROR(VLOOKUP(O92,'CRUCE OPORTUNIDADES'!$C$12:$D$111,2,FALSE),\"\")","v":""},3.4200000000000199,{"$f":"IFERROR(VLOOKUP(Q92,'CRUCE OPORTUNIDADES'!$C$12:$D$111,2,FALSE),\"\")","v":""},4.4200000000000301,{"$f":"IFERROR(VLOOKUP(S92,'CRUCE OPORTUNIDADES'!$C$12:$D$111,2,FALSE),\"\")","v":""},5.4200000000000399,{"$f":"IFERROR(VLOOKUP(U92,'CRUCE OPORTUNIDADES'!$C$12:$D$111,2,FALSE),\"\")","v":""},6.4200000000000497,{"$f":"IFERROR(VLOOKUP(W92,'CRUCE OPORTUNIDADES'!$C$12:$D$111,2,FALSE),\"\")","v":""},7.4200000000000603,{"$f":"IFERROR(VLOOKUP(Y92,'CRUCE OPORTUNIDADES'!$C$12:$D$111,2,FALSE),\"\")","v":""},8.4200000000000692,{"$f":"IFERROR(VLOOKUP(AA92,'CRUCE OPORTUNIDADES'!$C$12:$D$111,2,FALSE),\"\")","v":""},9.4200000000000799,{"$f":"IFERROR(VLOOKUP(AC92,'CRUCE OPORTUNIDADES'!$C$12:$D$111,2,FALSE),\"\")","v":""},10.420000000000099,{"$f":"IFERROR(VLOOKUP(AE92,'CRUCE OPORTUNIDADES'!$C$12:$D$111,2,FALSE),\"\")","v":""},11.420000000000099,{"$f":"IFERROR(VLOOKUP(AG92,'CRUCE OPORTUNIDADES'!$C$12:$D$111,2,FALSE),\"\")","v":""},12.420000000000099,{"$f":"IFERROR(VLOOKUP(AI92,'CRUCE OPORTUNIDADES'!$C$12:$D$111,2,FALSE),\"\")","v":""},13.420000000000099,{"$f":"IFERROR(VLOOKUP(AK92,'CRUCE OPORTUNIDADES'!$C$12:$D$111,2,FALSE),\"\")","v":""},14.420000000000099,{"$f":"IFERROR(VLOOKUP(AM92,'CRUCE OPORTUNIDADES'!$C$12:$D$111,2,FALSE),\"\")","v":""},15.420000000000099,{"$f":"IFERROR(VLOOKUP(AO92,'CRUCE OPORTUNIDADES'!$C$12:$D$111,2,FALSE),\"\")","v":""},16.420000000000201,{"$f":"IFERROR(VLOOKUP(AQ92,'CRUCE OPORTUNIDADES'!$C$12:$D$111,2,FALSE),\"\")","v":""},17.420000000000201,{"$f":"IFERROR(VLOOKUP(AS92,'CRUCE OPORTUNIDADES'!$C$12:$D$111,2,FALSE),\"\")","v":""},18.420000000000201,{"$f":"IFERROR(VLOOKUP(AU92,'CRUCE OPORTUNIDADES'!$C$12:$D$111,2,FALSE),\"\")","v":""},19.420000000000201,{"$f":"IFERROR(VLOOKUP(AW92,'CRUCE OPORTUNIDADES'!$C$12:$D$111,2,FALSE),\"\")","v":""},20.420000000000201,{"$f":"IFERROR(VLOOKUP(AY92,'CRUCE OPORTUNIDADES'!$C$12:$D$111,2,FALSE),\"\")","v":""},21.420000000000201,{"$f":"IFERROR(VLOOKUP(BA92,'CRUCE OPORTUNIDADES'!$C$12:$D$111,2,FALSE),\"\")","v":""},22.420000000000201,{"$f":"IFERROR(VLOOKUP(BC92,'CRUCE OPORTUNIDADES'!$C$12:$D$111,2,FALSE),\"\")","v":""},23.420000000000201,{"$f":"IFERROR(VLOOKUP(BE92,'CRUCE OPORTUNIDADES'!$C$12:$D$111,2,FALSE),\"\")","v":""},24.420000000000201,{"$f":"IFERROR(VLOOKUP(BG92,'CRUCE OPORTUNIDADES'!$C$12:$D$111,2,FALSE),\"\")","v":""},25.420000000000201,{"$f":"IFERROR(VLOOKUP(BI92,'CRUCE OPORTUNIDADES'!$C$12:$D$111,2,FALSE),\"\")","v":""}]
[null,null,null,null,null,null,null,null,null,null,null,null,null,{"$f":"IF(N94<>\"\",\" -O\",\"\")","v":""},null,{"$f":"IF(P94<>\"\",\" -O\",\"\")","v":""},null,{"$f":"IF(R94<>\"\",\" -O\",\"\")","v":""},null,{"$f":"IF(T94<>\"\",\" -O\",\"\")","v":""},null,{"$f":"IF(V94<>\"\",\" -O\",\"\")","v":""},null,{"$f":"IF(X94<>\"\",\" -O\",\"\")","v":""},null,{"$f":"IF(Z94<>\"\",\" -O\",\"\")","v":""},null,{"$f":"IF(AB94<>\"\",\" -O\",\"\")","v":""},null,{"$f":"IF(AD94<>\"\",\" -O\",\"\")","v":""},null,{"$f":"IF(AF94<>\"\",\" -O\",\"\")","v":""},null,{"$f":"IF(AH94<>\"\",\" -O\",\"\")","v":""},null,{"$f":"IF(AJ94<>\"\",\" -O\",\"\")","v":""},null,{"$f":"IF(AL94<>\"\",\" -O\",\"\")","v":""},null,{"$f":"IF(AN94<>\"\",\" -O\",\"\")","v":""},null,{"$f":"IF(AP94<>\"\",\" -O\",\"\")","v":""},null,{"$f":"IF(AR94<>\"\",\" -O\",\"\")","v":""},null,{"$f":"IF(AT94<>\"\",\" -O\",\"\")","v":""},null,{"$f":"IF(AV94<>\"\",\" -O\",\"\")","v":""},null,{"$f":"IF(AX94<>\"\",\" -O\",\"\")","v":""},null,{"$f":"IF(AZ94<>\"\",\" -O\",\"\")","v":""},null,{"$f":"IF(BB94<>\"\",\" -O\",\"\")","v":""},null,{"$f":"IF(BD94<>\"\",\" -O\",\"\")","v":""},null,{"$f":"IF(BF94<>\"\",\" -O\",\"\")","v":""},null,{"$f":"IF(BH94<>\"\",\" -O\",\"\")","v":""},null,{"$f":"IF(BJ94<>\"\",\" -O\",\"\")","v":""}]
[null,null,null,null,null,null,null,null,null,null,null,null,1.43,{"$f":"IFERROR(VLOOKUP(M94,'CRUCE OPORTUNIDADES'!$C$12:$D$111,2,FALSE),\"\")","v":""},2.4300000000000099,{"$f":"IFERROR(VLOOKUP(O94,'CRUCE OPORTUNIDADES'!$C$12:$D$111,2,FALSE),\"\")","v":""},3.4300000000000201,{"$f":"IFERROR(VLOOKUP(Q94,'CRUCE OPORTUNIDADES'!$C$12:$D$111,2,FALSE),\"\")","v":""},4.4300000000000299,{"$f":"IFERROR(VLOOKUP(S94,'CRUCE OPORTUNIDADES'!$C$12:$D$111,2,FALSE),\"\")","v":""},5.4300000000000397,{"$f":"IFERROR(VLOOKUP(U94,'CRUCE OPORTUNIDADES'!$C$12:$D$111,2,FALSE),\"\")","v":""},6.4300000000000503,{"$f":"IFERROR(VLOOKUP(W94,'CRUCE OPORTUNIDADES'!$C$12:$D$111,2,FALSE),\"\")","v":""},7.4300000000000601,{"$f":"IFERROR(VLOOKUP(Y94,'CRUCE OPORTUNIDADES'!$C$12:$D$111,2,FALSE),\"\")","v":""},8.4300000000000708,{"$f":"IFERROR(VLOOKUP(AA94,'CRUCE OPORTUNIDADES'!$C$12:$D$111,2,FALSE),\"\")","v":""},9.4300000000000797,{"$f":"IFERROR(VLOOKUP(AC94,'CRUCE OPORTUNIDADES'!$C$12:$D$111,2,FALSE),\"\")","v":""},10.430000000000099,{"$f":"IFERROR(VLOOKUP(AE94,'CRUCE OPORTUNIDADES'!$C$12:$D$111,2,FALSE),\"\")","v":""},11.430000000000099,{"$f":"IFERROR(VLOOKUP(AG94,'CRUCE OPORTUNIDADES'!$C$12:$D$111,2,FALSE),\"\")","v":""},12.430000000000099,{"$f":"IFERROR(VLOOKUP(AI94,'CRUCE OPORTUNIDADES'!$C$12:$D$111,2,FALSE),\"\")","v":""},13.430000000000099,{"$f":"IFERROR(VLOOKUP(AK94,'CRUCE OPORTUNIDADES'!$C$12:$D$111,2,FALSE),\"\")","v":""},14.430000000000099,{"$f":"IFERROR(VLOOKUP(AM94,'CRUCE OPORTUNIDADES'!$C$12:$D$111,2,FALSE),\"\")","v":""},15.430000000000099,{"$f":"IFERROR(VLOOKUP(AO94,'CRUCE OPORTUNIDADES'!$C$12:$D$111,2,FALSE),\"\")","v":""},16.430000000000099,{"$f":"IFERROR(VLOOKUP(AQ94,'CRUCE OPORTUNIDADES'!$C$12:$D$111,2,FALSE),\"\")","v":""},17.430000000000199,{"$f":"IFERROR(VLOOKUP(AS94,'CRUCE OPORTUNIDADES'!$C$12:$D$111,2,FALSE),\"\")","v":""},18.430000000000199,{"$f":"IFERROR(VLOOKUP(AU94,'CRUCE OPORTUNIDADES'!$C$12:$D$111,2,FALSE),\"\")","v":""},19.430000000000199,{"$f":"IFERROR(VLOOKUP(AW94,'CRUCE OPORTUNIDADES'!$C$12:$D$111,2,FALSE),\"\")","v":""},20.430000000000199,{"$f":"IFERROR(VLOOKUP(AY94,'CRUCE OPORTUNIDADES'!$C$12:$D$111,2,FALSE),\"\")","v":""},21.430000000000199,{"$f":"IFERROR(VLOOKUP(BA94,'CRUCE OPORTUNIDADES'!$C$12:$D$111,2,FALSE),\"\")","v":""},22.430000000000199,{"$f":"IFERROR(VLOOKUP(BC94,'CRUCE OPORTUNIDADES'!$C$12:$D$111,2,FALSE),\"\")","v":""},23.430000000000199,{"$f":"IFERROR(VLOOKUP(BE94,'CRUCE OPORTUNIDADES'!$C$12:$D$111,2,FALSE),\"\")","v":""},24.430000000000199,{"$f":"IFERROR(VLOOKUP(BG94,'CRUCE OPORTUNIDADES'!$C$12:$D$111,2,FALSE),\"\")","v":""},25.430000000000199,{"$f":"IFERROR(VLOOKUP(BI94,'CRUCE OPORTUNIDADES'!$C$12:$D$111,2,FALSE),\"\")","v":""}]
[null,null,null,null,null,null,null,null,null,null,null,null,null,{"$f":"IF(N96<>\"\",\" -O\",\"\")","v":""},null,{"$f":"IF(P96<>\"\",\" -O\",\"\")","v":""},null,{"$f":"IF(R96<>\"\",\" -O\",\"\")","v":""},null,{"$f":"IF(T96<>\"\",\" -O\",\"\")","v":""},null,{"$f":"IF(V96<>\"\",\" -O\",\"\")","v":""},null,{"$f":"IF(X96<>\"\",\" -O\",\"\")","v":""},null,{"$f":"IF(Z96<>\"\",\" -O\",\"\")","v":""},null,{"$f":"IF(AB96<>\"\",\" -O\",\"\")","v":""},null,{"$f":"IF(AD96<>\"\",\" -O\",\"\")","v":""},null,{"$f":"IF(AF96<>\"\",\" -O\",\"\")","v":""},null,{"$f":"IF(AH96<>\"\",\" -O\",\"\")","v":""},null,{"$f":"IF(AJ96<>\"\",\" -O\",\"\")","v":""},null,{"$f":"IF(AL96<>\"\",\" -O\",\"\")","v":""},null,{"$f":"IF(AN96<>\"\",\" -O\",\"\")","v":""},null,{"$f":"IF(AP96<>\"\",\" -O\",\"\")","v":""},null,{"$f":"IF(AR96<>\"\",\" -O\",\"\")","v":""},null,{"$f":"IF(AT96<>\"\",\" -O\",\"\")","v":""},null,{"$f":"IF(AV96<>\"\",\" -O\",\"\")","v":""},null,{"$f":"IF(AX96<>\"\",\" -O\",\"\")","v":""},null,{"$f":"IF(AZ96<>\"\",\" -O\",\"\")","v":""},null,{"$f":"IF(BB96<>\"\",\" -O\",\"\")","v":""},null,{"$f":"IF(BD96<>\"\",\" -O\",\"\")","v":""},null,{"$f":"IF(BF96<>\"\",\" -O\",\"\")","v":""},null,{"$f":"IF(BH96<>\"\",\" -O\",\"\")","v":""},null,{"$f":"IF(BJ96<>\"\",\" -O\",\"\")","v":""}]
[null,null,null,null,null,null,null,null,null,null,null,null,1.44,{"$f":"IFERROR(VLOOKUP(M96,'CRUCE OPORTUNIDADES'!$C$12:$D$111,2,FALSE),\"\")","v":""},2.4400000000000102,{"$f":"IFERROR(VLOOKUP(O96,'CRUCE OPORTUNIDADES'!$C$12:$D$111,2,FALSE),\"\")","v":""},3.4400000000000199,{"$f":"IFERROR(VLOOKUP(Q96,'CRUCE OPORTUNIDADES'!$C$12:$D$111,2,FALSE),\"\")","v":""},4.4400000000000297,{"$f":"IFERROR(VLOOKUP(S96,'CRUCE OPORTUNIDADES'!$C$12:$D$111,2,FALSE),\"\")","v":""},5.4400000000000404,{"$f":"IFERROR(VLOOKUP(U96,'CRUCE OPORTUNIDADES'!$C$12:$D$111,2,FALSE),\"\")","v":""},6.4400000000000501,{"$f":"IFERROR(VLOOKUP(W96,'CRUCE OPORTUNIDADES'!$C$12:$D$111,2,FALSE),\"\")","v":""},7.4400000000000599,{"$f":"IFERROR(VLOOKUP(Y96,'CRUCE OPORTUNIDADES'!$C$12:$D$111,2,FALSE),\"\")","v":""},8.4400000000000706,{"$f":"IFERROR(VLOOKUP(AA96,'CRUCE OPORTUNIDADES'!$C$12:$D$111,2,FALSE),\"\")","v":""},9.4400000000000794,{"$f":"IFERROR(VLOOKUP(AC96,'CRUCE OPORTUNIDADES'!$C$12:$D$111,2,FALSE),\"\")","v":""},10.440000000000101,{"$f":"IFERROR(VLOOKUP(AE96,'CRUCE OPORTUNIDADES'!$C$12:$D$111,2,FALSE),\"\")","v":""},11.440000000000101,{"$f":"IFERROR(VLOOKUP(AG96,'CRUCE OPORTUNIDADES'!$C$12:$D$111,2,FALSE),\"\")","v":""},12.440000000000101,{"$f":"IFERROR(VLOOKUP(AI96,'CRUCE OPORTUNIDADES'!$C$12:$D$111,2,FALSE),\"\")","v":""},13.440000000000101,{"$f":"IFERROR(VLOOKUP(AK96,'CRUCE OPORTUNIDADES'!$C$12:$D$111,2,FALSE),\"\")","v":""},14.440000000000101,{"$f":"IFERROR(VLOOKUP(AM96,'CRUCE OPORTUNIDADES'!$C$12:$D$111,2,FALSE),\"\")","v":""},15.440000000000101,{"$f":"IFERROR(VLOOKUP(AO96,'CRUCE OPORTUNIDADES'!$C$12:$D$111,2,FALSE),\"\")","v":""},16.4400000000002,{"$f":"IFERROR(VLOOKUP(AQ96,'CRUCE OPORTUNIDADES'!$C$12:$D$111,2,FALSE),\"\")","v":""},17.4400000000002,{"$f":"IFERROR(VLOOKUP(AS96,'CRUCE OPORTUNIDADES'!$C$12:$D$111,2,FALSE),\"\")","v":""},18.4400000000002,{"$f":"IFERROR(VLOOKUP(AU96,'CRUCE OPORTUNIDADES'!$C$12:$D$111,2,FALSE),\"\")","v":""},19.4400000000002,{"$f":"IFERROR(VLOOKUP(AW96,'CRUCE OPORTUNIDADES'!$C$12:$D$111,2,FALSE),\"\")","v":""},20.4400000000002,{"$f":"IFERROR(VLOOKUP(AY96,'CRUCE OPORTUNIDADES'!$C$12:$D$111,2,FALSE),\"\")","v":""},21.4400000000002,{"$f":"IFERROR(VLOOKUP(BA96,'CRUCE OPORTUNIDADES'!$C$12:$D$111,2,FALSE),\"\")","v":""},22.4400000000002,{"$f":"IFERROR(VLOOKUP(BC96,'CRUCE OPORTUNIDADES'!$C$12:$D$111,2,FALSE),\"\")","v":""},23.4400000000002,{"$f":"IFERROR(VLOOKUP(BE96,'CRUCE OPORTUNIDADES'!$C$12:$D$111,2,FALSE),\"\")","v":""},24.4400000000002,{"$f":"IFERROR(VLOOKUP(BG96,'CRUCE OPORTUNIDADES'!$C$12:$D$111,2,FALSE),\"\")","v":""},25.4400000000002,{"$f":"IFERROR(VLOOKUP(BI96,'CRUCE OPORTUNIDADES'!$C$12:$D$111,2,FALSE),\"\")","v":""}]
[null,null,null,null,null,null,null,null,null,null,null,null,null,{"$f":"IF(N98<>\"\",\" -O\",\"\")","v":""},null,{"$f":"IF(P98<>\"\",\" -O\",\"\")","v":""},null,{"$f":"IF(R98<>\"\",\" -O\",\"\")","v":""},null,{"$f":"IF(T98<>\"\",\" -O\",\"\")","v":""},null,{"$f":"IF(V98<>\"\",\" -O\",\"\")","v":""},null,{"$f":"IF(X98<>\"\",\" -O\",\"\")","v":""},null,{"$f":"IF(Z98<>\"\",\" -O\",\"\")","v":""},null,{"$f":"IF(AB98<>\"\",\" -O\",\"\")","v":""},null,{"$f":"IF(AD98<>\"\",\" -O\",\"\")","v":""},null,{"$f":"IF(AF98<>\"\",\" -O\",\"\")","v":""},null,{"$f":"IF(AH98<>\"\",\" -O\",\"\")","v":""},null,{"$f":"IF(AJ98<>\"\",\" -O\",\"\")","v":""},null,{"$f":"IF(AL98<>\"\",\" -O\",\"\")","v":""},null,{"$f":"IF(AN98<>\"\",\" -O\",\"\")","v":""},null,{"$f":"IF(AP98<>\"\",\" -O\",\"\")","v":""},null,{"$f":"IF(AR98<>\"\",\" -O\",\"\")","v":""},null,{"$f":"IF(AT98<>\"\",\" -O\",\"\")","v":""},null,{"$f":"IF(AV98<>\"\",\" -O\",\"\")","v":""},null,{"$f":"IF(AX98<>\"\",\" -O\",\"\")","v":""},null,{"$f":"IF(AZ98<>\"\",\" -O\",\"\")","v":""},null,{"$f":"IF(BB98<>\"\",\" -O\",\"\")","v":""},null,{"$f":"IF(BD98<>\"\",\" -O\",\"\")","v":""},null,{"$f":"IF(BF98<>\"\",\" -O\",\"\")","v":""},null,{"$f":"IF(BH98<>\"\",\" -O\",\"\")","v":""},null,{"$f":"IF(BJ98<>\"\",\" -O\",\"\")","v":""}]
[null,null,null,null,null,null,null,null,null,null,null,null,1.45,{"$f":"IFERROR(VLOOKUP(M98,'CRUCE OPORTUNIDADES'!$C$12:$D$111,2,FALSE),\"\")","v":""},2.4500000000000099,{"$f":"IFERROR(VLOOKUP(O98,'CRUCE OPORTUNIDADES'!$C$12:$D$111,2,FALSE),\"\")","v":""},3.4500000000000202,{"$f":"IFERROR(VLOOKUP(Q98,'CRUCE OPORTUNIDADES'!$C$12:$D$111,2,FALSE),\"\")","v":""},4.4500000000000304,{"$f":"IFERROR(VLOOKUP(S98,'CRUCE OPORTUNIDADES'!$C$12:$D$111,2,FALSE),\"\")","v":""},5.4500000000000401,{"$f":"IFERROR(VLOOKUP(U98,'CRUCE OPORTUNIDADES'!$C$12:$D$111,2,FALSE),\"\")","v":""},6.4500000000000499,{"$f":"IFERROR(VLOOKUP(W98,'CRUCE OPORTUNIDADES'!$C$12:$D$111,2,FALSE),\"\")","v":""},7.4500000000000597,{"$f":"IFERROR(VLOOKUP(Y98,'CRUCE OPORTUNIDADES'!$C$12:$D$111,2,FALSE),\"\")","v":""},8.4500000000000703,{"$f":"IFERROR(VLOOKUP(AA98,'CRUCE OPORTUNIDADES'!$C$12:$D$111,2,FALSE),\"\")","v":""},9.4500000000000792,{"$f":"IFERROR(VLOOKUP(AC98,'CRUCE OPORTUNIDADES'!$C$12:$D$111,2,FALSE),\"\")","v":""},10.450000000000101,{"$f":"IFERROR(VLOOKUP(AE98,'CRUCE OPORTUNIDADES'!$C$12:$D$111,2,FALSE),\"\")","v":""},11.450000000000101,{"$f":"IFERROR(VLOOKUP(AG98,'CRUCE OPORTUNIDADES'!$C$12:$D$111,2,FALSE),\"\")","v":""},12.450000000000101,{"$f":"IFERROR(VLOOKUP(AI98,'CRUCE OPORTUNIDADES'!$C$12:$D$111,2,FALSE),\"\")","v":""},13.450000000000101,{"$f":"IFERROR(VLOOKUP(AK98,'CRUCE OPORTUNIDADES'!$C$12:$D$111,2,FALSE),\"\")","v":""},14.450000000000101,{"$f":"IFERROR(VLOOKUP(AM98,'CRUCE OPORTUNIDADES'!$C$12:$D$111,2,FALSE),\"\")","v":""},15.450000000000101,{"$f":"IFERROR(VLOOKUP(AO98,'CRUCE OPORTUNIDADES'!$C$12:$D$111,2,FALSE),\"\")","v":""},16.450000000000099,{"$f":"IFERROR(VLOOKUP(AQ98,'CRUCE OPORTUNIDADES'!$C$12:$D$111,2,FALSE),\"\")","v":""},17.450000000000198,{"$f":"IFERROR(VLOOKUP(AS98,'CRUCE OPORTUNIDADES'!$C$12:$D$111,2,FALSE),\"\")","v":""},18.450000000000198,{"$f":"IFERROR(VLOOKUP(AU98,'CRUCE OPORTUNIDADES'!$C$12:$D$111,2,FALSE),\"\")","v":""},19.450000000000198,{"$f":"IFERROR(VLOOKUP(AW98,'CRUCE OPORTUNIDADES'!$C$12:$D$111,2,FALSE),\"\")","v":""},20.450000000000198,{"$f":"IFERROR(VLOOKUP(AY98,'CRUCE OPORTUNIDADES'!$C$12:$D$111,2,FALSE),\"\")","v":""},21.450000000000198,{"$f":"IFERROR(VLOOKUP(BA98,'CRUCE OPORTUNIDADES'!$C$12:$D$111,2,FALSE),\"\")","v":""},22.450000000000198,{"$f":"IFERROR(VLOOKUP(BC98,'CRUCE OPORTUNIDADES'!$C$12:$D$111,2,FALSE),\"\")","v":""},23.450000000000198,{"$f":"IFERROR(VLOOKUP(BE98,'CRUCE OPORTUNIDADES'!$C$12:$D$111,2,FALSE),\"\")","v":""},24.450000000000198,{"$f":"IFERROR(VLOOKUP(BG98,'CRUCE OPORTUNIDADES'!$C$12:$D$111,2,FALSE),\"\")","v":""},25.450000000000198,{"$f":"IFERROR(VLOOKUP(BI98,'CRUCE OPORTUNIDADES'!$C$12:$D$111,2,FALSE),\"\")","v":""}]
[null,null,null,null,null,null,null,null,null,null,null,null,null,{"$f":"IF(N100<>\"\",\" -O\",\"\")","v":""},null,{"$f":"IF(P100<>\"\",\" -O\",\"\")","v":""},null,{"$f":"IF(R100<>\"\",\" -O\",\"\")","v":""},null,{"$f":"IF(T100<>\"\",\" -O\",\"\")","v":""},null,{"$f":"IF(V100<>\"\",\" -O\",\"\")","v":""},null,{"$f":"IF(X100<>\"\",\" -O\",\"\")","v":""},null,{"$f":"IF(Z100<>\"\",\" -O\",\"\")","v":""},null,{"$f":"IF(AB100<>\"\",\" -O\",\"\")","v":""},null,{"$f":"IF(AD100<>\"\",\" -O\",\"\")","v":""},null,{"$f":"IF(AF100<>\"\",\" -O\",\"\")","v":""},null,{"$f":"IF(AH100<>\"\",\" -O\",\"\")","v":""},null,{"$f":"IF(AJ100<>\"\",\" -O\",\"\")","v":""},null,{"$f":"IF(AL100<>\"\",\" -O\",\"\")","v":""},null,{"$f":"IF(AN100<>\"\",\" -O\",\"\")","v":""},null,{"$f":"IF(AP100<>\"\",\" -O\",\"\")","v":""},null,{"$f":"IF(AR100<>\"\",\" -O\",\"\")","v":""},null,{"$f":"IF(AT100<>\"\",\" -O\",\"\")","v":""},null,{"$f":"IF(AV100<>\"\",\" -O\",\"\")","v":""},null,{"$f":"IF(AX100<>\"\",\" -O\",\"\")","v":""},null,{"$f":"IF(AZ100<>\"\",\" -O\",\"\")","v":""},null,{"$f":"IF(BB100<>\"\",\" -O\",\"\")","v":""},null,{"$f":"IF(BD100<>\"\",\" -O\",\"\")","v":""},null,{"$f":"IF(BF100<>\"\",\" -O\",\"\")","v":""},null,{"$f":"IF(BH100<>\"\",\" -O\",\"\")","v":""},null,{"$f":"IF(BJ100<>\"\",\" -O\",\"\")","v":""}]
[null,null,null,null,null,null,null,null,null,null,null,null,1.46,{"$f":"IFERROR(VLOOKUP(M100,'CRUCE OPORTUNIDADES'!$C$12:$D$111,2,FALSE),\"\")","v":""},2.4600000000000102,{"$f":"IFERROR(VLOOKUP(O100,'CRUCE OPORTUNIDADES'!$C$12:$D$111,2,FALSE),\"\")","v":""},3.4600000000000199,{"$f":"IFERROR(VLOOKUP(Q100,'CRUCE OPORTUNIDADES'!$C$12:$D$111,2,FALSE),\"\")","v":""},4.4600000000000302,{"$f":"IFERROR(VLOOKUP(S100,'CRUCE OPORTUNIDADES'!$C$12:$D$111,2,FALSE),\"\")","v":""},5.4600000000000399,{"$f":"IFERROR(VLOOKUP(U100,'CRUCE OPORTUNIDADES'!$C$12:$D$111,2,FALSE),\"\")","v":""},6.4600000000000497,{"$f":"IFERROR(VLOOKUP(W100,'CRUCE OPORTUNIDADES'!$C$12:$D$111,2,FALSE),\"\")","v":""},7.4600000000000604,{"$f":"IFERROR(VLOOKUP(Y100,'CRUCE OPORTUNIDADES'!$C$12:$D$111,2,FALSE),\"\")","v":""},8.4600000000000701,{"$f":"IFERROR(VLOOKUP(AA100,'CRUCE OPORTUNIDADES'!$C$12:$D$111,2,FALSE),\"\")","v":""},9.4600000000000808,{"$f":"IFERROR(VLOOKUP(AC100,'CRUCE OPORTUNIDADES'!$C$12:$D$111,2,FALSE),\"\")","v":""},10.4600000000001,{"$f":"IFERROR(VLOOKUP(AE100,'CRUCE OPORTUNIDADES'!$C$12:$D$111,2,FALSE),\"\")","v":""},11.4600000000001,{"$f":"IFERROR(VLOOKUP(AG100,'CRUCE OPORTUNIDADES'!$C$12:$D$111,2,FALSE),\"\")","v":""},12.4600000000001,{"$f":"IFERROR(VLOOKUP(AI100,'CRUCE OPORTUNIDADES'!$C$12:$D$111,2,FALSE),\"\")","v":""},13.4600000000001,{"$f":"IFERROR(VLOOKUP(AK100,'CRUCE OPORTUNIDADES'!$C$12:$D$111,2,FALSE),\"\")","v":""},14.4600000000001,{"$f":"IFERROR(VLOOKUP(AM100,'CRUCE OPORTUNIDADES'!$C$12:$D$111,2,FALSE),\"\")","v":""},15.4600000000001,{"$f":"IFERROR(VLOOKUP(AO100,'CRUCE OPORTUNIDADES'!$C$12:$D$111,2,FALSE),\"\")","v":""},16.4600000000002,{"$f":"IFERROR(VLOOKUP(AQ100,'CRUCE OPORTUNIDADES'!$C$12:$D$111,2,FALSE),\"\")","v":""},17.4600000000002,{"$f":"IFERROR(VLOOKUP(AS100,'CRUCE OPORTUNIDADES'!$C$12:$D$111,2,FALSE),\"\")","v":""},18.4600000000002,{"$f":"IFERROR(VLOOKUP(AU100,'CRUCE OPORTUNIDADES'!$C$12:$D$111,2,FALSE),\"\")","v":""},19.4600000000002,{"$f":"IFERROR(VLOOKUP(AW100,'CRUCE OPORTUNIDADES'!$C$12:$D$111,2,FALSE),\"\")","v":""},20.4600000000002,{"$f":"IFERROR(VLOOKUP(AY100,'CRUCE OPORTUNIDADES'!$C$12:$D$111,2,FALSE),\"\")","v":""},21.4600000000002,{"$f":"IFERROR(VLOOKUP(BA100,'CRUCE OPORTUNIDADES'!$C$12:$D$111,2,FALSE),\"\")","v":""},22.4600000000002,{"$f":"IFERROR(VLOOKUP(BC100,'CRUCE OPORTUNIDADES'!$C$12:$D$111,2,FALSE),\"\")","v":""},23.4600000000002,{"$f":"IFERROR(VLOOKUP(BE100,'CRUCE OPORTUNIDADES'!$C$12:$D$111,2,FALSE),\"\")","v":""},24.4600000000002,{"$f":"IFERROR(VLOOKUP(BG100,'CRUCE OPORTUNIDADES'!$C$12:$D$111,2,FALSE),\"\")","v":""},25.4600000000002,{"$f":"IFERROR(VLOOKUP(BI100,'CRUCE OPORTUNIDADES'!$C$12:$D$111,2,FALSE),\"\")","v":""}]
[null,null,null,null,null,null,null,null,null,null,null,null,null,{"$f":"IF(N102<>\"\",\" -O\",\"\")","v":""},null,{"$f":"IF(P102<>\"\",\" -O\",\"\")","v":""},null,{"$f":"IF(R102<>\"\",\" -O\",\"\")","v":""},null,{"$f":"IF(T102<>\"\",\" -O\",\"\")","v":""},null,{"$f":"IF(V102<>\"\",\" -O\",\"\")","v":""},null,{"$f":"IF(X102<>\"\",\" -O\",\"\")","v":""},null,{"$f":"IF(Z102<>\"\",\" -O\",\"\")","v":""},null,{"$f":"IF(AB102<>\"\",\" -O\",\"\")","v":""},null,{"$f":"IF(AD102<>\"\",\" -O\",\"\")","v":""},null,{"$f":"IF(AF102<>\"\",\" -O\",\"\")","v":""},null,{"$f":"IF(AH102<>\"\",\" -O\",\"\")","v":""},null,{"$f":"IF(AJ102<>\"\",\" -O\",\"\")","v":""},null,{"$f":"IF(AL102<>\"\",\" -O\",\"\")","v":""},null,{"$f":"IF(AN102<>\"\",\" -O\",\"\")","v":""},null,{"$f":"IF(AP102<>\"\",\" -O\",\"\")","v":""},null,{"$f":"IF(AR102<>\"\",\" -O\",\"\")","v":""},null,{"$f":"IF(AT102<>\"\",\" -O\",\"\")","v":""},null,{"$f":"IF(AV102<>\"\",\" -O\",\"\")","v":""},null,{"$f":"IF(AX102<>\"\",\" -O\",\"\")","v":""},null,{"$f":"IF(AZ102<>\"\",\" -O\",\"\")","v":""},null,{"$f":"IF(BB102<>\"\",\" -O\",\"\")","v":""},null,{"$f":"IF(BD102<>\"\",\" -O\",\"\")","v":""},null,{"$f":"IF(BF102<>\"\",\" -O\",\"\")","v":""},null,{"$f":"IF(BH102<>\"\",\" -O\",\"\")","v":""},null,{"$f":"IF(BJ102<>\"\",\" -O\",\"\")","v":""}]
[null,null,null,null,null,null,null,null,null,null,null,null,1.47,{"$f":"IFERROR(VLOOKUP(M102,'CRUCE OPORTUNIDADES'!$C$12:$D$111,2,FALSE),\"\")","v":""},2.47000000000001,{"$f":"IFERROR(VLOOKUP(O102,'CRUCE OPORTUNIDADES'!$C$12:$D$111,2,FALSE),\"\")","v":""},3.4700000000000202,{"$f":"IFERROR(VLOOKUP(Q102,'CRUCE OPORTUNIDADES'!$C$12:$D$111,2,FALSE),\"\")","v":""},4.4700000000000299,{"$f":"IFERROR(VLOOKUP(S102,'CRUCE OPORTUNIDADES'!$C$12:$D$111,2,FALSE),\"\")","v":""},5.4700000000000397,{"$f":"IFERROR(VLOOKUP(U102,'CRUCE OPORTUNIDADES'!$C$12:$D$111,2,FALSE),\"\")","v":""},6.4700000000000504,{"$f":"IFERROR(VLOOKUP(W102,'CRUCE OPORTUNIDADES'!$C$12:$D$111,2,FALSE),\"\")","v":""},7.4700000000000601,{"$f":"IFERROR(VLOOKUP(Y102,'CRUCE OPORTUNIDADES'!$C$12:$D$111,2,FALSE),\"\")","v":""},8.4700000000000699,{"$f":"IFERROR(VLOOKUP(AA102,'CRUCE OPORTUNIDADES'!$C$12:$D$111,2,FALSE),\"\")","v":""},9.4700000000000806,{"$f":"IFERROR(VLOOKUP(AC102,'CRUCE OPORTUNIDADES'!$C$12:$D$111,2,FALSE),\"\")","v":""},10.4700000000001,{"$f":"IFERROR(VLOOKUP(AE102,'CRUCE OPORTUNIDADES'!$C$12:$D$111,2,FALSE),\"\")","v":""},11.4700000000001,{"$f":"IFERROR(VLOOKUP(AG102,'CRUCE OPORTUNIDADES'!$C$12:$D$111,2,FALSE),\"\")","v":""},12.4700000000001,{"$f":"IFERROR(VLOOKUP(AI102,'CRUCE OPORTUNIDADES'!$C$12:$D$111,2,FALSE),\"\")","v":""},13.4700000000001,{"$f":"IFERROR(VLOOKUP(AK102,'CRUCE OPORTUNIDADES'!$C$12:$D$111,2,FALSE),\"\")","v":""},14.4700000000001,{"$f":"IFERROR(VLOOKUP(AM102,'CRUCE OPORTUNIDADES'!$C$12:$D$111,2,FALSE),\"\")","v":""},15.4700000000001,{"$f":"IFERROR(VLOOKUP(AO102,'CRUCE OPORTUNIDADES'!$C$12:$D$111,2,FALSE),\"\")","v":""},16.470000000000098,{"$f":"IFERROR(VLOOKUP(AQ102,'CRUCE OPORTUNIDADES'!$C$12:$D$111,2,FALSE),\"\")","v":""},17.470000000000201,{"$f":"IFERROR(VLOOKUP(AS102,'CRUCE OPORTUNIDADES'!$C$12:$D$111,2,FALSE),\"\")","v":""},18.470000000000201,{"$f":"IFERROR(VLOOKUP(AU102,'CRUCE OPORTUNIDADES'!$C$12:$D$111,2,FALSE),\"\")","v":""},19.470000000000201,{"$f":"IFERROR(VLOOKUP(AW102,'CRUCE OPORTUNIDADES'!$C$12:$D$111,2,FALSE),\"\")","v":""},20.470000000000201,{"$f":"IFERROR(VLOOKUP(AY102,'CRUCE OPORTUNIDADES'!$C$12:$D$111,2,FALSE),\"\")","v":""},21.470000000000201,{"$f":"IFERROR(VLOOKUP(BA102,'CRUCE OPORTUNIDADES'!$C$12:$D$111,2,FALSE),\"\")","v":""},22.470000000000201,{"$f":"IFERROR(VLOOKUP(BC102,'CRUCE OPORTUNIDADES'!$C$12:$D$111,2,FALSE),\"\")","v":""},23.470000000000201,{"$f":"IFERROR(VLOOKUP(BE102,'CRUCE OPORTUNIDADES'!$C$12:$D$111,2,FALSE),\"\")","v":""},24.470000000000201,{"$f":"IFERROR(VLOOKUP(BG102,'CRUCE OPORTUNIDADES'!$C$12:$D$111,2,FALSE),\"\")","v":""},25.470000000000201,{"$f":"IFERROR(VLOOKUP(BI102,'CRUCE OPORTUNIDADES'!$C$12:$D$111,2,FALSE),\"\")","v":""}]
[null,null,null,null,null,null,null,null,null,null,null,null,null,{"$f":"IF(N104<>\"\",\" -O\",\"\")","v":""},null,{"$f":"IF(P104<>\"\",\" -O\",\"\")","v":""},null,{"$f":"IF(R104<>\"\",\" -O\",\"\")","v":""},null,{"$f":"IF(T104<>\"\",\" -O\",\"\")","v":""},null,{"$f":"IF(V104<>\"\",\" -O\",\"\")","v":""},null,{"$f":"IF(X104<>\"\",\" -O\",\"\")","v":""},null,{"$f":"IF(Z104<>\"\",\" -O\",\"\")","v":""},null,{"$f":"IF(AB104<>\"\",\" -O\",\"\")","v":""},null,{"$f":"IF(AD104<>\"\",\" -O\",\"\")","v":""},null,{"$f":"IF(AF104<>\"\",\" -O\",\"\")","v":""},null,{"$f":"IF(AH104<>\"\",\" -O\",\"\")","v":""},null,{"$f":"IF(AJ104<>\"\",\" -O\",\"\")","v":""},null,{"$f":"IF(AL104<>\"\",\" -O\",\"\")","v":""},null,{"$f":"IF(AN104<>\"\",\" -O\",\"\")","v":""},null,{"$f":"IF(AP104<>\"\",\" -O\",\"\")","v":""},null,{"$f":"IF(AR104<>\"\",\" -O\",\"\")","v":""},null,{"$f":"IF(AT104<>\"\",\" -O\",\"\")","v":""},null,{"$f":"IF(AV104<>\"\",\" -O\",\"\")","v":""},null,{"$f":"IF(AX104<>\"\",\" -O\",\"\")","v":""},null,{"$f":"IF(AZ104<>\"\",\" -O\",\"\")","v":""},null,{"$f":"IF(BB104<>\"\",\" -O\",\"\")","v":""},null,{"$f":"IF(BD104<>\"\",\" -O\",\"\")","v":""},null,{"$f":"IF(BF104<>\"\",\" -O\",\"\")","v":""},null,{"$f":"IF(BH104<>\"\",\" -O\",\"\")","v":""},null,{"$f":"IF(BJ104<>\"\",\" -O\",\"\")","v":""}]
[null,null,null,null,null,null,null,null,null,null,null,null,1.48,{"$f":"IFERROR(VLOOKUP(M104,'CRUCE OPORTUNIDADES'!$C$12:$D$111,2,FALSE),\"\")","v":""},2.4800000000000102,{"$f":"IFERROR(VLOOKUP(O104,'CRUCE OPORTUNIDADES'!$C$12:$D$111,2,FALSE),\"\")","v":""},3.48000000000002,{"$f":"IFERROR(VLOOKUP(Q104,'CRUCE OPORTUNIDADES'!$C$12:$D$111,2,FALSE),\"\")","v":""},4.4800000000000297,{"$f":"IFERROR(VLOOKUP(S104,'CRUCE OPORTUNIDADES'!$C$12:$D$111,2,FALSE),\"\")","v":""},5.4800000000000404,{"$f":"IFERROR(VLOOKUP(U104,'CRUCE OPORTUNIDADES'!$C$12:$D$111,2,FALSE),\"\")","v":""},6.4800000000000502,{"$f":"IFERROR(VLOOKUP(W104,'CRUCE OPORTUNIDADES'!$C$12:$D$111,2,FALSE),\"\")","v":""},7.4800000000000599,{"$f":"IFERROR(VLOOKUP(Y104,'CRUCE OPORTUNIDADES'!$C$12:$D$111,2,FALSE),\"\")","v":""},8.4800000000000697,{"$f":"IFERROR(VLOOKUP(AA104,'CRUCE OPORTUNIDADES'!$C$12:$D$111,2,FALSE),\"\")","v":""},9.4800000000000804,{"$f":"IFERROR(VLOOKUP(AC104,'CRUCE OPORTUNIDADES'!$C$12:$D$111,2,FALSE),\"\")","v":""},10.4800000000001,{"$f":"IFERROR(VLOOKUP(AE104,'CRUCE OPORTUNIDADES'!$C$12:$D$111,2,FALSE),\"\")","v":""},11.4800000000001,{"$f":"IFERROR(VLOOKUP(AG104,'CRUCE OPORTUNIDADES'!$C$12:$D$111,2,FALSE),\"\")","v":""},12.4800000000001,{"$f":"IFERROR(VLOOKUP(AI104,'CRUCE OPORTUNIDADES'!$C$12:$D$111,2,FALSE),\"\")","v":""},13.4800000000001,{"$f":"IFERROR(VLOOKUP(AK104,'CRUCE OPORTUNIDADES'!$C$12:$D$111,2,FALSE),\"\")","v":""},14.4800000000001,{"$f":"IFERROR(VLOOKUP(AM104,'CRUCE OPORTUNIDADES'!$C$12:$D$111,2,FALSE),\"\")","v":""},15.4800000000001,{"$f":"IFERROR(VLOOKUP(AO104,'CRUCE OPORTUNIDADES'!$C$12:$D$111,2,FALSE),\"\")","v":""},16.480000000000199,{"$f":"IFERROR(VLOOKUP(AQ104,'CRUCE OPORTUNIDADES'!$C$12:$D$111,2,FALSE),\"\")","v":""},17.480000000000199,{"$f":"IFERROR(VLOOKUP(AS104,'CRUCE OPORTUNIDADES'!$C$12:$D$111,2,FALSE),\"\")","v":""},18.480000000000199,{"$f":"IFERROR(VLOOKUP(AU104,'CRUCE OPORTUNIDADES'!$C$12:$D$111,2,FALSE),\"\")","v":""},19.480000000000199,{"$f":"IFERROR(VLOOKUP(AW104,'CRUCE OPORTUNIDADES'!$C$12:$D$111,2,FALSE),\"\")","v":""},20.480000000000199,{"$f":"IFERROR(VLOOKUP(AY104,'CRUCE OPORTUNIDADES'!$C$12:$D$111,2,FALSE),\"\")","v":""},21.480000000000199,{"$f":"IFERROR(VLOOKUP(BA104,'CRUCE OPORTUNIDADES'!$C$12:$D$111,2,FALSE),\"\")","v":""},22.480000000000199,{"$f":"IFERROR(VLOOKUP(BC104,'CRUCE OPORTUNIDADES'!$C$12:$D$111,2,FALSE),\"\")","v":""},23.480000000000199,{"$f":"IFERROR(VLOOKUP(BE104,'CRUCE OPORTUNIDADES'!$C$12:$D$111,2,FALSE),\"\")","v":""},24.480000000000199,{"$f":"IFERROR(VLOOKUP(BG104,'CRUCE OPORTUNIDADES'!$C$12:$D$111,2,FALSE),\"\")","v":""},25.480000000000199,{"$f":"IFERROR(VLOOKUP(BI104,'CRUCE OPORTUNIDADES'!$C$12:$D$111,2,FALSE),\"\")","v":""}]
[null,null,null,null,null,null,null,null,null,null,null,null,null,{"$f":"IF(N106<>\"\",\" -O\",\"\")","v":""},null,{"$f":"IF(P106<>\"\",\" -O\",\"\")","v":""},null,{"$f":"IF(R106<>\"\",\" -O\",\"\")","v":""},null,{"$f":"IF(T106<>\"\",\" -O\",\"\")","v":""},null,{"$f":"IF(V106<>\"\",\" -O\",\"\")","v":""},null,{"$f":"IF(X106<>\"\",\" -O\",\"\")","v":""},null,{"$f":"IF(Z106<>\"\",\" -O\",\"\")","v":""},null,{"$f":"IF(AB106<>\"\",\" -O\",\"\")","v":""},null,{"$f":"IF(AD106<>\"\",\" -O\",\"\")","v":""},null,{"$f":"IF(AF106<>\"\",\" -O\",\"\")","v":""},null,{"$f":"IF(AH106<>\"\",\" -O\",\"\")","v":""},null,{"$f":"IF(AJ106<>\"\",\" -O\",\"\")","v":""},null,{"$f":"IF(AL106<>\"\",\" -O\",\"\")","v":""},null,{"$f":"IF(AN106<>\"\",\" -O\",\"\")","v":""},null,{"$f":"IF(AP106<>\"\",\" -O\",\"\")","v":""},null,{"$f":"IF(AR106<>\"\",\" -O\",\"\")","v":""},null,{"$f":"IF(AT106<>\"\",\" -O\",\"\")","v":""},null,{"$f":"IF(AV106<>\"\",\" -O\",\"\")","v":""},null,{"$f":"IF(AX106<>\"\",\" -O\",\"\")","v":""},null,{"$f":"IF(AZ106<>\"\",\" -O\",\"\")","v":""},null,{"$f":"IF(BB106<>\"\",\" -O\",\"\")","v":""},null,{"$f":"IF(BD106<>\"\",\" -O\",\"\")","v":""},null,{"$f":"IF(BF106<>\"\",\" -O\",\"\")","v":""},null,{"$f":"IF(BH106<>\"\",\" -O\",\"\")","v":""},null,{"$f":"IF(BJ106<>\"\",\" -O\",\"\")","v":""}]
[null,null,null,null,null,null,null,null,null,null,null,null,1.49,{"$f":"IFERROR(VLOOKUP(M106,'CRUCE OPORTUNIDADES'!$C$12:$D$111,2,FALSE),\"\")","v":""},2.49000000000001,{"$f":"IFERROR(VLOOKUP(O106,'CRUCE OPORTUNIDADES'!$C$12:$D$111,2,FALSE),\"\")","v":""},3.4900000000000202,{"$f":"IFERROR(VLOOKUP(Q106,'CRUCE OPORTUNIDADES'!$C$12:$D$111,2,FALSE),\"\")","v":""},4.4900000000000304,{"$f":"IFERROR(VLOOKUP(S106,'CRUCE OPORTUNIDADES'!$C$12:$D$111,2,FALSE),\"\")","v":""},5.4900000000000402,{"$f":"IFERROR(VLOOKUP(U106,'CRUCE OPORTUNIDADES'!$C$12:$D$111,2,FALSE),\"\")","v":""},6.49000000000005,{"$f":"IFERROR(VLOOKUP(W106,'CRUCE OPORTUNIDADES'!$C$12:$D$111,2,FALSE),\"\")","v":""},7.4900000000000597,{"$f":"IFERROR(VLOOKUP(Y106,'CRUCE OPORTUNIDADES'!$C$12:$D$111,2,FALSE),\"\")","v":""},8.4900000000000695,{"$f":"IFERROR(VLOOKUP(AA106,'CRUCE OPORTUNIDADES'!$C$12:$D$111,2,FALSE),\"\")","v":""},9.4900000000000801,{"$f":"IFERROR(VLOOKUP(AC106,'CRUCE OPORTUNIDADES'!$C$12:$D$111,2,FALSE),\"\")","v":""},10.4900000000001,{"$f":"IFERROR(VLOOKUP(AE106,'CRUCE OPORTUNIDADES'!$C$12:$D$111,2,FALSE),\"\")","v":""},11.4900000000001,{"$f":"IFERROR(VLOOKUP(AG106,'CRUCE OPORTUNIDADES'!$C$12:$D$111,2,FALSE),\"\")","v":""},12.4900000000001,{"$f":"IFERROR(VLOOKUP(AI106,'CRUCE OPORTUNIDADES'!$C$12:$D$111,2,FALSE),\"\")","v":""},13.4900000000001,{"$f":"IFERROR(VLOOKUP(AK106,'CRUCE OPORTUNIDADES'!$C$12:$D$111,2,FALSE),\"\")","v":""},14.4900000000001,{"$f":"IFERROR(VLOOKUP(AM106,'CRUCE OPORTUNIDADES'!$C$12:$D$111,2,FALSE),\"\")","v":""},15.4900000000001,{"$f":"IFERROR(VLOOKUP(AO106,'CRUCE OPORTUNIDADES'!$C$12:$D$111,2,FALSE),\"\")","v":""},16.490000000000101,{"$f":"IFERROR(VLOOKUP(AQ106,'CRUCE OPORTUNIDADES'!$C$12:$D$111,2,FALSE),\"\")","v":""},17.490000000000201,{"$f":"IFERROR(VLOOKUP(AS106,'CRUCE OPORTUNIDADES'!$C$12:$D$111,2,FALSE),\"\")","v":""},18.490000000000201,{"$f":"IFERROR(VLOOKUP(AU106,'CRUCE OPORTUNIDADES'!$C$12:$D$111,2,FALSE),\"\")","v":""},19.490000000000201,{"$f":"IFERROR(VLOOKUP(AW106,'CRUCE OPORTUNIDADES'!$C$12:$D$111,2,FALSE),\"\")","v":""},20.490000000000201,{"$f":"IFERROR(VLOOKUP(AY106,'CRUCE OPORTUNIDADES'!$C$12:$D$111,2,FALSE),\"\")","v":""},21.490000000000201,{"$f":"IFERROR(VLOOKUP(BA106,'CRUCE OPORTUNIDADES'!$C$12:$D$111,2,FALSE),\"\")","v":""},22.490000000000201,{"$f":"IFERROR(VLOOKUP(BC106,'CRUCE OPORTUNIDADES'!$C$12:$D$111,2,FALSE),\"\")","v":""},23.490000000000201,{"$f":"IFERROR(VLOOKUP(BE106,'CRUCE OPORTUNIDADES'!$C$12:$D$111,2,FALSE),\"\")","v":""},24.490000000000201,{"$f":"IFERROR(VLOOKUP(BG106,'CRUCE OPORTUNIDADES'!$C$12:$D$111,2,FALSE),\"\")","v":""},25.490000000000201,{"$f":"IFERROR(VLOOKUP(BI106,'CRUCE OPORTUNIDADES'!$C$12:$D$111,2,FALSE),\"\")","v":""}]
[null,null,null,null,null,null,null,null,null,null,null,null,null,{"$f":"IF(N108<>\"\",\" -O\",\"\")","v":""},null,{"$f":"IF(P108<>\"\",\" -O\",\"\")","v":""},null,{"$f":"IF(R108<>\"\",\" -O\",\"\")","v":""},null,{"$f":"IF(T108<>\"\",\" -O\",\"\")","v":""},null,{"$f":"IF(V108<>\"\",\" -O\",\"\")","v":""},null,{"$f":"IF(X108<>\"\",\" -O\",\"\")","v":""},null,{"$f":"IF(Z108<>\"\",\" -O\",\"\")","v":""},null,{"$f":"IF(AB108<>\"\",\" -O\",\"\")","v":""},null,{"$f":"IF(AD108<>\"\",\" -O\",\"\")","v":""},null,{"$f":"IF(AF108<>\"\",\" -O\",\"\")","v":""},null,{"$f":"IF(AH108<>\"\",\" -O\",\"\")","v":""},null,{"$f":"IF(AJ108<>\"\",\" -O\",\"\")","v":""},null,{"$f":"IF(AL108<>\"\",\" -O\",\"\")","v":""},null,{"$f":"IF(AN108<>\"\",\" -O\",\"\")","v":""},null,{"$f":"IF(AP108<>\"\",\" -O\",\"\")","v":""},null,{"$f":"IF(AR108<>\"\",\" -O\",\"\")","v":""},null,{"$f":"IF(AT108<>\"\",\" -O\",\"\")","v":""},null,{"$f":"IF(AV108<>\"\",\" -O\",\"\")","v":""},null,{"$f":"IF(AX108<>\"\",\" -O\",\"\")","v":""},null,{"$f":"IF(AZ108<>\"\",\" -O\",\"\")","v":""},null,{"$f":"IF(BB108<>\"\",\" -O\",\"\")","v":""},null,{"$f":"IF(BD108<>\"\",\" -O\",\"\")","v":""},null,{"$f":"IF(BF108<>\"\",\" -O\",\"\")","v":""},null,{"$f":"IF(BH108<>\"\",\" -O\",\"\")","v":""},null,{"$f":"IF(BJ108<>\"\",\" -O\",\"\")","v":""}]
[null,null,null,null,null,null,null,null,null,null,null,null,1.5,{"$f":"IFERROR(VLOOKUP(M108,'CRUCE OPORTUNIDADES'!$C$12:$D$111,2,FALSE),\"\")","v":""},2.5000000000000102,{"$f":"IFERROR(VLOOKUP(O108,'CRUCE OPORTUNIDADES'!$C$12:$D$111,2,FALSE),\"\")","v":""},3.50000000000002,{"$f":"IFERROR(VLOOKUP(Q108,'CRUCE OPORTUNIDADES'!$C$12:$D$111,2,FALSE),\"\")","v":""},4.5000000000000302,{"$f":"IFERROR(VLOOKUP(S108,'CRUCE OPORTUNIDADES'!$C$12:$D$111,2,FALSE),\"\")","v":""},5.50000000000004,{"$f":"IFERROR(VLOOKUP(U108,'CRUCE OPORTUNIDADES'!$C$12:$D$111,2,FALSE),\"\")","v":""},6.5000000000000497,{"$f":"IFERROR(VLOOKUP(W108,'CRUCE OPORTUNIDADES'!$C$12:$D$111,2,FALSE),\"\")","v":""},7.5000000000000604,{"$f":"IFERROR(VLOOKUP(Y108,'CRUCE OPORTUNIDADES'!$C$12:$D$111,2,FALSE),\"\")","v":""},8.5000000000000693,{"$f":"IFERROR(VLOOKUP(AA108,'CRUCE OPORTUNIDADES'!$C$12:$D$111,2,FALSE),\"\")","v":""},9.5000000000000799,{"$f":"IFERROR(VLOOKUP(AC108,'CRUCE OPORTUNIDADES'!$C$12:$D$111,2,FALSE),\"\")","v":""},10.500000000000099,{"$f":"IFERROR(VLOOKUP(AE108,'CRUCE OPORTUNIDADES'!$C$12:$D$111,2,FALSE),\"\")","v":""},11.500000000000099,{"$f":"IFERROR(VLOOKUP(AG108,'CRUCE OPORTUNIDADES'!$C$12:$D$111,2,FALSE),\"\")","v":""},12.500000000000099,{"$f":"IFERROR(VLOOKUP(AI108,'CRUCE OPORTUNIDADES'!$C$12:$D$111,2,FALSE),\"\")","v":""},13.500000000000099,{"$f":"IFERROR(VLOOKUP(AK108,'CRUCE OPORTUNIDADES'!$C$12:$D$111,2,FALSE),\"\")","v":""},14.500000000000099,{"$f":"IFERROR(VLOOKUP(AM108,'CRUCE OPORTUNIDADES'!$C$12:$D$111,2,FALSE),\"\")","v":""},15.500000000000099,{"$f":"IFERROR(VLOOKUP(AO108,'CRUCE OPORTUNIDADES'!$C$12:$D$111,2,FALSE),\"\")","v":""},16.500000000000199,{"$f":"IFERROR(VLOOKUP(AQ108,'CRUCE OPORTUNIDADES'!$C$12:$D$111,2,FALSE),\"\")","v":""},17.500000000000199,{"$f":"IFERROR(VLOOKUP(AS108,'CRUCE OPORTUNIDADES'!$C$12:$D$111,2,FALSE),\"\")","v":""},18.500000000000199,{"$f":"IFERROR(VLOOKUP(AU108,'CRUCE OPORTUNIDADES'!$C$12:$D$111,2,FALSE),\"\")","v":""},19.500000000000199,{"$f":"IFERROR(VLOOKUP(AW108,'CRUCE OPORTUNIDADES'!$C$12:$D$111,2,FALSE),\"\")","v":""},20.500000000000199,{"$f":"IFERROR(VLOOKUP(AY108,'CRUCE OPORTUNIDADES'!$C$12:$D$111,2,FALSE),\"\")","v":""},21.500000000000199,{"$f":"IFERROR(VLOOKUP(BA108,'CRUCE OPORTUNIDADES'!$C$12:$D$111,2,FALSE),\"\")","v":""},22.500000000000199,{"$f":"IFERROR(VLOOKUP(BC108,'CRUCE OPORTUNIDADES'!$C$12:$D$111,2,FALSE),\"\")","v":""},23.500000000000199,{"$f":"IFERROR(VLOOKUP(BE108,'CRUCE OPORTUNIDADES'!$C$12:$D$111,2,FALSE),\"\")","v":""},24.500000000000199,{"$f":"IFERROR(VLOOKUP(BG108,'CRUCE OPORTUNIDADES'!$C$12:$D$111,2,FALSE),\"\")","v":""},25.500000000000199,{"$f":"IFERROR(VLOOKUP(BI108,'CRUCE OPORTUNIDADES'!$C$12:$D$111,2,FALSE),\"\")","v":""}]
[null,null,null,null,null,null,null,null,null,null,null,null,null,{"$f":"IF(N110<>\"\",\" -O\",\"\")","v":""},null,{"$f":"IF(P110<>\"\",\" -O\",\"\")","v":""},null,{"$f":"IF(R110<>\"\",\" -O\",\"\")","v":""},null,{"$f":"IF(T110<>\"\",\" -O\",\"\")","v":""},null,{"$f":"IF(V110<>\"\",\" -O\",\"\")","v":""},null,{"$f":"IF(X110<>\"\",\" -O\",\"\")","v":""},null,{"$f":"IF(Z110<>\"\",\" -O\",\"\")","v":""},null,{"$f":"IF(AB110<>\"\",\" -O\",\"\")","v":""},null,{"$f":"IF(AD110<>\"\",\" -O\",\"\")","v":""},null,{"$f":"IF(AF110<>\"\",\" -O\",\"\")","v":""},null,{"$f":"IF(AH110<>\"\",\" -O\",\"\")","v":""},null,{"$f":"IF(AJ110<>\"\",\" -O\",\"\")","v":""},null,{"$f":"IF(AL110<>\"\",\" -O\",\"\")","v":""},null,{"$f":"IF(AN110<>\"\",\" -O\",\"\")","v":""},null,{"$f":"IF(AP110<>\"\",\" -O\",\"\")","v":""},null,{"$f":"IF(AR110<>\"\",\" -O\",\"\")","v":""},null,{"$f":"IF(AT110<>\"\",\" -O\",\"\")","v":""},null,{"$f":"IF(AV110<>\"\",\" -O\",\"\")","v":""},null,{"$f":"IF(AX110<>\"\",\" -O\",\"\")","v":""},null,{"$f":"IF(AZ110<>\"\",\" -O\",\"\")","v":""},null,{"$f":"IF(BB110<>\"\",\" -O\",\"\")","v":""},null,{"$f":"IF(BD110<>\"\",\" -O\",\"\")","v":""},null,{"$f":"IF(BF110<>\"\",\" -O\",\"\")","v":""},null,{"$f":"IF(BH110<>\"\",\" -O\",\"\")","v":""},null,{"$f":"IF(BJ110<>\"\",\" -O\",\"\")","v":""}]
[null,null,null,null,null,null,null,null,null,null,null,null,1.51,{"$f":"IFERROR(VLOOKUP(M110,'CRUCE OPORTUNIDADES'!$C$12:$D$111,2,FALSE),\"\")","v":""},2.51000000000001,{"$f":"IFERROR(VLOOKUP(O110,'CRUCE OPORTUNIDADES'!$C$12:$D$111,2,FALSE),\"\")","v":""},3.5100000000000202,{"$f":"IFERROR(VLOOKUP(Q110,'CRUCE OPORTUNIDADES'!$C$12:$D$111,2,FALSE),\"\")","v":""},4.51000000000003,{"$f":"IFERROR(VLOOKUP(S110,'CRUCE OPORTUNIDADES'!$C$12:$D$111,2,FALSE),\"\")","v":""},5.5100000000000398,{"$f":"IFERROR(VLOOKUP(U110,'CRUCE OPORTUNIDADES'!$C$12:$D$111,2,FALSE),\"\")","v":""},6.5100000000000504,{"$f":"IFERROR(VLOOKUP(W110,'CRUCE OPORTUNIDADES'!$C$12:$D$111,2,FALSE),\"\")","v":""},7.5100000000000602,{"$f":"IFERROR(VLOOKUP(Y110,'CRUCE OPORTUNIDADES'!$C$12:$D$111,2,FALSE),\"\")","v":""},8.5100000000000708,{"$f":"IFERROR(VLOOKUP(AA110,'CRUCE OPORTUNIDADES'!$C$12:$D$111,2,FALSE),\"\")","v":""},9.5100000000000797,{"$f":"IFERROR(VLOOKUP(AC110,'CRUCE OPORTUNIDADES'!$C$12:$D$111,2,FALSE),\"\")","v":""},10.510000000000099,{"$f":"IFERROR(VLOOKUP(AE110,'CRUCE OPORTUNIDADES'!$C$12:$D$111,2,FALSE),\"\")","v":""},11.510000000000099,{"$f":"IFERROR(VLOOKUP(AG110,'CRUCE OPORTUNIDADES'!$C$12:$D$111,2,FALSE),\"\")","v":""},12.510000000000099,{"$f":"IFERROR(VLOOKUP(AI110,'CRUCE OPORTUNIDADES'!$C$12:$D$111,2,FALSE),\"\")","v":""},13.510000000000099,{"$f":"IFERROR(VLOOKUP(AK110,'CRUCE OPORTUNIDADES'!$C$12:$D$111,2,FALSE),\"\")","v":""},14.510000000000099,{"$f":"IFERROR(VLOOKUP(AM110,'CRUCE OPORTUNIDADES'!$C$12:$D$111,2,FALSE),\"\")","v":""},15.510000000000099,{"$f":"IFERROR(VLOOKUP(AO110,'CRUCE OPORTUNIDADES'!$C$12:$D$111,2,FALSE),\"\")","v":""},16.510000000000101,{"$f":"IFERROR(VLOOKUP(AQ110,'CRUCE OPORTUNIDADES'!$C$12:$D$111,2,FALSE),\"\")","v":""},17.510000000000201,{"$f":"IFERROR(VLOOKUP(AS110,'CRUCE OPORTUNIDADES'!$C$12:$D$111,2,FALSE),\"\")","v":""},18.510000000000201,{"$f":"IFERROR(VLOOKUP(AU110,'CRUCE OPORTUNIDADES'!$C$12:$D$111,2,FALSE),\"\")","v":""},19.510000000000201,{"$f":"IFERROR(VLOOKUP(AW110,'CRUCE OPORTUNIDADES'!$C$12:$D$111,2,FALSE),\"\")","v":""},20.510000000000201,{"$f":"IFERROR(VLOOKUP(AY110,'CRUCE OPORTUNIDADES'!$C$12:$D$111,2,FALSE),\"\")","v":""},21.510000000000201,{"$f":"IFERROR(VLOOKUP(BA110,'CRUCE OPORTUNIDADES'!$C$12:$D$111,2,FALSE),\"\")","v":""},22.510000000000201,{"$f":"IFERROR(VLOOKUP(BC110,'CRUCE OPORTUNIDADES'!$C$12:$D$111,2,FALSE),\"\")","v":""},23.510000000000201,{"$f":"IFERROR(VLOOKUP(BE110,'CRUCE OPORTUNIDADES'!$C$12:$D$111,2,FALSE),\"\")","v":""},24.510000000000201,{"$f":"IFERROR(VLOOKUP(BG110,'CRUCE OPORTUNIDADES'!$C$12:$D$111,2,FALSE),\"\")","v":""},25.510000000000201,{"$f":"IFERROR(VLOOKUP(BI110,'CRUCE OPORTUNIDADES'!$C$12:$D$111,2,FALSE),\"\")","v":""}]
[null,null,null,null,null,null,null,null,null,null,null,null,null,{"$f":"IF(N112<>\"\",\" -O\",\"\")","v":""},null,{"$f":"IF(P112<>\"\",\" -O\",\"\")","v":""},null,{"$f":"IF(R112<>\"\",\" -O\",\"\")","v":""},null,{"$f":"IF(T112<>\"\",\" -O\",\"\")","v":""},null,{"$f":"IF(V112<>\"\",\" -O\",\"\")","v":""},null,{"$f":"IF(X112<>\"\",\" -O\",\"\")","v":""},null,{"$f":"IF(Z112<>\"\",\" -O\",\"\")","v":""},null,{"$f":"IF(AB112<>\"\",\" -O\",\"\")","v":""},null,{"$f":"IF(AD112<>\"\",\" -O\",\"\")","v":""},null,{"$f":"IF(AF112<>\"\",\" -O\",\"\")","v":""},null,{"$f":"IF(AH112<>\"\",\" -O\",\"\")","v":""},null,{"$f":"IF(AJ112<>\"\",\" -O\",\"\")","v":""},null,{"$f":"IF(AL112<>\"\",\" -O\",\"\")","v":""},null,{"$f":"IF(AN112<>\"\",\" -O\",\"\")","v":""},null,{"$f":"IF(AP112<>\"\",\" -O\",\"\")","v":""},null,{"$f":"IF(AR112<>\"\",\" -O\",\"\")","v":""},null,{"$f":"IF(AT112<>\"\",\" -O\",\"\")","v":""},null,{"$f":"IF(AV112<>\"\",\" -O\",\"\")","v":""},null,{"$f":"IF(AX112<>\"\",\" -O\",\"\")","v":""},null,{"$f":"IF(AZ112<>\"\",\" -O\",\"\")","v":""},null,{"$f":"IF(BB112<>\"\",\" -O\",\"\")","v":""},null,{"$f":"IF(BD112<>\"\",\" -O\",\"\")","v":""},null,{"$f":"IF(BF112<>\"\",\" -O\",\"\")","v":""},null,{"$f":"IF(BH112<>\"\",\" -O\",\"\")","v":""},null,{"$f":"IF(BJ112<>\"\",\" -O\",\"\")","v":""}]
[null,null,null,null,null,null,null,null,null,null,null,null,1.52,{"$f":"IFERROR(VLOOKUP(M112,'CRUCE OPORTUNIDADES'!$C$12:$D$111,2,FALSE),\"\")","v":""},2.5200000000000098,{"$f":"IFERROR(VLOOKUP(O112,'CRUCE OPORTUNIDADES'!$C$12:$D$111,2,FALSE),\"\")","v":""},3.52000000000002,{"$f":"IFERROR(VLOOKUP(Q112,'CRUCE OPORTUNIDADES'!$C$12:$D$111,2,FALSE),\"\")","v":""},4.5200000000000298,{"$f":"IFERROR(VLOOKUP(S112,'CRUCE OPORTUNIDADES'!$C$12:$D$111,2,FALSE),\"\")","v":""},5.5200000000000404,{"$f":"IFERROR(VLOOKUP(U112,'CRUCE OPORTUNIDADES'!$C$12:$D$111,2,FALSE),\"\")","v":""},6.5200000000000502,{"$f":"IFERROR(VLOOKUP(W112,'CRUCE OPORTUNIDADES'!$C$12:$D$111,2,FALSE),\"\")","v":""},7.52000000000006,{"$f":"IFERROR(VLOOKUP(Y112,'CRUCE OPORTUNIDADES'!$C$12:$D$111,2,FALSE),\"\")","v":""},8.5200000000000706,{"$f":"IFERROR(VLOOKUP(AA112,'CRUCE OPORTUNIDADES'!$C$12:$D$111,2,FALSE),\"\")","v":""},9.5200000000000795,{"$f":"IFERROR(VLOOKUP(AC112,'CRUCE OPORTUNIDADES'!$C$12:$D$111,2,FALSE),\"\")","v":""},10.520000000000101,{"$f":"IFERROR(VLOOKUP(AE112,'CRUCE OPORTUNIDADES'!$C$12:$D$111,2,FALSE),\"\")","v":""},11.520000000000101,{"$f":"IFERROR(VLOOKUP(AG112,'CRUCE OPORTUNIDADES'!$C$12:$D$111,2,FALSE),\"\")","v":""},12.520000000000101,{"$f":"IFERROR(VLOOKUP(AI112,'CRUCE OPORTUNIDADES'!$C$12:$D$111,2,FALSE),\"\")","v":""},13.520000000000101,{"$f":"IFERROR(VLOOKUP(AK112,'CRUCE OPORTUNIDADES'!$C$12:$D$111,2,FALSE),\"\")","v":""},14.520000000000101,{"$f":"IFERROR(VLOOKUP(AM112,'CRUCE OPORTUNIDADES'!$C$12:$D$111,2,FALSE),\"\")","v":""},15.520000000000101,{"$f":"IFERROR(VLOOKUP(AO112,'CRUCE OPORTUNIDADES'!$C$12:$D$111,2,FALSE),\"\")","v":""},16.520000000000099,{"$f":"IFERROR(VLOOKUP(AQ112,'CRUCE OPORTUNIDADES'!$C$12:$D$111,2,FALSE),\"\")","v":""},17.520000000000199,{"$f":"IFERROR(VLOOKUP(AS112,'CRUCE OPORTUNIDADES'!$C$12:$D$111,2,FALSE),\"\")","v":""},18.520000000000199,{"$f":"IFERROR(VLOOKUP(AU112,'CRUCE OPORTUNIDADES'!$C$12:$D$111,2,FALSE),\"\")","v":""},19.520000000000199,{"$f":"IFERROR(VLOOKUP(AW112,'CRUCE OPORTUNIDADES'!$C$12:$D$111,2,FALSE),\"\")","v":""},20.520000000000199,{"$f":"IFERROR(VLOOKUP(AY112,'CRUCE OPORTUNIDADES'!$C$12:$D$111,2,FALSE),\"\")","v":""},21.520000000000199,{"$f":"IFERROR(VLOOKUP(BA112,'CRUCE OPORTUNIDADES'!$C$12:$D$111,2,FALSE),\"\")","v":""},22.520000000000199,{"$f":"IFERROR(VLOOKUP(BC112,'CRUCE OPORTUNIDADES'!$C$12:$D$111,2,FALSE),\"\")","v":""},23.520000000000199,{"$f":"IFERROR(VLOOKUP(BE112,'CRUCE OPORTUNIDADES'!$C$12:$D$111,2,FALSE),\"\")","v":""},24.520000000000199,{"$f":"IFERROR(VLOOKUP(BG112,'CRUCE OPORTUNIDADES'!$C$12:$D$111,2,FALSE),\"\")","v":""},25.520000000000199,{"$f":"IFERROR(VLOOKUP(BI112,'CRUCE OPORTUNIDADES'!$C$12:$D$111,2,FALSE),\"\")","v":""}]
[null,null,null,null,null,null,null,null,null,null,null,null,null,{"$f":"IF(N114<>\"\",\" -O\",\"\")","v":""},null,{"$f":"IF(P114<>\"\",\" -O\",\"\")","v":""},null,{"$f":"IF(R114<>\"\",\" -O\",\"\")","v":""},null,{"$f":"IF(T114<>\"\",\" -O\",\"\")","v":""},null,{"$f":"IF(V114<>\"\",\" -O\",\"\")","v":""},null,{"$f":"IF(X114<>\"\",\" -O\",\"\")","v":""},null,{"$f":"IF(Z114<>\"\",\" -O\",\"\")","v":""},null,{"$f":"IF(AB114<>\"\",\" -O\",\"\")","v":""},null,{"$f":"IF(AD114<>\"\",\" -O\",\"\")","v":""},null,{"$f":"IF(AF114<>\"\",\" -O\",\"\")","v":""},null,{"$f":"IF(AH114<>\"\",\" -O\",\"\")","v":""},null,{"$f":"IF(AJ114<>\"\",\" -O\",\"\")","v":""},null,{"$f":"IF(AL114<>\"\",\" -O\",\"\")","v":""},null,{"$f":"IF(AN114<>\"\",\" -O\",\"\")","v":""},null,{"$f":"IF(AP114<>\"\",\" -O\",\"\")","v":""},null,{"$f":"IF(AR114<>\"\",\" -O\",\"\")","v":""},null,{"$f":"IF(AT114<>\"\",\" -O\",\"\")","v":""},null,{"$f":"IF(AV114<>\"\",\" -O\",\"\")","v":""},null,{"$f":"IF(AX114<>\"\",\" -O\",\"\")","v":""},null,{"$f":"IF(AZ114<>\"\",\" -O\",\"\")","v":""},null,{"$f":"IF(BB114<>\"\",\" -O\",\"\")","v":""},null,{"$f":"IF(BD114<>\"\",\" -O\",\"\")","v":""},null,{"$f":"IF(BF114<>\"\",\" -O\",\"\")","v":""},null,{"$f":"IF(BH114<>\"\",\" -O\",\"\")","v":""},null,{"$f":"IF(BJ114<>\"\",\" -O\",\"\")","v":""}]
[null,null,null,null,null,null,null,null,null,null,null,null,1.53,{"$f":"IFERROR(VLOOKUP(M114,'CRUCE OPORTUNIDADES'!$C$12:$D$111,2,FALSE),\"\")","v":""},2.53000000000001,{"$f":"IFERROR(VLOOKUP(O114,'CRUCE OPORTUNIDADES'!$C$12:$D$111,2,FALSE),\"\")","v":""},3.5300000000000198,{"$f":"IFERROR(VLOOKUP(Q114,'CRUCE OPORTUNIDADES'!$C$12:$D$111,2,FALSE),\"\")","v":""},4.5300000000000296,{"$f":"IFERROR(VLOOKUP(S114,'CRUCE OPORTUNIDADES'!$C$12:$D$111,2,FALSE),\"\")","v":""},5.5300000000000402,{"$f":"IFERROR(VLOOKUP(U114,'CRUCE OPORTUNIDADES'!$C$12:$D$111,2,FALSE),\"\")","v":""},6.53000000000005,{"$f":"IFERROR(VLOOKUP(W114,'CRUCE OPORTUNIDADES'!$C$12:$D$111,2,FALSE),\"\")","v":""},7.5300000000000598,{"$f":"IFERROR(VLOOKUP(Y114,'CRUCE OPORTUNIDADES'!$C$12:$D$111,2,FALSE),\"\")","v":""},8.5300000000000704,{"$f":"IFERROR(VLOOKUP(AA114,'CRUCE OPORTUNIDADES'!$C$12:$D$111,2,FALSE),\"\")","v":""},9.5300000000000793,{"$f":"IFERROR(VLOOKUP(AC114,'CRUCE OPORTUNIDADES'!$C$12:$D$111,2,FALSE),\"\")","v":""},10.530000000000101,{"$f":"IFERROR(VLOOKUP(AE114,'CRUCE OPORTUNIDADES'!$C$12:$D$111,2,FALSE),\"\")","v":""},11.530000000000101,{"$f":"IFERROR(VLOOKUP(AG114,'CRUCE OPORTUNIDADES'!$C$12:$D$111,2,FALSE),\"\")","v":""},12.530000000000101,{"$f":"IFERROR(VLOOKUP(AI114,'CRUCE OPORTUNIDADES'!$C$12:$D$111,2,FALSE),\"\")","v":""},13.530000000000101,{"$f":"IFERROR(VLOOKUP(AK114,'CRUCE OPORTUNIDADES'!$C$12:$D$111,2,FALSE),\"\")","v":""},14.530000000000101,{"$f":"IFERROR(VLOOKUP(AM114,'CRUCE OPORTUNIDADES'!$C$12:$D$111,2,FALSE),\"\")","v":""},15.530000000000101,{"$f":"IFERROR(VLOOKUP(AO114,'CRUCE OPORTUNIDADES'!$C$12:$D$111,2,FALSE),\"\")","v":""},16.530000000000101,{"$f":"IFERROR(VLOOKUP(AQ114,'CRUCE OPORTUNIDADES'!$C$12:$D$111,2,FALSE),\"\")","v":""},17.5300000000002,{"$f":"IFERROR(VLOOKUP(AS114,'CRUCE OPORTUNIDADES'!$C$12:$D$111,2,FALSE),\"\")","v":""},18.5300000000002,{"$f":"IFERROR(VLOOKUP(AU114,'CRUCE OPORTUNIDADES'!$C$12:$D$111,2,FALSE),\"\")","v":""},19.5300000000002,{"$f":"IFERROR(VLOOKUP(AW114,'CRUCE OPORTUNIDADES'!$C$12:$D$111,2,FALSE),\"\")","v":""},20.5300000000002,{"$f":"IFERROR(VLOOKUP(AY114,'CRUCE OPORTUNIDADES'!$C$12:$D$111,2,FALSE),\"\")","v":""},21.5300000000002,{"$f":"IFERROR(VLOOKUP(BA114,'CRUCE OPORTUNIDADES'!$C$12:$D$111,2,FALSE),\"\")","v":""},22.5300000000002,{"$f":"IFERROR(VLOOKUP(BC114,'CRUCE OPORTUNIDADES'!$C$12:$D$111,2,FALSE),\"\")","v":""},23.5300000000002,{"$f":"IFERROR(VLOOKUP(BE114,'CRUCE OPORTUNIDADES'!$C$12:$D$111,2,FALSE),\"\")","v":""},24.5300000000002,{"$f":"IFERROR(VLOOKUP(BG114,'CRUCE OPORTUNIDADES'!$C$12:$D$111,2,FALSE),\"\")","v":""},25.5300000000002,{"$f":"IFERROR(VLOOKUP(BI114,'CRUCE OPORTUNIDADES'!$C$12:$D$111,2,FALSE),\"\")","v":""}]
[null,null,null,null,null,null,null,null,null,null,null,null,null,{"$f":"IF(N116<>\"\",\" -O\",\"\")","v":""},null,{"$f":"IF(P116<>\"\",\" -O\",\"\")","v":""},null,{"$f":"IF(R116<>\"\",\" -O\",\"\")","v":""},null,{"$f":"IF(T116<>\"\",\" -O\",\"\")","v":""},null,{"$f":"IF(V116<>\"\",\" -O\",\"\")","v":""},null,{"$f":"IF(X116<>\"\",\" -O\",\"\")","v":""},null,{"$f":"IF(Z116<>\"\",\" -O\",\"\")","v":""},null,{"$f":"IF(AB116<>\"\",\" -O\",\"\")","v":""},null,{"$f":"IF(AD116<>\"\",\" -O\",\"\")","v":""},null,{"$f":"IF(AF116<>\"\",\" -O\",\"\")","v":""},null,{"$f":"IF(AH116<>\"\",\" -O\",\"\")","v":""},null,{"$f":"IF(AJ116<>\"\",\" -O\",\"\")","v":""},null,{"$f":"IF(AL116<>\"\",\" -O\",\"\")","v":""},null,{"$f":"IF(AN116<>\"\",\" -O\",\"\")","v":""},null,{"$f":"IF(AP116<>\"\",\" -O\",\"\")","v":""},null,{"$f":"IF(AR116<>\"\",\" -O\",\"\")","v":""},null,{"$f":"IF(AT116<>\"\",\" -O\",\"\")","v":""},null,{"$f":"IF(AV116<>\"\",\" -O\",\"\")","v":""},null,{"$f":"IF(AX116<>\"\",\" -O\",\"\")","v":""},null,{"$f":"IF(AZ116<>\"\",\" -O\",\"\")","v":""},null,{"$f":"IF(BB116<>\"\",\" -O\",\"\")","v":""},null,{"$f":"IF(BD116<>\"\",\" -O\",\"\")","v":""},null,{"$f":"IF(BF116<>\"\",\" -O\",\"\")","v":""},null,{"$f":"IF(BH116<>\"\",\" -O\",\"\")","v":""},null,{"$f":"IF(BJ116<>\"\",\" -O\",\"\")","v":""}]
[null,null,null,null,null,null,null,null,null,null,null,null,1.54,{"$f":"IFERROR(VLOOKUP(M116,'CRUCE OPORTUNIDADES'!$C$12:$D$111,2,FALSE),\"\")","v":""},2.5400000000000098,{"$f":"IFERROR(VLOOKUP(O116,'CRUCE OPORTUNIDADES'!$C$12:$D$111,2,FALSE),\"\")","v":""},3.54000000000002,{"$f":"IFERROR(VLOOKUP(Q116,'CRUCE OPORTUNIDADES'!$C$12:$D$111,2,FALSE),\"\")","v":""},4.5400000000000302,{"$f":"IFERROR(VLOOKUP(S116,'CRUCE OPORTUNIDADES'!$C$12:$D$111,2,FALSE),\"\")","v":""},5.54000000000004,{"$f":"IFERROR(VLOOKUP(U116,'CRUCE OPORTUNIDADES'!$C$12:$D$111,2,FALSE),\"\")","v":""},6.5400000000000498,{"$f":"IFERROR(VLOOKUP(W116,'CRUCE OPORTUNIDADES'!$C$12:$D$111,2,FALSE),\"\")","v":""},7.5400000000000604,{"$f":"IFERROR(VLOOKUP(Y116,'CRUCE OPORTUNIDADES'!$C$12:$D$111,2,FALSE),\"\")","v":""},8.5400000000000702,{"$f":"IFERROR(VLOOKUP(AA116,'CRUCE OPORTUNIDADES'!$C$12:$D$111,2,FALSE),\"\")","v":""},9.5400000000000809,{"$f":"IFERROR(VLOOKUP(AC116,'CRUCE OPORTUNIDADES'!$C$12:$D$111,2,FALSE),\"\")","v":""},10.5400000000001,{"$f":"IFERROR(VLOOKUP(AE116,'CRUCE OPORTUNIDADES'!$C$12:$D$111,2,FALSE),\"\")","v":""},11.5400000000001,{"$f":"IFERROR(VLOOKUP(AG116,'CRUCE OPORTUNIDADES'!$C$12:$D$111,2,FALSE),\"\")","v":""},12.5400000000001,{"$f":"IFERROR(VLOOKUP(AI116,'CRUCE OPORTUNIDADES'!$C$12:$D$111,2,FALSE),\"\")","v":""},13.5400000000001,{"$f":"IFERROR(VLOOKUP(AK116,'CRUCE OPORTUNIDADES'!$C$12:$D$111,2,FALSE),\"\")","v":""},14.5400000000001,{"$f":"IFERROR(VLOOKUP(AM116,'CRUCE OPORTUNIDADES'!$C$12:$D$111,2,FALSE),\"\")","v":""},15.5400000000001,{"$f":"IFERROR(VLOOKUP(AO116,'CRUCE OPORTUNIDADES'!$C$12:$D$111,2,FALSE),\"\")","v":""},16.540000000000099,{"$f":"IFERROR(VLOOKUP(AQ116,'CRUCE OPORTUNIDADES'!$C$12:$D$111,2,FALSE),\"\")","v":""},17.540000000000202,{"$f":"IFERROR(VLOOKUP(AS116,'CRUCE OPORTUNIDADES'!$C$12:$D$111,2,FALSE),\"\")","v":""},18.540000000000202,{"$f":"IFERROR(VLOOKUP(AU116,'CRUCE OPORTUNIDADES'!$C$12:$D$111,2,FALSE),\"\")","v":""},19.540000000000202,{"$f":"IFERROR(VLOOKUP(AW116,'CRUCE OPORTUNIDADES'!$C$12:$D$111,2,FALSE),\"\")","v":""},20.540000000000202,{"$f":"IFERROR(VLOOKUP(AY116,'CRUCE OPORTUNIDADES'!$C$12:$D$111,2,FALSE),\"\")","v":""},21.540000000000202,{"$f":"IFERROR(VLOOKUP(BA116,'CRUCE OPORTUNIDADES'!$C$12:$D$111,2,FALSE),\"\")","v":""},22.540000000000202,{"$f":"IFERROR(VLOOKUP(BC116,'CRUCE OPORTUNIDADES'!$C$12:$D$111,2,FALSE),\"\")","v":""},23.540000000000202,{"$f":"IFERROR(VLOOKUP(BE116,'CRUCE OPORTUNIDADES'!$C$12:$D$111,2,FALSE),\"\")","v":""},24.540000000000202,{"$f":"IFERROR(VLOOKUP(BG116,'CRUCE OPORTUNIDADES'!$C$12:$D$111,2,FALSE),\"\")","v":""},25.540000000000202,{"$f":"IFERROR(VLOOKUP(BI116,'CRUCE OPORTUNIDADES'!$C$12:$D$111,2,FALSE),\"\")","v":""}]
[null,null,null,null,null,null,null,null,null,null,null,null,null,{"$f":"IF(N118<>\"\",\" -O\",\"\")","v":""},null,{"$f":"IF(P118<>\"\",\" -O\",\"\")","v":""},null,{"$f":"IF(R118<>\"\",\" -O\",\"\")","v":""},null,{"$f":"IF(T118<>\"\",\" -O\",\"\")","v":""},null,{"$f":"IF(V118<>\"\",\" -O\",\"\")","v":""},null,{"$f":"IF(X118<>\"\",\" -O\",\"\")","v":""},null,{"$f":"IF(Z118<>\"\",\" -O\",\"\")","v":""},null,{"$f":"IF(AB118<>\"\",\" -O\",\"\")","v":""},null,{"$f":"IF(AD118<>\"\",\" -O\",\"\")","v":""},null,{"$f":"IF(AF118<>\"\",\" -O\",\"\")","v":""},null,{"$f":"IF(AH118<>\"\",\" -O\",\"\")","v":""},null,{"$f":"IF(AJ118<>\"\",\" -O\",\"\")","v":""},null,{"$f":"IF(AL118<>\"\",\" -O\",\"\")","v":""},null,{"$f":"IF(AN118<>\"\",\" -O\",\"\")","v":""},null,{"$f":"IF(AP118<>\"\",\" -O\",\"\")","v":""},null,{"$f":"IF(AR118<>\"\",\" -O\",\"\")","v":""},null,{"$f":"IF(AT118<>\"\",\" -O\",\"\")","v":""},null,{"$f":"IF(AV118<>\"\",\" -O\",\"\")","v":""},null,{"$f":"IF(AX118<>\"\",\" -O\",\"\")","v":""},null,{"$f":"IF(AZ118<>\"\",\" -O\",\"\")","v":""},null,{"$f":"IF(BB118<>\"\",\" -O\",\"\")","v":""},null,{"$f":"IF(BD118<>\"\",\" -O\",\"\")","v":""},null,{"$f":"IF(BF118<>\"\",\" -O\",\"\")","v":""},null,{"$f":"IF(BH118<>\"\",\" -O\",\"\")","v":""},null,{"$f":"IF(BJ118<>\"\",\" -O\",\"\")","v":""}]
[null,null,null,null,null,null,null,null,null,null,null,null,1.55,{"$f":"IFERROR(VLOOKUP(M118,'CRUCE OPORTUNIDADES'!$C$12:$D$111,2,FALSE),\"\")","v":""},2.55000000000001,{"$f":"IFERROR(VLOOKUP(O118,'CRUCE OPORTUNIDADES'!$C$12:$D$111,2,FALSE),\"\")","v":""},3.5500000000000198,{"$f":"IFERROR(VLOOKUP(Q118,'CRUCE OPORTUNIDADES'!$C$12:$D$111,2,FALSE),\"\")","v":""},4.55000000000003,{"$f":"IFERROR(VLOOKUP(S118,'CRUCE OPORTUNIDADES'!$C$12:$D$111,2,FALSE),\"\")","v":""},5.5500000000000398,{"$f":"IFERROR(VLOOKUP(U118,'CRUCE OPORTUNIDADES'!$C$12:$D$111,2,FALSE),\"\")","v":""},6.5500000000000496,{"$f":"IFERROR(VLOOKUP(W118,'CRUCE OPORTUNIDADES'!$C$12:$D$111,2,FALSE),\"\")","v":""},7.5500000000000602,{"$f":"IFERROR(VLOOKUP(Y118,'CRUCE OPORTUNIDADES'!$C$12:$D$111,2,FALSE),\"\")","v":""},8.55000000000007,{"$f":"IFERROR(VLOOKUP(AA118,'CRUCE OPORTUNIDADES'!$C$12:$D$111,2,FALSE),\"\")","v":""},9.5500000000000806,{"$f":"IFERROR(VLOOKUP(AC118,'CRUCE OPORTUNIDADES'!$C$12:$D$111,2,FALSE),\"\")","v":""},10.5500000000001,{"$f":"IFERROR(VLOOKUP(AE118,'CRUCE OPORTUNIDADES'!$C$12:$D$111,2,FALSE),\"\")","v":""},11.5500000000001,{"$f":"IFERROR(VLOOKUP(AG118,'CRUCE OPORTUNIDADES'!$C$12:$D$111,2,FALSE),\"\")","v":""},12.5500000000001,{"$f":"IFERROR(VLOOKUP(AI118,'CRUCE OPORTUNIDADES'!$C$12:$D$111,2,FALSE),\"\")","v":""},13.5500000000001,{"$f":"IFERROR(VLOOKUP(AK118,'CRUCE OPORTUNIDADES'!$C$12:$D$111,2,FALSE),\"\")","v":""},14.5500000000001,{"$f":"IFERROR(VLOOKUP(AM118,'CRUCE OPORTUNIDADES'!$C$12:$D$111,2,FALSE),\"\")","v":""},15.5500000000001,{"$f":"IFERROR(VLOOKUP(AO118,'CRUCE OPORTUNIDADES'!$C$12:$D$111,2,FALSE),\"\")","v":""},16.5500000000001,{"$f":"IFERROR(VLOOKUP(AQ118,'CRUCE OPORTUNIDADES'!$C$12:$D$111,2,FALSE),\"\")","v":""},17.5500000000002,{"$f":"IFERROR(VLOOKUP(AS118,'CRUCE OPORTUNIDADES'!$C$12:$D$111,2,FALSE),\"\")","v":""},18.5500000000002,{"$f":"IFERROR(VLOOKUP(AU118,'CRUCE OPORTUNIDADES'!$C$12:$D$111,2,FALSE),\"\")","v":""},19.5500000000002,{"$f":"IFERROR(VLOOKUP(AW118,'CRUCE OPORTUNIDADES'!$C$12:$D$111,2,FALSE),\"\")","v":""},20.5500000000002,{"$f":"IFERROR(VLOOKUP(AY118,'CRUCE OPORTUNIDADES'!$C$12:$D$111,2,FALSE),\"\")","v":""},21.5500000000002,{"$f":"IFERROR(VLOOKUP(BA118,'CRUCE OPORTUNIDADES'!$C$12:$D$111,2,FALSE),\"\")","v":""},22.5500000000002,{"$f":"IFERROR(VLOOKUP(BC118,'CRUCE OPORTUNIDADES'!$C$12:$D$111,2,FALSE),\"\")","v":""},23.5500000000002,{"$f":"IFERROR(VLOOKUP(BE118,'CRUCE OPORTUNIDADES'!$C$12:$D$111,2,FALSE),\"\")","v":""},24.5500000000002,{"$f":"IFERROR(VLOOKUP(BG118,'CRUCE OPORTUNIDADES'!$C$12:$D$111,2,FALSE),\"\")","v":""},25.5500000000002,{"$f":"IFERROR(VLOOKUP(BI118,'CRUCE OPORTUNIDADES'!$C$12:$D$111,2,FALSE),\"\")","v":""}]
[null,null,null,null,null,null,null,null,null,null,null,null,null,{"$f":"IF(N120<>\"\",\" -O\",\"\")","v":""},null,{"$f":"IF(P120<>\"\",\" -O\",\"\")","v":""},null,{"$f":"IF(R120<>\"\",\" -O\",\"\")","v":""},null,{"$f":"IF(T120<>\"\",\" -O\",\"\")","v":""},null,{"$f":"IF(V120<>\"\",\" -O\",\"\")","v":""},null,{"$f":"IF(X120<>\"\",\" -O\",\"\")","v":""},null,{"$f":"IF(Z120<>\"\",\" -O\",\"\")","v":""},null,{"$f":"IF(AB120<>\"\",\" -O\",\"\")","v":""},null,{"$f":"IF(AD120<>\"\",\" -O\",\"\")","v":""},null,{"$f":"IF(AF120<>\"\",\" -O\",\"\")","v":""},null,{"$f":"IF(AH120<>\"\",\" -O\",\"\")","v":""},null,{"$f":"IF(AJ120<>\"\",\" -O\",\"\")","v":""},null,{"$f":"IF(AL120<>\"\",\" -O\",\"\")","v":""},null,{"$f":"IF(AN120<>\"\",\" -O\",\"\")","v":""},null,{"$f":"IF(AP120<>\"\",\" -O\",\"\")","v":""},null,{"$f":"IF(AR120<>\"\",\" -O\",\"\")","v":""},null,{"$f":"IF(AT120<>\"\",\" -O\",\"\")","v":""},null,{"$f":"IF(AV120<>\"\",\" -O\",\"\")","v":""},null,{"$f":"IF(AX120<>\"\",\" -O\",\"\")","v":""},null,{"$f":"IF(AZ120<>\"\",\" -O\",\"\")","v":""},null,{"$f":"IF(BB120<>\"\",\" -O\",\"\")","v":""},null,{"$f":"IF(BD120<>\"\",\" -O\",\"\")","v":""},null,{"$f":"IF(BF120<>\"\",\" -O\",\"\")","v":""},null,{"$f":"IF(BH120<>\"\",\" -O\",\"\")","v":""},null,{"$f":"IF(BJ120<>\"\",\" -O\",\"\")","v":""}]
[null,null,null,null,null,null,null,null,null,null,null,null,1.56,{"$f":"IFERROR(VLOOKUP(M120,'CRUCE OPORTUNIDADES'!$C$12:$D$111,2,FALSE),\"\")","v":""},2.5600000000000098,{"$f":"IFERROR(VLOOKUP(O120,'CRUCE OPORTUNIDADES'!$C$12:$D$111,2,FALSE),\"\")","v":""},3.56000000000002,{"$f":"IFERROR(VLOOKUP(Q120,'CRUCE OPORTUNIDADES'!$C$12:$D$111,2,FALSE),\"\")","v":""},4.5600000000000298,{"$f":"IFERROR(VLOOKUP(S120,'CRUCE OPORTUNIDADES'!$C$12:$D$111,2,FALSE),\"\")","v":""},5.5600000000000396,{"$f":"IFERROR(VLOOKUP(U120,'CRUCE OPORTUNIDADES'!$C$12:$D$111,2,FALSE),\"\")","v":""},6.5600000000000502,{"$f":"IFERROR(VLOOKUP(W120,'CRUCE OPORTUNIDADES'!$C$12:$D$111,2,FALSE),\"\")","v":""},7.56000000000006,{"$f":"IFERROR(VLOOKUP(Y120,'CRUCE OPORTUNIDADES'!$C$12:$D$111,2,FALSE),\"\")","v":""},8.5600000000000698,{"$f":"IFERROR(VLOOKUP(AA120,'CRUCE OPORTUNIDADES'!$C$12:$D$111,2,FALSE),\"\")","v":""},9.5600000000000804,{"$f":"IFERROR(VLOOKUP(AC120,'CRUCE OPORTUNIDADES'!$C$12:$D$111,2,FALSE),\"\")","v":""},10.5600000000001,{"$f":"IFERROR(VLOOKUP(AE120,'CRUCE OPORTUNIDADES'!$C$12:$D$111,2,FALSE),\"\")","v":""},11.5600000000001,{"$f":"IFERROR(VLOOKUP(AG120,'CRUCE OPORTUNIDADES'!$C$12:$D$111,2,FALSE),\"\")","v":""},12.5600000000001,{"$f":"IFERROR(VLOOKUP(AI120,'CRUCE OPORTUNIDADES'!$C$12:$D$111,2,FALSE),\"\")","v":""},13.5600000000001,{"$f":"IFERROR(VLOOKUP(AK120,'CRUCE OPORTUNIDADES'!$C$12:$D$111,2,FALSE),\"\")","v":""},14.5600000000001,{"$f":"IFERROR(VLOOKUP(AM120,'CRUCE OPORTUNIDADES'!$C$12:$D$111,2,FALSE),\"\")","v":""},15.5600000000001,{"$f":"IFERROR(VLOOKUP(AO120,'CRUCE OPORTUNIDADES'!$C$12:$D$111,2,FALSE),\"\")","v":""},16.560000000000102,{"$f":"IFERROR(VLOOKUP(AQ120,'CRUCE OPORTUNIDADES'!$C$12:$D$111,2,FALSE),\"\")","v":""},17.560000000000201,{"$f":"IFERROR(VLOOKUP(AS120,'CRUCE OPORTUNIDADES'!$C$12:$D$111,2,FALSE),\"\")","v":""},18.560000000000201,{"$f":"IFERROR(VLOOKUP(AU120,'CRUCE OPORTUNIDADES'!$C$12:$D$111,2,FALSE),\"\")","v":""},19.560000000000201,{"$f":"IFERROR(VLOOKUP(AW120,'CRUCE OPORTUNIDADES'!$C$12:$D$111,2,FALSE),\"\")","v":""},20.560000000000201,{"$f":"IFERROR(VLOOKUP(AY120,'CRUCE OPORTUNIDADES'!$C$12:$D$111,2,FALSE),\"\")","v":""},21.560000000000201,{"$f":"IFERROR(VLOOKUP(BA120,'CRUCE OPORTUNIDADES'!$C$12:$D$111,2,FALSE),\"\")","v":""},22.560000000000201,{"$f":"IFERROR(VLOOKUP(BC120,'CRUCE OPORTUNIDADES'!$C$12:$D$111,2,FALSE),\"\")","v":""},23.560000000000201,{"$f":"IFERROR(VLOOKUP(BE120,'CRUCE OPORTUNIDADES'!$C$12:$D$111,2,FALSE),\"\")","v":""},24.560000000000201,{"$f":"IFERROR(VLOOKUP(BG120,'CRUCE OPORTUNIDADES'!$C$12:$D$111,2,FALSE),\"\")","v":""},25.560000000000201,{"$f":"IFERROR(VLOOKUP(BI120,'CRUCE OPORTUNIDADES'!$C$12:$D$111,2,FALSE),\"\")","v":""}]
[null,null,null,null,null,null,null,null,null,null,null,null,null,{"$f":"IF(N122<>\"\",\" -O\",\"\")","v":""},null,{"$f":"IF(P122<>\"\",\" -O\",\"\")","v":""},null,{"$f":"IF(R122<>\"\",\" -O\",\"\")","v":""},null,{"$f":"IF(T122<>\"\",\" -O\",\"\")","v":""},null,{"$f":"IF(V122<>\"\",\" -O\",\"\")","v":""},null,{"$f":"IF(X122<>\"\",\" -O\",\"\")","v":""},null,{"$f":"IF(Z122<>\"\",\" -O\",\"\")","v":""},null,{"$f":"IF(AB122<>\"\",\" -O\",\"\")","v":""},null,{"$f":"IF(AD122<>\"\",\" -O\",\"\")","v":""},null,{"$f":"IF(AF122<>\"\",\" -O\",\"\")","v":""},null,{"$f":"IF(AH122<>\"\",\" -O\",\"\")","v":""},null,{"$f":"IF(AJ122<>\"\",\" -O\",\"\")","v":""},null,{"$f":"IF(AL122<>\"\",\" -O\",\"\")","v":""},null,{"$f":"IF(AN122<>\"\",\" -O\",\"\")","v":""},null,{"$f":"IF(AP122<>\"\",\" -O\",\"\")","v":""},null,{"$f":"IF(AR122<>\"\",\" -O\",\"\")","v":""},null,{"$f":"IF(AT122<>\"\",\" -O\",\"\")","v":""},null,{"$f":"IF(AV122<>\"\",\" -O\",\"\")","v":""},null,{"$f":"IF(AX122<>\"\",\" -O\",\"\")","v":""},null,{"$f":"IF(AZ122<>\"\",\" -O\",\"\")","v":""},null,{"$f":"IF(BB122<>\"\",\" -O\",\"\")","v":""},null,{"$f":"IF(BD122<>\"\",\" -O\",\"\")","v":""},null,{"$f":"IF(BF122<>\"\",\" -O\",\"\")","v":""},null,{"$f":"IF(BH122<>\"\",\" -O\",\"\")","v":""},null,{"$f":"IF(BJ122<>\"\",\" -O\",\"\")","v":""}]
[null,null,null,null,null,null,null,null,null,null,null,null,1.57,{"$f":"IFERROR(VLOOKUP(M122,'CRUCE OPORTUNIDADES'!$C$12:$D$111,2,FALSE),\"\")","v":""},2.5700000000000101,{"$f":"IFERROR(VLOOKUP(O122,'CRUCE OPORTUNIDADES'!$C$12:$D$111,2,FALSE),\"\")","v":""},3.5700000000000198,{"$f":"IFERROR(VLOOKUP(Q122,'CRUCE OPORTUNIDADES'!$C$12:$D$111,2,FALSE),\"\")","v":""},4.5700000000000296,{"$f":"IFERROR(VLOOKUP(S122,'CRUCE OPORTUNIDADES'!$C$12:$D$111,2,FALSE),\"\")","v":""},5.5700000000000403,{"$f":"IFERROR(VLOOKUP(U122,'CRUCE OPORTUNIDADES'!$C$12:$D$111,2,FALSE),\"\")","v":""},6.57000000000005,{"$f":"IFERROR(VLOOKUP(W122,'CRUCE OPORTUNIDADES'!$C$12:$D$111,2,FALSE),\"\")","v":""},7.5700000000000598,{"$f":"IFERROR(VLOOKUP(Y122,'CRUCE OPORTUNIDADES'!$C$12:$D$111,2,FALSE),\"\")","v":""},8.5700000000000696,{"$f":"IFERROR(VLOOKUP(AA122,'CRUCE OPORTUNIDADES'!$C$12:$D$111,2,FALSE),\"\")","v":""},9.5700000000000802,{"$f":"IFERROR(VLOOKUP(AC122,'CRUCE OPORTUNIDADES'!$C$12:$D$111,2,FALSE),\"\")","v":""},10.5700000000001,{"$f":"IFERROR(VLOOKUP(AE122,'CRUCE OPORTUNIDADES'!$C$12:$D$111,2,FALSE),\"\")","v":""},11.5700000000001,{"$f":"IFERROR(VLOOKUP(AG122,'CRUCE OPORTUNIDADES'!$C$12:$D$111,2,FALSE),\"\")","v":""},12.5700000000001,{"$f":"IFERROR(VLOOKUP(AI122,'CRUCE OPORTUNIDADES'!$C$12:$D$111,2,FALSE),\"\")","v":""},13.5700000000001,{"$f":"IFERROR(VLOOKUP(AK122,'CRUCE OPORTUNIDADES'!$C$12:$D$111,2,FALSE),\"\")","v":""},14.5700000000001,{"$f":"IFERROR(VLOOKUP(AM122,'CRUCE OPORTUNIDADES'!$C$12:$D$111,2,FALSE),\"\")","v":""},15.5700000000001,{"$f":"IFERROR(VLOOKUP(AO122,'CRUCE OPORTUNIDADES'!$C$12:$D$111,2,FALSE),\"\")","v":""},16.5700000000001,{"$f":"IFERROR(VLOOKUP(AQ122,'CRUCE OPORTUNIDADES'!$C$12:$D$111,2,FALSE),\"\")","v":""},17.570000000000199,{"$f":"IFERROR(VLOOKUP(AS122,'CRUCE OPORTUNIDADES'!$C$12:$D$111,2,FALSE),\"\")","v":""},18.570000000000199,{"$f":"IFERROR(VLOOKUP(AU122,'CRUCE OPORTUNIDADES'!$C$12:$D$111,2,FALSE),\"\")","v":""},19.570000000000199,{"$f":"IFERROR(VLOOKUP(AW122,'CRUCE OPORTUNIDADES'!$C$12:$D$111,2,FALSE),\"\")","v":""},20.570000000000199,{"$f":"IFERROR(VLOOKUP(AY122,'CRUCE OPORTUNIDADES'!$C$12:$D$111,2,FALSE),\"\")","v":""},21.570000000000199,{"$f":"IFERROR(VLOOKUP(BA122,'CRUCE OPORTUNIDADES'!$C$12:$D$111,2,FALSE),\"\")","v":""},22.570000000000199,{"$f":"IFERROR(VLOOKUP(BC122,'CRUCE OPORTUNIDADES'!$C$12:$D$111,2,FALSE),\"\")","v":""},23.570000000000199,{"$f":"IFERROR(VLOOKUP(BE122,'CRUCE OPORTUNIDADES'!$C$12:$D$111,2,FALSE),\"\")","v":""},24.570000000000199,{"$f":"IFERROR(VLOOKUP(BG122,'CRUCE OPORTUNIDADES'!$C$12:$D$111,2,FALSE),\"\")","v":""},25.570000000000199,{"$f":"IFERROR(VLOOKUP(BI122,'CRUCE OPORTUNIDADES'!$C$12:$D$111,2,FALSE),\"\")","v":""}]
[null,null,null,null,null,null,null,null,null,null,null,null,null,{"$f":"IF(N124<>\"\",\" -O\",\"\")","v":""},null,{"$f":"IF(P124<>\"\",\" -O\",\"\")","v":""},null,{"$f":"IF(R124<>\"\",\" -O\",\"\")","v":""},null,{"$f":"IF(T124<>\"\",\" -O\",\"\")","v":""},null,{"$f":"IF(V124<>\"\",\" -O\",\"\")","v":""},null,{"$f":"IF(X124<>\"\",\" -O\",\"\")","v":""},null,{"$f":"IF(Z124<>\"\",\" -O\",\"\")","v":""},null,{"$f":"IF(AB124<>\"\",\" -O\",\"\")","v":""},null,{"$f":"IF(AD124<>\"\",\" -O\",\"\")","v":""},null,{"$f":"IF(AF124<>\"\",\" -O\",\"\")","v":""},null,{"$f":"IF(AH124<>\"\",\" -O\",\"\")","v":""},null,{"$f":"IF(AJ124<>\"\",\" -O\",\"\")","v":""},null,{"$f":"IF(AL124<>\"\",\" -O\",\"\")","v":""},null,{"$f":"IF(AN124<>\"\",\" -O\",\"\")","v":""},null,{"$f":"IF(AP124<>\"\",\" -O\",\"\")","v":""},null,{"$f":"IF(AR124<>\"\",\" -O\",\"\")","v":""},null,{"$f":"IF(AT124<>\"\",\" -O\",\"\")","v":""},null,{"$f":"IF(AV124<>\"\",\" -O\",\"\")","v":""},null,{"$f":"IF(AX124<>\"\",\" -O\",\"\")","v":""},null,{"$f":"IF(AZ124<>\"\",\" -O\",\"\")","v":""},null,{"$f":"IF(BB124<>\"\",\" -O\",\"\")","v":""},null,{"$f":"IF(BD124<>\"\",\" -O\",\"\")","v":""},null,{"$f":"IF(BF124<>\"\",\" -O\",\"\")","v":""},null,{"$f":"IF(BH124<>\"\",\" -O\",\"\")","v":""},null,{"$f":"IF(BJ124<>\"\",\" -O\",\"\")","v":""}]
[null,null,null,null,null,null,null,null,null,null,null,null,1.58,{"$f":"IFERROR(VLOOKUP(M124,'CRUCE OPORTUNIDADES'!$C$12:$D$111,2,FALSE),\"\")","v":""},2.5800000000000098,{"$f":"IFERROR(VLOOKUP(O124,'CRUCE OPORTUNIDADES'!$C$12:$D$111,2,FALSE),\"\")","v":""},3.5800000000000201,{"$f":"IFERROR(VLOOKUP(Q124,'CRUCE OPORTUNIDADES'!$C$12:$D$111,2,FALSE),\"\")","v":""},4.5800000000000303,{"$f":"IFERROR(VLOOKUP(S124,'CRUCE OPORTUNIDADES'!$C$12:$D$111,2,FALSE),\"\")","v":""},5.58000000000004,{"$f":"IFERROR(VLOOKUP(U124,'CRUCE OPORTUNIDADES'!$C$12:$D$111,2,FALSE),\"\")","v":""},6.5800000000000498,{"$f":"IFERROR(VLOOKUP(W124,'CRUCE OPORTUNIDADES'!$C$12:$D$111,2,FALSE),\"\")","v":""},7.5800000000000596,{"$f":"IFERROR(VLOOKUP(Y124,'CRUCE OPORTUNIDADES'!$C$12:$D$111,2,FALSE),\"\")","v":""},8.5800000000000693,{"$f":"IFERROR(VLOOKUP(AA124,'CRUCE OPORTUNIDADES'!$C$12:$D$111,2,FALSE),\"\")","v":""},9.58000000000008,{"$f":"IFERROR(VLOOKUP(AC124,'CRUCE OPORTUNIDADES'!$C$12:$D$111,2,FALSE),\"\")","v":""},10.5800000000001,{"$f":"IFERROR(VLOOKUP(AE124,'CRUCE OPORTUNIDADES'!$C$12:$D$111,2,FALSE),\"\")","v":""},11.5800000000001,{"$f":"IFERROR(VLOOKUP(AG124,'CRUCE OPORTUNIDADES'!$C$12:$D$111,2,FALSE),\"\")","v":""},12.5800000000001,{"$f":"IFERROR(VLOOKUP(AI124,'CRUCE OPORTUNIDADES'!$C$12:$D$111,2,FALSE),\"\")","v":""},13.5800000000001,{"$f":"IFERROR(VLOOKUP(AK124,'CRUCE OPORTUNIDADES'!$C$12:$D$111,2,FALSE),\"\")","v":""},14.5800000000001,{"$f":"IFERROR(VLOOKUP(AM124,'CRUCE OPORTUNIDADES'!$C$12:$D$111,2,FALSE),\"\")","v":""},15.5800000000001,{"$f":"IFERROR(VLOOKUP(AO124,'CRUCE OPORTUNIDADES'!$C$12:$D$111,2,FALSE),\"\")","v":""},16.580000000000101,{"$f":"IFERROR(VLOOKUP(AQ124,'CRUCE OPORTUNIDADES'!$C$12:$D$111,2,FALSE),\"\")","v":""},17.580000000000201,{"$f":"IFERROR(VLOOKUP(AS124,'CRUCE OPORTUNIDADES'!$C$12:$D$111,2,FALSE),\"\")","v":""},18.580000000000201,{"$f":"IFERROR(VLOOKUP(AU124,'CRUCE OPORTUNIDADES'!$C$12:$D$111,2,FALSE),\"\")","v":""},19.580000000000201,{"$f":"IFERROR(VLOOKUP(AW124,'CRUCE OPORTUNIDADES'!$C$12:$D$111,2,FALSE),\"\")","v":""},20.580000000000201,{"$f":"IFERROR(VLOOKUP(AY124,'CRUCE OPORTUNIDADES'!$C$12:$D$111,2,FALSE),\"\")","v":""},21.580000000000201,{"$f":"IFERROR(VLOOKUP(BA124,'CRUCE OPORTUNIDADES'!$C$12:$D$111,2,FALSE),\"\")","v":""},22.580000000000201,{"$f":"IFERROR(VLOOKUP(BC124,'CRUCE OPORTUNIDADES'!$C$12:$D$111,2,FALSE),\"\")","v":""},23.580000000000201,{"$f":"IFERROR(VLOOKUP(BE124,'CRUCE OPORTUNIDADES'!$C$12:$D$111,2,FALSE),\"\")","v":""},24.580000000000201,{"$f":"IFERROR(VLOOKUP(BG124,'CRUCE OPORTUNIDADES'!$C$12:$D$111,2,FALSE),\"\")","v":""},25.580000000000201,{"$f":"IFERROR(VLOOKUP(BI124,'CRUCE OPORTUNIDADES'!$C$12:$D$111,2,FALSE),\"\")","v":""}]
[null,null,null,null,null,null,null,null,null,null,null,null,null,{"$f":"IF(N126<>\"\",\" -O\",\"\")","v":""},null,{"$f":"IF(P126<>\"\",\" -O\",\"\")","v":""},null,{"$f":"IF(R126<>\"\",\" -O\",\"\")","v":""},null,{"$f":"IF(T126<>\"\",\" -O\",\"\")","v":""},null,{"$f":"IF(V126<>\"\",\" -O\",\"\")","v":""},null,{"$f":"IF(X126<>\"\",\" -O\",\"\")","v":""},null,{"$f":"IF(Z126<>\"\",\" -O\",\"\")","v":""},null,{"$f":"IF(AB126<>\"\",\" -O\",\"\")","v":""},null,{"$f":"IF(AD126<>\"\",\" -O\",\"\")","v":""},null,{"$f":"IF(AF126<>\"\",\" -O\",\"\")","v":""},null,{"$f":"IF(AH126<>\"\",\" -O\",\"\")","v":""},null,{"$f":"IF(AJ126<>\"\",\" -O\",\"\")","v":""},null,{"$f":"IF(AL126<>\"\",\" -O\",\"\")","v":""},null,{"$f":"IF(AN126<>\"\",\" -O\",\"\")","v":""},null,{"$f":"IF(AP126<>\"\",\" -O\",\"\")","v":""},null,{"$f":"IF(AR126<>\"\",\" -O\",\"\")","v":""},null,{"$f":"IF(AT126<>\"\",\" -O\",\"\")","v":""},null,{"$f":"IF(AV126<>\"\",\" -O\",\"\")","v":""},null,{"$f":"IF(AX126<>\"\",\" -O\",\"\")","v":""},null,{"$f":"IF(AZ126<>\"\",\" -O\",\"\")","v":""},null,{"$f":"IF(BB126<>\"\",\" -O\",\"\")","v":""},null,{"$f":"IF(BD126<>\"\",\" -O\",\"\")","v":""},null,{"$f":"IF(BF126<>\"\",\" -O\",\"\")","v":""},null,{"$f":"IF(BH126<>\"\",\" -O\",\"\")","v":""},null,{"$f":"IF(BJ126<>\"\",\" -O\",\"\")","v":""}]
[null,null,null,null,null,null,null,null,null,null,null,null,1.59,{"$f":"IFERROR(VLOOKUP(M126,'CRUCE OPORTUNIDADES'!$C$12:$D$111,2,FALSE),\"\")","v":""},2.5900000000000101,{"$f":"IFERROR(VLOOKUP(O126,'CRUCE OPORTUNIDADES'!$C$12:$D$111,2,FALSE),\"\")","v":""},3.5900000000000198,{"$f":"IFERROR(VLOOKUP(Q126,'CRUCE OPORTUNIDADES'!$C$12:$D$111,2,FALSE),\"\")","v":""},4.5900000000000301,{"$f":"IFERROR(VLOOKUP(S126,'CRUCE OPORTUNIDADES'!$C$12:$D$111,2,FALSE),\"\")","v":""},5.5900000000000398,{"$f":"IFERROR(VLOOKUP(U126,'CRUCE OPORTUNIDADES'!$C$12:$D$111,2,FALSE),\"\")","v":""},6.5900000000000496,{"$f":"IFERROR(VLOOKUP(W126,'CRUCE OPORTUNIDADES'!$C$12:$D$111,2,FALSE),\"\")","v":""},7.5900000000000603,{"$f":"IFERROR(VLOOKUP(Y126,'CRUCE OPORTUNIDADES'!$C$12:$D$111,2,FALSE),\"\")","v":""},8.5900000000000691,{"$f":"IFERROR(VLOOKUP(AA126,'CRUCE OPORTUNIDADES'!$C$12:$D$111,2,FALSE),\"\")","v":""},9.5900000000000798,{"$f":"IFERROR(VLOOKUP(AC126,'CRUCE OPORTUNIDADES'!$C$12:$D$111,2,FALSE),\"\")","v":""},10.590000000000099,{"$f":"IFERROR(VLOOKUP(AE126,'CRUCE OPORTUNIDADES'!$C$12:$D$111,2,FALSE),\"\")","v":""},11.590000000000099,{"$f":"IFERROR(VLOOKUP(AG126,'CRUCE OPORTUNIDADES'!$C$12:$D$111,2,FALSE),\"\")","v":""},12.590000000000099,{"$f":"IFERROR(VLOOKUP(AI126,'CRUCE OPORTUNIDADES'!$C$12:$D$111,2,FALSE),\"\")","v":""},13.590000000000099,{"$f":"IFERROR(VLOOKUP(AK126,'CRUCE OPORTUNIDADES'!$C$12:$D$111,2,FALSE),\"\")","v":""},14.590000000000099,{"$f":"IFERROR(VLOOKUP(AM126,'CRUCE OPORTUNIDADES'!$C$12:$D$111,2,FALSE),\"\")","v":""},15.590000000000099,{"$f":"IFERROR(VLOOKUP(AO126,'CRUCE OPORTUNIDADES'!$C$12:$D$111,2,FALSE),\"\")","v":""},16.590000000000099,{"$f":"IFERROR(VLOOKUP(AQ126,'CRUCE OPORTUNIDADES'!$C$12:$D$111,2,FALSE),\"\")","v":""},17.590000000000199,{"$f":"IFERROR(VLOOKUP(AS126,'CRUCE OPORTUNIDADES'!$C$12:$D$111,2,FALSE),\"\")","v":""},18.590000000000199,{"$f":"IFERROR(VLOOKUP(AU126,'CRUCE OPORTUNIDADES'!$C$12:$D$111,2,FALSE),\"\")","v":""},19.590000000000199,{"$f":"IFERROR(VLOOKUP(AW126,'CRUCE OPORTUNIDADES'!$C$12:$D$111,2,FALSE),\"\")","v":""},20.590000000000199,{"$f":"IFERROR(VLOOKUP(AY126,'CRUCE OPORTUNIDADES'!$C$12:$D$111,2,FALSE),\"\")","v":""},21.590000000000199,{"$f":"IFERROR(VLOOKUP(BA126,'CRUCE OPORTUNIDADES'!$C$12:$D$111,2,FALSE),\"\")","v":""},22.590000000000199,{"$f":"IFERROR(VLOOKUP(BC126,'CRUCE OPORTUNIDADES'!$C$12:$D$111,2,FALSE),\"\")","v":""},23.590000000000199,{"$f":"IFERROR(VLOOKUP(BE126,'CRUCE OPORTUNIDADES'!$C$12:$D$111,2,FALSE),\"\")","v":""},24.590000000000199,{"$f":"IFERROR(VLOOKUP(BG126,'CRUCE OPORTUNIDADES'!$C$12:$D$111,2,FALSE),\"\")","v":""},25.590000000000199,{"$f":"IFERROR(VLOOKUP(BI126,'CRUCE OPORTUNIDADES'!$C$12:$D$111,2,FALSE),\"\")","v":""}]
[null,null,null,null,null,null,null,null,null,null,null,null,null,{"$f":"IF(N128<>\"\",\" -O\",\"\")","v":""},null,{"$f":"IF(P128<>\"\",\" -O\",\"\")","v":""},null,{"$f":"IF(R128<>\"\",\" -O\",\"\")","v":""},null,{"$f":"IF(T128<>\"\",\" -O\",\"\")","v":""},null,{"$f":"IF(V128<>\"\",\" -O\",\"\")","v":""},null,{"$f":"IF(X128<>\"\",\" -O\",\"\")","v":""},null,{"$f":"IF(Z128<>\"\",\" -O\",\"\")","v":""},null,{"$f":"IF(AB128<>\"\",\" -O\",\"\")","v":""},null,{"$f":"IF(AD128<>\"\",\" -O\",\"\")","v":""},null,{"$f":"IF(AF128<>\"\",\" -O\",\"\")","v":""},null,{"$f":"IF(AH128<>\"\",\" -O\",\"\")","v":""},null,{"$f":"IF(AJ128<>\"\",\" -O\",\"\")","v":""},null,{"$f":"IF(AL128<>\"\",\" -O\",\"\")","v":""},null,{"$f":"IF(AN128<>\"\",\" -O\",\"\")","v":""},null,{"$f":"IF(AP128<>\"\",\" -O\",\"\")","v":""},null,{"$f":"IF(AR128<>\"\",\" -O\",\"\")","v":""},null,{"$f":"IF(AT128<>\"\",\" -O\",\"\")","v":""},null,{"$f":"IF(AV128<>\"\",\" -O\",\"\")","v":""},null,{"$f":"IF(AX128<>\"\",\" -O\",\"\")","v":""},null,{"$f":"IF(AZ128<>\"\",\" -O\",\"\")","v":""},null,{"$f":"IF(BB128<>\"\",\" -O\",\"\")","v":""},null,{"$f":"IF(BD128<>\"\",\" -O\",\"\")","v":""},null,{"$f":"IF(BF128<>\"\",\" -O\",\"\")","v":""},null,{"$f":"IF(BH128<>\"\",\" -O\",\"\")","v":""},null,{"$f":"IF(BJ128<>\"\",\" -O\",\"\")","v":""}]
[null,null,null,null,null,null,null,null,null,null,null,null,1.6,{"$f":"IFERROR(VLOOKUP(M128,'CRUCE OPORTUNIDADES'!$C$12:$D$111,2,FALSE),\"\")","v":""},2.6000000000000099,{"$f":"IFERROR(VLOOKUP(O128,'CRUCE OPORTUNIDADES'!$C$12:$D$111,2,FALSE),\"\")","v":""},3.6000000000000201,{"$f":"IFERROR(VLOOKUP(Q128,'CRUCE OPORTUNIDADES'!$C$12:$D$111,2,FALSE),\"\")","v":""},4.6000000000000298,{"$f":"IFERROR(VLOOKUP(S128,'CRUCE OPORTUNIDADES'!$C$12:$D$111,2,FALSE),\"\")","v":""},5.6000000000000396,{"$f":"IFERROR(VLOOKUP(U128,'CRUCE OPORTUNIDADES'!$C$12:$D$111,2,FALSE),\"\")","v":""},6.6000000000000503,{"$f":"IFERROR(VLOOKUP(W128,'CRUCE OPORTUNIDADES'!$C$12:$D$111,2,FALSE),\"\")","v":""},7.60000000000006,{"$f":"IFERROR(VLOOKUP(Y128,'CRUCE OPORTUNIDADES'!$C$12:$D$111,2,FALSE),\"\")","v":""},8.6000000000000707,{"$f":"IFERROR(VLOOKUP(AA128,'CRUCE OPORTUNIDADES'!$C$12:$D$111,2,FALSE),\"\")","v":""},9.6000000000000796,{"$f":"IFERROR(VLOOKUP(AC128,'CRUCE OPORTUNIDADES'!$C$12:$D$111,2,FALSE),\"\")","v":""},10.600000000000099,{"$f":"IFERROR(VLOOKUP(AE128,'CRUCE OPORTUNIDADES'!$C$12:$D$111,2,FALSE),\"\")","v":""},11.600000000000099,{"$f":"IFERROR(VLOOKUP(AG128,'CRUCE OPORTUNIDADES'!$C$12:$D$111,2,FALSE),\"\")","v":""},12.600000000000099,{"$f":"IFERROR(VLOOKUP(AI128,'CRUCE OPORTUNIDADES'!$C$12:$D$111,2,FALSE),\"\")","v":""},13.600000000000099,{"$f":"IFERROR(VLOOKUP(AK128,'CRUCE OPORTUNIDADES'!$C$12:$D$111,2,FALSE),\"\")","v":""},14.600000000000099,{"$f":"IFERROR(VLOOKUP(AM128,'CRUCE OPORTUNIDADES'!$C$12:$D$111,2,FALSE),\"\")","v":""},15.600000000000099,{"$f":"IFERROR(VLOOKUP(AO128,'CRUCE OPORTUNIDADES'!$C$12:$D$111,2,FALSE),\"\")","v":""},16.600000000000101,{"$f":"IFERROR(VLOOKUP(AQ128,'CRUCE OPORTUNIDADES'!$C$12:$D$111,2,FALSE),\"\")","v":""},17.6000000000002,{"$f":"IFERROR(VLOOKUP(AS128,'CRUCE OPORTUNIDADES'!$C$12:$D$111,2,FALSE),\"\")","v":""},18.6000000000002,{"$f":"IFERROR(VLOOKUP(AU128,'CRUCE OPORTUNIDADES'!$C$12:$D$111,2,FALSE),\"\")","v":""},19.6000000000002,{"$f":"IFERROR(VLOOKUP(AW128,'CRUCE OPORTUNIDADES'!$C$12:$D$111,2,FALSE),\"\")","v":""},20.6000000000002,{"$f":"IFERROR(VLOOKUP(AY128,'CRUCE OPORTUNIDADES'!$C$12:$D$111,2,FALSE),\"\")","v":""},21.6000000000002,{"$f":"IFERROR(VLOOKUP(BA128,'CRUCE OPORTUNIDADES'!$C$12:$D$111,2,FALSE),\"\")","v":""},22.6000000000002,{"$f":"IFERROR(VLOOKUP(BC128,'CRUCE OPORTUNIDADES'!$C$12:$D$111,2,FALSE),\"\")","v":""},23.6000000000002,{"$f":"IFERROR(VLOOKUP(BE128,'CRUCE OPORTUNIDADES'!$C$12:$D$111,2,FALSE),\"\")","v":""},24.6000000000002,{"$f":"IFERROR(VLOOKUP(BG128,'CRUCE OPORTUNIDADES'!$C$12:$D$111,2,FALSE),\"\")","v":""},25.6000000000002,{"$f":"IFERROR(VLOOKUP(BI128,'CRUCE OPORTUNIDADES'!$C$12:$D$111,2,FALSE),\"\")","v":""}]
[null,null,null,null,null,null,null,null,null,null,null,null,null,{"$f":"IF(N130<>\"\",\" -O\",\"\")","v":""},null,{"$f":"IF(P130<>\"\",\" -O\",\"\")","v":""},null,{"$f":"IF(R130<>\"\",\" -O\",\"\")","v":""},null,{"$f":"IF(T130<>\"\",\" -O\",\"\")","v":""},null,{"$f":"IF(V130<>\"\",\" -O\",\"\")","v":""},null,{"$f":"IF(X130<>\"\",\" -O\",\"\")","v":""},null,{"$f":"IF(Z130<>\"\",\" -O\",\"\")","v":""},null,{"$f":"IF(AB130<>\"\",\" -O\",\"\")","v":""},null,{"$f":"IF(AD130<>\"\",\" -O\",\"\")","v":""},null,{"$f":"IF(AF130<>\"\",\" -O\",\"\")","v":""},null,{"$f":"IF(AH130<>\"\",\" -O\",\"\")","v":""},null,{"$f":"IF(AJ130<>\"\",\" -O\",\"\")","v":""},null,{"$f":"IF(AL130<>\"\",\" -O\",\"\")","v":""},null,{"$f":"IF(AN130<>\"\",\" -O\",\"\")","v":""},null,{"$f":"IF(AP130<>\"\",\" -O\",\"\")","v":""},null,{"$f":"IF(AR130<>\"\",\" -O\",\"\")","v":""},null,{"$f":"IF(AT130<>\"\",\" -O\",\"\")","v":""},null,{"$f":"IF(AV130<>\"\",\" -O\",\"\")","v":""},null,{"$f":"IF(AX130<>\"\",\" -O\",\"\")","v":""},null,{"$f":"IF(AZ130<>\"\",\" -O\",\"\")","v":""},null,{"$f":"IF(BB130<>\"\",\" -O\",\"\")","v":""},null,{"$f":"IF(BD130<>\"\",\" -O\",\"\")","v":""},null,{"$f":"IF(BF130<>\"\",\" -O\",\"\")","v":""},null,{"$f":"IF(BH130<>\"\",\" -O\",\"\")","v":""},null,{"$f":"IF(BJ130<>\"\",\" -O\",\"\")","v":""}]
[null,null,null,null,null,null,null,null,null,null,null,null,1.61,{"$f":"IFERROR(VLOOKUP(M130,'CRUCE OPORTUNIDADES'!$C$12:$D$111,2,FALSE),\"\")","v":""},2.6100000000000101,{"$f":"IFERROR(VLOOKUP(O130,'CRUCE OPORTUNIDADES'!$C$12:$D$111,2,FALSE),\"\")","v":""},3.6100000000000199,{"$f":"IFERROR(VLOOKUP(Q130,'CRUCE OPORTUNIDADES'!$C$12:$D$111,2,FALSE),\"\")","v":""},4.6100000000000296,{"$f":"IFERROR(VLOOKUP(S130,'CRUCE OPORTUNIDADES'!$C$12:$D$111,2,FALSE),\"\")","v":""},5.6100000000000403,{"$f":"IFERROR(VLOOKUP(U130,'CRUCE OPORTUNIDADES'!$C$12:$D$111,2,FALSE),\"\")","v":""},6.6100000000000501,{"$f":"IFERROR(VLOOKUP(W130,'CRUCE OPORTUNIDADES'!$C$12:$D$111,2,FALSE),\"\")","v":""},7.6100000000000598,{"$f":"IFERROR(VLOOKUP(Y130,'CRUCE OPORTUNIDADES'!$C$12:$D$111,2,FALSE),\"\")","v":""},8.6100000000000705,{"$f":"IFERROR(VLOOKUP(AA130,'CRUCE OPORTUNIDADES'!$C$12:$D$111,2,FALSE),\"\")","v":""},9.6100000000000794,{"$f":"IFERROR(VLOOKUP(AC130,'CRUCE OPORTUNIDADES'!$C$12:$D$111,2,FALSE),\"\")","v":""},10.610000000000101,{"$f":"IFERROR(VLOOKUP(AE130,'CRUCE OPORTUNIDADES'!$C$12:$D$111,2,FALSE),\"\")","v":""},11.610000000000101,{"$f":"IFERROR(VLOOKUP(AG130,'CRUCE OPORTUNIDADES'!$C$12:$D$111,2,FALSE),\"\")","v":""},12.610000000000101,{"$f":"IFERROR(VLOOKUP(AI130,'CRUCE OPORTUNIDADES'!$C$12:$D$111,2,FALSE),\"\")","v":""},13.610000000000101,{"$f":"IFERROR(VLOOKUP(AK130,'CRUCE OPORTUNIDADES'!$C$12:$D$111,2,FALSE),\"\")","v":""},14.610000000000101,{"$f":"IFERROR(VLOOKUP(AM130,'CRUCE OPORTUNIDADES'!$C$12:$D$111,2,FALSE),\"\")","v":""},15.610000000000101,{"$f":"IFERROR(VLOOKUP(AO130,'CRUCE OPORTUNIDADES'!$C$12:$D$111,2,FALSE),\"\")","v":""},16.610000000000099,{"$f":"IFERROR(VLOOKUP(AQ130,'CRUCE OPORTUNIDADES'!$C$12:$D$111,2,FALSE),\"\")","v":""},17.610000000000198,{"$f":"IFERROR(VLOOKUP(AS130,'CRUCE OPORTUNIDADES'!$C$12:$D$111,2,FALSE),\"\")","v":""},18.610000000000198,{"$f":"IFERROR(VLOOKUP(AU130,'CRUCE OPORTUNIDADES'!$C$12:$D$111,2,FALSE),\"\")","v":""},19.610000000000198,{"$f":"IFERROR(VLOOKUP(AW130,'CRUCE OPORTUNIDADES'!$C$12:$D$111,2,FALSE),\"\")","v":""},20.610000000000198,{"$f":"IFERROR(VLOOKUP(AY130,'CRUCE OPORTUNIDADES'!$C$12:$D$111,2,FALSE),\"\")","v":""},21.610000000000198,{"$f":"IFERROR(VLOOKUP(BA130,'CRUCE OPORTUNIDADES'!$C$12:$D$111,2,FALSE),\"\")","v":""},22.610000000000198,{"$f":"IFERROR(VLOOKUP(BC130,'CRUCE OPORTUNIDADES'!$C$12:$D$111,2,FALSE),\"\")","v":""},23.610000000000198,{"$f":"IFERROR(VLOOKUP(BE130,'CRUCE OPORTUNIDADES'!$C$12:$D$111,2,FALSE),\"\")","v":""},24.610000000000198,{"$f":"IFERROR(VLOOKUP(BG130,'CRUCE OPORTUNIDADES'!$C$12:$D$111,2,FALSE),\"\")","v":""},25.610000000000198,{"$f":"IFERROR(VLOOKUP(BI130,'CRUCE OPORTUNIDADES'!$C$12:$D$111,2,FALSE),\"\")","v":""}]
[null,null,null,null,null,null,null,null,null,null,null,null,null,{"$f":"IF(N132<>\"\",\" -O\",\"\")","v":""},null,{"$f":"IF(P132<>\"\",\" -O\",\"\")","v":""},null,{"$f":"IF(R132<>\"\",\" -O\",\"\")","v":""},null,{"$f":"IF(T132<>\"\",\" -O\",\"\")","v":""},null,{"$f":"IF(V132<>\"\",\" -O\",\"\")","v":""},null,{"$f":"IF(X132<>\"\",\" -O\",\"\")","v":""},null,{"$f":"IF(Z132<>\"\",\" -O\",\"\")","v":""},null,{"$f":"IF(AB132<>\"\",\" -O\",\"\")","v":""},null,{"$f":"IF(AD132<>\"\",\" -O\",\"\")","v":""},null,{"$f":"IF(AF132<>\"\",\" -O\",\"\")","v":""},null,{"$f":"IF(AH132<>\"\",\" -O\",\"\")","v":""},null,{"$f":"IF(AJ132<>\"\",\" -O\",\"\")","v":""},null,{"$f":"IF(AL132<>\"\",\" -O\",\"\")","v":""},null,{"$f":"IF(AN132<>\"\",\" -O\",\"\")","v":""},null,{"$f":"IF(AP132<>\"\",\" -O\",\"\")","v":""},null,{"$f":"IF(AR132<>\"\",\" -O\",\"\")","v":""},null,{"$f":"IF(AT132<>\"\",\" -O\",\"\")","v":""},null,{"$f":"IF(AV132<>\"\",\" -O\",\"\")","v":""},null,{"$f":"IF(AX132<>\"\",\" -O\",\"\")","v":""},null,{"$f":"IF(AZ132<>\"\",\" -O\",\"\")","v":""},null,{"$f":"IF(BB132<>\"\",\" -O\",\"\")","v":""},null,{"$f":"IF(BD132<>\"\",\" -O\",\"\")","v":""},null,{"$f":"IF(BF132<>\"\",\" -O\",\"\")","v":""},null,{"$f":"IF(BH132<>\"\",\" -O\",\"\")","v":""},null,{"$f":"IF(BJ132<>\"\",\" -O\",\"\")","v":""}]
[null,null,null,null,null,null,null,null,null,null,null,null,1.62,{"$f":"IFERROR(VLOOKUP(M132,'CRUCE OPORTUNIDADES'!$C$12:$D$111,2,FALSE),\"\")","v":""},2.6200000000000099,{"$f":"IFERROR(VLOOKUP(O132,'CRUCE OPORTUNIDADES'!$C$12:$D$111,2,FALSE),\"\")","v":""},3.6200000000000201,{"$f":"IFERROR(VLOOKUP(Q132,'CRUCE OPORTUNIDADES'!$C$12:$D$111,2,FALSE),\"\")","v":""},4.6200000000000303,{"$f":"IFERROR(VLOOKUP(S132,'CRUCE OPORTUNIDADES'!$C$12:$D$111,2,FALSE),\"\")","v":""},5.6200000000000401,{"$f":"IFERROR(VLOOKUP(U132,'CRUCE OPORTUNIDADES'!$C$12:$D$111,2,FALSE),\"\")","v":""},6.6200000000000498,{"$f":"IFERROR(VLOOKUP(W132,'CRUCE OPORTUNIDADES'!$C$12:$D$111,2,FALSE),\"\")","v":""},7.6200000000000596,{"$f":"IFERROR(VLOOKUP(Y132,'CRUCE OPORTUNIDADES'!$C$12:$D$111,2,FALSE),\"\")","v":""},8.6200000000000703,{"$f":"IFERROR(VLOOKUP(AA132,'CRUCE OPORTUNIDADES'!$C$12:$D$111,2,FALSE),\"\")","v":""},9.6200000000000792,{"$f":"IFERROR(VLOOKUP(AC132,'CRUCE OPORTUNIDADES'!$C$12:$D$111,2,FALSE),\"\")","v":""},10.6200000000001,{"$f":"IFERROR(VLOOKUP(AE132,'CRUCE OPORTUNIDADES'!$C$12:$D$111,2,FALSE),\"\")","v":""},11.6200000000001,{"$f":"IFERROR(VLOOKUP(AG132,'CRUCE OPORTUNIDADES'!$C$12:$D$111,2,FALSE),\"\")","v":""},12.6200000000001,{"$f":"IFERROR(VLOOKUP(AI132,'CRUCE OPORTUNIDADES'!$C$12:$D$111,2,FALSE),\"\")","v":""},13.6200000000001,{"$f":"IFERROR(VLOOKUP(AK132,'CRUCE OPORTUNIDADES'!$C$12:$D$111,2,FALSE),\"\")","v":""},14.6200000000001,{"$f":"IFERROR(VLOOKUP(AM132,'CRUCE OPORTUNIDADES'!$C$12:$D$111,2,FALSE),\"\")","v":""},15.6200000000001,{"$f":"IFERROR(VLOOKUP(AO132,'CRUCE OPORTUNIDADES'!$C$12:$D$111,2,FALSE),\"\")","v":""},16.6200000000001,{"$f":"IFERROR(VLOOKUP(AQ132,'CRUCE OPORTUNIDADES'!$C$12:$D$111,2,FALSE),\"\")","v":""},17.6200000000002,{"$f":"IFERROR(VLOOKUP(AS132,'CRUCE OPORTUNIDADES'!$C$12:$D$111,2,FALSE),\"\")","v":""},18.6200000000002,{"$f":"IFERROR(VLOOKUP(AU132,'CRUCE OPORTUNIDADES'!$C$12:$D$111,2,FALSE),\"\")","v":""},19.6200000000002,{"$f":"IFERROR(VLOOKUP(AW132,'CRUCE OPORTUNIDADES'!$C$12:$D$111,2,FALSE),\"\")","v":""},20.6200000000002,{"$f":"IFERROR(VLOOKUP(AY132,'CRUCE OPORTUNIDADES'!$C$12:$D$111,2,FALSE),\"\")","v":""},21.6200000000002,{"$f":"IFERROR(VLOOKUP(BA132,'CRUCE OPORTUNIDADES'!$C$12:$D$111,2,FALSE),\"\")","v":""},22.6200000000002,{"$f":"IFERROR(VLOOKUP(BC132,'CRUCE OPORTUNIDADES'!$C$12:$D$111,2,FALSE),\"\")","v":""},23.6200000000002,{"$f":"IFERROR(VLOOKUP(BE132,'CRUCE OPORTUNIDADES'!$C$12:$D$111,2,FALSE),\"\")","v":""},24.6200000000002,{"$f":"IFERROR(VLOOKUP(BG132,'CRUCE OPORTUNIDADES'!$C$12:$D$111,2,FALSE),\"\")","v":""},25.6200000000002,{"$f":"IFERROR(VLOOKUP(BI132,'CRUCE OPORTUNIDADES'!$C$12:$D$111,2,FALSE),\"\")","v":""}]
[null,null,null,null,null,null,null,null,null,null,null,null,null,{"$f":"IF(N134<>\"\",\" -O\",\"\")","v":""},null,{"$f":"IF(P134<>\"\",\" -O\",\"\")","v":""},null,{"$f":"IF(R134<>\"\",\" -O\",\"\")","v":""},null,{"$f":"IF(T134<>\"\",\" -O\",\"\")","v":""},null,{"$f":"IF(V134<>\"\",\" -O\",\"\")","v":""},null,{"$f":"IF(X134<>\"\",\" -O\",\"\")","v":""},null,{"$f":"IF(Z134<>\"\",\" -O\",\"\")","v":""},null,{"$f":"IF(AB134<>\"\",\" -O\",\"\")","v":""},null,{"$f":"IF(AD134<>\"\",\" -O\",\"\")","v":""},null,{"$f":"IF(AF134<>\"\",\" -O\",\"\")","v":""},null,{"$f":"IF(AH134<>\"\",\" -O\",\"\")","v":""},null,{"$f":"IF(AJ134<>\"\",\" -O\",\"\")","v":""},null,{"$f":"IF(AL134<>\"\",\" -O\",\"\")","v":""},null,{"$f":"IF(AN134<>\"\",\" -O\",\"\")","v":""},null,{"$f":"IF(AP134<>\"\",\" -O\",\"\")","v":""},null,{"$f":"IF(AR134<>\"\",\" -O\",\"\")","v":""},null,{"$f":"IF(AT134<>\"\",\" -O\",\"\")","v":""},null,{"$f":"IF(AV134<>\"\",\" -O\",\"\")","v":""},null,{"$f":"IF(AX134<>\"\",\" -O\",\"\")","v":""},null,{"$f":"IF(AZ134<>\"\",\" -O\",\"\")","v":""},null,{"$f":"IF(BB134<>\"\",\" -O\",\"\")","v":""},null,{"$f":"IF(BD134<>\"\",\" -O\",\"\")","v":""},null,{"$f":"IF(BF134<>\"\",\" -O\",\"\")","v":""},null,{"$f":"IF(BH134<>\"\",\" -O\",\"\")","v":""},null,{"$f":"IF(BJ134<>\"\",\" -O\",\"\")","v":""}]
[null,null,null,null,null,null,null,null,null,null,null,null,1.63,{"$f":"IFERROR(VLOOKUP(M134,'CRUCE OPORTUNIDADES'!$C$12:$D$111,2,FALSE),\"\")","v":""},2.6300000000000101,{"$f":"IFERROR(VLOOKUP(O134,'CRUCE OPORTUNIDADES'!$C$12:$D$111,2,FALSE),\"\")","v":""},3.6300000000000199,{"$f":"IFERROR(VLOOKUP(Q134,'CRUCE OPORTUNIDADES'!$C$12:$D$111,2,FALSE),\"\")","v":""},4.6300000000000301,{"$f":"IFERROR(VLOOKUP(S134,'CRUCE OPORTUNIDADES'!$C$12:$D$111,2,FALSE),\"\")","v":""},5.6300000000000399,{"$f":"IFERROR(VLOOKUP(U134,'CRUCE OPORTUNIDADES'!$C$12:$D$111,2,FALSE),\"\")","v":""},6.6300000000000496,{"$f":"IFERROR(VLOOKUP(W134,'CRUCE OPORTUNIDADES'!$C$12:$D$111,2,FALSE),\"\")","v":""},7.6300000000000603,{"$f":"IFERROR(VLOOKUP(Y134,'CRUCE OPORTUNIDADES'!$C$12:$D$111,2,FALSE),\"\")","v":""},8.6300000000000701,{"$f":"IFERROR(VLOOKUP(AA134,'CRUCE OPORTUNIDADES'!$C$12:$D$111,2,FALSE),\"\")","v":""},9.6300000000000807,{"$f":"IFERROR(VLOOKUP(AC134,'CRUCE OPORTUNIDADES'!$C$12:$D$111,2,FALSE),\"\")","v":""},10.6300000000001,{"$f":"IFERROR(VLOOKUP(AE134,'CRUCE OPORTUNIDADES'!$C$12:$D$111,2,FALSE),\"\")","v":""},11.6300000000001,{"$f":"IFERROR(VLOOKUP(AG134,'CRUCE OPORTUNIDADES'!$C$12:$D$111,2,FALSE),\"\")","v":""},12.6300000000001,{"$f":"IFERROR(VLOOKUP(AI134,'CRUCE OPORTUNIDADES'!$C$12:$D$111,2,FALSE),\"\")","v":""},13.6300000000001,{"$f":"IFERROR(VLOOKUP(AK134,'CRUCE OPORTUNIDADES'!$C$12:$D$111,2,FALSE),\"\")","v":""},14.6300000000001,{"$f":"IFERROR(VLOOKUP(AM134,'CRUCE OPORTUNIDADES'!$C$12:$D$111,2,FALSE),\"\")","v":""},15.6300000000001,{"$f":"IFERROR(VLOOKUP(AO134,'CRUCE OPORTUNIDADES'!$C$12:$D$111,2,FALSE),\"\")","v":""},16.630000000000202,{"$f":"IFERROR(VLOOKUP(AQ134,'CRUCE OPORTUNIDADES'!$C$12:$D$111,2,FALSE),\"\")","v":""},17.630000000000202,{"$f":"IFERROR(VLOOKUP(AS134,'CRUCE OPORTUNIDADES'!$C$12:$D$111,2,FALSE),\"\")","v":""},18.630000000000202,{"$f":"IFERROR(VLOOKUP(AU134,'CRUCE OPORTUNIDADES'!$C$12:$D$111,2,FALSE),\"\")","v":""},19.630000000000202,{"$f":"IFERROR(VLOOKUP(AW134,'CRUCE OPORTUNIDADES'!$C$12:$D$111,2,FALSE),\"\")","v":""},20.630000000000202,{"$f":"IFERROR(VLOOKUP(AY134,'CRUCE OPORTUNIDADES'!$C$12:$D$111,2,FALSE),\"\")","v":""},21.630000000000202,{"$f":"IFERROR(VLOOKUP(BA134,'CRUCE OPORTUNIDADES'!$C$12:$D$111,2,FALSE),\"\")","v":""},22.630000000000202,{"$f":"IFERROR(VLOOKUP(BC134,'CRUCE OPORTUNIDADES'!$C$12:$D$111,2,FALSE),\"\")","v":""},23.630000000000202,{"$f":"IFERROR(VLOOKUP(BE134,'CRUCE OPORTUNIDADES'!$C$12:$D$111,2,FALSE),\"\")","v":""},24.630000000000202,{"$f":"IFERROR(VLOOKUP(BG134,'CRUCE OPORTUNIDADES'!$C$12:$D$111,2,FALSE),\"\")","v":""},25.630000000000202,{"$f":"IFERROR(VLOOKUP(BI134,'CRUCE OPORTUNIDADES'!$C$12:$D$111,2,FALSE),\"\")","v":""}]
[null,null,null,null,null,null,null,null,null,null,null,null,null,{"$f":"IF(N136<>\"\",\" -O\",\"\")","v":""},null,{"$f":"IF(P136<>\"\",\" -O\",\"\")","v":""},null,{"$f":"IF(R136<>\"\",\" -O\",\"\")","v":""},null,{"$f":"IF(T136<>\"\",\" -O\",\"\")","v":""},null,{"$f":"IF(V136<>\"\",\" -O\",\"\")","v":""},null,{"$f":"IF(X136<>\"\",\" -O\",\"\")","v":""},null,{"$f":"IF(Z136<>\"\",\" -O\",\"\")","v":""},null,{"$f":"IF(AB136<>\"\",\" -O\",\"\")","v":""},null,{"$f":"IF(AD136<>\"\",\" -O\",\"\")","v":""},null,{"$f":"IF(AF136<>\"\",\" -O\",\"\")","v":""},null,{"$f":"IF(AH136<>\"\",\" -O\",\"\")","v":""},null,{"$f":"IF(AJ136<>\"\",\" -O\",\"\")","v":""},null,{"$f":"IF(AL136<>\"\",\" -O\",\"\")","v":""},null,{"$f":"IF(AN136<>\"\",\" -O\",\"\")","v":""},null,{"$f":"IF(AP136<>\"\",\" -O\",\"\")","v":""},null,{"$f":"IF(AR136<>\"\",\" -O\",\"\")","v":""},null,{"$f":"IF(AT136<>\"\",\" -O\",\"\")","v":""},null,{"$f":"IF(AV136<>\"\",\" -O\",\"\")","v":""},null,{"$f":"IF(AX136<>\"\",\" -O\",\"\")","v":""},null,{"$f":"IF(AZ136<>\"\",\" -O\",\"\")","v":""},null,{"$f":"IF(BB136<>\"\",\" -O\",\"\")","v":""},null,{"$f":"IF(BD136<>\"\",\" -O\",\"\")","v":""},null,{"$f":"IF(BF136<>\"\",\" -O\",\"\")","v":""},null,{"$f":"IF(BH136<>\"\",\" -O\",\"\")","v":""},null,{"$f":"IF(BJ136<>\"\",\" -O\",\"\")","v":""}]
[null,null,null,null,null,null,null,null,null,null,null,null,1.64,{"$f":"IFERROR(VLOOKUP(M136,'CRUCE OPORTUNIDADES'!$C$12:$D$111,2,FALSE),\"\")","v":""},2.6400000000000099,{"$f":"IFERROR(VLOOKUP(O136,'CRUCE OPORTUNIDADES'!$C$12:$D$111,2,FALSE),\"\")","v":""},3.6400000000000201,{"$f":"IFERROR(VLOOKUP(Q136,'CRUCE OPORTUNIDADES'!$C$12:$D$111,2,FALSE),\"\")","v":""},4.6400000000000299,{"$f":"IFERROR(VLOOKUP(S136,'CRUCE OPORTUNIDADES'!$C$12:$D$111,2,FALSE),\"\")","v":""},5.6400000000000396,{"$f":"IFERROR(VLOOKUP(U136,'CRUCE OPORTUNIDADES'!$C$12:$D$111,2,FALSE),\"\")","v":""},6.6400000000000503,{"$f":"IFERROR(VLOOKUP(W136,'CRUCE OPORTUNIDADES'!$C$12:$D$111,2,FALSE),\"\")","v":""},7.6400000000000601,{"$f":"IFERROR(VLOOKUP(Y136,'CRUCE OPORTUNIDADES'!$C$12:$D$111,2,FALSE),\"\")","v":""},8.6400000000000698,{"$f":"IFERROR(VLOOKUP(AA136,'CRUCE OPORTUNIDADES'!$C$12:$D$111,2,FALSE),\"\")","v":""},9.6400000000000805,{"$f":"IFERROR(VLOOKUP(AC136,'CRUCE OPORTUNIDADES'!$C$12:$D$111,2,FALSE),\"\")","v":""},10.6400000000001,{"$f":"IFERROR(VLOOKUP(AE136,'CRUCE OPORTUNIDADES'!$C$12:$D$111,2,FALSE),\"\")","v":""},11.6400000000001,{"$f":"IFERROR(VLOOKUP(AG136,'CRUCE OPORTUNIDADES'!$C$12:$D$111,2,FALSE),\"\")","v":""},12.6400000000001,{"$f":"IFERROR(VLOOKUP(AI136,'CRUCE OPORTUNIDADES'!$C$12:$D$111,2,FALSE),\"\")","v":""},13.6400000000001,{"$f":"IFERROR(VLOOKUP(AK136,'CRUCE OPORTUNIDADES'!$C$12:$D$111,2,FALSE),\"\")","v":""},14.6400000000001,{"$f":"IFERROR(VLOOKUP(AM136,'CRUCE OPORTUNIDADES'!$C$12:$D$111,2,FALSE),\"\")","v":""},15.6400000000001,{"$f":"IFERROR(VLOOKUP(AO136,'CRUCE OPORTUNIDADES'!$C$12:$D$111,2,FALSE),\"\")","v":""},16.6400000000001,{"$f":"IFERROR(VLOOKUP(AQ136,'CRUCE OPORTUNIDADES'!$C$12:$D$111,2,FALSE),\"\")","v":""},17.6400000000002,{"$f":"IFERROR(VLOOKUP(AS136,'CRUCE OPORTUNIDADES'!$C$12:$D$111,2,FALSE),\"\")","v":""},18.6400000000002,{"$f":"IFERROR(VLOOKUP(AU136,'CRUCE OPORTUNIDADES'!$C$12:$D$111,2,FALSE),\"\")","v":""},19.6400000000002,{"$f":"IFERROR(VLOOKUP(AW136,'CRUCE OPORTUNIDADES'!$C$12:$D$111,2,FALSE),\"\")","v":""},20.6400000000002,{"$f":"IFERROR(VLOOKUP(AY136,'CRUCE OPORTUNIDADES'!$C$12:$D$111,2,FALSE),\"\")","v":""},21.6400000000002,{"$f":"IFERROR(VLOOKUP(BA136,'CRUCE OPORTUNIDADES'!$C$12:$D$111,2,FALSE),\"\")","v":""},22.6400000000002,{"$f":"IFERROR(VLOOKUP(BC136,'CRUCE OPORTUNIDADES'!$C$12:$D$111,2,FALSE),\"\")","v":""},23.6400000000002,{"$f":"IFERROR(VLOOKUP(BE136,'CRUCE OPORTUNIDADES'!$C$12:$D$111,2,FALSE),\"\")","v":""},24.6400000000002,{"$f":"IFERROR(VLOOKUP(BG136,'CRUCE OPORTUNIDADES'!$C$12:$D$111,2,FALSE),\"\")","v":""},25.6400000000002,{"$f":"IFERROR(VLOOKUP(BI136,'CRUCE OPORTUNIDADES'!$C$12:$D$111,2,FALSE),\"\")","v":""}]
[null,null,null,null,null,null,null,null,null,null,null,null,null,{"$f":"IF(N138<>\"\",\" -O\",\"\")","v":""},null,{"$f":"IF(P138<>\"\",\" -O\",\"\")","v":""},null,{"$f":"IF(R138<>\"\",\" -O\",\"\")","v":""},null,{"$f":"IF(T138<>\"\",\" -O\",\"\")","v":""},null,{"$f":"IF(V138<>\"\",\" -O\",\"\")","v":""},null,{"$f":"IF(X138<>\"\",\" -O\",\"\")","v":""},null,{"$f":"IF(Z138<>\"\",\" -O\",\"\")","v":""},null,{"$f":"IF(AB138<>\"\",\" -O\",\"\")","v":""},null,{"$f":"IF(AD138<>\"\",\" -O\",\"\")","v":""},null,{"$f":"IF(AF138<>\"\",\" -O\",\"\")","v":""},null,{"$f":"IF(AH138<>\"\",\" -O\",\"\")","v":""},null,{"$f":"IF(AJ138<>\"\",\" -O\",\"\")","v":""},null,{"$f":"IF(AL138<>\"\",\" -O\",\"\")","v":""},null,{"$f":"IF(AN138<>\"\",\" -O\",\"\")","v":""},null,{"$f":"IF(AP138<>\"\",\" -O\",\"\")","v":""},null,{"$f":"IF(AR138<>\"\",\" -O\",\"\")","v":""},null,{"$f":"IF(AT138<>\"\",\" -O\",\"\")","v":""},null,{"$f":"IF(AV138<>\"\",\" -O\",\"\")","v":""},null,{"$f":"IF(AX138<>\"\",\" -O\",\"\")","v":""},null,{"$f":"IF(AZ138<>\"\",\" -O\",\"\")","v":""},null,{"$f":"IF(BB138<>\"\",\" -O\",\"\")","v":""},null,{"$f":"IF(BD138<>\"\",\" -O\",\"\")","v":""},null,{"$f":"IF(BF138<>\"\",\" -O\",\"\")","v":""},null,{"$f":"IF(BH138<>\"\",\" -O\",\"\")","v":""},null,{"$f":"IF(BJ138<>\"\",\" -O\",\"\")","v":""}]
[null,null,null,null,null,null,null,null,null,null,null,null,1.65,{"$f":"IFERROR(VLOOKUP(M138,'CRUCE OPORTUNIDADES'!$C$12:$D$111,2,FALSE),\"\")","v":""},2.6500000000000101,{"$f":"IFERROR(VLOOKUP(O138,'CRUCE OPORTUNIDADES'!$C$12:$D$111,2,FALSE),\"\")","v":""},3.6500000000000199,{"$f":"IFERROR(VLOOKUP(Q138,'CRUCE OPORTUNIDADES'!$C$12:$D$111,2,FALSE),\"\")","v":""},4.6500000000000297,{"$f":"IFERROR(VLOOKUP(S138,'CRUCE OPORTUNIDADES'!$C$12:$D$111,2,FALSE),\"\")","v":""},5.6500000000000403,{"$f":"IFERROR(VLOOKUP(U138,'CRUCE OPORTUNIDADES'!$C$12:$D$111,2,FALSE),\"\")","v":""},6.6500000000000501,{"$f":"IFERROR(VLOOKUP(W138,'CRUCE OPORTUNIDADES'!$C$12:$D$111,2,FALSE),\"\")","v":""},7.6500000000000599,{"$f":"IFERROR(VLOOKUP(Y138,'CRUCE OPORTUNIDADES'!$C$12:$D$111,2,FALSE),\"\")","v":""},8.6500000000000696,{"$f":"IFERROR(VLOOKUP(AA138,'CRUCE OPORTUNIDADES'!$C$12:$D$111,2,FALSE),\"\")","v":""},9.6500000000000803,{"$f":"IFERROR(VLOOKUP(AC138,'CRUCE OPORTUNIDADES'!$C$12:$D$111,2,FALSE),\"\")","v":""},10.6500000000001,{"$f":"IFERROR(VLOOKUP(AE138,'CRUCE OPORTUNIDADES'!$C$12:$D$111,2,FALSE),\"\")","v":""},11.6500000000001,{"$f":"IFERROR(VLOOKUP(AG138,'CRUCE OPORTUNIDADES'!$C$12:$D$111,2,FALSE),\"\")","v":""},12.6500000000001,{"$f":"IFERROR(VLOOKUP(AI138,'CRUCE OPORTUNIDADES'!$C$12:$D$111,2,FALSE),\"\")","v":""},13.6500000000001,{"$f":"IFERROR(VLOOKUP(AK138,'CRUCE OPORTUNIDADES'!$C$12:$D$111,2,FALSE),\"\")","v":""},14.6500000000001,{"$f":"IFERROR(VLOOKUP(AM138,'CRUCE OPORTUNIDADES'!$C$12:$D$111,2,FALSE),\"\")","v":""},15.6500000000001,{"$f":"IFERROR(VLOOKUP(AO138,'CRUCE OPORTUNIDADES'!$C$12:$D$111,2,FALSE),\"\")","v":""},16.650000000000201,{"$f":"IFERROR(VLOOKUP(AQ138,'CRUCE OPORTUNIDADES'!$C$12:$D$111,2,FALSE),\"\")","v":""},17.650000000000201,{"$f":"IFERROR(VLOOKUP(AS138,'CRUCE OPORTUNIDADES'!$C$12:$D$111,2,FALSE),\"\")","v":""},18.650000000000201,{"$f":"IFERROR(VLOOKUP(AU138,'CRUCE OPORTUNIDADES'!$C$12:$D$111,2,FALSE),\"\")","v":""},19.650000000000201,{"$f":"IFERROR(VLOOKUP(AW138,'CRUCE OPORTUNIDADES'!$C$12:$D$111,2,FALSE),\"\")","v":""},20.650000000000201,{"$f":"IFERROR(VLOOKUP(AY138,'CRUCE OPORTUNIDADES'!$C$12:$D$111,2,FALSE),\"\")","v":""},21.650000000000201,{"$f":"IFERROR(VLOOKUP(BA138,'CRUCE OPORTUNIDADES'!$C$12:$D$111,2,FALSE),\"\")","v":""},22.650000000000201,{"$f":"IFERROR(VLOOKUP(BC138,'CRUCE OPORTUNIDADES'!$C$12:$D$111,2,FALSE),\"\")","v":""},23.650000000000201,{"$f":"IFERROR(VLOOKUP(BE138,'CRUCE OPORTUNIDADES'!$C$12:$D$111,2,FALSE),\"\")","v":""},24.650000000000201,{"$f":"IFERROR(VLOOKUP(BG138,'CRUCE OPORTUNIDADES'!$C$12:$D$111,2,FALSE),\"\")","v":""},25.650000000000201,{"$f":"IFERROR(VLOOKUP(BI138,'CRUCE OPORTUNIDADES'!$C$12:$D$111,2,FALSE),\"\")","v":""}]
[null,null,null,null,null,null,null,null,null,null,null,null,null,{"$f":"IF(N140<>\"\",\" -O\",\"\")","v":""},null,{"$f":"IF(P140<>\"\",\" -O\",\"\")","v":""},null,{"$f":"IF(R140<>\"\",\" -O\",\"\")","v":""},null,{"$f":"IF(T140<>\"\",\" -O\",\"\")","v":""},null,{"$f":"IF(V140<>\"\",\" -O\",\"\")","v":""},null,{"$f":"IF(X140<>\"\",\" -O\",\"\")","v":""},null,{"$f":"IF(Z140<>\"\",\" -O\",\"\")","v":""},null,{"$f":"IF(AB140<>\"\",\" -O\",\"\")","v":""},null,{"$f":"IF(AD140<>\"\",\" -O\",\"\")","v":""},null,{"$f":"IF(AF140<>\"\",\" -O\",\"\")","v":""},null,{"$f":"IF(AH140<>\"\",\" -O\",\"\")","v":""},null,{"$f":"IF(AJ140<>\"\",\" -O\",\"\")","v":""},null,{"$f":"IF(AL140<>\"\",\" -O\",\"\")","v":""},null,{"$f":"IF(AN140<>\"\",\" -O\",\"\")","v":""},null,{"$f":"IF(AP140<>\"\",\" -O\",\"\")","v":""},null,{"$f":"IF(AR140<>\"\",\" -O\",\"\")","v":""},null,{"$f":"IF(AT140<>\"\",\" -O\",\"\")","v":""},null,{"$f":"IF(AV140<>\"\",\" -O\",\"\")","v":""},null,{"$f":"IF(AX140<>\"\",\" -O\",\"\")","v":""},null,{"$f":"IF(AZ140<>\"\",\" -O\",\"\")","v":""},null,{"$f":"IF(BB140<>\"\",\" -O\",\"\")","v":""},null,{"$f":"IF(BD140<>\"\",\" -O\",\"\")","v":""},null,{"$f":"IF(BF140<>\"\",\" -O\",\"\")","v":""},null,{"$f":"IF(BH140<>\"\",\" -O\",\"\")","v":""},null,{"$f":"IF(BJ140<>\"\",\" -O\",\"\")","v":""}]
[null,null,null,null,null,null,null,null,null,null,null,null,1.66,{"$f":"IFERROR(VLOOKUP(M140,'CRUCE OPORTUNIDADES'!$C$12:$D$111,2,FALSE),\"\")","v":""},2.6600000000000099,{"$f":"IFERROR(VLOOKUP(O140,'CRUCE OPORTUNIDADES'!$C$12:$D$111,2,FALSE),\"\")","v":""},3.6600000000000201,{"$f":"IFERROR(VLOOKUP(Q140,'CRUCE OPORTUNIDADES'!$C$12:$D$111,2,FALSE),\"\")","v":""},4.6600000000000303,{"$f":"IFERROR(VLOOKUP(S140,'CRUCE OPORTUNIDADES'!$C$12:$D$111,2,FALSE),\"\")","v":""},5.6600000000000401,{"$f":"IFERROR(VLOOKUP(U140,'CRUCE OPORTUNIDADES'!$C$12:$D$111,2,FALSE),\"\")","v":""},6.6600000000000499,{"$f":"IFERROR(VLOOKUP(W140,'CRUCE OPORTUNIDADES'!$C$12:$D$111,2,FALSE),\"\")","v":""},7.6600000000000597,{"$f":"IFERROR(VLOOKUP(Y140,'CRUCE OPORTUNIDADES'!$C$12:$D$111,2,FALSE),\"\")","v":""},8.6600000000000694,{"$f":"IFERROR(VLOOKUP(AA140,'CRUCE OPORTUNIDADES'!$C$12:$D$111,2,FALSE),\"\")","v":""},9.6600000000000801,{"$f":"IFERROR(VLOOKUP(AC140,'CRUCE OPORTUNIDADES'!$C$12:$D$111,2,FALSE),\"\")","v":""},10.6600000000001,{"$f":"IFERROR(VLOOKUP(AE140,'CRUCE OPORTUNIDADES'!$C$12:$D$111,2,FALSE),\"\")","v":""},11.6600000000001,{"$f":"IFERROR(VLOOKUP(AG140,'CRUCE OPORTUNIDADES'!$C$12:$D$111,2,FALSE),\"\")","v":""},12.6600000000001,{"$f":"IFERROR(VLOOKUP(AI140,'CRUCE OPORTUNIDADES'!$C$12:$D$111,2,FALSE),\"\")","v":""},13.6600000000001,{"$f":"IFERROR(VLOOKUP(AK140,'CRUCE OPORTUNIDADES'!$C$12:$D$111,2,FALSE),\"\")","v":""},14.6600000000001,{"$f":"IFERROR(VLOOKUP(AM140,'CRUCE OPORTUNIDADES'!$C$12:$D$111,2,FALSE),\"\")","v":""},15.6600000000001,{"$f":"IFERROR(VLOOKUP(AO140,'CRUCE OPORTUNIDADES'!$C$12:$D$111,2,FALSE),\"\")","v":""},16.6600000000001,{"$f":"IFERROR(VLOOKUP(AQ140,'CRUCE OPORTUNIDADES'!$C$12:$D$111,2,FALSE),\"\")","v":""},17.660000000000199,{"$f":"IFERROR(VLOOKUP(AS140,'CRUCE OPORTUNIDADES'!$C$12:$D$111,2,FALSE),\"\")","v":""},18.660000000000199,{"$f":"IFERROR(VLOOKUP(AU140,'CRUCE OPORTUNIDADES'!$C$12:$D$111,2,FALSE),\"\")","v":""},19.660000000000199,{"$f":"IFERROR(VLOOKUP(AW140,'CRUCE OPORTUNIDADES'!$C$12:$D$111,2,FALSE),\"\")","v":""},20.660000000000199,{"$f":"IFERROR(VLOOKUP(AY140,'CRUCE OPORTUNIDADES'!$C$12:$D$111,2,FALSE),\"\")","v":""},21.660000000000199,{"$f":"IFERROR(VLOOKUP(BA140,'CRUCE OPORTUNIDADES'!$C$12:$D$111,2,FALSE),\"\")","v":""},22.660000000000199,{"$f":"IFERROR(VLOOKUP(BC140,'CRUCE OPORTUNIDADES'!$C$12:$D$111,2,FALSE),\"\")","v":""},23.660000000000199,{"$f":"IFERROR(VLOOKUP(BE140,'CRUCE OPORTUNIDADES'!$C$12:$D$111,2,FALSE),\"\")","v":""},24.660000000000199,{"$f":"IFERROR(VLOOKUP(BG140,'CRUCE OPORTUNIDADES'!$C$12:$D$111,2,FALSE),\"\")","v":""},25.660000000000199,{"$f":"IFERROR(VLOOKUP(BI140,'CRUCE OPORTUNIDADES'!$C$12:$D$111,2,FALSE),\"\")","v":""}]
[null,null,null,null,null,null,null,null,null,null,null,null,null,{"$f":"IF(N142<>\"\",\" -O\",\"\")","v":""},null,{"$f":"IF(P142<>\"\",\" -O\",\"\")","v":""},null,{"$f":"IF(R142<>\"\",\" -O\",\"\")","v":""},null,{"$f":"IF(T142<>\"\",\" -O\",\"\")","v":""},null,{"$f":"IF(V142<>\"\",\" -O\",\"\")","v":""},null,{"$f":"IF(X142<>\"\",\" -O\",\"\")","v":""},null,{"$f":"IF(Z142<>\"\",\" -O\",\"\")","v":""},null,{"$f":"IF(AB142<>\"\",\" -O\",\"\")","v":""},null,{"$f":"IF(AD142<>\"\",\" -O\",\"\")","v":""},null,{"$f":"IF(AF142<>\"\",\" -O\",\"\")","v":""},null,{"$f":"IF(AH142<>\"\",\" -O\",\"\")","v":""},null,{"$f":"IF(AJ142<>\"\",\" -O\",\"\")","v":""},null,{"$f":"IF(AL142<>\"\",\" -O\",\"\")","v":""},null,{"$f":"IF(AN142<>\"\",\" -O\",\"\")","v":""},null,{"$f":"IF(AP142<>\"\",\" -O\",\"\")","v":""},null,{"$f":"IF(AR142<>\"\",\" -O\",\"\")","v":""},null,{"$f":"IF(AT142<>\"\",\" -O\",\"\")","v":""},null,{"$f":"IF(AV142<>\"\",\" -O\",\"\")","v":""},null,{"$f":"IF(AX142<>\"\",\" -O\",\"\")","v":""},null,{"$f":"IF(AZ142<>\"\",\" -O\",\"\")","v":""},null,{"$f":"IF(BB142<>\"\",\" -O\",\"\")","v":""},null,{"$f":"IF(BD142<>\"\",\" -O\",\"\")","v":""},null,{"$f":"IF(BF142<>\"\",\" -O\",\"\")","v":""},null,{"$f":"IF(BH142<>\"\",\" -O\",\"\")","v":""},null,{"$f":"IF(BJ142<>\"\",\" -O\",\"\")","v":""}]
[null,null,null,null,null,null,null,null,null,null,null,null,1.67,{"$f":"IFERROR(VLOOKUP(M142,'CRUCE OPORTUNIDADES'!$C$12:$D$111,2,FALSE),\"\")","v":""},2.6700000000000199,{"$f":"IFERROR(VLOOKUP(O142,'CRUCE OPORTUNIDADES'!$C$12:$D$111,2,FALSE),\"\")","v":""},3.6700000000000399,{"$f":"IFERROR(VLOOKUP(Q142,'CRUCE OPORTUNIDADES'!$C$12:$D$111,2,FALSE),\"\")","v":""},4.6700000000000603,{"$f":"IFERROR(VLOOKUP(S142,'CRUCE OPORTUNIDADES'!$C$12:$D$111,2,FALSE),\"\")","v":""},5.6700000000000799,{"$f":"IFERROR(VLOOKUP(U142,'CRUCE OPORTUNIDADES'!$C$12:$D$111,2,FALSE),\"\")","v":""},6.6700000000001003,{"$f":"IFERROR(VLOOKUP(W142,'CRUCE OPORTUNIDADES'!$C$12:$D$111,2,FALSE),\"\")","v":""},7.6700000000001198,{"$f":"IFERROR(VLOOKUP(Y142,'CRUCE OPORTUNIDADES'!$C$12:$D$111,2,FALSE),\"\")","v":""},8.6700000000001403,{"$f":"IFERROR(VLOOKUP(AA142,'CRUCE OPORTUNIDADES'!$C$12:$D$111,2,FALSE),\"\")","v":""},9.6700000000001598,{"$f":"IFERROR(VLOOKUP(AC142,'CRUCE OPORTUNIDADES'!$C$12:$D$111,2,FALSE),\"\")","v":""},10.670000000000201,{"$f":"IFERROR(VLOOKUP(AE142,'CRUCE OPORTUNIDADES'!$C$12:$D$111,2,FALSE),\"\")","v":""},11.670000000000201,{"$f":"IFERROR(VLOOKUP(AG142,'CRUCE OPORTUNIDADES'!$C$12:$D$111,2,FALSE),\"\")","v":""},12.670000000000201,{"$f":"IFERROR(VLOOKUP(AI142,'CRUCE OPORTUNIDADES'!$C$12:$D$111,2,FALSE),\"\")","v":""},13.670000000000201,{"$f":"IFERROR(VLOOKUP(AK142,'CRUCE OPORTUNIDADES'!$C$12:$D$111,2,FALSE),\"\")","v":""},14.6700000000003,{"$f":"IFERROR(VLOOKUP(AM142,'CRUCE OPORTUNIDADES'!$C$12:$D$111,2,FALSE),\"\")","v":""},15.6700000000003,{"$f":"IFERROR(VLOOKUP(AO142,'CRUCE OPORTUNIDADES'!$C$12:$D$111,2,FALSE),\"\")","v":""},16.6700000000003,{"$f":"IFERROR(VLOOKUP(AQ142,'CRUCE OPORTUNIDADES'!$C$12:$D$111,2,FALSE),\"\")","v":""},17.6700000000003,{"$f":"IFERROR(VLOOKUP(AS142,'CRUCE OPORTUNIDADES'!$C$12:$D$111,2,FALSE),\"\")","v":""},18.6700000000003,{"$f":"IFERROR(VLOOKUP(AU142,'CRUCE OPORTUNIDADES'!$C$12:$D$111,2,FALSE),\"\")","v":""},19.6700000000004,{"$f":"IFERROR(VLOOKUP(AW142,'CRUCE OPORTUNIDADES'!$C$12:$D$111,2,FALSE),\"\")","v":""},20.6700000000004,{"$f":"IFERROR(VLOOKUP(AY142,'CRUCE OPORTUNIDADES'!$C$12:$D$111,2,FALSE),\"\")","v":""},21.6700000000004,{"$f":"IFERROR(VLOOKUP(BA142,'CRUCE OPORTUNIDADES'!$C$12:$D$111,2,FALSE),\"\")","v":""},22.6700000000004,{"$f":"IFERROR(VLOOKUP(BC142,'CRUCE OPORTUNIDADES'!$C$12:$D$111,2,FALSE),\"\")","v":""},23.6700000000004,{"$f":"IFERROR(VLOOKUP(BE142,'CRUCE OPORTUNIDADES'!$C$12:$D$111,2,FALSE),\"\")","v":""},24.670000000000499,{"$f":"IFERROR(VLOOKUP(BG142,'CRUCE OPORTUNIDADES'!$C$12:$D$111,2,FALSE),\"\")","v":""},25.670000000000499,{"$f":"IFERROR(VLOOKUP(BI142,'CRUCE OPORTUNIDADES'!$C$12:$D$111,2,FALSE),\"\")","v":""}]
[null,null,null,null,null,null,null,null,null,null,null,null,null,{"$f":"IF(N144<>\"\",\" -O\",\"\")","v":""},null,{"$f":"IF(P144<>\"\",\" -O\",\"\")","v":""},null,{"$f":"IF(R144<>\"\",\" -O\",\"\")","v":""},null,{"$f":"IF(T144<>\"\",\" -O\",\"\")","v":""},null,{"$f":"IF(V144<>\"\",\" -O\",\"\")","v":""},null,{"$f":"IF(X144<>\"\",\" -O\",\"\")","v":""},null,{"$f":"IF(Z144<>\"\",\" -O\",\"\")","v":""},null,{"$f":"IF(AB144<>\"\",\" -O\",\"\")","v":""},null,{"$f":"IF(AD144<>\"\",\" -O\",\"\")","v":""},null,{"$f":"IF(AF144<>\"\",\" -O\",\"\")","v":""},null,{"$f":"IF(AH144<>\"\",\" -O\",\"\")","v":""},null,{"$f":"IF(AJ144<>\"\",\" -O\",\"\")","v":""},null,{"$f":"IF(AL144<>\"\",\" -O\",\"\")","v":""},null,{"$f":"IF(AN144<>\"\",\" -O\",\"\")","v":""},null,{"$f":"IF(AP144<>\"\",\" -O\",\"\")","v":""},null,{"$f":"IF(AR144<>\"\",\" -O\",\"\")","v":""},null,{"$f":"IF(AT144<>\"\",\" -O\",\"\")","v":""},null,{"$f":"IF(AV144<>\"\",\" -O\",\"\")","v":""},null,{"$f":"IF(AX144<>\"\",\" -O\",\"\")","v":""},null,{"$f":"IF(AZ144<>\"\",\" -O\",\"\")","v":""},null,{"$f":"IF(BB144<>\"\",\" -O\",\"\")","v":""},null,{"$f":"IF(BD144<>\"\",\" -O\",\"\")","v":""},null,{"$f":"IF(BF144<>\"\",\" -O\",\"\")","v":""},null,{"$f":"IF(BH144<>\"\",\" -O\",\"\")","v":""},null,{"$f":"IF(BJ144<>\"\",\" -O\",\"\")","v":""}]
[null,null,null,null,null,null,null,null,null,null,null,null,1.68,{"$f":"IFERROR(VLOOKUP(M144,'CRUCE OPORTUNIDADES'!$C$12:$D$111,2,FALSE),\"\")","v":""},2.6800000000000099,{"$f":"IFERROR(VLOOKUP(O144,'CRUCE OPORTUNIDADES'!$C$12:$D$111,2,FALSE),\"\")","v":""},3.6800000000000201,{"$f":"IFERROR(VLOOKUP(Q144,'CRUCE OPORTUNIDADES'!$C$12:$D$111,2,FALSE),\"\")","v":""},4.6800000000000299,{"$f":"IFERROR(VLOOKUP(S144,'CRUCE OPORTUNIDADES'!$C$12:$D$111,2,FALSE),\"\")","v":""},5.6800000000000397,{"$f":"IFERROR(VLOOKUP(U144,'CRUCE OPORTUNIDADES'!$C$12:$D$111,2,FALSE),\"\")","v":""},6.6800000000000503,{"$f":"IFERROR(VLOOKUP(W144,'CRUCE OPORTUNIDADES'!$C$12:$D$111,2,FALSE),\"\")","v":""},7.6800000000000601,{"$f":"IFERROR(VLOOKUP(Y144,'CRUCE OPORTUNIDADES'!$C$12:$D$111,2,FALSE),\"\")","v":""},8.6800000000000708,{"$f":"IFERROR(VLOOKUP(AA144,'CRUCE OPORTUNIDADES'!$C$12:$D$111,2,FALSE),\"\")","v":""},9.6800000000000797,{"$f":"IFERROR(VLOOKUP(AC144,'CRUCE OPORTUNIDADES'!$C$12:$D$111,2,FALSE),\"\")","v":""},10.680000000000099,{"$f":"IFERROR(VLOOKUP(AE144,'CRUCE OPORTUNIDADES'!$C$12:$D$111,2,FALSE),\"\")","v":""},11.680000000000099,{"$f":"IFERROR(VLOOKUP(AG144,'CRUCE OPORTUNIDADES'!$C$12:$D$111,2,FALSE),\"\")","v":""},12.680000000000099,{"$f":"IFERROR(VLOOKUP(AI144,'CRUCE OPORTUNIDADES'!$C$12:$D$111,2,FALSE),\"\")","v":""},13.680000000000099,{"$f":"IFERROR(VLOOKUP(AK144,'CRUCE OPORTUNIDADES'!$C$12:$D$111,2,FALSE),\"\")","v":""},14.680000000000099,{"$f":"IFERROR(VLOOKUP(AM144,'CRUCE OPORTUNIDADES'!$C$12:$D$111,2,FALSE),\"\")","v":""},15.680000000000099,{"$f":"IFERROR(VLOOKUP(AO144,'CRUCE OPORTUNIDADES'!$C$12:$D$111,2,FALSE),\"\")","v":""},16.680000000000099,{"$f":"IFERROR(VLOOKUP(AQ144,'CRUCE OPORTUNIDADES'!$C$12:$D$111,2,FALSE),\"\")","v":""},17.680000000000199,{"$f":"IFERROR(VLOOKUP(AS144,'CRUCE OPORTUNIDADES'!$C$12:$D$111,2,FALSE),\"\")","v":""},18.680000000000199,{"$f":"IFERROR(VLOOKUP(AU144,'CRUCE OPORTUNIDADES'!$C$12:$D$111,2,FALSE),\"\")","v":""},19.680000000000199,{"$f":"IFERROR(VLOOKUP(AW144,'CRUCE OPORTUNIDADES'!$C$12:$D$111,2,FALSE),\"\")","v":""},20.680000000000199,{"$f":"IFERROR(VLOOKUP(AY144,'CRUCE OPORTUNIDADES'!$C$12:$D$111,2,FALSE),\"\")","v":""},21.680000000000199,{"$f":"IFERROR(VLOOKUP(BA144,'CRUCE OPORTUNIDADES'!$C$12:$D$111,2,FALSE),\"\")","v":""},22.680000000000199,{"$f":"IFERROR(VLOOKUP(BC144,'CRUCE OPORTUNIDADES'!$C$12:$D$111,2,FALSE),\"\")","v":""},23.680000000000199,{"$f":"IFERROR(VLOOKUP(BE144,'CRUCE OPORTUNIDADES'!$C$12:$D$111,2,FALSE),\"\")","v":""},24.680000000000199,{"$f":"IFERROR(VLOOKUP(BG144,'CRUCE OPORTUNIDADES'!$C$12:$D$111,2,FALSE),\"\")","v":""},25.680000000000199,{"$f":"IFERROR(VLOOKUP(BI144,'CRUCE OPORTUNIDADES'!$C$12:$D$111,2,FALSE),\"\")","v":""}]
[null,null,null,null,null,null,null,null,null,null,null,null,null,{"$f":"IF(N146<>\"\",\" -O\",\"\")","v":""},null,{"$f":"IF(P146<>\"\",\" -O\",\"\")","v":""},null,{"$f":"IF(R146<>\"\",\" -O\",\"\")","v":""},null,{"$f":"IF(T146<>\"\",\" -O\",\"\")","v":""},null,{"$f":"IF(V146<>\"\",\" -O\",\"\")","v":""},null,{"$f":"IF(X146<>\"\",\" -O\",\"\")","v":""},null,{"$f":"IF(Z146<>\"\",\" -O\",\"\")","v":""},null,{"$f":"IF(AB146<>\"\",\" -O\",\"\")","v":""},null,{"$f":"IF(AD146<>\"\",\" -O\",\"\")","v":""},null,{"$f":"IF(AF146<>\"\",\" -O\",\"\")","v":""},null,{"$f":"IF(AH146<>\"\",\" -O\",\"\")","v":""},null,{"$f":"IF(AJ146<>\"\",\" -O\",\"\")","v":""},null,{"$f":"IF(AL146<>\"\",\" -O\",\"\")","v":""},null,{"$f":"IF(AN146<>\"\",\" -O\",\"\")","v":""},null,{"$f":"IF(AP146<>\"\",\" -O\",\"\")","v":""},null,{"$f":"IF(AR146<>\"\",\" -O\",\"\")","v":""},null,{"$f":"IF(AT146<>\"\",\" -O\",\"\")","v":""},null,{"$f":"IF(AV146<>\"\",\" -O\",\"\")","v":""},null,{"$f":"IF(AX146<>\"\",\" -O\",\"\")","v":""},null,{"$f":"IF(AZ146<>\"\",\" -O\",\"\")","v":""},null,{"$f":"IF(BB146<>\"\",\" -O\",\"\")","v":""},null,{"$f":"IF(BD146<>\"\",\" -O\",\"\")","v":""},null,{"$f":"IF(BF146<>\"\",\" -O\",\"\")","v":""},null,{"$f":"IF(BH146<>\"\",\" -O\",\"\")","v":""},null,{"$f":"IF(BJ146<>\"\",\" -O\",\"\")","v":""}]
[null,null,null,null,null,null,null,null,null,null,null,null,1.69,{"$f":"IFERROR(VLOOKUP(M146,'CRUCE OPORTUNIDADES'!$C$12:$D$111,2,FALSE),\"\")","v":""},2.6900000000000102,{"$f":"IFERROR(VLOOKUP(O146,'CRUCE OPORTUNIDADES'!$C$12:$D$111,2,FALSE),\"\")","v":""},3.6900000000000199,{"$f":"IFERROR(VLOOKUP(Q146,'CRUCE OPORTUNIDADES'!$C$12:$D$111,2,FALSE),\"\")","v":""},4.6900000000000297,{"$f":"IFERROR(VLOOKUP(S146,'CRUCE OPORTUNIDADES'!$C$12:$D$111,2,FALSE),\"\")","v":""},5.6900000000000404,{"$f":"IFERROR(VLOOKUP(U146,'CRUCE OPORTUNIDADES'!$C$12:$D$111,2,FALSE),\"\")","v":""},6.6900000000000501,{"$f":"IFERROR(VLOOKUP(W146,'CRUCE OPORTUNIDADES'!$C$12:$D$111,2,FALSE),\"\")","v":""},7.6900000000000599,{"$f":"IFERROR(VLOOKUP(Y146,'CRUCE OPORTUNIDADES'!$C$12:$D$111,2,FALSE),\"\")","v":""},8.6900000000000706,{"$f":"IFERROR(VLOOKUP(AA146,'CRUCE OPORTUNIDADES'!$C$12:$D$111,2,FALSE),\"\")","v":""},9.6900000000000794,{"$f":"IFERROR(VLOOKUP(AC146,'CRUCE OPORTUNIDADES'!$C$12:$D$111,2,FALSE),\"\")","v":""},10.690000000000101,{"$f":"IFERROR(VLOOKUP(AE146,'CRUCE OPORTUNIDADES'!$C$12:$D$111,2,FALSE),\"\")","v":""},11.690000000000101,{"$f":"IFERROR(VLOOKUP(AG146,'CRUCE OPORTUNIDADES'!$C$12:$D$111,2,FALSE),\"\")","v":""},12.690000000000101,{"$f":"IFERROR(VLOOKUP(AI146,'CRUCE OPORTUNIDADES'!$C$12:$D$111,2,FALSE),\"\")","v":""},13.690000000000101,{"$f":"IFERROR(VLOOKUP(AK146,'CRUCE OPORTUNIDADES'!$C$12:$D$111,2,FALSE),\"\")","v":""},14.690000000000101,{"$f":"IFERROR(VLOOKUP(AM146,'CRUCE OPORTUNIDADES'!$C$12:$D$111,2,FALSE),\"\")","v":""},15.690000000000101,{"$f":"IFERROR(VLOOKUP(AO146,'CRUCE OPORTUNIDADES'!$C$12:$D$111,2,FALSE),\"\")","v":""},16.6900000000002,{"$f":"IFERROR(VLOOKUP(AQ146,'CRUCE OPORTUNIDADES'!$C$12:$D$111,2,FALSE),\"\")","v":""},17.6900000000002,{"$f":"IFERROR(VLOOKUP(AS146,'CRUCE OPORTUNIDADES'!$C$12:$D$111,2,FALSE),\"\")","v":""},18.6900000000002,{"$f":"IFERROR(VLOOKUP(AU146,'CRUCE OPORTUNIDADES'!$C$12:$D$111,2,FALSE),\"\")","v":""},19.6900000000002,{"$f":"IFERROR(VLOOKUP(AW146,'CRUCE OPORTUNIDADES'!$C$12:$D$111,2,FALSE),\"\")","v":""},20.6900000000002,{"$f":"IFERROR(VLOOKUP(AY146,'CRUCE OPORTUNIDADES'!$C$12:$D$111,2,FALSE),\"\")","v":""},21.6900000000002,{"$f":"IFERROR(VLOOKUP(BA146,'CRUCE OPORTUNIDADES'!$C$12:$D$111,2,FALSE),\"\")","v":""},22.6900000000002,{"$f":"IFERROR(VLOOKUP(BC146,'CRUCE OPORTUNIDADES'!$C$12:$D$111,2,FALSE),\"\")","v":""},23.6900000000002,{"$f":"IFERROR(VLOOKUP(BE146,'CRUCE OPORTUNIDADES'!$C$12:$D$111,2,FALSE),\"\")","v":""},24.6900000000002,{"$f":"IFERROR(VLOOKUP(BG146,'CRUCE OPORTUNIDADES'!$C$12:$D$111,2,FALSE),\"\")","v":""},25.6900000000002,{"$f":"IFERROR(VLOOKUP(BI146,'CRUCE OPORTUNIDADES'!$C$12:$D$111,2,FALSE),\"\")","v":""}]
[null,null,null,null,null,null,null,null,null,null,null,null,null,{"$f":"IF(N148<>\"\",\" -O\",\"\")","v":""},null,{"$f":"IF(P148<>\"\",\" -O\",\"\")","v":""},null,{"$f":"IF(R148<>\"\",\" -O\",\"\")","v":""},null,{"$f":"IF(T148<>\"\",\" -O\",\"\")","v":""},null,{"$f":"IF(V148<>\"\",\" -O\",\"\")","v":""},null,{"$f":"IF(X148<>\"\",\" -O\",\"\")","v":""},null,{"$f":"IF(Z148<>\"\",\" -O\",\"\")","v":""},null,{"$f":"IF(AB148<>\"\",\" -O\",\"\")","v":""},null,{"$f":"IF(AD148<>\"\",\" -O\",\"\")","v":""},null,{"$f":"IF(AF148<>\"\",\" -O\",\"\")","v":""},null,{"$f":"IF(AH148<>\"\",\" -O\",\"\")","v":""},null,{"$f":"IF(AJ148<>\"\",\" -O\",\"\")","v":""},null,{"$f":"IF(AL148<>\"\",\" -O\",\"\")","v":""},null,{"$f":"IF(AN148<>\"\",\" -O\",\"\")","v":""},null,{"$f":"IF(AP148<>\"\",\" -O\",\"\")","v":""},null,{"$f":"IF(AR148<>\"\",\" -O\",\"\")","v":""},null,{"$f":"IF(AT148<>\"\",\" -O\",\"\")","v":""},null,{"$f":"IF(AV148<>\"\",\" -O\",\"\")","v":""},null,{"$f":"IF(AX148<>\"\",\" -O\",\"\")","v":""},null,{"$f":"IF(AZ148<>\"\",\" -O\",\"\")","v":""},null,{"$f":"IF(BB148<>\"\",\" -O\",\"\")","v":""},null,{"$f":"IF(BD148<>\"\",\" -O\",\"\")","v":""},null,{"$f":"IF(BF148<>\"\",\" -O\",\"\")","v":""},null,{"$f":"IF(BH148<>\"\",\" -O\",\"\")","v":""},null,{"$f":"IF(BJ148<>\"\",\" -O\",\"\")","v":""}]
[null,null,null,null,null,null,null,null,null,null,null,null,1.7,{"$f":"IFERROR(VLOOKUP(M148,'CRUCE OPORTUNIDADES'!$C$12:$D$111,2,FALSE),\"\")","v":""},2.7000000000000099,{"$f":"IFERROR(VLOOKUP(O148,'CRUCE OPORTUNIDADES'!$C$12:$D$111,2,FALSE),\"\")","v":""},3.7000000000000202,{"$f":"IFERROR(VLOOKUP(Q148,'CRUCE OPORTUNIDADES'!$C$12:$D$111,2,FALSE),\"\")","v":""},4.7000000000000304,{"$f":"IFERROR(VLOOKUP(S148,'CRUCE OPORTUNIDADES'!$C$12:$D$111,2,FALSE),\"\")","v":""},5.7000000000000401,{"$f":"IFERROR(VLOOKUP(U148,'CRUCE OPORTUNIDADES'!$C$12:$D$111,2,FALSE),\"\")","v":""},6.7000000000000499,{"$f":"IFERROR(VLOOKUP(W148,'CRUCE OPORTUNIDADES'!$C$12:$D$111,2,FALSE),\"\")","v":""},7.7000000000000597,{"$f":"IFERROR(VLOOKUP(Y148,'CRUCE OPORTUNIDADES'!$C$12:$D$111,2,FALSE),\"\")","v":""},8.7000000000000703,{"$f":"IFERROR(VLOOKUP(AA148,'CRUCE OPORTUNIDADES'!$C$12:$D$111,2,FALSE),\"\")","v":""},9.7000000000000792,{"$f":"IFERROR(VLOOKUP(AC148,'CRUCE OPORTUNIDADES'!$C$12:$D$111,2,FALSE),\"\")","v":""},10.700000000000101,{"$f":"IFERROR(VLOOKUP(AE148,'CRUCE OPORTUNIDADES'!$C$12:$D$111,2,FALSE),\"\")","v":""},11.700000000000101,{"$f":"IFERROR(VLOOKUP(AG148,'CRUCE OPORTUNIDADES'!$C$12:$D$111,2,FALSE),\"\")","v":""},12.700000000000101,{"$f":"IFERROR(VLOOKUP(AI148,'CRUCE OPORTUNIDADES'!$C$12:$D$111,2,FALSE),\"\")","v":""},13.700000000000101,{"$f":"IFERROR(VLOOKUP(AK148,'CRUCE OPORTUNIDADES'!$C$12:$D$111,2,FALSE),\"\")","v":""},14.700000000000101,{"$f":"IFERROR(VLOOKUP(AM148,'CRUCE OPORTUNIDADES'!$C$12:$D$111,2,FALSE),\"\")","v":""},15.700000000000101,{"$f":"IFERROR(VLOOKUP(AO148,'CRUCE OPORTUNIDADES'!$C$12:$D$111,2,FALSE),\"\")","v":""},16.700000000000099,{"$f":"IFERROR(VLOOKUP(AQ148,'CRUCE OPORTUNIDADES'!$C$12:$D$111,2,FALSE),\"\")","v":""},17.700000000000198,{"$f":"IFERROR(VLOOKUP(AS148,'CRUCE OPORTUNIDADES'!$C$12:$D$111,2,FALSE),\"\")","v":""},18.700000000000198,{"$f":"IFERROR(VLOOKUP(AU148,'CRUCE OPORTUNIDADES'!$C$12:$D$111,2,FALSE),\"\")","v":""},19.700000000000198,{"$f":"IFERROR(VLOOKUP(AW148,'CRUCE OPORTUNIDADES'!$C$12:$D$111,2,FALSE),\"\")","v":""},20.700000000000198,{"$f":"IFERROR(VLOOKUP(AY148,'CRUCE OPORTUNIDADES'!$C$12:$D$111,2,FALSE),\"\")","v":""},21.700000000000198,{"$f":"IFERROR(VLOOKUP(BA148,'CRUCE OPORTUNIDADES'!$C$12:$D$111,2,FALSE),\"\")","v":""},22.700000000000198,{"$f":"IFERROR(VLOOKUP(BC148,'CRUCE OPORTUNIDADES'!$C$12:$D$111,2,FALSE),\"\")","v":""},23.700000000000198,{"$f":"IFERROR(VLOOKUP(BE148,'CRUCE OPORTUNIDADES'!$C$12:$D$111,2,FALSE),\"\")","v":""},24.700000000000198,{"$f":"IFERROR(VLOOKUP(BG148,'CRUCE OPORTUNIDADES'!$C$12:$D$111,2,FALSE),\"\")","v":""},25.700000000000198,{"$f":"IFERROR(VLOOKUP(BI148,'CRUCE OPORTUNIDADES'!$C$12:$D$111,2,FALSE),\"\")","v":""}]
[null,null,null,null,null,null,null,null,null,null,null,null,null,{"$f":"IF(N150<>\"\",\" -O\",\"\")","v":""},null,{"$f":"IF(P150<>\"\",\" -O\",\"\")","v":""},null,{"$f":"IF(R150<>\"\",\" -O\",\"\")","v":""},null,{"$f":"IF(T150<>\"\",\" -O\",\"\")","v":""},null,{"$f":"IF(V150<>\"\",\" -O\",\"\")","v":""},null,{"$f":"IF(X150<>\"\",\" -O\",\"\")","v":""},null,{"$f":"IF(Z150<>\"\",\" -O\",\"\")","v":""},null,{"$f":"IF(AB150<>\"\",\" -O\",\"\")","v":""},null,{"$f":"IF(AD150<>\"\",\" -O\",\"\")","v":""},null,{"$f":"IF(AF150<>\"\",\" -O\",\"\")","v":""},null,{"$f":"IF(AH150<>\"\",\" -O\",\"\")","v":""},null,{"$f":"IF(AJ150<>\"\",\" -O\",\"\")","v":""},null,{"$f":"IF(AL150<>\"\",\" -O\",\"\")","v":""},null,{"$f":"IF(AN150<>\"\",\" -O\",\"\")","v":""},null,{"$f":"IF(AP150<>\"\",\" -O\",\"\")","v":""},null,{"$f":"IF(AR150<>\"\",\" -O\",\"\")","v":""},null,{"$f":"IF(AT150<>\"\",\" -O\",\"\")","v":""},null,{"$f":"IF(AV150<>\"\",\" -O\",\"\")","v":""},null,{"$f":"IF(AX150<>\"\",\" -O\",\"\")","v":""},null,{"$f":"IF(AZ150<>\"\",\" -O\",\"\")","v":""},null,{"$f":"IF(BB150<>\"\",\" -O\",\"\")","v":""},null,{"$f":"IF(BD150<>\"\",\" -O\",\"\")","v":""},null,{"$f":"IF(BF150<>\"\",\" -O\",\"\")","v":""},null,{"$f":"IF(BH150<>\"\",\" -O\",\"\")","v":""},null,{"$f":"IF(BJ150<>\"\",\" -O\",\"\")","v":""}]
[null,null,null,null,null,null,null,null,null,null,null,null,1.71,{"$f":"IFERROR(VLOOKUP(M150,'CRUCE OPORTUNIDADES'!$C$12:$D$111,2,FALSE),\"\")","v":""},2.7100000000000199,{"$f":"IFERROR(VLOOKUP(O150,'CRUCE OPORTUNIDADES'!$C$12:$D$111,2,FALSE),\"\")","v":""},3.7100000000000399,{"$f":"IFERROR(VLOOKUP(Q150,'CRUCE OPORTUNIDADES'!$C$12:$D$111,2,FALSE),\"\")","v":""},4.7100000000000604,{"$f":"IFERROR(VLOOKUP(S150,'CRUCE OPORTUNIDADES'!$C$12:$D$111,2,FALSE),\"\")","v":""},5.7100000000000799,{"$f":"IFERROR(VLOOKUP(U150,'CRUCE OPORTUNIDADES'!$C$12:$D$111,2,FALSE),\"\")","v":""},6.7100000000001003,{"$f":"IFERROR(VLOOKUP(W150,'CRUCE OPORTUNIDADES'!$C$12:$D$111,2,FALSE),\"\")","v":""},7.7100000000001199,{"$f":"IFERROR(VLOOKUP(Y150,'CRUCE OPORTUNIDADES'!$C$12:$D$111,2,FALSE),\"\")","v":""},8.7100000000001394,{"$f":"IFERROR(VLOOKUP(AA150,'CRUCE OPORTUNIDADES'!$C$12:$D$111,2,FALSE),\"\")","v":""},9.7100000000001607,{"$f":"IFERROR(VLOOKUP(AC150,'CRUCE OPORTUNIDADES'!$C$12:$D$111,2,FALSE),\"\")","v":""},10.7100000000002,{"$f":"IFERROR(VLOOKUP(AE150,'CRUCE OPORTUNIDADES'!$C$12:$D$111,2,FALSE),\"\")","v":""},11.7100000000002,{"$f":"IFERROR(VLOOKUP(AG150,'CRUCE OPORTUNIDADES'!$C$12:$D$111,2,FALSE),\"\")","v":""},12.7100000000002,{"$f":"IFERROR(VLOOKUP(AI150,'CRUCE OPORTUNIDADES'!$C$12:$D$111,2,FALSE),\"\")","v":""},13.7100000000002,{"$f":"IFERROR(VLOOKUP(AK150,'CRUCE OPORTUNIDADES'!$C$12:$D$111,2,FALSE),\"\")","v":""},14.710000000000299,{"$f":"IFERROR(VLOOKUP(AM150,'CRUCE OPORTUNIDADES'!$C$12:$D$111,2,FALSE),\"\")","v":""},15.710000000000299,{"$f":"IFERROR(VLOOKUP(AO150,'CRUCE OPORTUNIDADES'!$C$12:$D$111,2,FALSE),\"\")","v":""},16.710000000000299,{"$f":"IFERROR(VLOOKUP(AQ150,'CRUCE OPORTUNIDADES'!$C$12:$D$111,2,FALSE),\"\")","v":""},17.710000000000299,{"$f":"IFERROR(VLOOKUP(AS150,'CRUCE OPORTUNIDADES'!$C$12:$D$111,2,FALSE),\"\")","v":""},18.710000000000299,{"$f":"IFERROR(VLOOKUP(AU150,'CRUCE OPORTUNIDADES'!$C$12:$D$111,2,FALSE),\"\")","v":""},19.710000000000399,{"$f":"IFERROR(VLOOKUP(AW150,'CRUCE OPORTUNIDADES'!$C$12:$D$111,2,FALSE),\"\")","v":""},20.710000000000399,{"$f":"IFERROR(VLOOKUP(AY150,'CRUCE OPORTUNIDADES'!$C$12:$D$111,2,FALSE),\"\")","v":""},21.710000000000399,{"$f":"IFERROR(VLOOKUP(BA150,'CRUCE OPORTUNIDADES'!$C$12:$D$111,2,FALSE),\"\")","v":""},22.710000000000399,{"$f":"IFERROR(VLOOKUP(BC150,'CRUCE OPORTUNIDADES'!$C$12:$D$111,2,FALSE),\"\")","v":""},23.710000000000399,{"$f":"IFERROR(VLOOKUP(BE150,'CRUCE OPORTUNIDADES'!$C$12:$D$111,2,FALSE),\"\")","v":""},24.710000000000498,{"$f":"IFERROR(VLOOKUP(BG150,'CRUCE OPORTUNIDADES'!$C$12:$D$111,2,FALSE),\"\")","v":""},25.710000000000498,{"$f":"IFERROR(VLOOKUP(BI150,'CRUCE OPORTUNIDADES'!$C$12:$D$111,2,FALSE),\"\")","v":""}]
[null,null,null,null,null,null,null,null,null,null,null,null,null,{"$f":"IF(N152<>\"\",\" -O\",\"\")","v":""},null,{"$f":"IF(P152<>\"\",\" -O\",\"\")","v":""},null,{"$f":"IF(R152<>\"\",\" -O\",\"\")","v":""},null,{"$f":"IF(T152<>\"\",\" -O\",\"\")","v":""},null,{"$f":"IF(V152<>\"\",\" -O\",\"\")","v":""},null,{"$f":"IF(X152<>\"\",\" -O\",\"\")","v":""},null,{"$f":"IF(Z152<>\"\",\" -O\",\"\")","v":""},null,{"$f":"IF(AB152<>\"\",\" -O\",\"\")","v":""},null,{"$f":"IF(AD152<>\"\",\" -O\",\"\")","v":""},null,{"$f":"IF(AF152<>\"\",\" -O\",\"\")","v":""},null,{"$f":"IF(AH152<>\"\",\" -O\",\"\")","v":""},null,{"$f":"IF(AJ152<>\"\",\" -O\",\"\")","v":""},null,{"$f":"IF(AL152<>\"\",\" -O\",\"\")","v":""},null,{"$f":"IF(AN152<>\"\",\" -O\",\"\")","v":""},null,{"$f":"IF(AP152<>\"\",\" -O\",\"\")","v":""},null,{"$f":"IF(AR152<>\"\",\" -O\",\"\")","v":""},null,{"$f":"IF(AT152<>\"\",\" -O\",\"\")","v":""},null,{"$f":"IF(AV152<>\"\",\" -O\",\"\")","v":""},null,{"$f":"IF(AX152<>\"\",\" -O\",\"\")","v":""},null,{"$f":"IF(AZ152<>\"\",\" -O\",\"\")","v":""},null,{"$f":"IF(BB152<>\"\",\" -O\",\"\")","v":""},null,{"$f":"IF(BD152<>\"\",\" -O\",\"\")","v":""},null,{"$f":"IF(BF152<>\"\",\" -O\",\"\")","v":""},null,{"$f":"IF(BH152<>\"\",\" -O\",\"\")","v":""},null,{"$f":"IF(BJ152<>\"\",\" -O\",\"\")","v":""}]
[null,null,null,null,null,null,null,null,null,null,null,null,1.72,{"$f":"IFERROR(VLOOKUP(M152,'CRUCE OPORTUNIDADES'!$C$12:$D$111,2,FALSE),\"\")","v":""},2.7200000000000202,{"$f":"IFERROR(VLOOKUP(O152,'CRUCE OPORTUNIDADES'!$C$12:$D$111,2,FALSE),\"\")","v":""},3.7200000000000402,{"$f":"IFERROR(VLOOKUP(Q152,'CRUCE OPORTUNIDADES'!$C$12:$D$111,2,FALSE),\"\")","v":""},4.7200000000000601,{"$f":"IFERROR(VLOOKUP(S152,'CRUCE OPORTUNIDADES'!$C$12:$D$111,2,FALSE),\"\")","v":""},5.7200000000000797,{"$f":"IFERROR(VLOOKUP(U152,'CRUCE OPORTUNIDADES'!$C$12:$D$111,2,FALSE),\"\")","v":""},6.7200000000001001,{"$f":"IFERROR(VLOOKUP(W152,'CRUCE OPORTUNIDADES'!$C$12:$D$111,2,FALSE),\"\")","v":""},7.7200000000001197,{"$f":"IFERROR(VLOOKUP(Y152,'CRUCE OPORTUNIDADES'!$C$12:$D$111,2,FALSE),\"\")","v":""},8.7200000000001392,{"$f":"IFERROR(VLOOKUP(AA152,'CRUCE OPORTUNIDADES'!$C$12:$D$111,2,FALSE),\"\")","v":""},9.7200000000001605,{"$f":"IFERROR(VLOOKUP(AC152,'CRUCE OPORTUNIDADES'!$C$12:$D$111,2,FALSE),\"\")","v":""},10.7200000000002,{"$f":"IFERROR(VLOOKUP(AE152,'CRUCE OPORTUNIDADES'!$C$12:$D$111,2,FALSE),\"\")","v":""},11.7200000000002,{"$f":"IFERROR(VLOOKUP(AG152,'CRUCE OPORTUNIDADES'!$C$12:$D$111,2,FALSE),\"\")","v":""},12.7200000000002,{"$f":"IFERROR(VLOOKUP(AI152,'CRUCE OPORTUNIDADES'!$C$12:$D$111,2,FALSE),\"\")","v":""},13.7200000000002,{"$f":"IFERROR(VLOOKUP(AK152,'CRUCE OPORTUNIDADES'!$C$12:$D$111,2,FALSE),\"\")","v":""},14.720000000000301,{"$f":"IFERROR(VLOOKUP(AM152,'CRUCE OPORTUNIDADES'!$C$12:$D$111,2,FALSE),\"\")","v":""},15.720000000000301,{"$f":"IFERROR(VLOOKUP(AO152,'CRUCE OPORTUNIDADES'!$C$12:$D$111,2,FALSE),\"\")","v":""},16.720000000000301,{"$f":"IFERROR(VLOOKUP(AQ152,'CRUCE OPORTUNIDADES'!$C$12:$D$111,2,FALSE),\"\")","v":""},17.720000000000301,{"$f":"IFERROR(VLOOKUP(AS152,'CRUCE OPORTUNIDADES'!$C$12:$D$111,2,FALSE),\"\")","v":""},18.720000000000301,{"$f":"IFERROR(VLOOKUP(AU152,'CRUCE OPORTUNIDADES'!$C$12:$D$111,2,FALSE),\"\")","v":""},19.7200000000004,{"$f":"IFERROR(VLOOKUP(AW152,'CRUCE OPORTUNIDADES'!$C$12:$D$111,2,FALSE),\"\")","v":""},20.7200000000004,{"$f":"IFERROR(VLOOKUP(AY152,'CRUCE OPORTUNIDADES'!$C$12:$D$111,2,FALSE),\"\")","v":""},21.7200000000004,{"$f":"IFERROR(VLOOKUP(BA152,'CRUCE OPORTUNIDADES'!$C$12:$D$111,2,FALSE),\"\")","v":""},22.7200000000004,{"$f":"IFERROR(VLOOKUP(BC152,'CRUCE OPORTUNIDADES'!$C$12:$D$111,2,FALSE),\"\")","v":""},23.7200000000004,{"$f":"IFERROR(VLOOKUP(BE152,'CRUCE OPORTUNIDADES'!$C$12:$D$111,2,FALSE),\"\")","v":""},24.7200000000005,{"$f":"IFERROR(VLOOKUP(BG152,'CRUCE OPORTUNIDADES'!$C$12:$D$111,2,FALSE),\"\")","v":""},25.7200000000005,{"$f":"IFERROR(VLOOKUP(BI152,'CRUCE OPORTUNIDADES'!$C$12:$D$111,2,FALSE),\"\")","v":""}]
[null,null,null,null,null,null,null,null,null,null,null,null,null,{"$f":"IF(N154<>\"\",\" -O\",\"\")","v":""},null,{"$f":"IF(P154<>\"\",\" -O\",\"\")","v":""},null,{"$f":"IF(R154<>\"\",\" -O\",\"\")","v":""},null,{"$f":"IF(T154<>\"\",\" -O\",\"\")","v":""},null,{"$f":"IF(V154<>\"\",\" -O\",\"\")","v":""},null,{"$f":"IF(X154<>\"\",\" -O\",\"\")","v":""},null,{"$f":"IF(Z154<>\"\",\" -O\",\"\")","v":""},null,{"$f":"IF(AB154<>\"\",\" -O\",\"\")","v":""},null,{"$f":"IF(AD154<>\"\",\" -O\",\"\")","v":""},null,{"$f":"IF(AF154<>\"\",\" -O\",\"\")","v":""},null,{"$f":"IF(AH154<>\"\",\" -O\",\"\")","v":""},null,{"$f":"IF(AJ154<>\"\",\" -O\",\"\")","v":""},null,{"$f":"IF(AL154<>\"\",\" -O\",\"\")","v":""},null,{"$f":"IF(AN154<>\"\",\" -O\",\"\")","v":""},null,{"$f":"IF(AP154<>\"\",\" -O\",\"\")","v":""},null,{"$f":"IF(AR154<>\"\",\" -O\",\"\")","v":""},null,{"$f":"IF(AT154<>\"\",\" -O\",\"\")","v":""},null,{"$f":"IF(AV154<>\"\",\" -O\",\"\")","v":""},null,{"$f":"IF(AX154<>\"\",\" -O\",\"\")","v":""},null,{"$f":"IF(AZ154<>\"\",\" -O\",\"\")","v":""},null,{"$f":"IF(BB154<>\"\",\" -O\",\"\")","v":""},null,{"$f":"IF(BD154<>\"\",\" -O\",\"\")","v":""},null,{"$f":"IF(BF154<>\"\",\" -O\",\"\")","v":""},null,{"$f":"IF(BH154<>\"\",\" -O\",\"\")","v":""},null,{"$f":"IF(BJ154<>\"\",\" -O\",\"\")","v":""}]
[null,null,null,null,null,null,null,null,null,null,null,null,1.73,{"$f":"IFERROR(VLOOKUP(M154,'CRUCE OPORTUNIDADES'!$C$12:$D$111,2,FALSE),\"\")","v":""},2.73000000000002,{"$f":"IFERROR(VLOOKUP(O154,'CRUCE OPORTUNIDADES'!$C$12:$D$111,2,FALSE),\"\")","v":""},3.73000000000004,{"$f":"IFERROR(VLOOKUP(Q154,'CRUCE OPORTUNIDADES'!$C$12:$D$111,2,FALSE),\"\")","v":""},4.7300000000000599,{"$f":"IFERROR(VLOOKUP(S154,'CRUCE OPORTUNIDADES'!$C$12:$D$111,2,FALSE),\"\")","v":""},5.7300000000000804,{"$f":"IFERROR(VLOOKUP(U154,'CRUCE OPORTUNIDADES'!$C$12:$D$111,2,FALSE),\"\")","v":""},6.7300000000000999,{"$f":"IFERROR(VLOOKUP(W154,'CRUCE OPORTUNIDADES'!$C$12:$D$111,2,FALSE),\"\")","v":""},7.7300000000001203,{"$f":"IFERROR(VLOOKUP(Y154,'CRUCE OPORTUNIDADES'!$C$12:$D$111,2,FALSE),\"\")","v":""},8.7300000000001408,{"$f":"IFERROR(VLOOKUP(AA154,'CRUCE OPORTUNIDADES'!$C$12:$D$111,2,FALSE),\"\")","v":""},9.7300000000001603,{"$f":"IFERROR(VLOOKUP(AC154,'CRUCE OPORTUNIDADES'!$C$12:$D$111,2,FALSE),\"\")","v":""},10.730000000000199,{"$f":"IFERROR(VLOOKUP(AE154,'CRUCE OPORTUNIDADES'!$C$12:$D$111,2,FALSE),\"\")","v":""},11.730000000000199,{"$f":"IFERROR(VLOOKUP(AG154,'CRUCE OPORTUNIDADES'!$C$12:$D$111,2,FALSE),\"\")","v":""},12.730000000000199,{"$f":"IFERROR(VLOOKUP(AI154,'CRUCE OPORTUNIDADES'!$C$12:$D$111,2,FALSE),\"\")","v":""},13.730000000000199,{"$f":"IFERROR(VLOOKUP(AK154,'CRUCE OPORTUNIDADES'!$C$12:$D$111,2,FALSE),\"\")","v":""},14.730000000000301,{"$f":"IFERROR(VLOOKUP(AM154,'CRUCE OPORTUNIDADES'!$C$12:$D$111,2,FALSE),\"\")","v":""},15.730000000000301,{"$f":"IFERROR(VLOOKUP(AO154,'CRUCE OPORTUNIDADES'!$C$12:$D$111,2,FALSE),\"\")","v":""},16.730000000000299,{"$f":"IFERROR(VLOOKUP(AQ154,'CRUCE OPORTUNIDADES'!$C$12:$D$111,2,FALSE),\"\")","v":""},17.730000000000299,{"$f":"IFERROR(VLOOKUP(AS154,'CRUCE OPORTUNIDADES'!$C$12:$D$111,2,FALSE),\"\")","v":""},18.730000000000299,{"$f":"IFERROR(VLOOKUP(AU154,'CRUCE OPORTUNIDADES'!$C$12:$D$111,2,FALSE),\"\")","v":""},19.730000000000398,{"$f":"IFERROR(VLOOKUP(AW154,'CRUCE OPORTUNIDADES'!$C$12:$D$111,2,FALSE),\"\")","v":""},20.730000000000398,{"$f":"IFERROR(VLOOKUP(AY154,'CRUCE OPORTUNIDADES'!$C$12:$D$111,2,FALSE),\"\")","v":""},21.730000000000398,{"$f":"IFERROR(VLOOKUP(BA154,'CRUCE OPORTUNIDADES'!$C$12:$D$111,2,FALSE),\"\")","v":""},22.730000000000398,{"$f":"IFERROR(VLOOKUP(BC154,'CRUCE OPORTUNIDADES'!$C$12:$D$111,2,FALSE),\"\")","v":""},23.730000000000398,{"$f":"IFERROR(VLOOKUP(BE154,'CRUCE OPORTUNIDADES'!$C$12:$D$111,2,FALSE),\"\")","v":""},24.730000000000501,{"$f":"IFERROR(VLOOKUP(BG154,'CRUCE OPORTUNIDADES'!$C$12:$D$111,2,FALSE),\"\")","v":""},25.730000000000501,{"$f":"IFERROR(VLOOKUP(BI154,'CRUCE OPORTUNIDADES'!$C$12:$D$111,2,FALSE),\"\")","v":""}]
[null,null,null,null,null,null,null,null,null,null,null,null,null,{"$f":"IF(N156<>\"\",\" -O\",\"\")","v":""},null,{"$f":"IF(P156<>\"\",\" -O\",\"\")","v":""},null,{"$f":"IF(R156<>\"\",\" -O\",\"\")","v":""},null,{"$f":"IF(T156<>\"\",\" -O\",\"\")","v":""},null,{"$f":"IF(V156<>\"\",\" -O\",\"\")","v":""},null,{"$f":"IF(X156<>\"\",\" -O\",\"\")","v":""},null,{"$f":"IF(Z156<>\"\",\" -O\",\"\")","v":""},null,{"$f":"IF(AB156<>\"\",\" -O\",\"\")","v":""},null,{"$f":"IF(AD156<>\"\",\" -O\",\"\")","v":""},null,{"$f":"IF(AF156<>\"\",\" -O\",\"\")","v":""},null,{"$f":"IF(AH156<>\"\",\" -O\",\"\")","v":""},null,{"$f":"IF(AJ156<>\"\",\" -O\",\"\")","v":""},null,{"$f":"IF(AL156<>\"\",\" -O\",\"\")","v":""},null,{"$f":"IF(AN156<>\"\",\" -O\",\"\")","v":""},null,{"$f":"IF(AP156<>\"\",\" -O\",\"\")","v":""},null,{"$f":"IF(AR156<>\"\",\" -O\",\"\")","v":""},null,{"$f":"IF(AT156<>\"\",\" -O\",\"\")","v":""},null,{"$f":"IF(AV156<>\"\",\" -O\",\"\")","v":""},null,{"$f":"IF(AX156<>\"\",\" -O\",\"\")","v":""},null,{"$f":"IF(AZ156<>\"\",\" -O\",\"\")","v":""},null,{"$f":"IF(BB156<>\"\",\" -O\",\"\")","v":""},null,{"$f":"IF(BD156<>\"\",\" -O\",\"\")","v":""},null,{"$f":"IF(BF156<>\"\",\" -O\",\"\")","v":""},null,{"$f":"IF(BH156<>\"\",\" -O\",\"\")","v":""},null,{"$f":"IF(BJ156<>\"\",\" -O\",\"\")","v":""}]
[null,null,null,null,null,null,null,null,null,null,null,null,1.74,{"$f":"IFERROR(VLOOKUP(M156,'CRUCE OPORTUNIDADES'!$C$12:$D$111,2,FALSE),\"\")","v":""},2.7400000000000202,{"$f":"IFERROR(VLOOKUP(O156,'CRUCE OPORTUNIDADES'!$C$12:$D$111,2,FALSE),\"\")","v":""},3.7400000000000402,{"$f":"IFERROR(VLOOKUP(Q156,'CRUCE OPORTUNIDADES'!$C$12:$D$111,2,FALSE),\"\")","v":""},4.7400000000000597,{"$f":"IFERROR(VLOOKUP(S156,'CRUCE OPORTUNIDADES'!$C$12:$D$111,2,FALSE),\"\")","v":""},5.7400000000000801,{"$f":"IFERROR(VLOOKUP(U156,'CRUCE OPORTUNIDADES'!$C$12:$D$111,2,FALSE),\"\")","v":""},6.7400000000000997,{"$f":"IFERROR(VLOOKUP(W156,'CRUCE OPORTUNIDADES'!$C$12:$D$111,2,FALSE),\"\")","v":""},7.7400000000001201,{"$f":"IFERROR(VLOOKUP(Y156,'CRUCE OPORTUNIDADES'!$C$12:$D$111,2,FALSE),\"\")","v":""},8.7400000000001405,{"$f":"IFERROR(VLOOKUP(AA156,'CRUCE OPORTUNIDADES'!$C$12:$D$111,2,FALSE),\"\")","v":""},9.7400000000001601,{"$f":"IFERROR(VLOOKUP(AC156,'CRUCE OPORTUNIDADES'!$C$12:$D$111,2,FALSE),\"\")","v":""},10.740000000000199,{"$f":"IFERROR(VLOOKUP(AE156,'CRUCE OPORTUNIDADES'!$C$12:$D$111,2,FALSE),\"\")","v":""},11.740000000000199,{"$f":"IFERROR(VLOOKUP(AG156,'CRUCE OPORTUNIDADES'!$C$12:$D$111,2,FALSE),\"\")","v":""},12.740000000000199,{"$f":"IFERROR(VLOOKUP(AI156,'CRUCE OPORTUNIDADES'!$C$12:$D$111,2,FALSE),\"\")","v":""},13.740000000000199,{"$f":"IFERROR(VLOOKUP(AK156,'CRUCE OPORTUNIDADES'!$C$12:$D$111,2,FALSE),\"\")","v":""},14.7400000000003,{"$f":"IFERROR(VLOOKUP(AM156,'CRUCE OPORTUNIDADES'!$C$12:$D$111,2,FALSE),\"\")","v":""},15.7400000000003,{"$f":"IFERROR(VLOOKUP(AO156,'CRUCE OPORTUNIDADES'!$C$12:$D$111,2,FALSE),\"\")","v":""},16.7400000000003,{"$f":"IFERROR(VLOOKUP(AQ156,'CRUCE OPORTUNIDADES'!$C$12:$D$111,2,FALSE),\"\")","v":""},17.7400000000003,{"$f":"IFERROR(VLOOKUP(AS156,'CRUCE OPORTUNIDADES'!$C$12:$D$111,2,FALSE),\"\")","v":""},18.7400000000003,{"$f":"IFERROR(VLOOKUP(AU156,'CRUCE OPORTUNIDADES'!$C$12:$D$111,2,FALSE),\"\")","v":""},19.7400000000004,{"$f":"IFERROR(VLOOKUP(AW156,'CRUCE OPORTUNIDADES'!$C$12:$D$111,2,FALSE),\"\")","v":""},20.7400000000004,{"$f":"IFERROR(VLOOKUP(AY156,'CRUCE OPORTUNIDADES'!$C$12:$D$111,2,FALSE),\"\")","v":""},21.7400000000004,{"$f":"IFERROR(VLOOKUP(BA156,'CRUCE OPORTUNIDADES'!$C$12:$D$111,2,FALSE),\"\")","v":""},22.7400000000004,{"$f":"IFERROR(VLOOKUP(BC156,'CRUCE OPORTUNIDADES'!$C$12:$D$111,2,FALSE),\"\")","v":""},23.7400000000004,{"$f":"IFERROR(VLOOKUP(BE156,'CRUCE OPORTUNIDADES'!$C$12:$D$111,2,FALSE),\"\")","v":""},24.740000000000499,{"$f":"IFERROR(VLOOKUP(BG156,'CRUCE OPORTUNIDADES'!$C$12:$D$111,2,FALSE),\"\")","v":""},25.740000000000499,{"$f":"IFERROR(VLOOKUP(BI156,'CRUCE OPORTUNIDADES'!$C$12:$D$111,2,FALSE),\"\")","v":""}]
[null,null,null,null,null,null,null,null,null,null,null,null,null,{"$f":"IF(N158<>\"\",\" -O\",\"\")","v":""},null,{"$f":"IF(P158<>\"\",\" -O\",\"\")","v":""},null,{"$f":"IF(R158<>\"\",\" -O\",\"\")","v":""},null,{"$f":"IF(T158<>\"\",\" -O\",\"\")","v":""},null,{"$f":"IF(V158<>\"\",\" -O\",\"\")","v":""},null,{"$f":"IF(X158<>\"\",\" -O\",\"\")","v":""},null,{"$f":"IF(Z158<>\"\",\" -O\",\"\")","v":""},null,{"$f":"IF(AB158<>\"\",\" -O\",\"\")","v":""},null,{"$f":"IF(AD158<>\"\",\" -O\",\"\")","v":""},null,{"$f":"IF(AF158<>\"\",\" -O\",\"\")","v":""},null,{"$f":"IF(AH158<>\"\",\" -O\",\"\")","v":""},null,{"$f":"IF(AJ158<>\"\",\" -O\",\"\")","v":""},null,{"$f":"IF(AL158<>\"\",\" -O\",\"\")","v":""},null,{"$f":"IF(AN158<>\"\",\" -O\",\"\")","v":""},null,{"$f":"IF(AP158<>\"\",\" -O\",\"\")","v":""},null,{"$f":"IF(AR158<>\"\",\" -O\",\"\")","v":""},null,{"$f":"IF(AT158<>\"\",\" -O\",\"\")","v":""},null,{"$f":"IF(AV158<>\"\",\" -O\",\"\")","v":""},null,{"$f":"IF(AX158<>\"\",\" -O\",\"\")","v":""},null,{"$f":"IF(AZ158<>\"\",\" -O\",\"\")","v":""},null,{"$f":"IF(BB158<>\"\",\" -O\",\"\")","v":""},null,{"$f":"IF(BD158<>\"\",\" -O\",\"\")","v":""},null,{"$f":"IF(BF158<>\"\",\" -O\",\"\")","v":""},null,{"$f":"IF(BH158<>\"\",\" -O\",\"\")","v":""},null,{"$f":"IF(BJ158<>\"\",\" -O\",\"\")","v":""}]
[null,null,null,null,null,null,null,null,null,null,null,null,1.75,{"$f":"IFERROR(VLOOKUP(M158,'CRUCE OPORTUNIDADES'!$C$12:$D$111,2,FALSE),\"\")","v":""},2.75000000000002,{"$f":"IFERROR(VLOOKUP(O158,'CRUCE OPORTUNIDADES'!$C$12:$D$111,2,FALSE),\"\")","v":""},3.75000000000004,{"$f":"IFERROR(VLOOKUP(Q158,'CRUCE OPORTUNIDADES'!$C$12:$D$111,2,FALSE),\"\")","v":""},4.7500000000000604,{"$f":"IFERROR(VLOOKUP(S158,'CRUCE OPORTUNIDADES'!$C$12:$D$111,2,FALSE),\"\")","v":""},5.7500000000000799,{"$f":"IFERROR(VLOOKUP(U158,'CRUCE OPORTUNIDADES'!$C$12:$D$111,2,FALSE),\"\")","v":""},6.7500000000001004,{"$f":"IFERROR(VLOOKUP(W158,'CRUCE OPORTUNIDADES'!$C$12:$D$111,2,FALSE),\"\")","v":""},7.7500000000001199,{"$f":"IFERROR(VLOOKUP(Y158,'CRUCE OPORTUNIDADES'!$C$12:$D$111,2,FALSE),\"\")","v":""},8.7500000000001403,{"$f":"IFERROR(VLOOKUP(AA158,'CRUCE OPORTUNIDADES'!$C$12:$D$111,2,FALSE),\"\")","v":""},9.7500000000001599,{"$f":"IFERROR(VLOOKUP(AC158,'CRUCE OPORTUNIDADES'!$C$12:$D$111,2,FALSE),\"\")","v":""},10.750000000000201,{"$f":"IFERROR(VLOOKUP(AE158,'CRUCE OPORTUNIDADES'!$C$12:$D$111,2,FALSE),\"\")","v":""},11.750000000000201,{"$f":"IFERROR(VLOOKUP(AG158,'CRUCE OPORTUNIDADES'!$C$12:$D$111,2,FALSE),\"\")","v":""},12.750000000000201,{"$f":"IFERROR(VLOOKUP(AI158,'CRUCE OPORTUNIDADES'!$C$12:$D$111,2,FALSE),\"\")","v":""},13.750000000000201,{"$f":"IFERROR(VLOOKUP(AK158,'CRUCE OPORTUNIDADES'!$C$12:$D$111,2,FALSE),\"\")","v":""},14.7500000000003,{"$f":"IFERROR(VLOOKUP(AM158,'CRUCE OPORTUNIDADES'!$C$12:$D$111,2,FALSE),\"\")","v":""},15.7500000000003,{"$f":"IFERROR(VLOOKUP(AO158,'CRUCE OPORTUNIDADES'!$C$12:$D$111,2,FALSE),\"\")","v":""},16.750000000000298,{"$f":"IFERROR(VLOOKUP(AQ158,'CRUCE OPORTUNIDADES'!$C$12:$D$111,2,FALSE),\"\")","v":""},17.750000000000298,{"$f":"IFERROR(VLOOKUP(AS158,'CRUCE OPORTUNIDADES'!$C$12:$D$111,2,FALSE),\"\")","v":""},18.750000000000298,{"$f":"IFERROR(VLOOKUP(AU158,'CRUCE OPORTUNIDADES'!$C$12:$D$111,2,FALSE),\"\")","v":""},19.750000000000401,{"$f":"IFERROR(VLOOKUP(AW158,'CRUCE OPORTUNIDADES'!$C$12:$D$111,2,FALSE),\"\")","v":""},20.750000000000401,{"$f":"IFERROR(VLOOKUP(AY158,'CRUCE OPORTUNIDADES'!$C$12:$D$111,2,FALSE),\"\")","v":""},21.750000000000401,{"$f":"IFERROR(VLOOKUP(BA158,'CRUCE OPORTUNIDADES'!$C$12:$D$111,2,FALSE),\"\")","v":""},22.750000000000401,{"$f":"IFERROR(VLOOKUP(BC158,'CRUCE OPORTUNIDADES'!$C$12:$D$111,2,FALSE),\"\")","v":""},23.750000000000401,{"$f":"IFERROR(VLOOKUP(BE158,'CRUCE OPORTUNIDADES'!$C$12:$D$111,2,FALSE),\"\")","v":""},24.750000000000501,{"$f":"IFERROR(VLOOKUP(BG158,'CRUCE OPORTUNIDADES'!$C$12:$D$111,2,FALSE),\"\")","v":""},25.750000000000501,{"$f":"IFERROR(VLOOKUP(BI158,'CRUCE OPORTUNIDADES'!$C$12:$D$111,2,FALSE),\"\")","v":""}]
[null,null,null,null,null,null,null,null,null,null,null,null,null,{"$f":"IF(N160<>\"\",\" -O\",\"\")","v":""},null,{"$f":"IF(P160<>\"\",\" -O\",\"\")","v":""},null,{"$f":"IF(R160<>\"\",\" -O\",\"\")","v":""},null,{"$f":"IF(T160<>\"\",\" -O\",\"\")","v":""},null,{"$f":"IF(V160<>\"\",\" -O\",\"\")","v":""},null,{"$f":"IF(X160<>\"\",\" -O\",\"\")","v":""},null,{"$f":"IF(Z160<>\"\",\" -O\",\"\")","v":""},null,{"$f":"IF(AB160<>\"\",\" -O\",\"\")","v":""},null,{"$f":"IF(AD160<>\"\",\" -O\",\"\")","v":""},null,{"$f":"IF(AF160<>\"\",\" -O\",\"\")","v":""},null,{"$f":"IF(AH160<>\"\",\" -O\",\"\")","v":""},null,{"$f":"IF(AJ160<>\"\",\" -O\",\"\")","v":""},null,{"$f":"IF(AL160<>\"\",\" -O\",\"\")","v":""},null,{"$f":"IF(AN160<>\"\",\" -O\",\"\")","v":""},null,{"$f":"IF(AP160<>\"\",\" -O\",\"\")","v":""},null,{"$f":"IF(AR160<>\"\",\" -O\",\"\")","v":""},null,{"$f":"IF(AT160<>\"\",\" -O\",\"\")","v":""},null,{"$f":"IF(AV160<>\"\",\" -O\",\"\")","v":""},null,{"$f":"IF(AX160<>\"\",\" -O\",\"\")","v":""},null,{"$f":"IF(AZ160<>\"\",\" -O\",\"\")","v":""},null,{"$f":"IF(BB160<>\"\",\" -O\",\"\")","v":""},null,{"$f":"IF(BD160<>\"\",\" -O\",\"\")","v":""},null,{"$f":"IF(BF160<>\"\",\" -O\",\"\")","v":""},null,{"$f":"IF(BH160<>\"\",\" -O\",\"\")","v":""},null,{"$f":"IF(BJ160<>\"\",\" -O\",\"\")","v":""}]
[null,null,null,null,null,null,null,null,null,null,null,null,1.76,{"$f":"IFERROR(VLOOKUP(M160,'CRUCE OPORTUNIDADES'!$C$12:$D$111,2,FALSE),\"\")","v":""},2.7600000000000202,{"$f":"IFERROR(VLOOKUP(O160,'CRUCE OPORTUNIDADES'!$C$12:$D$111,2,FALSE),\"\")","v":""},3.7600000000000402,{"$f":"IFERROR(VLOOKUP(Q160,'CRUCE OPORTUNIDADES'!$C$12:$D$111,2,FALSE),\"\")","v":""},4.7600000000000602,{"$f":"IFERROR(VLOOKUP(S160,'CRUCE OPORTUNIDADES'!$C$12:$D$111,2,FALSE),\"\")","v":""},5.7600000000000797,{"$f":"IFERROR(VLOOKUP(U160,'CRUCE OPORTUNIDADES'!$C$12:$D$111,2,FALSE),\"\")","v":""},6.7600000000001002,{"$f":"IFERROR(VLOOKUP(W160,'CRUCE OPORTUNIDADES'!$C$12:$D$111,2,FALSE),\"\")","v":""},7.7600000000001197,{"$f":"IFERROR(VLOOKUP(Y160,'CRUCE OPORTUNIDADES'!$C$12:$D$111,2,FALSE),\"\")","v":""},8.7600000000001401,{"$f":"IFERROR(VLOOKUP(AA160,'CRUCE OPORTUNIDADES'!$C$12:$D$111,2,FALSE),\"\")","v":""},9.7600000000001597,{"$f":"IFERROR(VLOOKUP(AC160,'CRUCE OPORTUNIDADES'!$C$12:$D$111,2,FALSE),\"\")","v":""},10.760000000000201,{"$f":"IFERROR(VLOOKUP(AE160,'CRUCE OPORTUNIDADES'!$C$12:$D$111,2,FALSE),\"\")","v":""},11.760000000000201,{"$f":"IFERROR(VLOOKUP(AG160,'CRUCE OPORTUNIDADES'!$C$12:$D$111,2,FALSE),\"\")","v":""},12.760000000000201,{"$f":"IFERROR(VLOOKUP(AI160,'CRUCE OPORTUNIDADES'!$C$12:$D$111,2,FALSE),\"\")","v":""},13.760000000000201,{"$f":"IFERROR(VLOOKUP(AK160,'CRUCE OPORTUNIDADES'!$C$12:$D$111,2,FALSE),\"\")","v":""},14.7600000000003,{"$f":"IFERROR(VLOOKUP(AM160,'CRUCE OPORTUNIDADES'!$C$12:$D$111,2,FALSE),\"\")","v":""},15.7600000000003,{"$f":"IFERROR(VLOOKUP(AO160,'CRUCE OPORTUNIDADES'!$C$12:$D$111,2,FALSE),\"\")","v":""},16.7600000000003,{"$f":"IFERROR(VLOOKUP(AQ160,'CRUCE OPORTUNIDADES'!$C$12:$D$111,2,FALSE),\"\")","v":""},17.7600000000003,{"$f":"IFERROR(VLOOKUP(AS160,'CRUCE OPORTUNIDADES'!$C$12:$D$111,2,FALSE),\"\")","v":""},18.7600000000003,{"$f":"IFERROR(VLOOKUP(AU160,'CRUCE OPORTUNIDADES'!$C$12:$D$111,2,FALSE),\"\")","v":""},19.760000000000399,{"$f":"IFERROR(VLOOKUP(AW160,'CRUCE OPORTUNIDADES'!$C$12:$D$111,2,FALSE),\"\")","v":""},20.760000000000399,{"$f":"IFERROR(VLOOKUP(AY160,'CRUCE OPORTUNIDADES'!$C$12:$D$111,2,FALSE),\"\")","v":""},21.760000000000399,{"$f":"IFERROR(VLOOKUP(BA160,'CRUCE OPORTUNIDADES'!$C$12:$D$111,2,FALSE),\"\")","v":""},22.760000000000399,{"$f":"IFERROR(VLOOKUP(BC160,'CRUCE OPORTUNIDADES'!$C$12:$D$111,2,FALSE),\"\")","v":""},23.760000000000399,{"$f":"IFERROR(VLOOKUP(BE160,'CRUCE OPORTUNIDADES'!$C$12:$D$111,2,FALSE),\"\")","v":""},24.760000000000499,{"$f":"IFERROR(VLOOKUP(BG160,'CRUCE OPORTUNIDADES'!$C$12:$D$111,2,FALSE),\"\")","v":""},25.760000000000499,{"$f":"IFERROR(VLOOKUP(BI160,'CRUCE OPORTUNIDADES'!$C$12:$D$111,2,FALSE),\"\")","v":""}]
[null,null,null,null,null,null,null,null,null,null,null,null,null,{"$f":"IF(N162<>\"\",\" -O\",\"\")","v":""},null,{"$f":"IF(P162<>\"\",\" -O\",\"\")","v":""},null,{"$f":"IF(R162<>\"\",\" -O\",\"\")","v":""},null,{"$f":"IF(T162<>\"\",\" -O\",\"\")","v":""},null,{"$f":"IF(V162<>\"\",\" -O\",\"\")","v":""},null,{"$f":"IF(X162<>\"\",\" -O\",\"\")","v":""},null,{"$f":"IF(Z162<>\"\",\" -O\",\"\")","v":""},null,{"$f":"IF(AB162<>\"\",\" -O\",\"\")","v":""},null,{"$f":"IF(AD162<>\"\",\" -O\",\"\")","v":""},null,{"$f":"IF(AF162<>\"\",\" -O\",\"\")","v":""},null,{"$f":"IF(AH162<>\"\",\" -O\",\"\")","v":""},null,{"$f":"IF(AJ162<>\"\",\" -O\",\"\")","v":""},null,{"$f":"IF(AL162<>\"\",\" -O\",\"\")","v":""},null,{"$f":"IF(AN162<>\"\",\" -O\",\"\")","v":""},null,{"$f":"IF(AP162<>\"\",\" -O\",\"\")","v":""},null,{"$f":"IF(AR162<>\"\",\" -O\",\"\")","v":""},null,{"$f":"IF(AT162<>\"\",\" -O\",\"\")","v":""},null,{"$f":"IF(AV162<>\"\",\" -O\",\"\")","v":""},null,{"$f":"IF(AX162<>\"\",\" -O\",\"\")","v":""},null,{"$f":"IF(AZ162<>\"\",\" -O\",\"\")","v":""},null,{"$f":"IF(BB162<>\"\",\" -O\",\"\")","v":""},null,{"$f":"IF(BD162<>\"\",\" -O\",\"\")","v":""},null,{"$f":"IF(BF162<>\"\",\" -O\",\"\")","v":""},null,{"$f":"IF(BH162<>\"\",\" -O\",\"\")","v":""},null,{"$f":"IF(BJ162<>\"\",\" -O\",\"\")","v":""}]
[null,null,null,null,null,null,null,null,null,null,null,null,1.77,{"$f":"IFERROR(VLOOKUP(M162,'CRUCE OPORTUNIDADES'!$C$12:$D$111,2,FALSE),\"\")","v":""},2.77000000000002,{"$f":"IFERROR(VLOOKUP(O162,'CRUCE OPORTUNIDADES'!$C$12:$D$111,2,FALSE),\"\")","v":""},3.77000000000004,{"$f":"IFERROR(VLOOKUP(Q162,'CRUCE OPORTUNIDADES'!$C$12:$D$111,2,FALSE),\"\")","v":""},4.77000000000006,{"$f":"IFERROR(VLOOKUP(S162,'CRUCE OPORTUNIDADES'!$C$12:$D$111,2,FALSE),\"\")","v":""},5.7700000000000804,{"$f":"IFERROR(VLOOKUP(U162,'CRUCE OPORTUNIDADES'!$C$12:$D$111,2,FALSE),\"\")","v":""},6.7700000000000999,{"$f":"IFERROR(VLOOKUP(W162,'CRUCE OPORTUNIDADES'!$C$12:$D$111,2,FALSE),\"\")","v":""},7.7700000000001204,{"$f":"IFERROR(VLOOKUP(Y162,'CRUCE OPORTUNIDADES'!$C$12:$D$111,2,FALSE),\"\")","v":""},8.7700000000001399,{"$f":"IFERROR(VLOOKUP(AA162,'CRUCE OPORTUNIDADES'!$C$12:$D$111,2,FALSE),\"\")","v":""},9.7700000000001594,{"$f":"IFERROR(VLOOKUP(AC162,'CRUCE OPORTUNIDADES'!$C$12:$D$111,2,FALSE),\"\")","v":""},10.7700000000002,{"$f":"IFERROR(VLOOKUP(AE162,'CRUCE OPORTUNIDADES'!$C$12:$D$111,2,FALSE),\"\")","v":""},11.7700000000002,{"$f":"IFERROR(VLOOKUP(AG162,'CRUCE OPORTUNIDADES'!$C$12:$D$111,2,FALSE),\"\")","v":""},12.7700000000002,{"$f":"IFERROR(VLOOKUP(AI162,'CRUCE OPORTUNIDADES'!$C$12:$D$111,2,FALSE),\"\")","v":""},13.7700000000002,{"$f":"IFERROR(VLOOKUP(AK162,'CRUCE OPORTUNIDADES'!$C$12:$D$111,2,FALSE),\"\")","v":""},14.7700000000003,{"$f":"IFERROR(VLOOKUP(AM162,'CRUCE OPORTUNIDADES'!$C$12:$D$111,2,FALSE),\"\")","v":""},15.7700000000003,{"$f":"IFERROR(VLOOKUP(AO162,'CRUCE OPORTUNIDADES'!$C$12:$D$111,2,FALSE),\"\")","v":""},16.770000000000302,{"$f":"IFERROR(VLOOKUP(AQ162,'CRUCE OPORTUNIDADES'!$C$12:$D$111,2,FALSE),\"\")","v":""},17.770000000000302,{"$f":"IFERROR(VLOOKUP(AS162,'CRUCE OPORTUNIDADES'!$C$12:$D$111,2,FALSE),\"\")","v":""},18.770000000000302,{"$f":"IFERROR(VLOOKUP(AU162,'CRUCE OPORTUNIDADES'!$C$12:$D$111,2,FALSE),\"\")","v":""},19.770000000000401,{"$f":"IFERROR(VLOOKUP(AW162,'CRUCE OPORTUNIDADES'!$C$12:$D$111,2,FALSE),\"\")","v":""},20.770000000000401,{"$f":"IFERROR(VLOOKUP(AY162,'CRUCE OPORTUNIDADES'!$C$12:$D$111,2,FALSE),\"\")","v":""},21.770000000000401,{"$f":"IFERROR(VLOOKUP(BA162,'CRUCE OPORTUNIDADES'!$C$12:$D$111,2,FALSE),\"\")","v":""},22.770000000000401,{"$f":"IFERROR(VLOOKUP(BC162,'CRUCE OPORTUNIDADES'!$C$12:$D$111,2,FALSE),\"\")","v":""},23.770000000000401,{"$f":"IFERROR(VLOOKUP(BE162,'CRUCE OPORTUNIDADES'!$C$12:$D$111,2,FALSE),\"\")","v":""},24.770000000000501,{"$f":"IFERROR(VLOOKUP(BG162,'CRUCE OPORTUNIDADES'!$C$12:$D$111,2,FALSE),\"\")","v":""},25.770000000000501,{"$f":"IFERROR(VLOOKUP(BI162,'CRUCE OPORTUNIDADES'!$C$12:$D$111,2,FALSE),\"\")","v":""}]
[null,null,null,null,null,null,null,null,null,null,null,null,null,{"$f":"IF(N164<>\"\",\" -O\",\"\")","v":""},null,{"$f":"IF(P164<>\"\",\" -O\",\"\")","v":""},null,{"$f":"IF(R164<>\"\",\" -O\",\"\")","v":""},null,{"$f":"IF(T164<>\"\",\" -O\",\"\")","v":""},null,{"$f":"IF(V164<>\"\",\" -O\",\"\")","v":""},null,{"$f":"IF(X164<>\"\",\" -O\",\"\")","v":""},null,{"$f":"IF(Z164<>\"\",\" -O\",\"\")","v":""},null,{"$f":"IF(AB164<>\"\",\" -O\",\"\")","v":""},null,{"$f":"IF(AD164<>\"\",\" -O\",\"\")","v":""},null,{"$f":"IF(AF164<>\"\",\" -O\",\"\")","v":""},null,{"$f":"IF(AH164<>\"\",\" -O\",\"\")","v":""},null,{"$f":"IF(AJ164<>\"\",\" -O\",\"\")","v":""},null,{"$f":"IF(AL164<>\"\",\" -O\",\"\")","v":""},null,{"$f":"IF(AN164<>\"\",\" -O\",\"\")","v":""},null,{"$f":"IF(AP164<>\"\",\" -O\",\"\")","v":""},null,{"$f":"IF(AR164<>\"\",\" -O\",\"\")","v":""},null,{"$f":"IF(AT164<>\"\",\" -O\",\"\")","v":""},null,{"$f":"IF(AV164<>\"\",\" -O\",\"\")","v":""},null,{"$f":"IF(AX164<>\"\",\" -O\",\"\")","v":""},null,{"$f":"IF(AZ164<>\"\",\" -O\",\"\")","v":""},null,{"$f":"IF(BB164<>\"\",\" -O\",\"\")","v":""},null,{"$f":"IF(BD164<>\"\",\" -O\",\"\")","v":""},null,{"$f":"IF(BF164<>\"\",\" -O\",\"\")","v":""},null,{"$f":"IF(BH164<>\"\",\" -O\",\"\")","v":""},null,{"$f":"IF(BJ164<>\"\",\" -O\",\"\")","v":""}]
[null,null,null,null,null,null,null,null,null,null,null,null,1.78,{"$f":"IFERROR(VLOOKUP(M164,'CRUCE OPORTUNIDADES'!$C$12:$D$111,2,FALSE),\"\")","v":""},2.7800000000000198,{"$f":"IFERROR(VLOOKUP(O164,'CRUCE OPORTUNIDADES'!$C$12:$D$111,2,FALSE),\"\")","v":""},3.7800000000000402,{"$f":"IFERROR(VLOOKUP(Q164,'CRUCE OPORTUNIDADES'!$C$12:$D$111,2,FALSE),\"\")","v":""},4.7800000000000598,{"$f":"IFERROR(VLOOKUP(S164,'CRUCE OPORTUNIDADES'!$C$12:$D$111,2,FALSE),\"\")","v":""},5.7800000000000802,{"$f":"IFERROR(VLOOKUP(U164,'CRUCE OPORTUNIDADES'!$C$12:$D$111,2,FALSE),\"\")","v":""},6.7800000000000997,{"$f":"IFERROR(VLOOKUP(W164,'CRUCE OPORTUNIDADES'!$C$12:$D$111,2,FALSE),\"\")","v":""},7.7800000000001202,{"$f":"IFERROR(VLOOKUP(Y164,'CRUCE OPORTUNIDADES'!$C$12:$D$111,2,FALSE),\"\")","v":""},8.7800000000001397,{"$f":"IFERROR(VLOOKUP(AA164,'CRUCE OPORTUNIDADES'!$C$12:$D$111,2,FALSE),\"\")","v":""},9.7800000000001592,{"$f":"IFERROR(VLOOKUP(AC164,'CRUCE OPORTUNIDADES'!$C$12:$D$111,2,FALSE),\"\")","v":""},10.7800000000002,{"$f":"IFERROR(VLOOKUP(AE164,'CRUCE OPORTUNIDADES'!$C$12:$D$111,2,FALSE),\"\")","v":""},11.7800000000002,{"$f":"IFERROR(VLOOKUP(AG164,'CRUCE OPORTUNIDADES'!$C$12:$D$111,2,FALSE),\"\")","v":""},12.7800000000002,{"$f":"IFERROR(VLOOKUP(AI164,'CRUCE OPORTUNIDADES'!$C$12:$D$111,2,FALSE),\"\")","v":""},13.7800000000002,{"$f":"IFERROR(VLOOKUP(AK164,'CRUCE OPORTUNIDADES'!$C$12:$D$111,2,FALSE),\"\")","v":""},14.7800000000003,{"$f":"IFERROR(VLOOKUP(AM164,'CRUCE OPORTUNIDADES'!$C$12:$D$111,2,FALSE),\"\")","v":""},15.7800000000003,{"$f":"IFERROR(VLOOKUP(AO164,'CRUCE OPORTUNIDADES'!$C$12:$D$111,2,FALSE),\"\")","v":""},16.7800000000003,{"$f":"IFERROR(VLOOKUP(AQ164,'CRUCE OPORTUNIDADES'!$C$12:$D$111,2,FALSE),\"\")","v":""},17.7800000000003,{"$f":"IFERROR(VLOOKUP(AS164,'CRUCE OPORTUNIDADES'!$C$12:$D$111,2,FALSE),\"\")","v":""},18.7800000000003,{"$f":"IFERROR(VLOOKUP(AU164,'CRUCE OPORTUNIDADES'!$C$12:$D$111,2,FALSE),\"\")","v":""},19.780000000000399,{"$f":"IFERROR(VLOOKUP(AW164,'CRUCE OPORTUNIDADES'!$C$12:$D$111,2,FALSE),\"\")","v":""},20.780000000000399,{"$f":"IFERROR(VLOOKUP(AY164,'CRUCE OPORTUNIDADES'!$C$12:$D$111,2,FALSE),\"\")","v":""},21.780000000000399,{"$f":"IFERROR(VLOOKUP(BA164,'CRUCE OPORTUNIDADES'!$C$12:$D$111,2,FALSE),\"\")","v":""},22.780000000000399,{"$f":"IFERROR(VLOOKUP(BC164,'CRUCE OPORTUNIDADES'!$C$12:$D$111,2,FALSE),\"\")","v":""},23.780000000000399,{"$f":"IFERROR(VLOOKUP(BE164,'CRUCE OPORTUNIDADES'!$C$12:$D$111,2,FALSE),\"\")","v":""},24.780000000000499,{"$f":"IFERROR(VLOOKUP(BG164,'CRUCE OPORTUNIDADES'!$C$12:$D$111,2,FALSE),\"\")","v":""},25.780000000000499,{"$f":"IFERROR(VLOOKUP(BI164,'CRUCE OPORTUNIDADES'!$C$12:$D$111,2,FALSE),\"\")","v":""}]
[null,null,null,null,null,null,null,null,null,null,null,null,null,{"$f":"IF(N166<>\"\",\" -O\",\"\")","v":""},null,{"$f":"IF(P166<>\"\",\" -O\",\"\")","v":""},null,{"$f":"IF(R166<>\"\",\" -O\",\"\")","v":""},null,{"$f":"IF(T166<>\"\",\" -O\",\"\")","v":""},null,{"$f":"IF(V166<>\"\",\" -O\",\"\")","v":""},null,{"$f":"IF(X166<>\"\",\" -O\",\"\")","v":""},null,{"$f":"IF(Z166<>\"\",\" -O\",\"\")","v":""},null,{"$f":"IF(AB166<>\"\",\" -O\",\"\")","v":""},null,{"$f":"IF(AD166<>\"\",\" -O\",\"\")","v":""},null,{"$f":"IF(AF166<>\"\",\" -O\",\"\")","v":""},null,{"$f":"IF(AH166<>\"\",\" -O\",\"\")","v":""},null,{"$f":"IF(AJ166<>\"\",\" -O\",\"\")","v":""},null,{"$f":"IF(AL166<>\"\",\" -O\",\"\")","v":""},null,{"$f":"IF(AN166<>\"\",\" -O\",\"\")","v":""},null,{"$f":"IF(AP166<>\"\",\" -O\",\"\")","v":""},null,{"$f":"IF(AR166<>\"\",\" -O\",\"\")","v":""},null,{"$f":"IF(AT166<>\"\",\" -O\",\"\")","v":""},null,{"$f":"IF(AV166<>\"\",\" -O\",\"\")","v":""},null,{"$f":"IF(AX166<>\"\",\" -O\",\"\")","v":""},null,{"$f":"IF(AZ166<>\"\",\" -O\",\"\")","v":""},null,{"$f":"IF(BB166<>\"\",\" -O\",\"\")","v":""},null,{"$f":"IF(BD166<>\"\",\" -O\",\"\")","v":""},null,{"$f":"IF(BF166<>\"\",\" -O\",\"\")","v":""},null,{"$f":"IF(BH166<>\"\",\" -O\",\"\")","v":""},null,{"$f":"IF(BJ166<>\"\",\" -O\",\"\")","v":""}]
[null,null,null,null,null,null,null,null,null,null,null,null,1.79,{"$f":"IFERROR(VLOOKUP(M166,'CRUCE OPORTUNIDADES'!$C$12:$D$111,2,FALSE),\"\")","v":""},2.79000000000002,{"$f":"IFERROR(VLOOKUP(O166,'CRUCE OPORTUNIDADES'!$C$12:$D$111,2,FALSE),\"\")","v":""},3.79000000000004,{"$f":"IFERROR(VLOOKUP(Q166,'CRUCE OPORTUNIDADES'!$C$12:$D$111,2,FALSE),\"\")","v":""},4.7900000000000604,{"$f":"IFERROR(VLOOKUP(S166,'CRUCE OPORTUNIDADES'!$C$12:$D$111,2,FALSE),\"\")","v":""},5.79000000000008,{"$f":"IFERROR(VLOOKUP(U166,'CRUCE OPORTUNIDADES'!$C$12:$D$111,2,FALSE),\"\")","v":""},6.7900000000001004,{"$f":"IFERROR(VLOOKUP(W166,'CRUCE OPORTUNIDADES'!$C$12:$D$111,2,FALSE),\"\")","v":""},7.7900000000001199,{"$f":"IFERROR(VLOOKUP(Y166,'CRUCE OPORTUNIDADES'!$C$12:$D$111,2,FALSE),\"\")","v":""},8.7900000000001395,{"$f":"IFERROR(VLOOKUP(AA166,'CRUCE OPORTUNIDADES'!$C$12:$D$111,2,FALSE),\"\")","v":""},9.7900000000001608,{"$f":"IFERROR(VLOOKUP(AC166,'CRUCE OPORTUNIDADES'!$C$12:$D$111,2,FALSE),\"\")","v":""},10.7900000000002,{"$f":"IFERROR(VLOOKUP(AE166,'CRUCE OPORTUNIDADES'!$C$12:$D$111,2,FALSE),\"\")","v":""},11.7900000000002,{"$f":"IFERROR(VLOOKUP(AG166,'CRUCE OPORTUNIDADES'!$C$12:$D$111,2,FALSE),\"\")","v":""},12.7900000000002,{"$f":"IFERROR(VLOOKUP(AI166,'CRUCE OPORTUNIDADES'!$C$12:$D$111,2,FALSE),\"\")","v":""},13.7900000000002,{"$f":"IFERROR(VLOOKUP(AK166,'CRUCE OPORTUNIDADES'!$C$12:$D$111,2,FALSE),\"\")","v":""},14.790000000000299,{"$f":"IFERROR(VLOOKUP(AM166,'CRUCE OPORTUNIDADES'!$C$12:$D$111,2,FALSE),\"\")","v":""},15.790000000000299,{"$f":"IFERROR(VLOOKUP(AO166,'CRUCE OPORTUNIDADES'!$C$12:$D$111,2,FALSE),\"\")","v":""},16.790000000000301,{"$f":"IFERROR(VLOOKUP(AQ166,'CRUCE OPORTUNIDADES'!$C$12:$D$111,2,FALSE),\"\")","v":""},17.790000000000301,{"$f":"IFERROR(VLOOKUP(AS166,'CRUCE OPORTUNIDADES'!$C$12:$D$111,2,FALSE),\"\")","v":""},18.790000000000301,{"$f":"IFERROR(VLOOKUP(AU166,'CRUCE OPORTUNIDADES'!$C$12:$D$111,2,FALSE),\"\")","v":""},19.790000000000401,{"$f":"IFERROR(VLOOKUP(AW166,'CRUCE OPORTUNIDADES'!$C$12:$D$111,2,FALSE),\"\")","v":""},20.790000000000401,{"$f":"IFERROR(VLOOKUP(AY166,'CRUCE OPORTUNIDADES'!$C$12:$D$111,2,FALSE),\"\")","v":""},21.790000000000401,{"$f":"IFERROR(VLOOKUP(BA166,'CRUCE OPORTUNIDADES'!$C$12:$D$111,2,FALSE),\"\")","v":""},22.790000000000401,{"$f":"IFERROR(VLOOKUP(BC166,'CRUCE OPORTUNIDADES'!$C$12:$D$111,2,FALSE),\"\")","v":""},23.790000000000401,{"$f":"IFERROR(VLOOKUP(BE166,'CRUCE OPORTUNIDADES'!$C$12:$D$111,2,FALSE),\"\")","v":""},24.7900000000005,{"$f":"IFERROR(VLOOKUP(BG166,'CRUCE OPORTUNIDADES'!$C$12:$D$111,2,FALSE),\"\")","v":""},25.7900000000005,{"$f":"IFERROR(VLOOKUP(BI166,'CRUCE OPORTUNIDADES'!$C$12:$D$111,2,FALSE),\"\")","v":""}]
[null,null,null,null,null,null,null,null,null,null,null,null,null,{"$f":"IF(N168<>\"\",\" -O\",\"\")","v":""},null,{"$f":"IF(P168<>\"\",\" -O\",\"\")","v":""},null,{"$f":"IF(R168<>\"\",\" -O\",\"\")","v":""},null,{"$f":"IF(T168<>\"\",\" -O\",\"\")","v":""},null,{"$f":"IF(V168<>\"\",\" -O\",\"\")","v":""},null,{"$f":"IF(X168<>\"\",\" -O\",\"\")","v":""},null,{"$f":"IF(Z168<>\"\",\" -O\",\"\")","v":""},null,{"$f":"IF(AB168<>\"\",\" -O\",\"\")","v":""},null,{"$f":"IF(AD168<>\"\",\" -O\",\"\")","v":""},null,{"$f":"IF(AF168<>\"\",\" -O\",\"\")","v":""},null,{"$f":"IF(AH168<>\"\",\" -O\",\"\")","v":""},null,{"$f":"IF(AJ168<>\"\",\" -O\",\"\")","v":""},null,{"$f":"IF(AL168<>\"\",\" -O\",\"\")","v":""},null,{"$f":"IF(AN168<>\"\",\" -O\",\"\")","v":""},null,{"$f":"IF(AP168<>\"\",\" -O\",\"\")","v":""},null,{"$f":"IF(AR168<>\"\",\" -O\",\"\")","v":""},null,{"$f":"IF(AT168<>\"\",\" -O\",\"\")","v":""},null,{"$f":"IF(AV168<>\"\",\" -O\",\"\")","v":""},null,{"$f":"IF(AX168<>\"\",\" -O\",\"\")","v":""},null,{"$f":"IF(AZ168<>\"\",\" -O\",\"\")","v":""},null,{"$f":"IF(BB168<>\"\",\" -O\",\"\")","v":""},null,{"$f":"IF(BD168<>\"\",\" -O\",\"\")","v":""},null,{"$f":"IF(BF168<>\"\",\" -O\",\"\")","v":""},null,{"$f":"IF(BH168<>\"\",\" -O\",\"\")","v":""},null,{"$f":"IF(BJ168<>\"\",\" -O\",\"\")","v":""}]
[null,null,null,null,null,null,null,null,null,null,null,null,1.8,{"$f":"IFERROR(VLOOKUP(M168,'CRUCE OPORTUNIDADES'!$C$12:$D$111,2,FALSE),\"\")","v":""},2.8000000000000198,{"$f":"IFERROR(VLOOKUP(O168,'CRUCE OPORTUNIDADES'!$C$12:$D$111,2,FALSE),\"\")","v":""},3.8000000000000398,{"$f":"IFERROR(VLOOKUP(Q168,'CRUCE OPORTUNIDADES'!$C$12:$D$111,2,FALSE),\"\")","v":""},4.8000000000000602,{"$f":"IFERROR(VLOOKUP(S168,'CRUCE OPORTUNIDADES'!$C$12:$D$111,2,FALSE),\"\")","v":""},5.8000000000000798,{"$f":"IFERROR(VLOOKUP(U168,'CRUCE OPORTUNIDADES'!$C$12:$D$111,2,FALSE),\"\")","v":""},6.8000000000001002,{"$f":"IFERROR(VLOOKUP(W168,'CRUCE OPORTUNIDADES'!$C$12:$D$111,2,FALSE),\"\")","v":""},7.8000000000001197,{"$f":"IFERROR(VLOOKUP(Y168,'CRUCE OPORTUNIDADES'!$C$12:$D$111,2,FALSE),\"\")","v":""},8.8000000000001393,{"$f":"IFERROR(VLOOKUP(AA168,'CRUCE OPORTUNIDADES'!$C$12:$D$111,2,FALSE),\"\")","v":""},9.8000000000001606,{"$f":"IFERROR(VLOOKUP(AC168,'CRUCE OPORTUNIDADES'!$C$12:$D$111,2,FALSE),\"\")","v":""},10.8000000000002,{"$f":"IFERROR(VLOOKUP(AE168,'CRUCE OPORTUNIDADES'!$C$12:$D$111,2,FALSE),\"\")","v":""},11.8000000000002,{"$f":"IFERROR(VLOOKUP(AG168,'CRUCE OPORTUNIDADES'!$C$12:$D$111,2,FALSE),\"\")","v":""},12.8000000000002,{"$f":"IFERROR(VLOOKUP(AI168,'CRUCE OPORTUNIDADES'!$C$12:$D$111,2,FALSE),\"\")","v":""},13.8000000000002,{"$f":"IFERROR(VLOOKUP(AK168,'CRUCE OPORTUNIDADES'!$C$12:$D$111,2,FALSE),\"\")","v":""},14.800000000000299,{"$f":"IFERROR(VLOOKUP(AM168,'CRUCE OPORTUNIDADES'!$C$12:$D$111,2,FALSE),\"\")","v":""},15.800000000000299,{"$f":"IFERROR(VLOOKUP(AO168,'CRUCE OPORTUNIDADES'!$C$12:$D$111,2,FALSE),\"\")","v":""},16.800000000000299,{"$f":"IFERROR(VLOOKUP(AQ168,'CRUCE OPORTUNIDADES'!$C$12:$D$111,2,FALSE),\"\")","v":""},17.800000000000299,{"$f":"IFERROR(VLOOKUP(AS168,'CRUCE OPORTUNIDADES'!$C$12:$D$111,2,FALSE),\"\")","v":""},18.800000000000299,{"$f":"IFERROR(VLOOKUP(AU168,'CRUCE OPORTUNIDADES'!$C$12:$D$111,2,FALSE),\"\")","v":""},19.800000000000399,{"$f":"IFERROR(VLOOKUP(AW168,'CRUCE OPORTUNIDADES'!$C$12:$D$111,2,FALSE),\"\")","v":""},20.800000000000399,{"$f":"IFERROR(VLOOKUP(AY168,'CRUCE OPORTUNIDADES'!$C$12:$D$111,2,FALSE),\"\")","v":""},21.800000000000399,{"$f":"IFERROR(VLOOKUP(BA168,'CRUCE OPORTUNIDADES'!$C$12:$D$111,2,FALSE),\"\")","v":""},22.800000000000399,{"$f":"IFERROR(VLOOKUP(BC168,'CRUCE OPORTUNIDADES'!$C$12:$D$111,2,FALSE),\"\")","v":""},23.800000000000399,{"$f":"IFERROR(VLOOKUP(BE168,'CRUCE OPORTUNIDADES'!$C$12:$D$111,2,FALSE),\"\")","v":""},24.800000000000502,{"$f":"IFERROR(VLOOKUP(BG168,'CRUCE OPORTUNIDADES'!$C$12:$D$111,2,FALSE),\"\")","v":""},25.800000000000502,{"$f":"IFERROR(VLOOKUP(BI168,'CRUCE OPORTUNIDADES'!$C$12:$D$111,2,FALSE),\"\")","v":""}]
[null,null,null,null,null,null,null,null,null,null,null,null,null,{"$f":"IF(N170<>\"\",\" -O\",\"\")","v":""},null,{"$f":"IF(P170<>\"\",\" -O\",\"\")","v":""},null,{"$f":"IF(R170<>\"\",\" -O\",\"\")","v":""},null,{"$f":"IF(T170<>\"\",\" -O\",\"\")","v":""},null,{"$f":"IF(V170<>\"\",\" -O\",\"\")","v":""},null,{"$f":"IF(X170<>\"\",\" -O\",\"\")","v":""},null,{"$f":"IF(Z170<>\"\",\" -O\",\"\")","v":""},null,{"$f":"IF(AB170<>\"\",\" -O\",\"\")","v":""},null,{"$f":"IF(AD170<>\"\",\" -O\",\"\")","v":""},null,{"$f":"IF(AF170<>\"\",\" -O\",\"\")","v":""},null,{"$f":"IF(AH170<>\"\",\" -O\",\"\")","v":""},null,{"$f":"IF(AJ170<>\"\",\" -O\",\"\")","v":""},null,{"$f":"IF(AL170<>\"\",\" -O\",\"\")","v":""},null,{"$f":"IF(AN170<>\"\",\" -O\",\"\")","v":""},null,{"$f":"IF(AP170<>\"\",\" -O\",\"\")","v":""},null,{"$f":"IF(AR170<>\"\",\" -O\",\"\")","v":""},null,{"$f":"IF(AT170<>\"\",\" -O\",\"\")","v":""},null,{"$f":"IF(AV170<>\"\",\" -O\",\"\")","v":""},null,{"$f":"IF(AX170<>\"\",\" -O\",\"\")","v":""},null,{"$f":"IF(AZ170<>\"\",\" -O\",\"\")","v":""},null,{"$f":"IF(BB170<>\"\",\" -O\",\"\")","v":""},null,{"$f":"IF(BD170<>\"\",\" -O\",\"\")","v":""},null,{"$f":"IF(BF170<>\"\",\" -O\",\"\")","v":""},null,{"$f":"IF(BH170<>\"\",\" -O\",\"\")","v":""},null,{"$f":"IF(BJ170<>\"\",\" -O\",\"\")","v":""}]
[null,null,null,null,null,null,null,null,null,null,null,null,1.81,{"$f":"IFERROR(VLOOKUP(M170,'CRUCE OPORTUNIDADES'!$C$12:$D$111,2,FALSE),\"\")","v":""},2.81000000000002,{"$f":"IFERROR(VLOOKUP(O170,'CRUCE OPORTUNIDADES'!$C$12:$D$111,2,FALSE),\"\")","v":""},3.81000000000004,{"$f":"IFERROR(VLOOKUP(Q170,'CRUCE OPORTUNIDADES'!$C$12:$D$111,2,FALSE),\"\")","v":""},4.81000000000006,{"$f":"IFERROR(VLOOKUP(S170,'CRUCE OPORTUNIDADES'!$C$12:$D$111,2,FALSE),\"\")","v":""},5.8100000000000804,{"$f":"IFERROR(VLOOKUP(U170,'CRUCE OPORTUNIDADES'!$C$12:$D$111,2,FALSE),\"\")","v":""},6.8100000000001,{"$f":"IFERROR(VLOOKUP(W170,'CRUCE OPORTUNIDADES'!$C$12:$D$111,2,FALSE),\"\")","v":""},7.8100000000001204,{"$f":"IFERROR(VLOOKUP(Y170,'CRUCE OPORTUNIDADES'!$C$12:$D$111,2,FALSE),\"\")","v":""},8.8100000000001408,{"$f":"IFERROR(VLOOKUP(AA170,'CRUCE OPORTUNIDADES'!$C$12:$D$111,2,FALSE),\"\")","v":""},9.8100000000001604,{"$f":"IFERROR(VLOOKUP(AC170,'CRUCE OPORTUNIDADES'!$C$12:$D$111,2,FALSE),\"\")","v":""},10.810000000000199,{"$f":"IFERROR(VLOOKUP(AE170,'CRUCE OPORTUNIDADES'!$C$12:$D$111,2,FALSE),\"\")","v":""},11.810000000000199,{"$f":"IFERROR(VLOOKUP(AG170,'CRUCE OPORTUNIDADES'!$C$12:$D$111,2,FALSE),\"\")","v":""},12.810000000000199,{"$f":"IFERROR(VLOOKUP(AI170,'CRUCE OPORTUNIDADES'!$C$12:$D$111,2,FALSE),\"\")","v":""},13.810000000000199,{"$f":"IFERROR(VLOOKUP(AK170,'CRUCE OPORTUNIDADES'!$C$12:$D$111,2,FALSE),\"\")","v":""},14.810000000000301,{"$f":"IFERROR(VLOOKUP(AM170,'CRUCE OPORTUNIDADES'!$C$12:$D$111,2,FALSE),\"\")","v":""},15.810000000000301,{"$f":"IFERROR(VLOOKUP(AO170,'CRUCE OPORTUNIDADES'!$C$12:$D$111,2,FALSE),\"\")","v":""},16.810000000000301,{"$f":"IFERROR(VLOOKUP(AQ170,'CRUCE OPORTUNIDADES'!$C$12:$D$111,2,FALSE),\"\")","v":""},17.810000000000301,{"$f":"IFERROR(VLOOKUP(AS170,'CRUCE OPORTUNIDADES'!$C$12:$D$111,2,FALSE),\"\")","v":""},18.810000000000301,{"$f":"IFERROR(VLOOKUP(AU170,'CRUCE OPORTUNIDADES'!$C$12:$D$111,2,FALSE),\"\")","v":""},19.8100000000004,{"$f":"IFERROR(VLOOKUP(AW170,'CRUCE OPORTUNIDADES'!$C$12:$D$111,2,FALSE),\"\")","v":""},20.8100000000004,{"$f":"IFERROR(VLOOKUP(AY170,'CRUCE OPORTUNIDADES'!$C$12:$D$111,2,FALSE),\"\")","v":""},21.8100000000004,{"$f":"IFERROR(VLOOKUP(BA170,'CRUCE OPORTUNIDADES'!$C$12:$D$111,2,FALSE),\"\")","v":""},22.8100000000004,{"$f":"IFERROR(VLOOKUP(BC170,'CRUCE OPORTUNIDADES'!$C$12:$D$111,2,FALSE),\"\")","v":""},23.8100000000004,{"$f":"IFERROR(VLOOKUP(BE170,'CRUCE OPORTUNIDADES'!$C$12:$D$111,2,FALSE),\"\")","v":""},24.8100000000005,{"$f":"IFERROR(VLOOKUP(BG170,'CRUCE OPORTUNIDADES'!$C$12:$D$111,2,FALSE),\"\")","v":""},25.8100000000005,{"$f":"IFERROR(VLOOKUP(BI170,'CRUCE OPORTUNIDADES'!$C$12:$D$111,2,FALSE),\"\")","v":""}]
[null,null,null,null,null,null,null,null,null,null,null,null,null,{"$f":"IF(N172<>\"\",\" -O\",\"\")","v":""},null,{"$f":"IF(P172<>\"\",\" -O\",\"\")","v":""},null,{"$f":"IF(R172<>\"\",\" -O\",\"\")","v":""},null,{"$f":"IF(T172<>\"\",\" -O\",\"\")","v":""},null,{"$f":"IF(V172<>\"\",\" -O\",\"\")","v":""},null,{"$f":"IF(X172<>\"\",\" -O\",\"\")","v":""},null,{"$f":"IF(Z172<>\"\",\" -O\",\"\")","v":""},null,{"$f":"IF(AB172<>\"\",\" -O\",\"\")","v":""},null,{"$f":"IF(AD172<>\"\",\" -O\",\"\")","v":""},null,{"$f":"IF(AF172<>\"\",\" -O\",\"\")","v":""},null,{"$f":"IF(AH172<>\"\",\" -O\",\"\")","v":""},null,{"$f":"IF(AJ172<>\"\",\" -O\",\"\")","v":""},null,{"$f":"IF(AL172<>\"\",\" -O\",\"\")","v":""},null,{"$f":"IF(AN172<>\"\",\" -O\",\"\")","v":""},null,{"$f":"IF(AP172<>\"\",\" -O\",\"\")","v":""},null,{"$f":"IF(AR172<>\"\",\" -O\",\"\")","v":""},null,{"$f":"IF(AT172<>\"\",\" -O\",\"\")","v":""},null,{"$f":"IF(AV172<>\"\",\" -O\",\"\")","v":""},null,{"$f":"IF(AX172<>\"\",\" -O\",\"\")","v":""},null,{"$f":"IF(AZ172<>\"\",\" -O\",\"\")","v":""},null,{"$f":"IF(BB172<>\"\",\" -O\",\"\")","v":""},null,{"$f":"IF(BD172<>\"\",\" -O\",\"\")","v":""},null,{"$f":"IF(BF172<>\"\",\" -O\",\"\")","v":""},null,{"$f":"IF(BH172<>\"\",\" -O\",\"\")","v":""},null,{"$f":"IF(BJ172<>\"\",\" -O\",\"\")","v":""}]
[null,null,null,null,null,null,null,null,null,null,null,null,1.82,{"$f":"IFERROR(VLOOKUP(M172,'CRUCE OPORTUNIDADES'!$C$12:$D$111,2,FALSE),\"\")","v":""},2.8200000000000198,{"$f":"IFERROR(VLOOKUP(O172,'CRUCE OPORTUNIDADES'!$C$12:$D$111,2,FALSE),\"\")","v":""},3.8200000000000398,{"$f":"IFERROR(VLOOKUP(Q172,'CRUCE OPORTUNIDADES'!$C$12:$D$111,2,FALSE),\"\")","v":""},4.8200000000000598,{"$f":"IFERROR(VLOOKUP(S172,'CRUCE OPORTUNIDADES'!$C$12:$D$111,2,FALSE),\"\")","v":""},5.8200000000000802,{"$f":"IFERROR(VLOOKUP(U172,'CRUCE OPORTUNIDADES'!$C$12:$D$111,2,FALSE),\"\")","v":""},6.8200000000000998,{"$f":"IFERROR(VLOOKUP(W172,'CRUCE OPORTUNIDADES'!$C$12:$D$111,2,FALSE),\"\")","v":""},7.8200000000001202,{"$f":"IFERROR(VLOOKUP(Y172,'CRUCE OPORTUNIDADES'!$C$12:$D$111,2,FALSE),\"\")","v":""},8.8200000000001406,{"$f":"IFERROR(VLOOKUP(AA172,'CRUCE OPORTUNIDADES'!$C$12:$D$111,2,FALSE),\"\")","v":""},9.8200000000001602,{"$f":"IFERROR(VLOOKUP(AC172,'CRUCE OPORTUNIDADES'!$C$12:$D$111,2,FALSE),\"\")","v":""},10.820000000000199,{"$f":"IFERROR(VLOOKUP(AE172,'CRUCE OPORTUNIDADES'!$C$12:$D$111,2,FALSE),\"\")","v":""},11.820000000000199,{"$f":"IFERROR(VLOOKUP(AG172,'CRUCE OPORTUNIDADES'!$C$12:$D$111,2,FALSE),\"\")","v":""},12.820000000000199,{"$f":"IFERROR(VLOOKUP(AI172,'CRUCE OPORTUNIDADES'!$C$12:$D$111,2,FALSE),\"\")","v":""},13.820000000000199,{"$f":"IFERROR(VLOOKUP(AK172,'CRUCE OPORTUNIDADES'!$C$12:$D$111,2,FALSE),\"\")","v":""},14.8200000000003,{"$f":"IFERROR(VLOOKUP(AM172,'CRUCE OPORTUNIDADES'!$C$12:$D$111,2,FALSE),\"\")","v":""},15.8200000000003,{"$f":"IFERROR(VLOOKUP(AO172,'CRUCE OPORTUNIDADES'!$C$12:$D$111,2,FALSE),\"\")","v":""},16.820000000000299,{"$f":"IFERROR(VLOOKUP(AQ172,'CRUCE OPORTUNIDADES'!$C$12:$D$111,2,FALSE),\"\")","v":""},17.820000000000299,{"$f":"IFERROR(VLOOKUP(AS172,'CRUCE OPORTUNIDADES'!$C$12:$D$111,2,FALSE),\"\")","v":""},18.820000000000299,{"$f":"IFERROR(VLOOKUP(AU172,'CRUCE OPORTUNIDADES'!$C$12:$D$111,2,FALSE),\"\")","v":""},19.820000000000402,{"$f":"IFERROR(VLOOKUP(AW172,'CRUCE OPORTUNIDADES'!$C$12:$D$111,2,FALSE),\"\")","v":""},20.820000000000402,{"$f":"IFERROR(VLOOKUP(AY172,'CRUCE OPORTUNIDADES'!$C$12:$D$111,2,FALSE),\"\")","v":""},21.820000000000402,{"$f":"IFERROR(VLOOKUP(BA172,'CRUCE OPORTUNIDADES'!$C$12:$D$111,2,FALSE),\"\")","v":""},22.820000000000402,{"$f":"IFERROR(VLOOKUP(BC172,'CRUCE OPORTUNIDADES'!$C$12:$D$111,2,FALSE),\"\")","v":""},23.820000000000402,{"$f":"IFERROR(VLOOKUP(BE172,'CRUCE OPORTUNIDADES'!$C$12:$D$111,2,FALSE),\"\")","v":""},24.820000000000501,{"$f":"IFERROR(VLOOKUP(BG172,'CRUCE OPORTUNIDADES'!$C$12:$D$111,2,FALSE),\"\")","v":""},25.820000000000501,{"$f":"IFERROR(VLOOKUP(BI172,'CRUCE OPORTUNIDADES'!$C$12:$D$111,2,FALSE),\"\")","v":""}]
[null,null,null,null,null,null,null,null,null,null,null,null,null,{"$f":"IF(N174<>\"\",\" -O\",\"\")","v":""},null,{"$f":"IF(P174<>\"\",\" -O\",\"\")","v":""},null,{"$f":"IF(R174<>\"\",\" -O\",\"\")","v":""},null,{"$f":"IF(T174<>\"\",\" -O\",\"\")","v":""},null,{"$f":"IF(V174<>\"\",\" -O\",\"\")","v":""},null,{"$f":"IF(X174<>\"\",\" -O\",\"\")","v":""},null,{"$f":"IF(Z174<>\"\",\" -O\",\"\")","v":""},null,{"$f":"IF(AB174<>\"\",\" -O\",\"\")","v":""},null,{"$f":"IF(AD174<>\"\",\" -O\",\"\")","v":""},null,{"$f":"IF(AF174<>\"\",\" -O\",\"\")","v":""},null,{"$f":"IF(AH174<>\"\",\" -O\",\"\")","v":""},null,{"$f":"IF(AJ174<>\"\",\" -O\",\"\")","v":""},null,{"$f":"IF(AL174<>\"\",\" -O\",\"\")","v":""},null,{"$f":"IF(AN174<>\"\",\" -O\",\"\")","v":""},null,{"$f":"IF(AP174<>\"\",\" -O\",\"\")","v":""},null,{"$f":"IF(AR174<>\"\",\" -O\",\"\")","v":""},null,{"$f":"IF(AT174<>\"\",\" -O\",\"\")","v":""},null,{"$f":"IF(AV174<>\"\",\" -O\",\"\")","v":""},null,{"$f":"IF(AX174<>\"\",\" -O\",\"\")","v":""},null,{"$f":"IF(AZ174<>\"\",\" -O\",\"\")","v":""},null,{"$f":"IF(BB174<>\"\",\" -O\",\"\")","v":""},null,{"$f":"IF(BD174<>\"\",\" -O\",\"\")","v":""},null,{"$f":"IF(BF174<>\"\",\" -O\",\"\")","v":""},null,{"$f":"IF(BH174<>\"\",\" -O\",\"\")","v":""},null,{"$f":"IF(BJ174<>\"\",\" -O\",\"\")","v":""}]
[null,null,null,null,null,null,null,null,null,null,null,null,1.83,{"$f":"IFERROR(VLOOKUP(M174,'CRUCE OPORTUNIDADES'!$C$12:$D$111,2,FALSE),\"\")","v":""},2.8300000000000201,{"$f":"IFERROR(VLOOKUP(O174,'CRUCE OPORTUNIDADES'!$C$12:$D$111,2,FALSE),\"\")","v":""},3.83000000000004,{"$f":"IFERROR(VLOOKUP(Q174,'CRUCE OPORTUNIDADES'!$C$12:$D$111,2,FALSE),\"\")","v":""},4.8300000000000596,{"$f":"IFERROR(VLOOKUP(S174,'CRUCE OPORTUNIDADES'!$C$12:$D$111,2,FALSE),\"\")","v":""},5.83000000000008,{"$f":"IFERROR(VLOOKUP(U174,'CRUCE OPORTUNIDADES'!$C$12:$D$111,2,FALSE),\"\")","v":""},6.8300000000001004,{"$f":"IFERROR(VLOOKUP(W174,'CRUCE OPORTUNIDADES'!$C$12:$D$111,2,FALSE),\"\")","v":""},7.83000000000012,{"$f":"IFERROR(VLOOKUP(Y174,'CRUCE OPORTUNIDADES'!$C$12:$D$111,2,FALSE),\"\")","v":""},8.8300000000001404,{"$f":"IFERROR(VLOOKUP(AA174,'CRUCE OPORTUNIDADES'!$C$12:$D$111,2,FALSE),\"\")","v":""},9.8300000000001599,{"$f":"IFERROR(VLOOKUP(AC174,'CRUCE OPORTUNIDADES'!$C$12:$D$111,2,FALSE),\"\")","v":""},10.830000000000201,{"$f":"IFERROR(VLOOKUP(AE174,'CRUCE OPORTUNIDADES'!$C$12:$D$111,2,FALSE),\"\")","v":""},11.830000000000201,{"$f":"IFERROR(VLOOKUP(AG174,'CRUCE OPORTUNIDADES'!$C$12:$D$111,2,FALSE),\"\")","v":""},12.830000000000201,{"$f":"IFERROR(VLOOKUP(AI174,'CRUCE OPORTUNIDADES'!$C$12:$D$111,2,FALSE),\"\")","v":""},13.830000000000201,{"$f":"IFERROR(VLOOKUP(AK174,'CRUCE OPORTUNIDADES'!$C$12:$D$111,2,FALSE),\"\")","v":""},14.8300000000003,{"$f":"IFERROR(VLOOKUP(AM174,'CRUCE OPORTUNIDADES'!$C$12:$D$111,2,FALSE),\"\")","v":""},15.8300000000003,{"$f":"IFERROR(VLOOKUP(AO174,'CRUCE OPORTUNIDADES'!$C$12:$D$111,2,FALSE),\"\")","v":""},16.8300000000003,{"$f":"IFERROR(VLOOKUP(AQ174,'CRUCE OPORTUNIDADES'!$C$12:$D$111,2,FALSE),\"\")","v":""},17.8300000000003,{"$f":"IFERROR(VLOOKUP(AS174,'CRUCE OPORTUNIDADES'!$C$12:$D$111,2,FALSE),\"\")","v":""},18.8300000000003,{"$f":"IFERROR(VLOOKUP(AU174,'CRUCE OPORTUNIDADES'!$C$12:$D$111,2,FALSE),\"\")","v":""},19.8300000000004,{"$f":"IFERROR(VLOOKUP(AW174,'CRUCE OPORTUNIDADES'!$C$12:$D$111,2,FALSE),\"\")","v":""},20.8300000000004,{"$f":"IFERROR(VLOOKUP(AY174,'CRUCE OPORTUNIDADES'!$C$12:$D$111,2,FALSE),\"\")","v":""},21.8300000000004,{"$f":"IFERROR(VLOOKUP(BA174,'CRUCE OPORTUNIDADES'!$C$12:$D$111,2,FALSE),\"\")","v":""},22.8300000000004,{"$f":"IFERROR(VLOOKUP(BC174,'CRUCE OPORTUNIDADES'!$C$12:$D$111,2,FALSE),\"\")","v":""},23.8300000000004,{"$f":"IFERROR(VLOOKUP(BE174,'CRUCE OPORTUNIDADES'!$C$12:$D$111,2,FALSE),\"\")","v":""},24.830000000000499,{"$f":"IFERROR(VLOOKUP(BG174,'CRUCE OPORTUNIDADES'!$C$12:$D$111,2,FALSE),\"\")","v":""},25.830000000000499,{"$f":"IFERROR(VLOOKUP(BI174,'CRUCE OPORTUNIDADES'!$C$12:$D$111,2,FALSE),\"\")","v":""}]
[null,null,null,null,null,null,null,null,null,null,null,null,null,{"$f":"IF(N176<>\"\",\" -O\",\"\")","v":""},null,{"$f":"IF(P176<>\"\",\" -O\",\"\")","v":""},null,{"$f":"IF(R176<>\"\",\" -O\",\"\")","v":""},null,{"$f":"IF(T176<>\"\",\" -O\",\"\")","v":""},null,{"$f":"IF(V176<>\"\",\" -O\",\"\")","v":""},null,{"$f":"IF(X176<>\"\",\" -O\",\"\")","v":""},null,{"$f":"IF(Z176<>\"\",\" -O\",\"\")","v":""},null,{"$f":"IF(AB176<>\"\",\" -O\",\"\")","v":""},null,{"$f":"IF(AD176<>\"\",\" -O\",\"\")","v":""},null,{"$f":"IF(AF176<>\"\",\" -O\",\"\")","v":""},null,{"$f":"IF(AH176<>\"\",\" -O\",\"\")","v":""},null,{"$f":"IF(AJ176<>\"\",\" -O\",\"\")","v":""},null,{"$f":"IF(AL176<>\"\",\" -O\",\"\")","v":""},null,{"$f":"IF(AN176<>\"\",\" -O\",\"\")","v":""},null,{"$f":"IF(AP176<>\"\",\" -O\",\"\")","v":""},null,{"$f":"IF(AR176<>\"\",\" -O\",\"\")","v":""},null,{"$f":"IF(AT176<>\"\",\" -O\",\"\")","v":""},null,{"$f":"IF(AV176<>\"\",\" -O\",\"\")","v":""},null,{"$f":"IF(AX176<>\"\",\" -O\",\"\")","v":""},null,{"$f":"IF(AZ176<>\"\",\" -O\",\"\")","v":""},null,{"$f":"IF(BB176<>\"\",\" -O\",\"\")","v":""},null,{"$f":"IF(BD176<>\"\",\" -O\",\"\")","v":""},null,{"$f":"IF(BF176<>\"\",\" -O\",\"\")","v":""},null,{"$f":"IF(BH176<>\"\",\" -O\",\"\")","v":""},null,{"$f":"IF(BJ176<>\"\",\" -O\",\"\")","v":""}]
[null,null,null,null,null,null,null,null,null,null,null,null,1.84,{"$f":"IFERROR(VLOOKUP(M176,'CRUCE OPORTUNIDADES'!$C$12:$D$111,2,FALSE),\"\")","v":""},2.8400000000000198,{"$f":"IFERROR(VLOOKUP(O176,'CRUCE OPORTUNIDADES'!$C$12:$D$111,2,FALSE),\"\")","v":""},3.8400000000000398,{"$f":"IFERROR(VLOOKUP(Q176,'CRUCE OPORTUNIDADES'!$C$12:$D$111,2,FALSE),\"\")","v":""},4.8400000000000603,{"$f":"IFERROR(VLOOKUP(S176,'CRUCE OPORTUNIDADES'!$C$12:$D$111,2,FALSE),\"\")","v":""},5.8400000000000798,{"$f":"IFERROR(VLOOKUP(U176,'CRUCE OPORTUNIDADES'!$C$12:$D$111,2,FALSE),\"\")","v":""},6.8400000000001002,{"$f":"IFERROR(VLOOKUP(W176,'CRUCE OPORTUNIDADES'!$C$12:$D$111,2,FALSE),\"\")","v":""},7.8400000000001198,{"$f":"IFERROR(VLOOKUP(Y176,'CRUCE OPORTUNIDADES'!$C$12:$D$111,2,FALSE),\"\")","v":""},8.8400000000001402,{"$f":"IFERROR(VLOOKUP(AA176,'CRUCE OPORTUNIDADES'!$C$12:$D$111,2,FALSE),\"\")","v":""},9.8400000000001597,{"$f":"IFERROR(VLOOKUP(AC176,'CRUCE OPORTUNIDADES'!$C$12:$D$111,2,FALSE),\"\")","v":""},10.840000000000201,{"$f":"IFERROR(VLOOKUP(AE176,'CRUCE OPORTUNIDADES'!$C$12:$D$111,2,FALSE),\"\")","v":""},11.840000000000201,{"$f":"IFERROR(VLOOKUP(AG176,'CRUCE OPORTUNIDADES'!$C$12:$D$111,2,FALSE),\"\")","v":""},12.840000000000201,{"$f":"IFERROR(VLOOKUP(AI176,'CRUCE OPORTUNIDADES'!$C$12:$D$111,2,FALSE),\"\")","v":""},13.840000000000201,{"$f":"IFERROR(VLOOKUP(AK176,'CRUCE OPORTUNIDADES'!$C$12:$D$111,2,FALSE),\"\")","v":""},14.8400000000003,{"$f":"IFERROR(VLOOKUP(AM176,'CRUCE OPORTUNIDADES'!$C$12:$D$111,2,FALSE),\"\")","v":""},15.8400000000003,{"$f":"IFERROR(VLOOKUP(AO176,'CRUCE OPORTUNIDADES'!$C$12:$D$111,2,FALSE),\"\")","v":""},16.840000000000298,{"$f":"IFERROR(VLOOKUP(AQ176,'CRUCE OPORTUNIDADES'!$C$12:$D$111,2,FALSE),\"\")","v":""},17.840000000000298,{"$f":"IFERROR(VLOOKUP(AS176,'CRUCE OPORTUNIDADES'!$C$12:$D$111,2,FALSE),\"\")","v":""},18.840000000000298,{"$f":"IFERROR(VLOOKUP(AU176,'CRUCE OPORTUNIDADES'!$C$12:$D$111,2,FALSE),\"\")","v":""},19.840000000000401,{"$f":"IFERROR(VLOOKUP(AW176,'CRUCE OPORTUNIDADES'!$C$12:$D$111,2,FALSE),\"\")","v":""},20.840000000000401,{"$f":"IFERROR(VLOOKUP(AY176,'CRUCE OPORTUNIDADES'!$C$12:$D$111,2,FALSE),\"\")","v":""},21.840000000000401,{"$f":"IFERROR(VLOOKUP(BA176,'CRUCE OPORTUNIDADES'!$C$12:$D$111,2,FALSE),\"\")","v":""},22.840000000000401,{"$f":"IFERROR(VLOOKUP(BC176,'CRUCE OPORTUNIDADES'!$C$12:$D$111,2,FALSE),\"\")","v":""},23.840000000000401,{"$f":"IFERROR(VLOOKUP(BE176,'CRUCE OPORTUNIDADES'!$C$12:$D$111,2,FALSE),\"\")","v":""},24.840000000000501,{"$f":"IFERROR(VLOOKUP(BG176,'CRUCE OPORTUNIDADES'!$C$12:$D$111,2,FALSE),\"\")","v":""},25.840000000000501,{"$f":"IFERROR(VLOOKUP(BI176,'CRUCE OPORTUNIDADES'!$C$12:$D$111,2,FALSE),\"\")","v":""}]
[null,null,null,null,null,null,null,null,null,null,null,null,null,{"$f":"IF(N178<>\"\",\" -O\",\"\")","v":""},null,{"$f":"IF(P178<>\"\",\" -O\",\"\")","v":""},null,{"$f":"IF(R178<>\"\",\" -O\",\"\")","v":""},null,{"$f":"IF(T178<>\"\",\" -O\",\"\")","v":""},null,{"$f":"IF(V178<>\"\",\" -O\",\"\")","v":""},null,{"$f":"IF(X178<>\"\",\" -O\",\"\")","v":""},null,{"$f":"IF(Z178<>\"\",\" -O\",\"\")","v":""},null,{"$f":"IF(AB178<>\"\",\" -O\",\"\")","v":""},null,{"$f":"IF(AD178<>\"\",\" -O\",\"\")","v":""},null,{"$f":"IF(AF178<>\"\",\" -O\",\"\")","v":""},null,{"$f":"IF(AH178<>\"\",\" -O\",\"\")","v":""},null,{"$f":"IF(AJ178<>\"\",\" -O\",\"\")","v":""},null,{"$f":"IF(AL178<>\"\",\" -O\",\"\")","v":""},null,{"$f":"IF(AN178<>\"\",\" -O\",\"\")","v":""},null,{"$f":"IF(AP178<>\"\",\" -O\",\"\")","v":""},null,{"$f":"IF(AR178<>\"\",\" -O\",\"\")","v":""},null,{"$f":"IF(AT178<>\"\",\" -O\",\"\")","v":""},null,{"$f":"IF(AV178<>\"\",\" -O\",\"\")","v":""},null,{"$f":"IF(AX178<>\"\",\" -O\",\"\")","v":""},null,{"$f":"IF(AZ178<>\"\",\" -O\",\"\")","v":""},null,{"$f":"IF(BB178<>\"\",\" -O\",\"\")","v":""},null,{"$f":"IF(BD178<>\"\",\" -O\",\"\")","v":""},null,{"$f":"IF(BF178<>\"\",\" -O\",\"\")","v":""},null,{"$f":"IF(BH178<>\"\",\" -O\",\"\")","v":""},null,{"$f":"IF(BJ178<>\"\",\" -O\",\"\")","v":""}]
[null,null,null,null,null,null,null,null,null,null,null,null,1.85,{"$f":"IFERROR(VLOOKUP(M178,'CRUCE OPORTUNIDADES'!$C$12:$D$111,2,FALSE),\"\")","v":""},2.8500000000000201,{"$f":"IFERROR(VLOOKUP(O178,'CRUCE OPORTUNIDADES'!$C$12:$D$111,2,FALSE),\"\")","v":""},3.8500000000000401,{"$f":"IFERROR(VLOOKUP(Q178,'CRUCE OPORTUNIDADES'!$C$12:$D$111,2,FALSE),\"\")","v":""},4.85000000000006,{"$f":"IFERROR(VLOOKUP(S178,'CRUCE OPORTUNIDADES'!$C$12:$D$111,2,FALSE),\"\")","v":""},5.8500000000000796,{"$f":"IFERROR(VLOOKUP(U178,'CRUCE OPORTUNIDADES'!$C$12:$D$111,2,FALSE),\"\")","v":""},6.8500000000001,{"$f":"IFERROR(VLOOKUP(W178,'CRUCE OPORTUNIDADES'!$C$12:$D$111,2,FALSE),\"\")","v":""},7.8500000000001204,{"$f":"IFERROR(VLOOKUP(Y178,'CRUCE OPORTUNIDADES'!$C$12:$D$111,2,FALSE),\"\")","v":""},8.85000000000014,{"$f":"IFERROR(VLOOKUP(AA178,'CRUCE OPORTUNIDADES'!$C$12:$D$111,2,FALSE),\"\")","v":""},9.8500000000001595,{"$f":"IFERROR(VLOOKUP(AC178,'CRUCE OPORTUNIDADES'!$C$12:$D$111,2,FALSE),\"\")","v":""},10.8500000000002,{"$f":"IFERROR(VLOOKUP(AE178,'CRUCE OPORTUNIDADES'!$C$12:$D$111,2,FALSE),\"\")","v":""},11.8500000000002,{"$f":"IFERROR(VLOOKUP(AG178,'CRUCE OPORTUNIDADES'!$C$12:$D$111,2,FALSE),\"\")","v":""},12.8500000000002,{"$f":"IFERROR(VLOOKUP(AI178,'CRUCE OPORTUNIDADES'!$C$12:$D$111,2,FALSE),\"\")","v":""},13.8500000000002,{"$f":"IFERROR(VLOOKUP(AK178,'CRUCE OPORTUNIDADES'!$C$12:$D$111,2,FALSE),\"\")","v":""},14.8500000000003,{"$f":"IFERROR(VLOOKUP(AM178,'CRUCE OPORTUNIDADES'!$C$12:$D$111,2,FALSE),\"\")","v":""},15.8500000000003,{"$f":"IFERROR(VLOOKUP(AO178,'CRUCE OPORTUNIDADES'!$C$12:$D$111,2,FALSE),\"\")","v":""},16.8500000000003,{"$f":"IFERROR(VLOOKUP(AQ178,'CRUCE OPORTUNIDADES'!$C$12:$D$111,2,FALSE),\"\")","v":""},17.8500000000003,{"$f":"IFERROR(VLOOKUP(AS178,'CRUCE OPORTUNIDADES'!$C$12:$D$111,2,FALSE),\"\")","v":""},18.8500000000003,{"$f":"IFERROR(VLOOKUP(AU178,'CRUCE OPORTUNIDADES'!$C$12:$D$111,2,FALSE),\"\")","v":""},19.850000000000399,{"$f":"IFERROR(VLOOKUP(AW178,'CRUCE OPORTUNIDADES'!$C$12:$D$111,2,FALSE),\"\")","v":""},20.850000000000399,{"$f":"IFERROR(VLOOKUP(AY178,'CRUCE OPORTUNIDADES'!$C$12:$D$111,2,FALSE),\"\")","v":""},21.850000000000399,{"$f":"IFERROR(VLOOKUP(BA178,'CRUCE OPORTUNIDADES'!$C$12:$D$111,2,FALSE),\"\")","v":""},22.850000000000399,{"$f":"IFERROR(VLOOKUP(BC178,'CRUCE OPORTUNIDADES'!$C$12:$D$111,2,FALSE),\"\")","v":""},23.850000000000399,{"$f":"IFERROR(VLOOKUP(BE178,'CRUCE OPORTUNIDADES'!$C$12:$D$111,2,FALSE),\"\")","v":""},24.850000000000499,{"$f":"IFERROR(VLOOKUP(BG178,'CRUCE OPORTUNIDADES'!$C$12:$D$111,2,FALSE),\"\")","v":""},25.850000000000499,{"$f":"IFERROR(VLOOKUP(BI178,'CRUCE OPORTUNIDADES'!$C$12:$D$111,2,FALSE),\"\")","v":""}]
[null,null,null,null,null,null,null,null,null,null,null,null,null,{"$f":"IF(N180<>\"\",\" -O\",\"\")","v":""},null,{"$f":"IF(P180<>\"\",\" -O\",\"\")","v":""},null,{"$f":"IF(R180<>\"\",\" -O\",\"\")","v":""},null,{"$f":"IF(T180<>\"\",\" -O\",\"\")","v":""},null,{"$f":"IF(V180<>\"\",\" -O\",\"\")","v":""},null,{"$f":"IF(X180<>\"\",\" -O\",\"\")","v":""},null,{"$f":"IF(Z180<>\"\",\" -O\",\"\")","v":""},null,{"$f":"IF(AB180<>\"\",\" -O\",\"\")","v":""},null,{"$f":"IF(AD180<>\"\",\" -O\",\"\")","v":""},null,{"$f":"IF(AF180<>\"\",\" -O\",\"\")","v":""},null,{"$f":"IF(AH180<>\"\",\" -O\",\"\")","v":""},null,{"$f":"IF(AJ180<>\"\",\" -O\",\"\")","v":""},null,{"$f":"IF(AL180<>\"\",\" -O\",\"\")","v":""},null,{"$f":"IF(AN180<>\"\",\" -O\",\"\")","v":""},null,{"$f":"IF(AP180<>\"\",\" -O\",\"\")","v":""},null,{"$f":"IF(AR180<>\"\",\" -O\",\"\")","v":""},null,{"$f":"IF(AT180<>\"\",\" -O\",\"\")","v":""},null,{"$f":"IF(AV180<>\"\",\" -O\",\"\")","v":""},null,{"$f":"IF(AX180<>\"\",\" -O\",\"\")","v":""},null,{"$f":"IF(AZ180<>\"\",\" -O\",\"\")","v":""},null,{"$f":"IF(BB180<>\"\",\" -O\",\"\")","v":""},null,{"$f":"IF(BD180<>\"\",\" -O\",\"\")","v":""},null,{"$f":"IF(BF180<>\"\",\" -O\",\"\")","v":""},null,{"$f":"IF(BH180<>\"\",\" -O\",\"\")","v":""},null,{"$f":"IF(BJ180<>\"\",\" -O\",\"\")","v":""}]
[null,null,null,null,null,null,null,null,null,null,null,null,1.86,{"$f":"IFERROR(VLOOKUP(M180,'CRUCE OPORTUNIDADES'!$C$12:$D$111,2,FALSE),\"\")","v":""},2.8600000000000199,{"$f":"IFERROR(VLOOKUP(O180,'CRUCE OPORTUNIDADES'!$C$12:$D$111,2,FALSE),\"\")","v":""},3.8600000000000398,{"$f":"IFERROR(VLOOKUP(Q180,'CRUCE OPORTUNIDADES'!$C$12:$D$111,2,FALSE),\"\")","v":""},4.8600000000000598,{"$f":"IFERROR(VLOOKUP(S180,'CRUCE OPORTUNIDADES'!$C$12:$D$111,2,FALSE),\"\")","v":""},5.8600000000000803,{"$f":"IFERROR(VLOOKUP(U180,'CRUCE OPORTUNIDADES'!$C$12:$D$111,2,FALSE),\"\")","v":""},6.8600000000000998,{"$f":"IFERROR(VLOOKUP(W180,'CRUCE OPORTUNIDADES'!$C$12:$D$111,2,FALSE),\"\")","v":""},7.8600000000001202,{"$f":"IFERROR(VLOOKUP(Y180,'CRUCE OPORTUNIDADES'!$C$12:$D$111,2,FALSE),\"\")","v":""},8.8600000000001398,{"$f":"IFERROR(VLOOKUP(AA180,'CRUCE OPORTUNIDADES'!$C$12:$D$111,2,FALSE),\"\")","v":""},9.8600000000001593,{"$f":"IFERROR(VLOOKUP(AC180,'CRUCE OPORTUNIDADES'!$C$12:$D$111,2,FALSE),\"\")","v":""},10.8600000000002,{"$f":"IFERROR(VLOOKUP(AE180,'CRUCE OPORTUNIDADES'!$C$12:$D$111,2,FALSE),\"\")","v":""},11.8600000000002,{"$f":"IFERROR(VLOOKUP(AG180,'CRUCE OPORTUNIDADES'!$C$12:$D$111,2,FALSE),\"\")","v":""},12.8600000000002,{"$f":"IFERROR(VLOOKUP(AI180,'CRUCE OPORTUNIDADES'!$C$12:$D$111,2,FALSE),\"\")","v":""},13.8600000000002,{"$f":"IFERROR(VLOOKUP(AK180,'CRUCE OPORTUNIDADES'!$C$12:$D$111,2,FALSE),\"\")","v":""},14.8600000000003,{"$f":"IFERROR(VLOOKUP(AM180,'CRUCE OPORTUNIDADES'!$C$12:$D$111,2,FALSE),\"\")","v":""},15.8600000000003,{"$f":"IFERROR(VLOOKUP(AO180,'CRUCE OPORTUNIDADES'!$C$12:$D$111,2,FALSE),\"\")","v":""},16.860000000000301,{"$f":"IFERROR(VLOOKUP(AQ180,'CRUCE OPORTUNIDADES'!$C$12:$D$111,2,FALSE),\"\")","v":""},17.860000000000301,{"$f":"IFERROR(VLOOKUP(AS180,'CRUCE OPORTUNIDADES'!$C$12:$D$111,2,FALSE),\"\")","v":""},18.860000000000301,{"$f":"IFERROR(VLOOKUP(AU180,'CRUCE OPORTUNIDADES'!$C$12:$D$111,2,FALSE),\"\")","v":""},19.860000000000401,{"$f":"IFERROR(VLOOKUP(AW180,'CRUCE OPORTUNIDADES'!$C$12:$D$111,2,FALSE),\"\")","v":""},20.860000000000401,{"$f":"IFERROR(VLOOKUP(AY180,'CRUCE OPORTUNIDADES'!$C$12:$D$111,2,FALSE),\"\")","v":""},21.860000000000401,{"$f":"IFERROR(VLOOKUP(BA180,'CRUCE OPORTUNIDADES'!$C$12:$D$111,2,FALSE),\"\")","v":""},22.860000000000401,{"$f":"IFERROR(VLOOKUP(BC180,'CRUCE OPORTUNIDADES'!$C$12:$D$111,2,FALSE),\"\")","v":""},23.860000000000401,{"$f":"IFERROR(VLOOKUP(BE180,'CRUCE OPORTUNIDADES'!$C$12:$D$111,2,FALSE),\"\")","v":""},24.8600000000005,{"$f":"IFERROR(VLOOKUP(BG180,'CRUCE OPORTUNIDADES'!$C$12:$D$111,2,FALSE),\"\")","v":""},25.8600000000005,{"$f":"IFERROR(VLOOKUP(BI180,'CRUCE OPORTUNIDADES'!$C$12:$D$111,2,FALSE),\"\")","v":""}]
[null,null,null,null,null,null,null,null,null,null,null,null,null,{"$f":"IF(N182<>\"\",\" -O\",\"\")","v":""},null,{"$f":"IF(P182<>\"\",\" -O\",\"\")","v":""},null,{"$f":"IF(R182<>\"\",\" -O\",\"\")","v":""},null,{"$f":"IF(T182<>\"\",\" -O\",\"\")","v":""},null,{"$f":"IF(V182<>\"\",\" -O\",\"\")","v":""},null,{"$f":"IF(X182<>\"\",\" -O\",\"\")","v":""},null,{"$f":"IF(Z182<>\"\",\" -O\",\"\")","v":""},null,{"$f":"IF(AB182<>\"\",\" -O\",\"\")","v":""},null,{"$f":"IF(AD182<>\"\",\" -O\",\"\")","v":""},null,{"$f":"IF(AF182<>\"\",\" -O\",\"\")","v":""},null,{"$f":"IF(AH182<>\"\",\" -O\",\"\")","v":""},null,{"$f":"IF(AJ182<>\"\",\" -O\",\"\")","v":""},null,{"$f":"IF(AL182<>\"\",\" -O\",\"\")","v":""},null,{"$f":"IF(AN182<>\"\",\" -O\",\"\")","v":""},null,{"$f":"IF(AP182<>\"\",\" -O\",\"\")","v":""},null,{"$f":"IF(AR182<>\"\",\" -O\",\"\")","v":""},null,{"$f":"IF(AT182<>\"\",\" -O\",\"\")","v":""},null,{"$f":"IF(AV182<>\"\",\" -O\",\"\")","v":""},null,{"$f":"IF(AX182<>\"\",\" -O\",\"\")","v":""},null,{"$f":"IF(AZ182<>\"\",\" -O\",\"\")","v":""},null,{"$f":"IF(BB182<>\"\",\" -O\",\"\")","v":""},null,{"$f":"IF(BD182<>\"\",\" -O\",\"\")","v":""},null,{"$f":"IF(BF182<>\"\",\" -O\",\"\")","v":""},null,{"$f":"IF(BH182<>\"\",\" -O\",\"\")","v":""},null,{"$f":"IF(BJ182<>\"\",\" -O\",\"\")","v":""}]
[null,null,null,null,null,null,null,null,null,null,null,null,1.87,{"$f":"IFERROR(VLOOKUP(M182,'CRUCE OPORTUNIDADES'!$C$12:$D$111,2,FALSE),\"\")","v":""},2.8700000000000201,{"$f":"IFERROR(VLOOKUP(O182,'CRUCE OPORTUNIDADES'!$C$12:$D$111,2,FALSE),\"\")","v":""},3.8700000000000401,{"$f":"IFERROR(VLOOKUP(Q182,'CRUCE OPORTUNIDADES'!$C$12:$D$111,2,FALSE),\"\")","v":""},4.8700000000000596,{"$f":"IFERROR(VLOOKUP(S182,'CRUCE OPORTUNIDADES'!$C$12:$D$111,2,FALSE),\"\")","v":""},5.87000000000008,{"$f":"IFERROR(VLOOKUP(U182,'CRUCE OPORTUNIDADES'!$C$12:$D$111,2,FALSE),\"\")","v":""},6.8700000000000996,{"$f":"IFERROR(VLOOKUP(W182,'CRUCE OPORTUNIDADES'!$C$12:$D$111,2,FALSE),\"\")","v":""},7.87000000000012,{"$f":"IFERROR(VLOOKUP(Y182,'CRUCE OPORTUNIDADES'!$C$12:$D$111,2,FALSE),\"\")","v":""},8.8700000000001396,{"$f":"IFERROR(VLOOKUP(AA182,'CRUCE OPORTUNIDADES'!$C$12:$D$111,2,FALSE),\"\")","v":""},9.8700000000001609,{"$f":"IFERROR(VLOOKUP(AC182,'CRUCE OPORTUNIDADES'!$C$12:$D$111,2,FALSE),\"\")","v":""},10.8700000000002,{"$f":"IFERROR(VLOOKUP(AE182,'CRUCE OPORTUNIDADES'!$C$12:$D$111,2,FALSE),\"\")","v":""},11.8700000000002,{"$f":"IFERROR(VLOOKUP(AG182,'CRUCE OPORTUNIDADES'!$C$12:$D$111,2,FALSE),\"\")","v":""},12.8700000000002,{"$f":"IFERROR(VLOOKUP(AI182,'CRUCE OPORTUNIDADES'!$C$12:$D$111,2,FALSE),\"\")","v":""},13.8700000000002,{"$f":"IFERROR(VLOOKUP(AK182,'CRUCE OPORTUNIDADES'!$C$12:$D$111,2,FALSE),\"\")","v":""},14.870000000000299,{"$f":"IFERROR(VLOOKUP(AM182,'CRUCE OPORTUNIDADES'!$C$12:$D$111,2,FALSE),\"\")","v":""},15.870000000000299,{"$f":"IFERROR(VLOOKUP(AO182,'CRUCE OPORTUNIDADES'!$C$12:$D$111,2,FALSE),\"\")","v":""},16.870000000000299,{"$f":"IFERROR(VLOOKUP(AQ182,'CRUCE OPORTUNIDADES'!$C$12:$D$111,2,FALSE),\"\")","v":""},17.870000000000299,{"$f":"IFERROR(VLOOKUP(AS182,'CRUCE OPORTUNIDADES'!$C$12:$D$111,2,FALSE),\"\")","v":""},18.870000000000299,{"$f":"IFERROR(VLOOKUP(AU182,'CRUCE OPORTUNIDADES'!$C$12:$D$111,2,FALSE),\"\")","v":""},19.870000000000399,{"$f":"IFERROR(VLOOKUP(AW182,'CRUCE OPORTUNIDADES'!$C$12:$D$111,2,FALSE),\"\")","v":""},20.870000000000399,{"$f":"IFERROR(VLOOKUP(AY182,'CRUCE OPORTUNIDADES'!$C$12:$D$111,2,FALSE),\"\")","v":""},21.870000000000399,{"$f":"IFERROR(VLOOKUP(BA182,'CRUCE OPORTUNIDADES'!$C$12:$D$111,2,FALSE),\"\")","v":""},22.870000000000399,{"$f":"IFERROR(VLOOKUP(BC182,'CRUCE OPORTUNIDADES'!$C$12:$D$111,2,FALSE),\"\")","v":""},23.870000000000399,{"$f":"IFERROR(VLOOKUP(BE182,'CRUCE OPORTUNIDADES'!$C$12:$D$111,2,FALSE),\"\")","v":""},24.870000000000498,{"$f":"IFERROR(VLOOKUP(BG182,'CRUCE OPORTUNIDADES'!$C$12:$D$111,2,FALSE),\"\")","v":""},25.870000000000498,{"$f":"IFERROR(VLOOKUP(BI182,'CRUCE OPORTUNIDADES'!$C$12:$D$111,2,FALSE),\"\")","v":""}]
[null,null,null,null,null,null,null,null,null,null,null,null,null,{"$f":"IF(N184<>\"\",\" -O\",\"\")","v":""},null,{"$f":"IF(P184<>\"\",\" -O\",\"\")","v":""},null,{"$f":"IF(R184<>\"\",\" -O\",\"\")","v":""},null,{"$f":"IF(T184<>\"\",\" -O\",\"\")","v":""},null,{"$f":"IF(V184<>\"\",\" -O\",\"\")","v":""},null,{"$f":"IF(X184<>\"\",\" -O\",\"\")","v":""},null,{"$f":"IF(Z184<>\"\",\" -O\",\"\")","v":""},null,{"$f":"IF(AB184<>\"\",\" -O\",\"\")","v":""},null,{"$f":"IF(AD184<>\"\",\" -O\",\"\")","v":""},null,{"$f":"IF(AF184<>\"\",\" -O\",\"\")","v":""},null,{"$f":"IF(AH184<>\"\",\" -O\",\"\")","v":""},null,{"$f":"IF(AJ184<>\"\",\" -O\",\"\")","v":""},null,{"$f":"IF(AL184<>\"\",\" -O\",\"\")","v":""},null,{"$f":"IF(AN184<>\"\",\" -O\",\"\")","v":""},null,{"$f":"IF(AP184<>\"\",\" -O\",\"\")","v":""},null,{"$f":"IF(AR184<>\"\",\" -O\",\"\")","v":""},null,{"$f":"IF(AT184<>\"\",\" -O\",\"\")","v":""},null,{"$f":"IF(AV184<>\"\",\" -O\",\"\")","v":""},null,{"$f":"IF(AX184<>\"\",\" -O\",\"\")","v":""},null,{"$f":"IF(AZ184<>\"\",\" -O\",\"\")","v":""},null,{"$f":"IF(BB184<>\"\",\" -O\",\"\")","v":""},null,{"$f":"IF(BD184<>\"\",\" -O\",\"\")","v":""},null,{"$f":"IF(BF184<>\"\",\" -O\",\"\")","v":""},null,{"$f":"IF(BH184<>\"\",\" -O\",\"\")","v":""},null,{"$f":"IF(BJ184<>\"\",\" -O\",\"\")","v":""}]
[null,null,null,null,null,null,null,null,null,null,null,null,1.88,{"$f":"IFERROR(VLOOKUP(M184,'CRUCE OPORTUNIDADES'!$C$12:$D$111,2,FALSE),\"\")","v":""},2.8800000000000199,{"$f":"IFERROR(VLOOKUP(O184,'CRUCE OPORTUNIDADES'!$C$12:$D$111,2,FALSE),\"\")","v":""},3.8800000000000399,{"$f":"IFERROR(VLOOKUP(Q184,'CRUCE OPORTUNIDADES'!$C$12:$D$111,2,FALSE),\"\")","v":""},4.8800000000000603,{"$f":"IFERROR(VLOOKUP(S184,'CRUCE OPORTUNIDADES'!$C$12:$D$111,2,FALSE),\"\")","v":""},5.8800000000000798,{"$f":"IFERROR(VLOOKUP(U184,'CRUCE OPORTUNIDADES'!$C$12:$D$111,2,FALSE),\"\")","v":""},6.8800000000001003,{"$f":"IFERROR(VLOOKUP(W184,'CRUCE OPORTUNIDADES'!$C$12:$D$111,2,FALSE),\"\")","v":""},7.8800000000001198,{"$f":"IFERROR(VLOOKUP(Y184,'CRUCE OPORTUNIDADES'!$C$12:$D$111,2,FALSE),\"\")","v":""},8.8800000000001393,{"$f":"IFERROR(VLOOKUP(AA184,'CRUCE OPORTUNIDADES'!$C$12:$D$111,2,FALSE),\"\")","v":""},9.8800000000001607,{"$f":"IFERROR(VLOOKUP(AC184,'CRUCE OPORTUNIDADES'!$C$12:$D$111,2,FALSE),\"\")","v":""},10.8800000000002,{"$f":"IFERROR(VLOOKUP(AE184,'CRUCE OPORTUNIDADES'!$C$12:$D$111,2,FALSE),\"\")","v":""},11.8800000000002,{"$f":"IFERROR(VLOOKUP(AG184,'CRUCE OPORTUNIDADES'!$C$12:$D$111,2,FALSE),\"\")","v":""},12.8800000000002,{"$f":"IFERROR(VLOOKUP(AI184,'CRUCE OPORTUNIDADES'!$C$12:$D$111,2,FALSE),\"\")","v":""},13.8800000000002,{"$f":"IFERROR(VLOOKUP(AK184,'CRUCE OPORTUNIDADES'!$C$12:$D$111,2,FALSE),\"\")","v":""},14.880000000000299,{"$f":"IFERROR(VLOOKUP(AM184,'CRUCE OPORTUNIDADES'!$C$12:$D$111,2,FALSE),\"\")","v":""},15.880000000000299,{"$f":"IFERROR(VLOOKUP(AO184,'CRUCE OPORTUNIDADES'!$C$12:$D$111,2,FALSE),\"\")","v":""},16.880000000000301,{"$f":"IFERROR(VLOOKUP(AQ184,'CRUCE OPORTUNIDADES'!$C$12:$D$111,2,FALSE),\"\")","v":""},17.880000000000301,{"$f":"IFERROR(VLOOKUP(AS184,'CRUCE OPORTUNIDADES'!$C$12:$D$111,2,FALSE),\"\")","v":""},18.880000000000301,{"$f":"IFERROR(VLOOKUP(AU184,'CRUCE OPORTUNIDADES'!$C$12:$D$111,2,FALSE),\"\")","v":""},19.8800000000004,{"$f":"IFERROR(VLOOKUP(AW184,'CRUCE OPORTUNIDADES'!$C$12:$D$111,2,FALSE),\"\")","v":""},20.8800000000004,{"$f":"IFERROR(VLOOKUP(AY184,'CRUCE OPORTUNIDADES'!$C$12:$D$111,2,FALSE),\"\")","v":""},21.8800000000004,{"$f":"IFERROR(VLOOKUP(BA184,'CRUCE OPORTUNIDADES'!$C$12:$D$111,2,FALSE),\"\")","v":""},22.8800000000004,{"$f":"IFERROR(VLOOKUP(BC184,'CRUCE OPORTUNIDADES'!$C$12:$D$111,2,FALSE),\"\")","v":""},23.8800000000004,{"$f":"IFERROR(VLOOKUP(BE184,'CRUCE OPORTUNIDADES'!$C$12:$D$111,2,FALSE),\"\")","v":""},24.8800000000005,{"$f":"IFERROR(VLOOKUP(BG184,'CRUCE OPORTUNIDADES'!$C$12:$D$111,2,FALSE),\"\")","v":""},25.8800000000005,{"$f":"IFERROR(VLOOKUP(BI184,'CRUCE OPORTUNIDADES'!$C$12:$D$111,2,FALSE),\"\")","v":""}]
[null,null,null,null,null,null,null,null,null,null,null,null,null,{"$f":"IF(N186<>\"\",\" -O\",\"\")","v":""},null,{"$f":"IF(P186<>\"\",\" -O\",\"\")","v":""},null,{"$f":"IF(R186<>\"\",\" -O\",\"\")","v":""},null,{"$f":"IF(T186<>\"\",\" -O\",\"\")","v":""},null,{"$f":"IF(V186<>\"\",\" -O\",\"\")","v":""},null,{"$f":"IF(X186<>\"\",\" -O\",\"\")","v":""},null,{"$f":"IF(Z186<>\"\",\" -O\",\"\")","v":""},null,{"$f":"IF(AB186<>\"\",\" -O\",\"\")","v":""},null,{"$f":"IF(AD186<>\"\",\" -O\",\"\")","v":""},null,{"$f":"IF(AF186<>\"\",\" -O\",\"\")","v":""},null,{"$f":"IF(AH186<>\"\",\" -O\",\"\")","v":""},null,{"$f":"IF(AJ186<>\"\",\" -O\",\"\")","v":""},null,{"$f":"IF(AL186<>\"\",\" -O\",\"\")","v":""},null,{"$f":"IF(AN186<>\"\",\" -O\",\"\")","v":""},null,{"$f":"IF(AP186<>\"\",\" -O\",\"\")","v":""},null,{"$f":"IF(AR186<>\"\",\" -O\",\"\")","v":""},null,{"$f":"IF(AT186<>\"\",\" -O\",\"\")","v":""},null,{"$f":"IF(AV186<>\"\",\" -O\",\"\")","v":""},null,{"$f":"IF(AX186<>\"\",\" -O\",\"\")","v":""},null,{"$f":"IF(AZ186<>\"\",\" -O\",\"\")","v":""},null,{"$f":"IF(BB186<>\"\",\" -O\",\"\")","v":""},null,{"$f":"IF(BD186<>\"\",\" -O\",\"\")","v":""},null,{"$f":"IF(BF186<>\"\",\" -O\",\"\")","v":""},null,{"$f":"IF(BH186<>\"\",\" -O\",\"\")","v":""},null,{"$f":"IF(BJ186<>\"\",\" -O\",\"\")","v":""}]
[null,null,null,null,null,null,null,null,null,null,null,null,1.89,{"$f":"IFERROR(VLOOKUP(M186,'CRUCE OPORTUNIDADES'!$C$12:$D$111,2,FALSE),\"\")","v":""},2.8900000000000201,{"$f":"IFERROR(VLOOKUP(O186,'CRUCE OPORTUNIDADES'!$C$12:$D$111,2,FALSE),\"\")","v":""},3.8900000000000401,{"$f":"IFERROR(VLOOKUP(Q186,'CRUCE OPORTUNIDADES'!$C$12:$D$111,2,FALSE),\"\")","v":""},4.8900000000000601,{"$f":"IFERROR(VLOOKUP(S186,'CRUCE OPORTUNIDADES'!$C$12:$D$111,2,FALSE),\"\")","v":""},5.8900000000000796,{"$f":"IFERROR(VLOOKUP(U186,'CRUCE OPORTUNIDADES'!$C$12:$D$111,2,FALSE),\"\")","v":""},6.8900000000001,{"$f":"IFERROR(VLOOKUP(W186,'CRUCE OPORTUNIDADES'!$C$12:$D$111,2,FALSE),\"\")","v":""},7.8900000000001196,{"$f":"IFERROR(VLOOKUP(Y186,'CRUCE OPORTUNIDADES'!$C$12:$D$111,2,FALSE),\"\")","v":""},8.8900000000001391,{"$f":"IFERROR(VLOOKUP(AA186,'CRUCE OPORTUNIDADES'!$C$12:$D$111,2,FALSE),\"\")","v":""},9.8900000000001604,{"$f":"IFERROR(VLOOKUP(AC186,'CRUCE OPORTUNIDADES'!$C$12:$D$111,2,FALSE),\"\")","v":""},10.8900000000002,{"$f":"IFERROR(VLOOKUP(AE186,'CRUCE OPORTUNIDADES'!$C$12:$D$111,2,FALSE),\"\")","v":""},11.8900000000002,{"$f":"IFERROR(VLOOKUP(AG186,'CRUCE OPORTUNIDADES'!$C$12:$D$111,2,FALSE),\"\")","v":""},12.8900000000002,{"$f":"IFERROR(VLOOKUP(AI186,'CRUCE OPORTUNIDADES'!$C$12:$D$111,2,FALSE),\"\")","v":""},13.8900000000002,{"$f":"IFERROR(VLOOKUP(AK186,'CRUCE OPORTUNIDADES'!$C$12:$D$111,2,FALSE),\"\")","v":""},14.890000000000301,{"$f":"IFERROR(VLOOKUP(AM186,'CRUCE OPORTUNIDADES'!$C$12:$D$111,2,FALSE),\"\")","v":""},15.890000000000301,{"$f":"IFERROR(VLOOKUP(AO186,'CRUCE OPORTUNIDADES'!$C$12:$D$111,2,FALSE),\"\")","v":""},16.890000000000299,{"$f":"IFERROR(VLOOKUP(AQ186,'CRUCE OPORTUNIDADES'!$C$12:$D$111,2,FALSE),\"\")","v":""},17.890000000000299,{"$f":"IFERROR(VLOOKUP(AS186,'CRUCE OPORTUNIDADES'!$C$12:$D$111,2,FALSE),\"\")","v":""},18.890000000000299,{"$f":"IFERROR(VLOOKUP(AU186,'CRUCE OPORTUNIDADES'!$C$12:$D$111,2,FALSE),\"\")","v":""},19.890000000000398,{"$f":"IFERROR(VLOOKUP(AW186,'CRUCE OPORTUNIDADES'!$C$12:$D$111,2,FALSE),\"\")","v":""},20.890000000000398,{"$f":"IFERROR(VLOOKUP(AY186,'CRUCE OPORTUNIDADES'!$C$12:$D$111,2,FALSE),\"\")","v":""},21.890000000000398,{"$f":"IFERROR(VLOOKUP(BA186,'CRUCE OPORTUNIDADES'!$C$12:$D$111,2,FALSE),\"\")","v":""},22.890000000000398,{"$f":"IFERROR(VLOOKUP(BC186,'CRUCE OPORTUNIDADES'!$C$12:$D$111,2,FALSE),\"\")","v":""},23.890000000000398,{"$f":"IFERROR(VLOOKUP(BE186,'CRUCE OPORTUNIDADES'!$C$12:$D$111,2,FALSE),\"\")","v":""},24.890000000000502,{"$f":"IFERROR(VLOOKUP(BG186,'CRUCE OPORTUNIDADES'!$C$12:$D$111,2,FALSE),\"\")","v":""},25.890000000000502,{"$f":"IFERROR(VLOOKUP(BI186,'CRUCE OPORTUNIDADES'!$C$12:$D$111,2,FALSE),\"\")","v":""}]
[null,null,null,null,null,null,null,null,null,null,null,null,null,{"$f":"IF(N188<>\"\",\" -O\",\"\")","v":""},null,{"$f":"IF(P188<>\"\",\" -O\",\"\")","v":""},null,{"$f":"IF(R188<>\"\",\" -O\",\"\")","v":""},null,{"$f":"IF(T188<>\"\",\" -O\",\"\")","v":""},null,{"$f":"IF(V188<>\"\",\" -O\",\"\")","v":""},null,{"$f":"IF(X188<>\"\",\" -O\",\"\")","v":""},null,{"$f":"IF(Z188<>\"\",\" -O\",\"\")","v":""},null,{"$f":"IF(AB188<>\"\",\" -O\",\"\")","v":""},null,{"$f":"IF(AD188<>\"\",\" -O\",\"\")","v":""},null,{"$f":"IF(AF188<>\"\",\" -O\",\"\")","v":""},null,{"$f":"IF(AH188<>\"\",\" -O\",\"\")","v":""},null,{"$f":"IF(AJ188<>\"\",\" -O\",\"\")","v":""},null,{"$f":"IF(AL188<>\"\",\" -O\",\"\")","v":""},null,{"$f":"IF(AN188<>\"\",\" -O\",\"\")","v":""},null,{"$f":"IF(AP188<>\"\",\" -O\",\"\")","v":""},null,{"$f":"IF(AR188<>\"\",\" -O\",\"\")","v":""},null,{"$f":"IF(AT188<>\"\",\" -O\",\"\")","v":""},null,{"$f":"IF(AV188<>\"\",\" -O\",\"\")","v":""},null,{"$f":"IF(AX188<>\"\",\" -O\",\"\")","v":""},null,{"$f":"IF(AZ188<>\"\",\" -O\",\"\")","v":""},null,{"$f":"IF(BB188<>\"\",\" -O\",\"\")","v":""},null,{"$f":"IF(BD188<>\"\",\" -O\",\"\")","v":""},null,{"$f":"IF(BF188<>\"\",\" -O\",\"\")","v":""},null,{"$f":"IF(BH188<>\"\",\" -O\",\"\")","v":""},null,{"$f":"IF(BJ188<>\"\",\" -O\",\"\")","v":""}]
[null,null,null,null,null,null,null,null,null,null,null,null,1.9,{"$f":"IFERROR(VLOOKUP(M188,'CRUCE OPORTUNIDADES'!$C$12:$D$111,2,FALSE),\"\")","v":""},2.9000000000000199,{"$f":"IFERROR(VLOOKUP(O188,'CRUCE OPORTUNIDADES'!$C$12:$D$111,2,FALSE),\"\")","v":""},3.9000000000000399,{"$f":"IFERROR(VLOOKUP(Q188,'CRUCE OPORTUNIDADES'!$C$12:$D$111,2,FALSE),\"\")","v":""},4.9000000000000599,{"$f":"IFERROR(VLOOKUP(S188,'CRUCE OPORTUNIDADES'!$C$12:$D$111,2,FALSE),\"\")","v":""},5.9000000000000803,{"$f":"IFERROR(VLOOKUP(U188,'CRUCE OPORTUNIDADES'!$C$12:$D$111,2,FALSE),\"\")","v":""},6.9000000000000998,{"$f":"IFERROR(VLOOKUP(W188,'CRUCE OPORTUNIDADES'!$C$12:$D$111,2,FALSE),\"\")","v":""},7.9000000000001203,{"$f":"IFERROR(VLOOKUP(Y188,'CRUCE OPORTUNIDADES'!$C$12:$D$111,2,FALSE),\"\")","v":""},8.9000000000001407,{"$f":"IFERROR(VLOOKUP(AA188,'CRUCE OPORTUNIDADES'!$C$12:$D$111,2,FALSE),\"\")","v":""},9.9000000000001602,{"$f":"IFERROR(VLOOKUP(AC188,'CRUCE OPORTUNIDADES'!$C$12:$D$111,2,FALSE),\"\")","v":""},10.900000000000199,{"$f":"IFERROR(VLOOKUP(AE188,'CRUCE OPORTUNIDADES'!$C$12:$D$111,2,FALSE),\"\")","v":""},11.900000000000199,{"$f":"IFERROR(VLOOKUP(AG188,'CRUCE OPORTUNIDADES'!$C$12:$D$111,2,FALSE),\"\")","v":""},12.900000000000199,{"$f":"IFERROR(VLOOKUP(AI188,'CRUCE OPORTUNIDADES'!$C$12:$D$111,2,FALSE),\"\")","v":""},13.900000000000199,{"$f":"IFERROR(VLOOKUP(AK188,'CRUCE OPORTUNIDADES'!$C$12:$D$111,2,FALSE),\"\")","v":""},14.900000000000301,{"$f":"IFERROR(VLOOKUP(AM188,'CRUCE OPORTUNIDADES'!$C$12:$D$111,2,FALSE),\"\")","v":""},15.900000000000301,{"$f":"IFERROR(VLOOKUP(AO188,'CRUCE OPORTUNIDADES'!$C$12:$D$111,2,FALSE),\"\")","v":""},16.900000000000301,{"$f":"IFERROR(VLOOKUP(AQ188,'CRUCE OPORTUNIDADES'!$C$12:$D$111,2,FALSE),\"\")","v":""},17.900000000000301,{"$f":"IFERROR(VLOOKUP(AS188,'CRUCE OPORTUNIDADES'!$C$12:$D$111,2,FALSE),\"\")","v":""},18.900000000000301,{"$f":"IFERROR(VLOOKUP(AU188,'CRUCE OPORTUNIDADES'!$C$12:$D$111,2,FALSE),\"\")","v":""},19.9000000000004,{"$f":"IFERROR(VLOOKUP(AW188,'CRUCE OPORTUNIDADES'!$C$12:$D$111,2,FALSE),\"\")","v":""},20.9000000000004,{"$f":"IFERROR(VLOOKUP(AY188,'CRUCE OPORTUNIDADES'!$C$12:$D$111,2,FALSE),\"\")","v":""},21.9000000000004,{"$f":"IFERROR(VLOOKUP(BA188,'CRUCE OPORTUNIDADES'!$C$12:$D$111,2,FALSE),\"\")","v":""},22.9000000000004,{"$f":"IFERROR(VLOOKUP(BC188,'CRUCE OPORTUNIDADES'!$C$12:$D$111,2,FALSE),\"\")","v":""},23.9000000000004,{"$f":"IFERROR(VLOOKUP(BE188,'CRUCE OPORTUNIDADES'!$C$12:$D$111,2,FALSE),\"\")","v":""},24.9000000000005,{"$f":"IFERROR(VLOOKUP(BG188,'CRUCE OPORTUNIDADES'!$C$12:$D$111,2,FALSE),\"\")","v":""},25.9000000000005,{"$f":"IFERROR(VLOOKUP(BI188,'CRUCE OPORTUNIDADES'!$C$12:$D$111,2,FALSE),\"\")","v":""}]
[null,null,null,null,null,null,null,null,null,null,null,null,null,{"$f":"IF(N190<>\"\",\" -O\",\"\")","v":""},null,{"$f":"IF(P190<>\"\",\" -O\",\"\")","v":""},null,{"$f":"IF(R190<>\"\",\" -O\",\"\")","v":""},null,{"$f":"IF(T190<>\"\",\" -O\",\"\")","v":""},null,{"$f":"IF(V190<>\"\",\" -O\",\"\")","v":""},null,{"$f":"IF(X190<>\"\",\" -O\",\"\")","v":""},null,{"$f":"IF(Z190<>\"\",\" -O\",\"\")","v":""},null,{"$f":"IF(AB190<>\"\",\" -O\",\"\")","v":""},null,{"$f":"IF(AD190<>\"\",\" -O\",\"\")","v":""},null,{"$f":"IF(AF190<>\"\",\" -O\",\"\")","v":""},null,{"$f":"IF(AH190<>\"\",\" -O\",\"\")","v":""},null,{"$f":"IF(AJ190<>\"\",\" -O\",\"\")","v":""},null,{"$f":"IF(AL190<>\"\",\" -O\",\"\")","v":""},null,{"$f":"IF(AN190<>\"\",\" -O\",\"\")","v":""},null,{"$f":"IF(AP190<>\"\",\" -O\",\"\")","v":""},null,{"$f":"IF(AR190<>\"\",\" -O\",\"\")","v":""},null,{"$f":"IF(AT190<>\"\",\" -O\",\"\")","v":""},null,{"$f":"IF(AV190<>\"\",\" -O\",\"\")","v":""},null,{"$f":"IF(AX190<>\"\",\" -O\",\"\")","v":""},null,{"$f":"IF(AZ190<>\"\",\" -O\",\"\")","v":""},null,{"$f":"IF(BB190<>\"\",\" -O\",\"\")","v":""},null,{"$f":"IF(BD190<>\"\",\" -O\",\"\")","v":""},null,{"$f":"IF(BF190<>\"\",\" -O\",\"\")","v":""},null,{"$f":"IF(BH190<>\"\",\" -O\",\"\")","v":""},null,{"$f":"IF(BJ190<>\"\",\" -O\",\"\")","v":""}]
[null,null,null,null,null,null,null,null,null,null,null,null,1.91,{"$f":"IFERROR(VLOOKUP(M190,'CRUCE OPORTUNIDADES'!$C$12:$D$111,2,FALSE),\"\")","v":""},2.9100000000000201,{"$f":"IFERROR(VLOOKUP(O190,'CRUCE OPORTUNIDADES'!$C$12:$D$111,2,FALSE),\"\")","v":""},3.9100000000000401,{"$f":"IFERROR(VLOOKUP(Q190,'CRUCE OPORTUNIDADES'!$C$12:$D$111,2,FALSE),\"\")","v":""},4.9100000000000597,{"$f":"IFERROR(VLOOKUP(S190,'CRUCE OPORTUNIDADES'!$C$12:$D$111,2,FALSE),\"\")","v":""},5.9100000000000801,{"$f":"IFERROR(VLOOKUP(U190,'CRUCE OPORTUNIDADES'!$C$12:$D$111,2,FALSE),\"\")","v":""},6.9100000000000996,{"$f":"IFERROR(VLOOKUP(W190,'CRUCE OPORTUNIDADES'!$C$12:$D$111,2,FALSE),\"\")","v":""},7.91000000000012,{"$f":"IFERROR(VLOOKUP(Y190,'CRUCE OPORTUNIDADES'!$C$12:$D$111,2,FALSE),\"\")","v":""},8.9100000000001405,{"$f":"IFERROR(VLOOKUP(AA190,'CRUCE OPORTUNIDADES'!$C$12:$D$111,2,FALSE),\"\")","v":""},9.91000000000016,{"$f":"IFERROR(VLOOKUP(AC190,'CRUCE OPORTUNIDADES'!$C$12:$D$111,2,FALSE),\"\")","v":""},10.910000000000201,{"$f":"IFERROR(VLOOKUP(AE190,'CRUCE OPORTUNIDADES'!$C$12:$D$111,2,FALSE),\"\")","v":""},11.910000000000201,{"$f":"IFERROR(VLOOKUP(AG190,'CRUCE OPORTUNIDADES'!$C$12:$D$111,2,FALSE),\"\")","v":""},12.910000000000201,{"$f":"IFERROR(VLOOKUP(AI190,'CRUCE OPORTUNIDADES'!$C$12:$D$111,2,FALSE),\"\")","v":""},13.910000000000201,{"$f":"IFERROR(VLOOKUP(AK190,'CRUCE OPORTUNIDADES'!$C$12:$D$111,2,FALSE),\"\")","v":""},14.9100000000003,{"$f":"IFERROR(VLOOKUP(AM190,'CRUCE OPORTUNIDADES'!$C$12:$D$111,2,FALSE),\"\")","v":""},15.9100000000003,{"$f":"IFERROR(VLOOKUP(AO190,'CRUCE OPORTUNIDADES'!$C$12:$D$111,2,FALSE),\"\")","v":""},16.910000000000299,{"$f":"IFERROR(VLOOKUP(AQ190,'CRUCE OPORTUNIDADES'!$C$12:$D$111,2,FALSE),\"\")","v":""},17.910000000000299,{"$f":"IFERROR(VLOOKUP(AS190,'CRUCE OPORTUNIDADES'!$C$12:$D$111,2,FALSE),\"\")","v":""},18.910000000000299,{"$f":"IFERROR(VLOOKUP(AU190,'CRUCE OPORTUNIDADES'!$C$12:$D$111,2,FALSE),\"\")","v":""},19.910000000000402,{"$f":"IFERROR(VLOOKUP(AW190,'CRUCE OPORTUNIDADES'!$C$12:$D$111,2,FALSE),\"\")","v":""},20.910000000000402,{"$f":"IFERROR(VLOOKUP(AY190,'CRUCE OPORTUNIDADES'!$C$12:$D$111,2,FALSE),\"\")","v":""},21.910000000000402,{"$f":"IFERROR(VLOOKUP(BA190,'CRUCE OPORTUNIDADES'!$C$12:$D$111,2,FALSE),\"\")","v":""},22.910000000000402,{"$f":"IFERROR(VLOOKUP(BC190,'CRUCE OPORTUNIDADES'!$C$12:$D$111,2,FALSE),\"\")","v":""},23.910000000000402,{"$f":"IFERROR(VLOOKUP(BE190,'CRUCE OPORTUNIDADES'!$C$12:$D$111,2,FALSE),\"\")","v":""},24.910000000000501,{"$f":"IFERROR(VLOOKUP(BG190,'CRUCE OPORTUNIDADES'!$C$12:$D$111,2,FALSE),\"\")","v":""},25.910000000000501,{"$f":"IFERROR(VLOOKUP(BI190,'CRUCE OPORTUNIDADES'!$C$12:$D$111,2,FALSE),\"\")","v":""}]
[null,null,null,null,null,null,null,null,null,null,null,null,null,{"$f":"IF(N192<>\"\",\" -O\",\"\")","v":""},null,{"$f":"IF(P192<>\"\",\" -O\",\"\")","v":""},null,{"$f":"IF(R192<>\"\",\" -O\",\"\")","v":""},null,{"$f":"IF(T192<>\"\",\" -O\",\"\")","v":""},null,{"$f":"IF(V192<>\"\",\" -O\",\"\")","v":""},null,{"$f":"IF(X192<>\"\",\" -O\",\"\")","v":""},null,{"$f":"IF(Z192<>\"\",\" -O\",\"\")","v":""},null,{"$f":"IF(AB192<>\"\",\" -O\",\"\")","v":""},null,{"$f":"IF(AD192<>\"\",\" -O\",\"\")","v":""},null,{"$f":"IF(AF192<>\"\",\" -O\",\"\")","v":""},null,{"$f":"IF(AH192<>\"\",\" -O\",\"\")","v":""},null,{"$f":"IF(AJ192<>\"\",\" -O\",\"\")","v":""},null,{"$f":"IF(AL192<>\"\",\" -O\",\"\")","v":""},null,{"$f":"IF(AN192<>\"\",\" -O\",\"\")","v":""},null,{"$f":"IF(AP192<>\"\",\" -O\",\"\")","v":""},null,{"$f":"IF(AR192<>\"\",\" -O\",\"\")","v":""},null,{"$f":"IF(AT192<>\"\",\" -O\",\"\")","v":""},null,{"$f":"IF(AV192<>\"\",\" -O\",\"\")","v":""},null,{"$f":"IF(AX192<>\"\",\" -O\",\"\")","v":""},null,{"$f":"IF(AZ192<>\"\",\" -O\",\"\")","v":""},null,{"$f":"IF(BB192<>\"\",\" -O\",\"\")","v":""},null,{"$f":"IF(BD192<>\"\",\" -O\",\"\")","v":""},null,{"$f":"IF(BF192<>\"\",\" -O\",\"\")","v":""},null,{"$f":"IF(BH192<>\"\",\" -O\",\"\")","v":""},null,{"$f":"IF(BJ192<>\"\",\" -O\",\"\")","v":""}]
[null,null,null,null,null,null,null,null,null,null,null,null,1.92,{"$f":"IFERROR(VLOOKUP(M192,'CRUCE OPORTUNIDADES'!$C$12:$D$111,2,FALSE),\"\")","v":""},2.9200000000000199,{"$f":"IFERROR(VLOOKUP(O192,'CRUCE OPORTUNIDADES'!$C$12:$D$111,2,FALSE),\"\")","v":""},3.9200000000000399,{"$f":"IFERROR(VLOOKUP(Q192,'CRUCE OPORTUNIDADES'!$C$12:$D$111,2,FALSE),\"\")","v":""},4.9200000000000603,{"$f":"IFERROR(VLOOKUP(S192,'CRUCE OPORTUNIDADES'!$C$12:$D$111,2,FALSE),\"\")","v":""},5.9200000000000799,{"$f":"IFERROR(VLOOKUP(U192,'CRUCE OPORTUNIDADES'!$C$12:$D$111,2,FALSE),\"\")","v":""},6.9200000000001003,{"$f":"IFERROR(VLOOKUP(W192,'CRUCE OPORTUNIDADES'!$C$12:$D$111,2,FALSE),\"\")","v":""},7.9200000000001198,{"$f":"IFERROR(VLOOKUP(Y192,'CRUCE OPORTUNIDADES'!$C$12:$D$111,2,FALSE),\"\")","v":""},8.9200000000001403,{"$f":"IFERROR(VLOOKUP(AA192,'CRUCE OPORTUNIDADES'!$C$12:$D$111,2,FALSE),\"\")","v":""},9.9200000000001598,{"$f":"IFERROR(VLOOKUP(AC192,'CRUCE OPORTUNIDADES'!$C$12:$D$111,2,FALSE),\"\")","v":""},10.920000000000201,{"$f":"IFERROR(VLOOKUP(AE192,'CRUCE OPORTUNIDADES'!$C$12:$D$111,2,FALSE),\"\")","v":""},11.920000000000201,{"$f":"IFERROR(VLOOKUP(AG192,'CRUCE OPORTUNIDADES'!$C$12:$D$111,2,FALSE),\"\")","v":""},12.920000000000201,{"$f":"IFERROR(VLOOKUP(AI192,'CRUCE OPORTUNIDADES'!$C$12:$D$111,2,FALSE),\"\")","v":""},13.920000000000201,{"$f":"IFERROR(VLOOKUP(AK192,'CRUCE OPORTUNIDADES'!$C$12:$D$111,2,FALSE),\"\")","v":""},14.9200000000003,{"$f":"IFERROR(VLOOKUP(AM192,'CRUCE OPORTUNIDADES'!$C$12:$D$111,2,FALSE),\"\")","v":""},15.9200000000003,{"$f":"IFERROR(VLOOKUP(AO192,'CRUCE OPORTUNIDADES'!$C$12:$D$111,2,FALSE),\"\")","v":""},16.9200000000003,{"$f":"IFERROR(VLOOKUP(AQ192,'CRUCE OPORTUNIDADES'!$C$12:$D$111,2,FALSE),\"\")","v":""},17.9200000000003,{"$f":"IFERROR(VLOOKUP(AS192,'CRUCE OPORTUNIDADES'!$C$12:$D$111,2,FALSE),\"\")","v":""},18.9200000000003,{"$f":"IFERROR(VLOOKUP(AU192,'CRUCE OPORTUNIDADES'!$C$12:$D$111,2,FALSE),\"\")","v":""},19.9200000000004,{"$f":"IFERROR(VLOOKUP(AW192,'CRUCE OPORTUNIDADES'!$C$12:$D$111,2,FALSE),\"\")","v":""},20.9200000000004,{"$f":"IFERROR(VLOOKUP(AY192,'CRUCE OPORTUNIDADES'!$C$12:$D$111,2,FALSE),\"\")","v":""},21.9200000000004,{"$f":"IFERROR(VLOOKUP(BA192,'CRUCE OPORTUNIDADES'!$C$12:$D$111,2,FALSE),\"\")","v":""},22.9200000000004,{"$f":"IFERROR(VLOOKUP(BC192,'CRUCE OPORTUNIDADES'!$C$12:$D$111,2,FALSE),\"\")","v":""},23.9200000000004,{"$f":"IFERROR(VLOOKUP(BE192,'CRUCE OPORTUNIDADES'!$C$12:$D$111,2,FALSE),\"\")","v":""},24.920000000000499,{"$f":"IFERROR(VLOOKUP(BG192,'CRUCE OPORTUNIDADES'!$C$12:$D$111,2,FALSE),\"\")","v":""},25.920000000000499,{"$f":"IFERROR(VLOOKUP(BI192,'CRUCE OPORTUNIDADES'!$C$12:$D$111,2,FALSE),\"\")","v":""}]
[null,null,null,null,null,null,null,null,null,null,null,null,null,{"$f":"IF(N194<>\"\",\" -O\",\"\")","v":""},null,{"$f":"IF(P194<>\"\",\" -O\",\"\")","v":""},null,{"$f":"IF(R194<>\"\",\" -O\",\"\")","v":""},null,{"$f":"IF(T194<>\"\",\" -O\",\"\")","v":""},null,{"$f":"IF(V194<>\"\",\" -O\",\"\")","v":""},null,{"$f":"IF(X194<>\"\",\" -O\",\"\")","v":""},null,{"$f":"IF(Z194<>\"\",\" -O\",\"\")","v":""},null,{"$f":"IF(AB194<>\"\",\" -O\",\"\")","v":""},null,{"$f":"IF(AD194<>\"\",\" -O\",\"\")","v":""},null,{"$f":"IF(AF194<>\"\",\" -O\",\"\")","v":""},null,{"$f":"IF(AH194<>\"\",\" -O\",\"\")","v":""},null,{"$f":"IF(AJ194<>\"\",\" -O\",\"\")","v":""},null,{"$f":"IF(AL194<>\"\",\" -O\",\"\")","v":""},null,{"$f":"IF(AN194<>\"\",\" -O\",\"\")","v":""},null,{"$f":"IF(AP194<>\"\",\" -O\",\"\")","v":""},null,{"$f":"IF(AR194<>\"\",\" -O\",\"\")","v":""},null,{"$f":"IF(AT194<>\"\",\" -O\",\"\")","v":""},null,{"$f":"IF(AV194<>\"\",\" -O\",\"\")","v":""},null,{"$f":"IF(AX194<>\"\",\" -O\",\"\")","v":""},null,{"$f":"IF(AZ194<>\"\",\" -O\",\"\")","v":""},null,{"$f":"IF(BB194<>\"\",\" -O\",\"\")","v":""},null,{"$f":"IF(BD194<>\"\",\" -O\",\"\")","v":""},null,{"$f":"IF(BF194<>\"\",\" -O\",\"\")","v":""},null,{"$f":"IF(BH194<>\"\",\" -O\",\"\")","v":""},null,{"$f":"IF(BJ194<>\"\",\" -O\",\"\")","v":""}]
[null,null,null,null,null,null,null,null,null,null,null,null,1.93,{"$f":"IFERROR(VLOOKUP(M194,'CRUCE OPORTUNIDADES'!$C$12:$D$111,2,FALSE),\"\")","v":""},2.9300000000000201,{"$f":"IFERROR(VLOOKUP(O194,'CRUCE OPORTUNIDADES'!$C$12:$D$111,2,FALSE),\"\")","v":""},3.9300000000000401,{"$f":"IFERROR(VLOOKUP(Q194,'CRUCE OPORTUNIDADES'!$C$12:$D$111,2,FALSE),\"\")","v":""},4.9300000000000601,{"$f":"IFERROR(VLOOKUP(S194,'CRUCE OPORTUNIDADES'!$C$12:$D$111,2,FALSE),\"\")","v":""},5.9300000000000797,{"$f":"IFERROR(VLOOKUP(U194,'CRUCE OPORTUNIDADES'!$C$12:$D$111,2,FALSE),\"\")","v":""},6.9300000000001001,{"$f":"IFERROR(VLOOKUP(W194,'CRUCE OPORTUNIDADES'!$C$12:$D$111,2,FALSE),\"\")","v":""},7.9300000000001196,{"$f":"IFERROR(VLOOKUP(Y194,'CRUCE OPORTUNIDADES'!$C$12:$D$111,2,FALSE),\"\")","v":""},8.93000000000014,{"$f":"IFERROR(VLOOKUP(AA194,'CRUCE OPORTUNIDADES'!$C$12:$D$111,2,FALSE),\"\")","v":""},9.9300000000001596,{"$f":"IFERROR(VLOOKUP(AC194,'CRUCE OPORTUNIDADES'!$C$12:$D$111,2,FALSE),\"\")","v":""},10.9300000000002,{"$f":"IFERROR(VLOOKUP(AE194,'CRUCE OPORTUNIDADES'!$C$12:$D$111,2,FALSE),\"\")","v":""},11.9300000000002,{"$f":"IFERROR(VLOOKUP(AG194,'CRUCE OPORTUNIDADES'!$C$12:$D$111,2,FALSE),\"\")","v":""},12.9300000000002,{"$f":"IFERROR(VLOOKUP(AI194,'CRUCE OPORTUNIDADES'!$C$12:$D$111,2,FALSE),\"\")","v":""},13.9300000000002,{"$f":"IFERROR(VLOOKUP(AK194,'CRUCE OPORTUNIDADES'!$C$12:$D$111,2,FALSE),\"\")","v":""},14.9300000000003,{"$f":"IFERROR(VLOOKUP(AM194,'CRUCE OPORTUNIDADES'!$C$12:$D$111,2,FALSE),\"\")","v":""},15.9300000000003,{"$f":"IFERROR(VLOOKUP(AO194,'CRUCE OPORTUNIDADES'!$C$12:$D$111,2,FALSE),\"\")","v":""},16.930000000000302,{"$f":"IFERROR(VLOOKUP(AQ194,'CRUCE OPORTUNIDADES'!$C$12:$D$111,2,FALSE),\"\")","v":""},17.930000000000302,{"$f":"IFERROR(VLOOKUP(AS194,'CRUCE OPORTUNIDADES'!$C$12:$D$111,2,FALSE),\"\")","v":""},18.930000000000302,{"$f":"IFERROR(VLOOKUP(AU194,'CRUCE OPORTUNIDADES'!$C$12:$D$111,2,FALSE),\"\")","v":""},19.930000000000401,{"$f":"IFERROR(VLOOKUP(AW194,'CRUCE OPORTUNIDADES'!$C$12:$D$111,2,FALSE),\"\")","v":""},20.930000000000401,{"$f":"IFERROR(VLOOKUP(AY194,'CRUCE OPORTUNIDADES'!$C$12:$D$111,2,FALSE),\"\")","v":""},21.930000000000401,{"$f":"IFERROR(VLOOKUP(BA194,'CRUCE OPORTUNIDADES'!$C$12:$D$111,2,FALSE),\"\")","v":""},22.930000000000401,{"$f":"IFERROR(VLOOKUP(BC194,'CRUCE OPORTUNIDADES'!$C$12:$D$111,2,FALSE),\"\")","v":""},23.930000000000401,{"$f":"IFERROR(VLOOKUP(BE194,'CRUCE OPORTUNIDADES'!$C$12:$D$111,2,FALSE),\"\")","v":""},24.930000000000501,{"$f":"IFERROR(VLOOKUP(BG194,'CRUCE OPORTUNIDADES'!$C$12:$D$111,2,FALSE),\"\")","v":""},25.930000000000501,{"$f":"IFERROR(VLOOKUP(BI194,'CRUCE OPORTUNIDADES'!$C$12:$D$111,2,FALSE),\"\")","v":""}]
[null,null,null,null,null,null,null,null,null,null,null,null,null,{"$f":"IF(N196<>\"\",\" -O\",\"\")","v":""},null,{"$f":"IF(P196<>\"\",\" -O\",\"\")","v":""},null,{"$f":"IF(R196<>\"\",\" -O\",\"\")","v":""},null,{"$f":"IF(T196<>\"\",\" -O\",\"\")","v":""},null,{"$f":"IF(V196<>\"\",\" -O\",\"\")","v":""},null,{"$f":"IF(X196<>\"\",\" -O\",\"\")","v":""},null,{"$f":"IF(Z196<>\"\",\" -O\",\"\")","v":""},null,{"$f":"IF(AB196<>\"\",\" -O\",\"\")","v":""},null,{"$f":"IF(AD196<>\"\",\" -O\",\"\")","v":""},null,{"$f":"IF(AF196<>\"\",\" -O\",\"\")","v":""},null,{"$f":"IF(AH196<>\"\",\" -O\",\"\")","v":""},null,{"$f":"IF(AJ196<>\"\",\" -O\",\"\")","v":""},null,{"$f":"IF(AL196<>\"\",\" -O\",\"\")","v":""},null,{"$f":"IF(AN196<>\"\",\" -O\",\"\")","v":""},null,{"$f":"IF(AP196<>\"\",\" -O\",\"\")","v":""},null,{"$f":"IF(AR196<>\"\",\" -O\",\"\")","v":""},null,{"$f":"IF(AT196<>\"\",\" -O\",\"\")","v":""},null,{"$f":"IF(AV196<>\"\",\" -O\",\"\")","v":""},null,{"$f":"IF(AX196<>\"\",\" -O\",\"\")","v":""},null,{"$f":"IF(AZ196<>\"\",\" -O\",\"\")","v":""},null,{"$f":"IF(BB196<>\"\",\" -O\",\"\")","v":""},null,{"$f":"IF(BD196<>\"\",\" -O\",\"\")","v":""},null,{"$f":"IF(BF196<>\"\",\" -O\",\"\")","v":""},null,{"$f":"IF(BH196<>\"\",\" -O\",\"\")","v":""},null,{"$f":"IF(BJ196<>\"\",\" -O\",\"\")","v":""}]
[null,null,null,null,null,null,null,null,null,null,null,null,1.94,{"$f":"IFERROR(VLOOKUP(M196,'CRUCE OPORTUNIDADES'!$C$12:$D$111,2,FALSE),\"\")","v":""},2.9400000000000199,{"$f":"IFERROR(VLOOKUP(O196,'CRUCE OPORTUNIDADES'!$C$12:$D$111,2,FALSE),\"\")","v":""},3.9400000000000399,{"$f":"IFERROR(VLOOKUP(Q196,'CRUCE OPORTUNIDADES'!$C$12:$D$111,2,FALSE),\"\")","v":""},4.9400000000000599,{"$f":"IFERROR(VLOOKUP(S196,'CRUCE OPORTUNIDADES'!$C$12:$D$111,2,FALSE),\"\")","v":""},5.9400000000000803,{"$f":"IFERROR(VLOOKUP(U196,'CRUCE OPORTUNIDADES'!$C$12:$D$111,2,FALSE),\"\")","v":""},6.9400000000000999,{"$f":"IFERROR(VLOOKUP(W196,'CRUCE OPORTUNIDADES'!$C$12:$D$111,2,FALSE),\"\")","v":""},7.9400000000001203,{"$f":"IFERROR(VLOOKUP(Y196,'CRUCE OPORTUNIDADES'!$C$12:$D$111,2,FALSE),\"\")","v":""},8.9400000000001398,{"$f":"IFERROR(VLOOKUP(AA196,'CRUCE OPORTUNIDADES'!$C$12:$D$111,2,FALSE),\"\")","v":""},9.9400000000001594,{"$f":"IFERROR(VLOOKUP(AC196,'CRUCE OPORTUNIDADES'!$C$12:$D$111,2,FALSE),\"\")","v":""},10.9400000000002,{"$f":"IFERROR(VLOOKUP(AE196,'CRUCE OPORTUNIDADES'!$C$12:$D$111,2,FALSE),\"\")","v":""},11.9400000000002,{"$f":"IFERROR(VLOOKUP(AG196,'CRUCE OPORTUNIDADES'!$C$12:$D$111,2,FALSE),\"\")","v":""},12.9400000000002,{"$f":"IFERROR(VLOOKUP(AI196,'CRUCE OPORTUNIDADES'!$C$12:$D$111,2,FALSE),\"\")","v":""},13.9400000000002,{"$f":"IFERROR(VLOOKUP(AK196,'CRUCE OPORTUNIDADES'!$C$12:$D$111,2,FALSE),\"\")","v":""},14.9400000000003,{"$f":"IFERROR(VLOOKUP(AM196,'CRUCE OPORTUNIDADES'!$C$12:$D$111,2,FALSE),\"\")","v":""},15.9400000000003,{"$f":"IFERROR(VLOOKUP(AO196,'CRUCE OPORTUNIDADES'!$C$12:$D$111,2,FALSE),\"\")","v":""},16.9400000000003,{"$f":"IFERROR(VLOOKUP(AQ196,'CRUCE OPORTUNIDADES'!$C$12:$D$111,2,FALSE),\"\")","v":""},17.9400000000003,{"$f":"IFERROR(VLOOKUP(AS196,'CRUCE OPORTUNIDADES'!$C$12:$D$111,2,FALSE),\"\")","v":""},18.9400000000003,{"$f":"IFERROR(VLOOKUP(AU196,'CRUCE OPORTUNIDADES'!$C$12:$D$111,2,FALSE),\"\")","v":""},19.940000000000399,{"$f":"IFERROR(VLOOKUP(AW196,'CRUCE OPORTUNIDADES'!$C$12:$D$111,2,FALSE),\"\")","v":""},20.940000000000399,{"$f":"IFERROR(VLOOKUP(AY196,'CRUCE OPORTUNIDADES'!$C$12:$D$111,2,FALSE),\"\")","v":""},21.940000000000399,{"$f":"IFERROR(VLOOKUP(BA196,'CRUCE OPORTUNIDADES'!$C$12:$D$111,2,FALSE),\"\")","v":""},22.940000000000399,{"$f":"IFERROR(VLOOKUP(BC196,'CRUCE OPORTUNIDADES'!$C$12:$D$111,2,FALSE),\"\")","v":""},23.940000000000399,{"$f":"IFERROR(VLOOKUP(BE196,'CRUCE OPORTUNIDADES'!$C$12:$D$111,2,FALSE),\"\")","v":""},24.940000000000499,{"$f":"IFERROR(VLOOKUP(BG196,'CRUCE OPORTUNIDADES'!$C$12:$D$111,2,FALSE),\"\")","v":""},25.940000000000499,{"$f":"IFERROR(VLOOKUP(BI196,'CRUCE OPORTUNIDADES'!$C$12:$D$111,2,FALSE),\"\")","v":""}]
[null,null,null,null,null,null,null,null,null,null,null,null,null,{"$f":"IF(N198<>\"\",\" -O\",\"\")","v":""},null,{"$f":"IF(P198<>\"\",\" -O\",\"\")","v":""},null,{"$f":"IF(R198<>\"\",\" -O\",\"\")","v":""},null,{"$f":"IF(T198<>\"\",\" -O\",\"\")","v":""},null,{"$f":"IF(V198<>\"\",\" -O\",\"\")","v":""},null,{"$f":"IF(X198<>\"\",\" -O\",\"\")","v":""},null,{"$f":"IF(Z198<>\"\",\" -O\",\"\")","v":""},null,{"$f":"IF(AB198<>\"\",\" -O\",\"\")","v":""},null,{"$f":"IF(AD198<>\"\",\" -O\",\"\")","v":""},null,{"$f":"IF(AF198<>\"\",\" -O\",\"\")","v":""},null,{"$f":"IF(AH198<>\"\",\" -O\",\"\")","v":""},null,{"$f":"IF(AJ198<>\"\",\" -O\",\"\")","v":""},null,{"$f":"IF(AL198<>\"\",\" -O\",\"\")","v":""},null,{"$f":"IF(AN198<>\"\",\" -O\",\"\")","v":""},null,{"$f":"IF(AP198<>\"\",\" -O\",\"\")","v":""},null,{"$f":"IF(AR198<>\"\",\" -O\",\"\")","v":""},null,{"$f":"IF(AT198<>\"\",\" -O\",\"\")","v":""},null,{"$f":"IF(AV198<>\"\",\" -O\",\"\")","v":""},null,{"$f":"IF(AX198<>\"\",\" -O\",\"\")","v":""},null,{"$f":"IF(AZ198<>\"\",\" -O\",\"\")","v":""},null,{"$f":"IF(BB198<>\"\",\" -O\",\"\")","v":""},null,{"$f":"IF(BD198<>\"\",\" -O\",\"\")","v":""},null,{"$f":"IF(BF198<>\"\",\" -O\",\"\")","v":""},null,{"$f":"IF(BH198<>\"\",\" -O\",\"\")","v":""},null,{"$f":"IF(BJ198<>\"\",\" -O\",\"\")","v":""}]
[null,null,null,null,null,null,null,null,null,null,null,null,1.95,{"$f":"IFERROR(VLOOKUP(M198,'CRUCE OPORTUNIDADES'!$C$12:$D$111,2,FALSE),\"\")","v":""},2.9500000000000202,{"$f":"IFERROR(VLOOKUP(O198,'CRUCE OPORTUNIDADES'!$C$12:$D$111,2,FALSE),\"\")","v":""},3.9500000000000401,{"$f":"IFERROR(VLOOKUP(Q198,'CRUCE OPORTUNIDADES'!$C$12:$D$111,2,FALSE),\"\")","v":""},4.9500000000000597,{"$f":"IFERROR(VLOOKUP(S198,'CRUCE OPORTUNIDADES'!$C$12:$D$111,2,FALSE),\"\")","v":""},5.9500000000000801,{"$f":"IFERROR(VLOOKUP(U198,'CRUCE OPORTUNIDADES'!$C$12:$D$111,2,FALSE),\"\")","v":""},6.9500000000000997,{"$f":"IFERROR(VLOOKUP(W198,'CRUCE OPORTUNIDADES'!$C$12:$D$111,2,FALSE),\"\")","v":""},7.9500000000001201,{"$f":"IFERROR(VLOOKUP(Y198,'CRUCE OPORTUNIDADES'!$C$12:$D$111,2,FALSE),\"\")","v":""},8.9500000000001396,{"$f":"IFERROR(VLOOKUP(AA198,'CRUCE OPORTUNIDADES'!$C$12:$D$111,2,FALSE),\"\")","v":""},9.9500000000001592,{"$f":"IFERROR(VLOOKUP(AC198,'CRUCE OPORTUNIDADES'!$C$12:$D$111,2,FALSE),\"\")","v":""},10.9500000000002,{"$f":"IFERROR(VLOOKUP(AE198,'CRUCE OPORTUNIDADES'!$C$12:$D$111,2,FALSE),\"\")","v":""},11.9500000000002,{"$f":"IFERROR(VLOOKUP(AG198,'CRUCE OPORTUNIDADES'!$C$12:$D$111,2,FALSE),\"\")","v":""},12.9500000000002,{"$f":"IFERROR(VLOOKUP(AI198,'CRUCE OPORTUNIDADES'!$C$12:$D$111,2,FALSE),\"\")","v":""},13.9500000000002,{"$f":"IFERROR(VLOOKUP(AK198,'CRUCE OPORTUNIDADES'!$C$12:$D$111,2,FALSE),\"\")","v":""},14.950000000000299,{"$f":"IFERROR(VLOOKUP(AM198,'CRUCE OPORTUNIDADES'!$C$12:$D$111,2,FALSE),\"\")","v":""},15.950000000000299,{"$f":"IFERROR(VLOOKUP(AO198,'CRUCE OPORTUNIDADES'!$C$12:$D$111,2,FALSE),\"\")","v":""},16.950000000000301,{"$f":"IFERROR(VLOOKUP(AQ198,'CRUCE OPORTUNIDADES'!$C$12:$D$111,2,FALSE),\"\")","v":""},17.950000000000301,{"$f":"IFERROR(VLOOKUP(AS198,'CRUCE OPORTUNIDADES'!$C$12:$D$111,2,FALSE),\"\")","v":""},18.950000000000301,{"$f":"IFERROR(VLOOKUP(AU198,'CRUCE OPORTUNIDADES'!$C$12:$D$111,2,FALSE),\"\")","v":""},19.950000000000401,{"$f":"IFERROR(VLOOKUP(AW198,'CRUCE OPORTUNIDADES'!$C$12:$D$111,2,FALSE),\"\")","v":""},20.950000000000401,{"$f":"IFERROR(VLOOKUP(AY198,'CRUCE OPORTUNIDADES'!$C$12:$D$111,2,FALSE),\"\")","v":""},21.950000000000401,{"$f":"IFERROR(VLOOKUP(BA198,'CRUCE OPORTUNIDADES'!$C$12:$D$111,2,FALSE),\"\")","v":""},22.950000000000401,{"$f":"IFERROR(VLOOKUP(BC198,'CRUCE OPORTUNIDADES'!$C$12:$D$111,2,FALSE),\"\")","v":""},23.950000000000401,{"$f":"IFERROR(VLOOKUP(BE198,'CRUCE OPORTUNIDADES'!$C$12:$D$111,2,FALSE),\"\")","v":""},24.9500000000005,{"$f":"IFERROR(VLOOKUP(BG198,'CRUCE OPORTUNIDADES'!$C$12:$D$111,2,FALSE),\"\")","v":""},25.9500000000005,{"$f":"IFERROR(VLOOKUP(BI198,'CRUCE OPORTUNIDADES'!$C$12:$D$111,2,FALSE),\"\")","v":""}]
[null,null,null,null,null,null,null,null,null,null,null,null,null,{"$f":"IF(N200<>\"\",\" -O\",\"\")","v":""},null,{"$f":"IF(P200<>\"\",\" -O\",\"\")","v":""},null,{"$f":"IF(R200<>\"\",\" -O\",\"\")","v":""},null,{"$f":"IF(T200<>\"\",\" -O\",\"\")","v":""},null,{"$f":"IF(V200<>\"\",\" -O\",\"\")","v":""},null,{"$f":"IF(X200<>\"\",\" -O\",\"\")","v":""},null,{"$f":"IF(Z200<>\"\",\" -O\",\"\")","v":""},null,{"$f":"IF(AB200<>\"\",\" -O\",\"\")","v":""},null,{"$f":"IF(AD200<>\"\",\" -O\",\"\")","v":""},null,{"$f":"IF(AF200<>\"\",\" -O\",\"\")","v":""},null,{"$f":"IF(AH200<>\"\",\" -O\",\"\")","v":""},null,{"$f":"IF(AJ200<>\"\",\" -O\",\"\")","v":""},null,{"$f":"IF(AL200<>\"\",\" -O\",\"\")","v":""},null,{"$f":"IF(AN200<>\"\",\" -O\",\"\")","v":""},null,{"$f":"IF(AP200<>\"\",\" -O\",\"\")","v":""},null,{"$f":"IF(AR200<>\"\",\" -O\",\"\")","v":""},null,{"$f":"IF(AT200<>\"\",\" -O\",\"\")","v":""},null,{"$f":"IF(AV200<>\"\",\" -O\",\"\")","v":""},null,{"$f":"IF(AX200<>\"\",\" -O\",\"\")","v":""},null,{"$f":"IF(AZ200<>\"\",\" -O\",\"\")","v":""},null,{"$f":"IF(BB200<>\"\",\" -O\",\"\")","v":""},null,{"$f":"IF(BD200<>\"\",\" -O\",\"\")","v":""},null,{"$f":"IF(BF200<>\"\",\" -O\",\"\")","v":""},null,{"$f":"IF(BH200<>\"\",\" -O\",\"\")","v":""},null,{"$f":"IF(BJ200<>\"\",\" -O\",\"\")","v":""}]
[null,null,null,null,null,null,null,null,null,null,null,null,1.96,{"$f":"IFERROR(VLOOKUP(M200,'CRUCE OPORTUNIDADES'!$C$12:$D$111,2,FALSE),\"\")","v":""},2.9600000000000199,{"$f":"IFERROR(VLOOKUP(O200,'CRUCE OPORTUNIDADES'!$C$12:$D$111,2,FALSE),\"\")","v":""},3.9600000000000399,{"$f":"IFERROR(VLOOKUP(Q200,'CRUCE OPORTUNIDADES'!$C$12:$D$111,2,FALSE),\"\")","v":""},4.9600000000000604,{"$f":"IFERROR(VLOOKUP(S200,'CRUCE OPORTUNIDADES'!$C$12:$D$111,2,FALSE),\"\")","v":""},5.9600000000000799,{"$f":"IFERROR(VLOOKUP(U200,'CRUCE OPORTUNIDADES'!$C$12:$D$111,2,FALSE),\"\")","v":""},6.9600000000001003,{"$f":"IFERROR(VLOOKUP(W200,'CRUCE OPORTUNIDADES'!$C$12:$D$111,2,FALSE),\"\")","v":""},7.9600000000001199,{"$f":"IFERROR(VLOOKUP(Y200,'CRUCE OPORTUNIDADES'!$C$12:$D$111,2,FALSE),\"\")","v":""},8.9600000000001394,{"$f":"IFERROR(VLOOKUP(AA200,'CRUCE OPORTUNIDADES'!$C$12:$D$111,2,FALSE),\"\")","v":""},9.9600000000001607,{"$f":"IFERROR(VLOOKUP(AC200,'CRUCE OPORTUNIDADES'!$C$12:$D$111,2,FALSE),\"\")","v":""},10.9600000000002,{"$f":"IFERROR(VLOOKUP(AE200,'CRUCE OPORTUNIDADES'!$C$12:$D$111,2,FALSE),\"\")","v":""},11.9600000000002,{"$f":"IFERROR(VLOOKUP(AG200,'CRUCE OPORTUNIDADES'!$C$12:$D$111,2,FALSE),\"\")","v":""},12.9600000000002,{"$f":"IFERROR(VLOOKUP(AI200,'CRUCE OPORTUNIDADES'!$C$12:$D$111,2,FALSE),\"\")","v":""},13.9600000000002,{"$f":"IFERROR(VLOOKUP(AK200,'CRUCE OPORTUNIDADES'!$C$12:$D$111,2,FALSE),\"\")","v":""},14.960000000000299,{"$f":"IFERROR(VLOOKUP(AM200,'CRUCE OPORTUNIDADES'!$C$12:$D$111,2,FALSE),\"\")","v":""},15.960000000000299,{"$f":"IFERROR(VLOOKUP(AO200,'CRUCE OPORTUNIDADES'!$C$12:$D$111,2,FALSE),\"\")","v":""},16.960000000000299,{"$f":"IFERROR(VLOOKUP(AQ200,'CRUCE OPORTUNIDADES'!$C$12:$D$111,2,FALSE),\"\")","v":""},17.960000000000299,{"$f":"IFERROR(VLOOKUP(AS200,'CRUCE OPORTUNIDADES'!$C$12:$D$111,2,FALSE),\"\")","v":""},18.960000000000299,{"$f":"IFERROR(VLOOKUP(AU200,'CRUCE OPORTUNIDADES'!$C$12:$D$111,2,FALSE),\"\")","v":""},19.960000000000399,{"$f":"IFERROR(VLOOKUP(AW200,'CRUCE OPORTUNIDADES'!$C$12:$D$111,2,FALSE),\"\")","v":""},20.960000000000399,{"$f":"IFERROR(VLOOKUP(AY200,'CRUCE OPORTUNIDADES'!$C$12:$D$111,2,FALSE),\"\")","v":""},21.960000000000399,{"$f":"IFERROR(VLOOKUP(BA200,'CRUCE OPORTUNIDADES'!$C$12:$D$111,2,FALSE),\"\")","v":""},22.960000000000399,{"$f":"IFERROR(VLOOKUP(BC200,'CRUCE OPORTUNIDADES'!$C$12:$D$111,2,FALSE),\"\")","v":""},23.960000000000399,{"$f":"IFERROR(VLOOKUP(BE200,'CRUCE OPORTUNIDADES'!$C$12:$D$111,2,FALSE),\"\")","v":""},24.960000000000498,{"$f":"IFERROR(VLOOKUP(BG200,'CRUCE OPORTUNIDADES'!$C$12:$D$111,2,FALSE),\"\")","v":""},25.960000000000498,{"$f":"IFERROR(VLOOKUP(BI200,'CRUCE OPORTUNIDADES'!$C$12:$D$111,2,FALSE),\"\")","v":""}]
[null,null,null,null,null,null,null,null,null,null,null,null,null,{"$f":"IF(N202<>\"\",\" -O\",\"\")","v":""},null,{"$f":"IF(P202<>\"\",\" -O\",\"\")","v":""},null,{"$f":"IF(R202<>\"\",\" -O\",\"\")","v":""},null,{"$f":"IF(T202<>\"\",\" -O\",\"\")","v":""},null,{"$f":"IF(V202<>\"\",\" -O\",\"\")","v":""},null,{"$f":"IF(X202<>\"\",\" -O\",\"\")","v":""},null,{"$f":"IF(Z202<>\"\",\" -O\",\"\")","v":""},null,{"$f":"IF(AB202<>\"\",\" -O\",\"\")","v":""},null,{"$f":"IF(AD202<>\"\",\" -O\",\"\")","v":""},null,{"$f":"IF(AF202<>\"\",\" -O\",\"\")","v":""},null,{"$f":"IF(AH202<>\"\",\" -O\",\"\")","v":""},null,{"$f":"IF(AJ202<>\"\",\" -O\",\"\")","v":""},null,{"$f":"IF(AL202<>\"\",\" -O\",\"\")","v":""},null,{"$f":"IF(AN202<>\"\",\" -O\",\"\")","v":""},null,{"$f":"IF(AP202<>\"\",\" -O\",\"\")","v":""},null,{"$f":"IF(AR202<>\"\",\" -O\",\"\")","v":""},null,{"$f":"IF(AT202<>\"\",\" -O\",\"\")","v":""},null,{"$f":"IF(AV202<>\"\",\" -O\",\"\")","v":""},null,{"$f":"IF(AX202<>\"\",\" -O\",\"\")","v":""},null,{"$f":"IF(AZ202<>\"\",\" -O\",\"\")","v":""},null,{"$f":"IF(BB202<>\"\",\" -O\",\"\")","v":""},null,{"$f":"IF(BD202<>\"\",\" -O\",\"\")","v":""},null,{"$f":"IF(BF202<>\"\",\" -O\",\"\")","v":""},null,{"$f":"IF(BH202<>\"\",\" -O\",\"\")","v":""},null,{"$f":"IF(BJ202<>\"\",\" -O\",\"\")","v":""}]
[null,null,null,null,null,null,null,null,null,null,null,null,1.97,{"$f":"IFERROR(VLOOKUP(M202,'CRUCE OPORTUNIDADES'!$C$12:$D$111,2,FALSE),\"\")","v":""},2.9700000000000202,{"$f":"IFERROR(VLOOKUP(O202,'CRUCE OPORTUNIDADES'!$C$12:$D$111,2,FALSE),\"\")","v":""},3.9700000000000402,{"$f":"IFERROR(VLOOKUP(Q202,'CRUCE OPORTUNIDADES'!$C$12:$D$111,2,FALSE),\"\")","v":""},4.9700000000000601,{"$f":"IFERROR(VLOOKUP(S202,'CRUCE OPORTUNIDADES'!$C$12:$D$111,2,FALSE),\"\")","v":""},5.9700000000000797,{"$f":"IFERROR(VLOOKUP(U202,'CRUCE OPORTUNIDADES'!$C$12:$D$111,2,FALSE),\"\")","v":""},6.9700000000001001,{"$f":"IFERROR(VLOOKUP(W202,'CRUCE OPORTUNIDADES'!$C$12:$D$111,2,FALSE),\"\")","v":""},7.9700000000001197,{"$f":"IFERROR(VLOOKUP(Y202,'CRUCE OPORTUNIDADES'!$C$12:$D$111,2,FALSE),\"\")","v":""},8.9700000000001392,{"$f":"IFERROR(VLOOKUP(AA202,'CRUCE OPORTUNIDADES'!$C$12:$D$111,2,FALSE),\"\")","v":""},9.9700000000001605,{"$f":"IFERROR(VLOOKUP(AC202,'CRUCE OPORTUNIDADES'!$C$12:$D$111,2,FALSE),\"\")","v":""},10.9700000000002,{"$f":"IFERROR(VLOOKUP(AE202,'CRUCE OPORTUNIDADES'!$C$12:$D$111,2,FALSE),\"\")","v":""},11.9700000000002,{"$f":"IFERROR(VLOOKUP(AG202,'CRUCE OPORTUNIDADES'!$C$12:$D$111,2,FALSE),\"\")","v":""},12.9700000000002,{"$f":"IFERROR(VLOOKUP(AI202,'CRUCE OPORTUNIDADES'!$C$12:$D$111,2,FALSE),\"\")","v":""},13.9700000000002,{"$f":"IFERROR(VLOOKUP(AK202,'CRUCE OPORTUNIDADES'!$C$12:$D$111,2,FALSE),\"\")","v":""},14.970000000000301,{"$f":"IFERROR(VLOOKUP(AM202,'CRUCE OPORTUNIDADES'!$C$12:$D$111,2,FALSE),\"\")","v":""},15.970000000000301,{"$f":"IFERROR(VLOOKUP(AO202,'CRUCE OPORTUNIDADES'!$C$12:$D$111,2,FALSE),\"\")","v":""},16.970000000000301,{"$f":"IFERROR(VLOOKUP(AQ202,'CRUCE OPORTUNIDADES'!$C$12:$D$111,2,FALSE),\"\")","v":""},17.970000000000301,{"$f":"IFERROR(VLOOKUP(AS202,'CRUCE OPORTUNIDADES'!$C$12:$D$111,2,FALSE),\"\")","v":""},18.970000000000301,{"$f":"IFERROR(VLOOKUP(AU202,'CRUCE OPORTUNIDADES'!$C$12:$D$111,2,FALSE),\"\")","v":""},19.9700000000004,{"$f":"IFERROR(VLOOKUP(AW202,'CRUCE OPORTUNIDADES'!$C$12:$D$111,2,FALSE),\"\")","v":""},20.9700000000004,{"$f":"IFERROR(VLOOKUP(AY202,'CRUCE OPORTUNIDADES'!$C$12:$D$111,2,FALSE),\"\")","v":""},21.9700000000004,{"$f":"IFERROR(VLOOKUP(BA202,'CRUCE OPORTUNIDADES'!$C$12:$D$111,2,FALSE),\"\")","v":""},22.9700000000004,{"$f":"IFERROR(VLOOKUP(BC202,'CRUCE OPORTUNIDADES'!$C$12:$D$111,2,FALSE),\"\")","v":""},23.9700000000004,{"$f":"IFERROR(VLOOKUP(BE202,'CRUCE OPORTUNIDADES'!$C$12:$D$111,2,FALSE),\"\")","v":""},24.9700000000005,{"$f":"IFERROR(VLOOKUP(BG202,'CRUCE OPORTUNIDADES'!$C$12:$D$111,2,FALSE),\"\")","v":""},25.9700000000005,{"$f":"IFERROR(VLOOKUP(BI202,'CRUCE OPORTUNIDADES'!$C$12:$D$111,2,FALSE),\"\")","v":""}]
[null,null,null,null,null,null,null,null,null,null,null,null,null,{"$f":"IF(N204<>\"\",\" -O\",\"\")","v":""},null,{"$f":"IF(P204<>\"\",\" -O\",\"\")","v":""},null,{"$f":"IF(R204<>\"\",\" -O\",\"\")","v":""},null,{"$f":"IF(T204<>\"\",\" -O\",\"\")","v":""},null,{"$f":"IF(V204<>\"\",\" -O\",\"\")","v":""},null,{"$f":"IF(X204<>\"\",\" -O\",\"\")","v":""},null,{"$f":"IF(Z204<>\"\",\" -O\",\"\")","v":""},null,{"$f":"IF(AB204<>\"\",\" -O\",\"\")","v":""},null,{"$f":"IF(AD204<>\"\",\" -O\",\"\")","v":""},null,{"$f":"IF(AF204<>\"\",\" -O\",\"\")","v":""},null,{"$f":"IF(AH204<>\"\",\" -O\",\"\")","v":""},null,{"$f":"IF(AJ204<>\"\",\" -O\",\"\")","v":""},null,{"$f":"IF(AL204<>\"\",\" -O\",\"\")","v":""},null,{"$f":"IF(AN204<>\"\",\" -O\",\"\")","v":""},null,{"$f":"IF(AP204<>\"\",\" -O\",\"\")","v":""},null,{"$f":"IF(AR204<>\"\",\" -O\",\"\")","v":""},null,{"$f":"IF(AT204<>\"\",\" -O\",\"\")","v":""},null,{"$f":"IF(AV204<>\"\",\" -O\",\"\")","v":""},null,{"$f":"IF(AX204<>\"\",\" -O\",\"\")","v":""},null,{"$f":"IF(AZ204<>\"\",\" -O\",\"\")","v":""},null,{"$f":"IF(BB204<>\"\",\" -O\",\"\")","v":""},null,{"$f":"IF(BD204<>\"\",\" -O\",\"\")","v":""},null,{"$f":"IF(BF204<>\"\",\" -O\",\"\")","v":""},null,{"$f":"IF(BH204<>\"\",\" -O\",\"\")","v":""},null,{"$f":"IF(BJ204<>\"\",\" -O\",\"\")","v":""}]
[null,null,null,null,null,null,null,null,null,null,null,null,1.98,{"$f":"IFERROR(VLOOKUP(M204,'CRUCE OPORTUNIDADES'!$C$12:$D$111,2,FALSE),\"\")","v":""},2.98000000000002,{"$f":"IFERROR(VLOOKUP(O204,'CRUCE OPORTUNIDADES'!$C$12:$D$111,2,FALSE),\"\")","v":""},3.98000000000004,{"$f":"IFERROR(VLOOKUP(Q204,'CRUCE OPORTUNIDADES'!$C$12:$D$111,2,FALSE),\"\")","v":""},4.9800000000000599,{"$f":"IFERROR(VLOOKUP(S204,'CRUCE OPORTUNIDADES'!$C$12:$D$111,2,FALSE),\"\")","v":""},5.9800000000000804,{"$f":"IFERROR(VLOOKUP(U204,'CRUCE OPORTUNIDADES'!$C$12:$D$111,2,FALSE),\"\")","v":""},6.9800000000000999,{"$f":"IFERROR(VLOOKUP(W204,'CRUCE OPORTUNIDADES'!$C$12:$D$111,2,FALSE),\"\")","v":""},7.9800000000001203,{"$f":"IFERROR(VLOOKUP(Y204,'CRUCE OPORTUNIDADES'!$C$12:$D$111,2,FALSE),\"\")","v":""},8.9800000000001408,{"$f":"IFERROR(VLOOKUP(AA204,'CRUCE OPORTUNIDADES'!$C$12:$D$111,2,FALSE),\"\")","v":""},9.9800000000001603,{"$f":"IFERROR(VLOOKUP(AC204,'CRUCE OPORTUNIDADES'!$C$12:$D$111,2,FALSE),\"\")","v":""},10.980000000000199,{"$f":"IFERROR(VLOOKUP(AE204,'CRUCE OPORTUNIDADES'!$C$12:$D$111,2,FALSE),\"\")","v":""},11.980000000000199,{"$f":"IFERROR(VLOOKUP(AG204,'CRUCE OPORTUNIDADES'!$C$12:$D$111,2,FALSE),\"\")","v":""},12.980000000000199,{"$f":"IFERROR(VLOOKUP(AI204,'CRUCE OPORTUNIDADES'!$C$12:$D$111,2,FALSE),\"\")","v":""},13.980000000000199,{"$f":"IFERROR(VLOOKUP(AK204,'CRUCE OPORTUNIDADES'!$C$12:$D$111,2,FALSE),\"\")","v":""},14.980000000000301,{"$f":"IFERROR(VLOOKUP(AM204,'CRUCE OPORTUNIDADES'!$C$12:$D$111,2,FALSE),\"\")","v":""},15.980000000000301,{"$f":"IFERROR(VLOOKUP(AO204,'CRUCE OPORTUNIDADES'!$C$12:$D$111,2,FALSE),\"\")","v":""},16.980000000000299,{"$f":"IFERROR(VLOOKUP(AQ204,'CRUCE OPORTUNIDADES'!$C$12:$D$111,2,FALSE),\"\")","v":""},17.980000000000299,{"$f":"IFERROR(VLOOKUP(AS204,'CRUCE OPORTUNIDADES'!$C$12:$D$111,2,FALSE),\"\")","v":""},18.980000000000299,{"$f":"IFERROR(VLOOKUP(AU204,'CRUCE OPORTUNIDADES'!$C$12:$D$111,2,FALSE),\"\")","v":""},19.980000000000398,{"$f":"IFERROR(VLOOKUP(AW204,'CRUCE OPORTUNIDADES'!$C$12:$D$111,2,FALSE),\"\")","v":""},20.980000000000398,{"$f":"IFERROR(VLOOKUP(AY204,'CRUCE OPORTUNIDADES'!$C$12:$D$111,2,FALSE),\"\")","v":""},21.980000000000398,{"$f":"IFERROR(VLOOKUP(BA204,'CRUCE OPORTUNIDADES'!$C$12:$D$111,2,FALSE),\"\")","v":""},22.980000000000398,{"$f":"IFERROR(VLOOKUP(BC204,'CRUCE OPORTUNIDADES'!$C$12:$D$111,2,FALSE),\"\")","v":""},23.980000000000398,{"$f":"IFERROR(VLOOKUP(BE204,'CRUCE OPORTUNIDADES'!$C$12:$D$111,2,FALSE),\"\")","v":""},24.980000000000501,{"$f":"IFERROR(VLOOKUP(BG204,'CRUCE OPORTUNIDADES'!$C$12:$D$111,2,FALSE),\"\")","v":""},25.980000000000501,{"$f":"IFERROR(VLOOKUP(BI204,'CRUCE OPORTUNIDADES'!$C$12:$D$111,2,FALSE),\"\")","v":""}]
[null,null,null,null,null,null,null,null,null,null,null,null,null,{"$f":"IF(N206<>\"\",\" -O\",\"\")","v":""},null,{"$f":"IF(P206<>\"\",\" -O\",\"\")","v":""},null,{"$f":"IF(R206<>\"\",\" -O\",\"\")","v":""},null,{"$f":"IF(T206<>\"\",\" -O\",\"\")","v":""},null,{"$f":"IF(V206<>\"\",\" -O\",\"\")","v":""},null,{"$f":"IF(X206<>\"\",\" -O\",\"\")","v":""},null,{"$f":"IF(Z206<>\"\",\" -O\",\"\")","v":""},null,{"$f":"IF(AB206<>\"\",\" -O\",\"\")","v":""},null,{"$f":"IF(AD206<>\"\",\" -O\",\"\")","v":""},null,{"$f":"IF(AF206<>\"\",\" -O\",\"\")","v":""},null,{"$f":"IF(AH206<>\"\",\" -O\",\"\")","v":""},null,{"$f":"IF(AJ206<>\"\",\" -O\",\"\")","v":""},null,{"$f":"IF(AL206<>\"\",\" -O\",\"\")","v":""},null,{"$f":"IF(AN206<>\"\",\" -O\",\"\")","v":""},null,{"$f":"IF(AP206<>\"\",\" -O\",\"\")","v":""},null,{"$f":"IF(AR206<>\"\",\" -O\",\"\")","v":""},null,{"$f":"IF(AT206<>\"\",\" -O\",\"\")","v":""},null,{"$f":"IF(AV206<>\"\",\" -O\",\"\")","v":""},null,{"$f":"IF(AX206<>\"\",\" -O\",\"\")","v":""},null,{"$f":"IF(AZ206<>\"\",\" -O\",\"\")","v":""},null,{"$f":"IF(BB206<>\"\",\" -O\",\"\")","v":""},null,{"$f":"IF(BD206<>\"\",\" -O\",\"\")","v":""},null,{"$f":"IF(BF206<>\"\",\" -O\",\"\")","v":""},null,{"$f":"IF(BH206<>\"\",\" -O\",\"\")","v":""},null,{"$f":"IF(BJ206<>\"\",\" -O\",\"\")","v":""}]
[null,null,null,null,null,null,null,null,null,null,null,null,1.99,{"$f":"IFERROR(VLOOKUP(M206,'CRUCE OPORTUNIDADES'!$C$12:$D$111,2,FALSE),\"\")","v":""},2.9900000000000202,{"$f":"IFERROR(VLOOKUP(O206,'CRUCE OPORTUNIDADES'!$C$12:$D$111,2,FALSE),\"\")","v":""},3.9900000000000402,{"$f":"IFERROR(VLOOKUP(Q206,'CRUCE OPORTUNIDADES'!$C$12:$D$111,2,FALSE),\"\")","v":""},4.9900000000000597,{"$f":"IFERROR(VLOOKUP(S206,'CRUCE OPORTUNIDADES'!$C$12:$D$111,2,FALSE),\"\")","v":""},5.9900000000000801,{"$f":"IFERROR(VLOOKUP(U206,'CRUCE OPORTUNIDADES'!$C$12:$D$111,2,FALSE),\"\")","v":""},6.9900000000000997,{"$f":"IFERROR(VLOOKUP(W206,'CRUCE OPORTUNIDADES'!$C$12:$D$111,2,FALSE),\"\")","v":""},7.9900000000001201,{"$f":"IFERROR(VLOOKUP(Y206,'CRUCE OPORTUNIDADES'!$C$12:$D$111,2,FALSE),\"\")","v":""},8.9900000000001405,{"$f":"IFERROR(VLOOKUP(AA206,'CRUCE OPORTUNIDADES'!$C$12:$D$111,2,FALSE),\"\")","v":""},9.9900000000001601,{"$f":"IFERROR(VLOOKUP(AC206,'CRUCE OPORTUNIDADES'!$C$12:$D$111,2,FALSE),\"\")","v":""},10.990000000000199,{"$f":"IFERROR(VLOOKUP(AE206,'CRUCE OPORTUNIDADES'!$C$12:$D$111,2,FALSE),\"\")","v":""},11.990000000000199,{"$f":"IFERROR(VLOOKUP(AG206,'CRUCE OPORTUNIDADES'!$C$12:$D$111,2,FALSE),\"\")","v":""},12.990000000000199,{"$f":"IFERROR(VLOOKUP(AI206,'CRUCE OPORTUNIDADES'!$C$12:$D$111,2,FALSE),\"\")","v":""},13.990000000000199,{"$f":"IFERROR(VLOOKUP(AK206,'CRUCE OPORTUNIDADES'!$C$12:$D$111,2,FALSE),\"\")","v":""},14.9900000000003,{"$f":"IFERROR(VLOOKUP(AM206,'CRUCE OPORTUNIDADES'!$C$12:$D$111,2,FALSE),\"\")","v":""},15.9900000000003,{"$f":"IFERROR(VLOOKUP(AO206,'CRUCE OPORTUNIDADES'!$C$12:$D$111,2,FALSE),\"\")","v":""},16.9900000000003,{"$f":"IFERROR(VLOOKUP(AQ206,'CRUCE OPORTUNIDADES'!$C$12:$D$111,2,FALSE),\"\")","v":""},17.9900000000003,{"$f":"IFERROR(VLOOKUP(AS206,'CRUCE OPORTUNIDADES'!$C$12:$D$111,2,FALSE),\"\")","v":""},18.9900000000003,{"$f":"IFERROR(VLOOKUP(AU206,'CRUCE OPORTUNIDADES'!$C$12:$D$111,2,FALSE),\"\")","v":""},19.9900000000004,{"$f":"IFERROR(VLOOKUP(AW206,'CRUCE OPORTUNIDADES'!$C$12:$D$111,2,FALSE),\"\")","v":""},20.9900000000004,{"$f":"IFERROR(VLOOKUP(AY206,'CRUCE OPORTUNIDADES'!$C$12:$D$111,2,FALSE),\"\")","v":""},21.9900000000004,{"$f":"IFERROR(VLOOKUP(BA206,'CRUCE OPORTUNIDADES'!$C$12:$D$111,2,FALSE),\"\")","v":""},22.9900000000004,{"$f":"IFERROR(VLOOKUP(BC206,'CRUCE OPORTUNIDADES'!$C$12:$D$111,2,FALSE),\"\")","v":""},23.9900000000004,{"$f":"IFERROR(VLOOKUP(BE206,'CRUCE OPORTUNIDADES'!$C$12:$D$111,2,FALSE),\"\")","v":""},24.990000000000499,{"$f":"IFERROR(VLOOKUP(BG206,'CRUCE OPORTUNIDADES'!$C$12:$D$111,2,FALSE),\"\")","v":""},25.990000000000499,{"$f":"IFERROR(VLOOKUP(BI206,'CRUCE OPORTUNIDADES'!$C$12:$D$111,2,FALSE),\"\")","v":""}]

{"sheet":"ACTUALIZACIONES","index":13,"n_rows":77,"n_cols":5,"rows_kept":77,"cut":false,"hidden":false,"merged":[[73,2,74,2],[73,1,74,1],[73,3,74,3],[73,4,74,4],[1,2,1,3],[2,2,2,3],[3,2,4,3],[1,1,4,1],[13,1,15,1],[13,3,15,3],[13,4,15,4],[16,1,21,1],[16,2,21,2],[16,3,21,3],[16,4,21,4],[65,1,70,1],[65,2,70,2],[65,3,70,3],[65,4,70,4],[22,1,58,1],[22,3,58,3],[22,4,58,4],[59,1,64,1],[59,2,64,2],[59,3,64,3],[59,4,64,4]]}
[]
[null,null,"MACROPROCESO ESTRATÉGICO",null,"CÓDIGO: ESGr028"]
[null,null,"PROCESO GESTIÓN SISTEMAS INTEGRADOS",null,"VERSIÓN: 17"]
[null,null,"GESTIÓN DEL RIESGO Y LAS OPORTUNIDADES",null,"VIGENCIA: 2023-10-12"]
[null,null,null,null,"PÁGINA: 11 de 11"]
[]
[null,"FECHA","DESCRIPCIÓN DE LA ACTUALIZACIÓN","RESPONSABLE","CARGO"]
[null,"2017-08-01","Versión inicial","Juan Manuel Cruz Banoy","Jefe de la  Oficina de Admisiones y Registros"]
[null,"2018-03-13","DEBILIDADES: se elimina la falta de gestión de correspondía para el envió de documentos entre los diferentes sedes y seccionales y extensiones para la oficina de adicione y registros, la falta de publicidad empresa para información y se agregaron: Dependencia de otras áreas para la ejecución de las actividades del proceso, No contar con un Rubro propio, Equipos de Computo con capacidad limitada.\nFORTALEZAS: se elimina la dotación de buenos equipos de computo y se agregan Claridad en el plan de acción del proceso en la vigencia actual y  Distribución de Funciones de acuerdo a las habilidades del personal.\nAMENAZAS: se cambia a Oportunidad, la expedición de la norma de inclusión.\nRIESGOS:  se redefinió el riesgo numero dos.\nCambio de correlación de factores DOFA con los riesgos de acuerdo a la actualización del DOFA.\nSe incluyen criterios de evaluación del riesgo residual.\nInclusión de una oportunidad.","Juan Manuel Cruz Banoy","Jefe de la  Oficina de Admisiones y Registros"]
[null,"2018-07-17","Inclusión de control de cambios al documento.","Carolina Gómez Fontecha","Coordinadora de Calidad"]
[null,"2019-04-30","DEBILIDADES: se elimina: Falta de línea telefónica en la extensión de Soacha y Chía -  Documentación existente en archivo físico que no se encuentra digitalizado o  sistematizado.\nSe agrega: El modelo y los tiempos de contratación de la universidad son dispendiosos -  Falta integración con el equipo de trabajo y partes interesadas -  La estructura orgánica es inapropiada para la ejecución de los planes, lo que hace que los trámites sean mas demorados.\nFORTALEZAS: se agrega: Se cuenta con canales claros de comunicación -  Se cuenta con backups para la seguridad y trazabilidad de la información - Se conoce y se aplica la normatividad al proceso.\nAMENAZAS: se agrega: Inconsistencias en los procesos de selección y contratación - Se carece de apoyo interinstitucional por parte del Gobierno y el Ministerio de Educación Nacional - Los tiempos para el trámite y giros de recursos económicos por parte de entes gubernamentales son demorados y son insuficientes - Grupos sociales que emiten información falsa sobre la universidad - Congestión e interrupción de los procesos y procedimientos \nOPORTUNIDADES\nSe agrega: Ofertar nuevos programas académicos teniendo en cuenta las necesidades del sector. - Articulación y apoyo con otras entidades (publicas y/o privadas). - Adquisición de nuevos equipos tecnológicos. - Certificaciones ambientales. - Crear y fortalecer nuevas alianzas estratégicas con empresas e instituciones de educación superior.\nRIESGOS:  \nSe implementa la nueva metodología del DAFP, y por cada causa del riesgo se implementa un control.\nCambio la correlación de factores DOFA con los riesgos. Se reevaluó la calificación del riesgo número uno, pasando de nivel extremo a nivel alto; de igual forma, el riesgo número dos cambió la clasificación pasando de riesgo de cumplimiento a riesgo operativo; el riesgo número tres cambió su calificación, pasando de moderado a extremo, y la clasificación pasando de riesgo de cumplimiento a riesgo operativo, asimismo; de igual forma.\nSe crea una nueva oportunidad.","Juan Manuel Cruz Banoy","Jefe de la  Oficina de Admisiones y Registros"]
[null,"2019-04-30","Se anexan los riesgos de Seguridad de la Información y riesgos de Corrupción.","Jaime Elder Acosta Ramírez","Coordinador de Calidad"]
[null,"2019-09-20","Se identificó lo siguiente: \nDOFA\nDEBILIDADES\nSe agrega: Cruce de información por fallas en la plataforma institucional\nRIESGOS\nSe reestructuró el nombre del riesgo N° 2, quedando como: Desinformación e incumplimiento  en las actividades del proceso.\nSe redefinieron los controles de los riesgos N° 2 y N°3.","Juan Manuel Cruz Banoy","Jefe de la  Oficina de Admisiones y Registros"]
[null,"2020-03-10","Se eliminan:\nDEBILIDADES\nPersonal insuficiente para las actividades del proceso; Falta de Rubro propio para el proceso; Equipos de Computo con capacidad limitada; Falta integración con el equipo de trabajo y partes interesadas; La estructura orgánica es inapropiada para la ejecución de los planes, lo que hace que los trámites sean mas demorados.\nFORTALEZAS\nEquipo de trabajo calificado y comprometido; Liderazgo centralizado en la Sede Principal; Oportunidad y calidad en la prestación del servicio; Interacción operativa con otras dependencias; Se cuenta con una buena infraestructura Física de la Oficina de Admisiones y Registro; Se cuenta con canales claros de comunicación, pues pasa a debilidad.","Juan Manuel Cruz Banoy","Jefe de la  Oficina de Admisiones y Registros"]
[null,null,"Se agregan:\nDEBILIDADES\nFalta asegurar la gestión del conocimiento en el proceso; No contar con la técnica en materia de inclusión para ofrecer a cabalidad los servicios del proceso de admisiones a los aspirantes y estudiantes vulnerables y en condición de discapacidad; Falta restauración de la infraestructura (ventanilla) de la oficina sede Fusagasugá para facilitar la atención al público;  Falta fortalecer el pilar estratégico de la transhumanidad en el proceso; Falta fortalecer canales de comunicación con las partes interesadas; Centralización de funciones y decisiones del proceso en la sede principal, que genera carga operativa en la misma y falta de compromiso en seccionales y extensiones; Falta realizar la totalidad de capacitaciones y/o inducciones al personal del proceso; Falta mejorar la oportunidad y calidad en la prestación del servicio vía telefónica.\nSe modificaron dos debilidades, quedando así: Dependencia de otras áreas para la ejecución de las actividades del proceso, que generan retrasos; Cruce de información en el proceso en cuanto a los reportes emitidos por los estudiantes.\nFORTALEZAS\nSe comunica a las partes interesadas la actualización documental del proceso; Personal suficiente para cumplir con los objetivos del proceso; Se aplica los procesos de selección a aspirantes vulnerables, se asegura el 1% de ingreso a los aspirantes de los municipios de difícil acceso; Se brinda atención personalizada a la población estudiantil en condiciones de discapacidad o desventaja (aspirantes - estudiantes); Se fortalece el desarrollo de la Translocalidad en el proceso, se participa en ferias universitarias; Se aplican y se cumplen con los procesos de selección: ICFES - evaluación mediante dos momentos: entrevista virtual - entrevista personal; Se participa en las pausas activas para el bienestar de los funcionarios; Se cuenta con pasantes para el apoyo del cumplimiento de objetivos y metas del proceso."]
[null,null,"Se modificaron dos fortalezas, quedando así: Aplicativo informático Academisoft y los desarrollos informáticos que sistematiza la operatividad del proceso; Claridad en el plan de acción del proceso, ya se establecieron metas para la vigencia actual.\nOPORTUNIDADES\nActualización de documentación articulada a política de inclusión para garantizar la accesibilidad a todos los aspirantes (caracterización estudiantil); Oferta en el mercado de mecanismos digitales que permiten identificar la población académica en condiciones de discapacidad y vulnerabilidad; Participación en ferias y actividades de oferta académica; Capacitación al personal del proceso en materia de inclusión.\nAMENAZAS\nDaños a la infraestructura y al personal de la oficina por manifestaciones de la comunidad universitaria y la comunidad en general.\nRIESGOS:\nSe implementaron nuevos controles.\nOPORTUNIDADES:\nSe identificaron dos nuevas oportunidades:\nO3: Determinar y establecer la caracterización de los aspirantes y estudiantes de manera digital - formulario de inscripción.\nO4: Participar en ferias universitarias para promoción y divulgación de los programas y servicios de la UCundinamarca."]
[null,"2020-10-06","Se agrega:                                                                                                                                 DEBILIDAD\nD20Falta de stock de porta diplomas por crecimiento de la demanda de graduados al Riesgo 2 Desinformación e incumplimiento  en las actividades propias del proceso. Y se agrega controles aplicables, periodicidad, objetivo del control, como se ejecuta el control, herramienta y/o fuente de datos, acciones a tomar cuando se presentan desviaciones, entregables y/o evidencias ","Juan Manuel Cruz Banoy","Jefe de la Oficina de Admisiones y Registro"]
[]
[]
[]
[]
[]
[null,"2021-03-05","Se eliminan las siguientes debilidades ","Juan Manuel Cruz Banoy","Jede la Oficina de Admisiones y Registro"]
[null,null," Inestabilidad laboral (en la renovación de los contratos) de algunos funcionarios adscritos a la oficina. \n En las seccionales y extensiones no se cuenta con las condiciones adecuadas para la conservación de los documentos. \n"]
[null,null," No contar con la técnica en materia de inclusión para ofrecer a cabalidad los servicios del proceso de admisiones a los aspirantes y estudiantes vulnerables y en condición de discapacidad"]
[null,null," Falta restauración de la infraestructura (ventanilla) de la oficina sede Fusagasugá para facilitar la atención al público."]
[null,null," Falta fortalecer canales de comunicación con las partes interesadas"]
[null,null,"Centralización de funciones y decisiones del proceso en la sede principal."]
[null,null,"Falta realizar la totalidad de capacitaciones y/o inducciones al personal del proceso"]
[null,null," Falta mejorar la oportunidad y calidad en la prestación del servicio vía telefónica"]
[null,null," Cruce de información en el proceso en cuanto a los reportes emitidos por los estudiantes."]
[null,null,"Falta de control de porta diplomas por crecimiento de la demanda de graduados"]
[null,null,"Se agrega nueva debilidad la cual es"]
[null,null,"D9. Falta de presentación oportuna de los compromisos del Sistema de Gestión de la Calidad\nSe modifica la debilidad:\nD6. La estructura orgánica es inapropiada para la ejecución de los planes, lo que hace que los trámites sean mas demorados"]
[null,null,"Se eliminan las siguientes amenazas:"]
[null,null,"Inconsistencias en los procesos de selección y contratación laboral."]
[null,null,"Se carece de apoyo interinstitucional por parte del Gobierno y el Ministerio de Educación Nacional."]
[null,null," Los tiempos para el trámite y giros de recursos económicos por parte de entes gubernamentales son demorados y son insuficientes."]
[null,null," Congestión e interrupción de los procesos y procedimientos externos."]
[null,null,"Se modificaron las siguientes amenazas"]
[null,null,"A6. El modelo y los tiempos de contratación de la universidad son dispendiosos."]
[null,null,"A8. Emergencia sanitaria a causa patógena (COVID-19)\nSe eliminan las siguientes fortalezas.:"]
[null,null,"Capacitaciones y socializaciones de los procedimientos de la oficina de admisiones en el equipo de trabajo"]
[null,null,"Claridad en el plan de acción del proceso, ya se establecieron metas para la vigencia actual"]
[null,null," Distribución de Funciones de acuerdo a las habilidades del personal"]
[null,null," Aumento y aprobación del presupuesto acorde a las necesidades del proceso"]
[null,null," El proceso conoce y trabaja bajo la normatividad interna y externa"]
[null,null,"Se comunica a las partes interesadas la actualización documental del proceso"]
[null,null," Se brinda atención personalizada a la población estudiantil en condiciones de discapacidad o desventaja (aspirantes - estudiantes) "]
[null,null," Se aplican y se cumplen con los procesos de selección: ICFES - evaluación mediante dos momentos: entrevista virtual - entrevista personal."]
[null,null," Se participa en las pausas activas para el bienestar de los funcionarios"]
[null,null," Se cuenta con pasantes para el apoyo del cumplimiento de objetivos y metas del proceso"]
[null,null,"Se modifica la siguiente fortaleza"]
[null,null,"F13. Se fortalece el desarrollo de la Translocalidad en el proceso, se participa en ferias universitarias cuando son programadas y efectuadas"]
[null,null,"Se eliminan las siguientes oportunidades:"]
[null,null," Baja competencia en la región donde hace presencia la Institución."]
[null,null," La expedición de la norma de Inclusión "]
[null,null," Adquisición de nuevos equipos tecnológicos."]
[null,null,"RIESGOS:\nSe agrega la amenaza 4 al riesgo N 1\nSe agrega la Amenaza 8 al riesgo N2 \nSe agregan las debilidades  1, 9,7 y 5 al riesgo N 2\nSe agregan las debilidades 2, 3 y 4 al riesgo N 3\nSe agrega la amenaza 5 al riesgo N 3\n"]
[null,"2021-10-13","Se actualiza la matriz de riesgos conforme a la guía de riesgos del DAFP versión 2020 y de conformidad con los lineamientos del ESGP05.\n\nSe identifica una nueva debilidad: Falta de bases de datos vigentes y oportunas para la trazabilidad de estudiantes en admisión, reingreso y devolución de matrícula.\nSe identifica una nueva amenaza: Ley de garantías a finales del IIPA 2021 y a principios del IPA 2022.\n\nPor reestructura de riesgos, se eliminaron los riesgos 2 y 3, y se identifican los riesgos 4 y 5:\n*4- Posibilidad de entrega inoportuna y falta de disponibilidad de información por factores internos y externos que afectan la operación administrativa del proceso en cuanto  admisión, selección, registro y grados.\n*5- Posibilidad de retrasos (financieros) en la aplicación de archivos planos por eventos de cierres financieros (se refiere a archivos planos todo pago efectuado por los aspirantes  y estudiantes como contraprestación de un servicio","Miguel Alejandro Flechas Montaño","Jefe de la Oficina de Admisiones y Registro (F.A.)"]
[]
[]
[]
[]
[]
[null,"2022-04-05","Se modifica la redacción de la siguiente debilidad:\nDemora de la oficina de tesorería en cargar archivos planos de los pagos realizados por factores exógenos de los estudiantes y aspirantes. Se modifica las calificaciones y por ende los resultados (Pasaron de Rojo a Amarillo).\nSe eliminan las siguientes fortalezas: \nLa estructura orgánica es inapropiada para la ejecución de los planes, lo que hace que los trámites sean mas demorados\nFalta realizar seguimiento al incumplimiento de metas frente a los indicadores del proceso\nFalta de presentación oportuna de los compromisos del Sistema de Gestión de la Calidad\nSe modifica la redacción de la siguiente amenaza:\nLos tiempos de contratación de la universidad son dispendiosos.\nSe eliminan las siguientes amenazas:\nActualizaciones en plataforma del ICFES.\nEmergencia sanitaria a causa patógena (COVID-19).\nSe modifica la redacción de la siguiente fortaleza:\nPromoción y divulgación de los programas académicos en la Universidad de manera virtual y presencial \nSe aplica los procesos de selección a aspirantes catalogados como población priorizada, realizando acompañamiento pertinente para culminación del proceso.\nSe agregan las siguientes fortalezas:\nMejoras a los sistemas de información para la operatividad del proceso\nEstructuración de guías para la atención a población priorizada y de caracterización\nSe eliminan las siguientes fortalezas:\nSe brinda atención personalizada a la población estudiantil en condiciones de discapacidad o desventaja (aspirantes - estudiantes) \nSe aplican y se cumplen con los procesos de selección: ICFES - evaluación mediante dos momentos: entrevista virtual - entrevista personal.\nSe elimina la siguiente oportunidad:\nAlianzas estratégicas con empresas e instituciones de educación superior\nRIESGOS:\nSe identifica el nuevo riesgo: N°5 Posibilidad de no cumplir con la normatividad en cuanto a perdida de condición de estudiante por falta de aplicabilidad y claridad (falta de reglamentación) de la normatividad interna","Diana Milena Rey Gutiérrez","Jefe de la Oficina de Admisiones y Registro "]
[]
[]
[]
[]
[]
[null,"2022-09-13","Se realiza revisión por parte de la tercera línea de defensa mediante control interno.","Jaime Elder Acosta Ramírez","Coordinador de Calidad"]
[null,"2022-11-01","Se modifica la redacción de la siguiente debilidad:\nD4. Inconsistencias en la digitación de Notas por parte de los docentes de los diferentes programas Académicos.\nD2. Los consejos de Facultad y las direcciones de programa no envían oportunamente a la oficina de Admisiones y Registro, las actas de consejo, actas de sustentación y vistos buenos, para iniciar el proceso de Revisión de carpeta para grados. \nD1. Dependencia de otras áreas para la ejecución de las actividades del proceso, actualización de desarrollos y envio de información oportuna, que generan retraso.\nSe modifica la redaccion de las siguientes fortalezas:\nF2. Promoción y estrategia divulgación de los programas académicos en la Universidad de manera virtual y presencial.\nSe eliminan las siguientes oportunidades:\nO2. Becas otorgadas por convenios interinstitucionales.\nO3. Ofertar nuevos programas académicos teniendo en cuenta las necesidades del sector.\nSe modifica la redacción de la siguiente oportunidad:\nO3. Articulación de la politica de gratuidad en la matricula\nSe evalua la calificacion dada a las partes interesadas en las siguientes debilidades, amenazas y fortalezas:\nD1. Dependencia de otras áreas para la ejecución de las actividades del proceso, actualización de desarrollos y envio de información oportuna, que generan retraso.\nD4. Inconsistencias en la digitación de Notas por parte de los docentes de los diferentes programas Académicos.\nD2. Los consejos de Facultad y las direcciones de programa no envían oportunamente a la oficina de Admisiones y Registro, las actas de consejo, actas de sustentación y vistos buenos, para iniciar el proceso de Revisión de carpeta para grados.\nF2. Promoción y estrategia divulgación de los programas académicos en la Universidad de manera virtual y presencial.","Diana Milena Rey Gutiérrez","Jefe de la Oficina de Admisiones y Registro"]
[null,"2023-07-28","Se modifica la redacción de las siguientes debilidades:\nD1.  Dependencia de otras áreas para la ejecución de las actividades del proceso y  actualización de desarrollos propios\nD2. Los consejos de Facultad y las direcciones de programa no envían oportunamente a la oficina de Admisiones y Registro, actas de sustentación y vistos buenos, para iniciar el proceso de Revisión de carpeta para grados.\nD4.  Cargue de notas fuera de los tiempos establecidos en el calendario académico, con visto bueno de la viceacademica.\nD5. Falta de sistematización del proceso de \"perdida de condición de estudiante\"\nD6. Falta asegurar la gestión del conocimiento en el proceso.\nSe eliminan las siguientes Debilidades:\nD3. Retrazo del envio de la informacion por parte de la entidad bancaria para el cargue de archivos planos por tesoreria de los pagos realizados por  de los estudiantes y aspirantes.\nD7. Falta fortalecer el pilar estratégico de la transhumanidad en el proceso (ambiente laboral)\nD9. Falta de presentación oportuna de los compromisos del Sistema de Gestión de la Calidad\nD10. Falta de bases de datos vigentes y oportunas para la trazabilidad de estudiantes de reingreso y devolución de matrícula y graduados.\nSe modifica la redacción de la siguiente Amenazas:\nA2. Actualizaciones o ventanas de mantenimiento de la plataforma del ICFES\nSe eliminan las siguientes Amenazas:\nA7. Falta de interés por parte del aspirante en consultar el Instructivo en el portal web.\nA6. Los tiempos de contratación de la universidad son dispendiosos.\nSe modifica la redacción de la siguiente Fortalezas:\nF2. Promoción y estrategia de divulgación de la oferta académica en la Universidad de Cundinamarca.\nF10. Se brinda acompañamiento a los aspirantes catalogados como poblaciones priorizadas para la culminación del proceso de selección.\nSe eliminan las siguientes Fortalezas:\nF5. Se planifican las actividades del proceso mediante el calendario académico\nF6. Se cuenta con indicadores que miden la gestión del proceso - Se toman acciones de mejora frente a los resultados de la medición de los indicadores del SGC.\nF9. Se comunica a las partes interesadas la actualización documental del proceso\nSe eliminan la siguiente Oportunidad:\nO1. Demanda en la Educación virtual en programas de Postgrado.\nSe modifica la redacción de la siguiente Oportunidad:\nO5. Socialización con colegios de la región acerca de la oferta acadaémica de Universidad de Cundinamarca; Participación en ferias y actividades de oferta académica.\nSe modifica la redacción de los siguientes riesgos:\n1.Posibilidad de pérdida de información de los archivos físicos (historia académica de los estudiantes y graduados) de la UCundinamarca, por fenómenos naturales por Posibilidad de incurrir en retrasos que afectan la entrega y disponibilidad de información en la operación del proceso\"\n3.Posibilidad de entrega inoportuna y falta de disponibilidad de información por factores internos y externos que afectan la operación administrativa del proceso en cuanto admisión, selección, registro y grados por Posibilidad de incurrir en errores TTHH por falta de actualización o sistematización de controles o actividades, que apalancan la operatividad del proceso.\n4. Posibilidad de retrasos (financieros) en la aplicación de archivos planos por eventos de cierres financieros (se refiere a archivos planos todo pago efectuado por los aspirantes y estudiantes como contraprestación de un servicio) por Posibilidad de incumplimiento en el seguimiento frente a las metas del proceso.\nSe condensa el riesgo 5 con el riesgo 2, Posibilidad de no cumplir con la normatividad en cuanto a perdida de condición de estudiante por falta de aplicabilidad y claridad (falta de reglamentación) de la normatividad interna por Posibilidad de admitir a aspirantes con incumplimiento de los requisitos mínimos establecidos, por cada programa académico.","Diana Milena Rey Gutiérrez","Jefe de la Oficina de Admisiones y Registro"]
[]
[null,"2024-05-17","Se realiza seguimiento a los riesgos y controles asociados al proceso por parte de la tercera linea de defensa ","Carolina Gomez Fontecha\n","Directora de Control Interno"]
[null,"2024-06-12","DOFA:\nSe eliminan las siguientes debilidades: \nD4. Cargue de notas fuera de los tiempos establecidos en el calendario académico, con visto bueno de la viceacademica.\nD5. Falta de sistematización del proceso de \"perdida de condición de estudiante\".\nRIESGOS: \nSe eliminan las siguientes causas asociadas a los riesgos del proceso:\nSe elimina la causa D5 del riesgo 3, asociada a la falta de dgitalización de perdida de estudiante, ya que una vez realizada la actualización para la vigencia, el proceso indica y muestra evidencia por aplciativo academusoft de la digitalización de esta reglamentación. \nOPORTUNIDADES: \nSe ajusta la redacción de las siguientes causas: \nSe ajusta la redacción de los controles 1 y 4  en la matriz oportunidades del proceso, actualizados a la gestión administrativa de la vigencia 2024. \n","Diana Milena Rey Gutiérrez\n","Jefe de la Oficina de Admisiones y Registro"]

{"sheet":"Hoja4","index":14,"n_rows":23,"n_cols":5,"rows_kept":23,"cut":false,"hidden":true,"merged":[]}
[]
[null,1,0,null,"Agremiaciones y Sector Productivo"]
[null,2,1,null,"Alta Dirección"]
[null,3,null,null,"Asociaciones y Egresados"]
[null,4,null,null,"Autoridades Ambientales"]
[null,5,null,null,"Comunidad en General"]
[null,null,null,null,"Contratistas / Proveedores"]
[null,null,null,null,"Docentes e Investigadores"]
[null,null,null,null,"Entes de Control"]
[null,null,null,null,"Ente Gubernamental"]
[null,null,null,null,"Entidades de Emergencia"]
[null,null,null,null,"Entidades Territoriales"]
[null,null,null,null,"Estudiantes"]
[null,null,null,null,"Gestores Aprovechamiento de Residuos"]
[null,null,null,null,"Instituciones Educativas"]
[null,null,null,null,"Medios de Comunicación"]
[null,null,null,null,"Ministerio de Educación"]
[null,null,null,null,"Organismos de Defensa"]
[null,null,null,null,"Otros"]
[null,null,null,null,"Padres de Familia y/o Acudientes"]
[null,null,null,null,"Personal Administrativo"]
[null,null,null,null,"Procesos Internos"]
[null,null,null,null,"Servicios Públicos - Privados"]

{"sheet":"Hoja2","index":15,"n_rows":15,"n_cols":3,"rows_kept":15,"cut":false,"hidden":true,"merged":[[2,1,8,1],[9,1,14,1]]}
[]
[null,null,"PREGUNTAS"]
[null,"INTERNO","TALENTO HUMANO "]
[null,null," EQUIPO, TECNOLOGÍA E INFRAESTRUCTURA"]
[null,null,"MÉTODOS"]
[null,null,"MEDICIÓN "]
[null,null,"MONEDA"]
[null,null,"MEDIO AMBIENTE"]
[null,null,"MANAGEMENT "]
[null,"EXTERNO","LEGAL"]
[null,null,"SOCIAL"]
[null,null,"AMBIENTAL"]
[null,null,"ECONÓMICO"]
[null,null,"TECNOLÓGICO"]
[null,null,"POLÍTICO"]